{"text_format":"1","workbook":"xlsx","n_sheets":4,"sheets":["Check","Input_Output","Rounding classes","Change Log"],"not_rendered":{"charts":0,"images":0,"macros":1,"external_links":2,"defined_names":4,"comments":2,"pivot_tables":0},"unopened":[],"bounds":{"document_bytes":16777216,"sheet_cells":100000,"rows_first":2000,"rows_last":500,"rows_between":2000,"halvings":0,"cell_chars":16384,"cell_head_chars":4096},"cells_cut":0,"cells_raw":0,"read":"whole","date_system":"1900"}

{"sheet":"Check","index":0,"n_rows":233,"n_cols":254,"rows_kept":233,"cut":false,"hidden":true,"merged":[[6,3,6,4],[8,3,8,4],[1,9,1,10],[2,9,2,10],[1,3,1,4],[2,3,2,4],[3,3,3,4],[4,3,4,4],[3,9,3,10],[4,9,4,10],[16,3,16,4],[25,3,25,4],[27,3,27,4],[9,3,9,4],[11,3,11,4],[12,3,12,4],[13,3,13,4],[11,6,11,7],[12,6,12,7],[13,6,13,7],[15,6,15,7],[29,3,29,4],[18,3,18,4],[22,3,22,4],[23,3,23,4],[24,3,24,4],[15,3,15,4],[24,6,24,7],[25,6,25,7],[27,6,27,7],[29,6,29,7],[16,6,16,7],[18,6,18,7],[22,6,22,7],[23,6,23,7],[15,9,15,10],[16,9,16,10],[9,9,9,10],[11,9,11,10],[6,9,6,10],[8,9,8,10],[29,9,29,10],[1,12,1,13],[2,12,2,13],[3,12,3,13],[4,12,4,13],[6,12,6,13],[8,12,8,13],[9,12,9,13],[18,9,18,10],[22,9,22,10],[11,12,11,13],[12,12,12,13],[13,12,13,13],[15,12,15,13],[25,9,25,10],[27,9,27,10],[23,9,23,10],[24,9,24,10],[12,9,12,10],[13,9,13,10],[24,12,24,13],[25,12,25,13],[27,12,27,13],[29,12,29,13],[16,12,16,13],[18,12,18,13],[22,12,22,13],[23,12,23,13],[6,15,6,16],[8,15,8,16],[9,15,9,16],[11,15,11,16],[1,15,1,16],[2,15,2,16],[3,15,3,16],[4,15,4,16],[18,15,18,16],[22,15,22,16],[23,15,23,16],[24,15,24,16],[12,15,12,16],[13,15,13,16],[15,15,15,16],[16,15,16,16],[25,15,25,16],[27,15,27,16],[29,15,29,16],[1,18,1,19],[2,18,2,19],[3,18,3,19],[4,18,4,19],[6,18,6,19],[8,18,8,19],[9,18,9,19],[27,18,27,19],[29,18,29,19],[16,18,16,19],[18,18,18,19],[22,18,22,19],[23,18,23,19],[24,18,24,19],[25,18,25,19],[11,18,11,19],[12,18,12,19],[13,18,13,19],[15,18,15,19],[2,33,2,34],[2,36,2,37],[6,33,6,34],[6,36,6,37],[3,33,3,34],[3,36,3,37],[4,21,4,22],[4,24,4,25],[4,27,4,28],[4,30,4,31],[3,27,3,28],[3,30,3,31],[3,21,3,22],[3,24,3,25],[1,33,1,34],[1,36,1,37],[2,21,2,22],[2,24,2,25],[2,27,2,28],[2,30,2,31],[1,21,1,22],[1,24,1,25],[1,27,1,28],[1,30,1,31],[4,33,4,34],[4,36,4,37],[8,33,8,34],[8,36,8,37],[6,21,6,22],[6,24,6,25],[8,21,8,22],[8,24,8,25],[8,27,8,28],[8,30,8,31],[6,27,6,28],[6,30,6,31],[11,21,11,22],[11,24,11,25],[11,27,11,28],[11,30,11,31],[9,21,9,22],[9,24,9,25],[9,27,9,28],[9,30,9,31],[9,33,9,34],[9,36,9,37],[11,33,11,34],[11,36,11,37],[12,33,12,34],[12,36,12,37],[13,33,13,34],[13,36,13,37],[12,21,12,22],[12,24,12,25],[13,21,13,22],[13,24,13,25],[13,27,13,28],[13,30,13,31],[12,27,12,28],[12,30,12,31],[16,21,16,22],[16,24,16,25],[16,27,16,28],[16,30,16,31],[15,21,15,22],[15,24,15,25],[15,27,15,28],[15,30,15,31],[15,33,15,34],[15,36,15,37],[16,33,16,34],[16,36,16,37],[18,33,18,34],[18,36,18,37],[22,33,22,34],[22,36,22,37],[18,21,18,22],[18,24,18,25],[22,21,22,22],[22,24,22,25],[22,27,22,28],[22,30,22,31],[18,27,18,28],[18,30,18,31],[24,21,24,22],[24,24,24,25],[24,27,24,28],[24,30,24,31],[23,21,23,22],[23,24,23,25],[23,27,23,28],[23,30,23,31],[23,33,23,34],[23,36,23,37],[24,33,24,34],[24,36,24,37],[25,33,25,34],[25,36,25,37],[25,21,25,22],[25,24,25,25],[27,21,27,22],[27,24,27,25],[27,27,27,28],[27,30,27,31],[25,27,25,28],[25,30,25,31],[3,39,3,40],[3,42,3,43],[4,39,4,40],[4,42,4,43],[29,21,29,22],[29,24,29,25],[29,27,29,28],[29,30,29,31],[27,33,27,34],[27,36,27,37],[1,45,1,46],[1,48,1,49],[1,51,1,52],[1,54,1,55],[29,33,29,34],[29,36,29,37],[1,39,1,40],[1,42,1,43],[2,39,2,40],[2,42,2,43],[3,45,3,46],[3,48,3,49],[3,51,3,52],[3,54,3,55],[2,45,2,46],[2,48,2,49],[2,51,2,52],[2,54,2,55],[6,45,6,46],[6,48,6,49],[4,45,4,46],[4,48,4,49],[4,51,4,52],[4,54,4,55],[6,51,6,52],[6,54,6,55],[8,39,8,40],[8,42,8,43],[8,45,8,46],[8,48,8,49],[8,51,8,52],[8,54,8,55],[6,39,6,40],[6,42,6,43],[11,39,11,40],[11,42,11,43],[11,45,11,46],[11,48,11,49],[9,39,9,40],[9,42,9,43],[9,45,9,46],[9,48,9,49],[9,51,9,52],[9,54,9,55],[11,51,11,52],[11,54,11,55],[12,51,12,52],[12,54,12,55],[13,51,13,52],[13,54,13,55],[12,39,12,40],[12,42,12,43],[13,39,13,40],[13,42,13,43],[13,45,13,46],[13,48,13,49],[12,45,12,46],[12,48,12,49],[16,39,16,40],[16,42,16,43],[16,45,16,46],[16,48,16,49],[15,39,15,40],[15,42,15,43],[15,45,15,46],[15,48,15,49],[15,51,15,52],[15,54,15,55],[16,51,16,52],[16,54,16,55],[18,51,18,52],[18,54,18,55],[22,51,22,52],[22,54,22,55],[18,39,18,40],[18,42,18,43],[22,39,22,40],[22,42,22,43],[22,45,22,46],[22,48,22,49],[18,45,18,46],[18,48,18,49],[24,39,24,40],[24,42,24,43],[24,45,24,46],[24,48,24,49],[23,39,23,40],[23,42,23,43],[23,45,23,46],[23,48,23,49],[23,51,23,52],[23,54,23,55],[24,51,24,52],[24,54,24,55],[25,51,25,52],[25,54,25,55],[25,39,25,40],[25,42,25,43],[27,39,27,40],[27,42,27,43],[27,45,27,46],[27,48,27,49],[25,45,25,46],[25,48,25,49],[3,57,3,58],[3,60,3,61],[4,57,4,58],[4,60,4,61],[29,39,29,40],[29,42,29,43],[29,45,29,46],[29,48,29,49],[27,51,27,52],[27,54,27,55],[1,63,1,64],[1,66,1,67],[1,69,1,70],[1,72,1,73],[29,51,29,52],[29,54,29,55],[1,57,1,58],[1,60,1,61],[2,57,2,58],[2,60,2,61],[3,63,3,64],[3,66,3,67],[3,69,3,70],[3,72,3,73],[2,63,2,64],[2,66,2,67],[2,69,2,70],[2,72,2,73],[6,63,6,64],[6,66,6,67],[4,63,4,64],[4,66,4,67],[4,69,4,70],[4,72,4,73],[6,69,6,70],[6,72,6,73],[8,57,8,58],[8,60,8,61],[8,63,8,64],[8,66,8,67],[8,69,8,70],[8,72,8,73],[6,57,6,58],[6,60,6,61],[11,57,11,58],[11,60,11,61],[11,63,11,64],[11,66,11,67],[9,57,9,58],[9,60,9,61],[9,63,9,64],[9,66,9,67],[9,69,9,70],[9,72,9,73],[11,69,11,70],[11,72,11,73],[12,69,12,70],[12,72,12,73],[13,69,13,70],[13,72,13,73],[12,57,12,58],[12,60,12,61],[13,57,13,58],[13,60,13,61],[13,63,13,64],[13,66,13,67],[12,63,12,64],[12,66,12,67],[16,57,16,58],[16,60,16,61],[16,63,16,64],[16,66,16,67],[15,57,15,58],[15,60,15,61],[15,63,15,64],[15,66,15,67],[15,69,15,70],[15,72,15,73],[16,69,16,70],[16,72,16,73],[18,69,18,70],[18,72,18,73],[22,69,22,70],[22,72,22,73],[18,57,18,58],[18,60,18,61],[22,57,22,58],[22,60,22,61],[22,63,22,64],[22,66,22,67],[18,63,18,64],[18,66,18,67],[24,57,24,58],[24,60,24,61],[24,63,24,64],[24,66,24,67],[23,57,23,58],[23,60,23,61],[23,63,23,64],[23,66,23,67],[23,69,23,70],[23,72,23,73],[24,69,24,70],[24,72,24,73],[25,69,25,70],[25,72,25,73],[25,57,25,58],[25,60,25,61],[27,57,27,58],[27,60,27,61],[27,63,27,64],[27,66,27,67],[25,63,25,64],[25,66,25,67],[3,75,3,76],[3,78,3,79],[4,75,4,76],[4,78,4,79],[29,57,29,58],[29,60,29,61],[29,63,29,64],[29,66,29,67],[27,69,27,70],[27,72,27,73],[1,81,1,82],[1,84,1,85],[1,87,1,88],[1,90,1,91],[29,69,29,70],[29,72,29,73],[1,75,1,76],[1,78,1,79],[2,75,2,76],[2,78,2,79],[3,81,3,82],[3,84,3,85],[3,87,3,88],[3,90,3,91],[2,81,2,82],[2,84,2,85],[2,87,2,88],[2,90,2,91],[6,81,6,82],[6,84,6,85],[4,81,4,82],[4,84,4,85],[4,87,4,88],[4,90,4,91],[6,87,6,88],[6,90,6,91],[8,75,8,76],[8,78,8,79],[8,81,8,82],[8,84,8,85],[8,87,8,88],[8,90,8,91],[6,75,6,76],[6,78,6,79],[11,75,11,76],[11,78,11,79],[11,81,11,82],[11,84,11,85],[9,75,9,76],[9,78,9,79],[9,81,9,82],[9,84,9,85],[9,87,9,88],[9,90,9,91],[11,87,11,88],[11,90,11,91],[12,87,12,88],[12,90,12,91],[13,87,13,88],[13,90,13,91],[12,75,12,76],[12,78,12,79],[13,75,13,76],[13,78,13,79],[13,81,13,82],[13,84,13,85],[12,81,12,82],[12,84,12,85],[16,75,16,76],[16,78,16,79],[16,81,16,82],[16,84,16,85],[15,75,15,76],[15,78,15,79],[15,81,15,82],[15,84,15,85],[15,87,15,88],[15,90,15,91],[16,87,16,88],[16,90,16,91],[18,87,18,88],[18,90,18,91],[22,87,22,88],[22,90,22,91],[18,75,18,76],[18,78,18,79],[22,75,22,76],[22,78,22,79],[22,81,22,82],[22,84,22,85],[18,81,18,82],[18,84,18,85],[24,75,24,76],[24,78,24,79],[24,81,24,82],[24,84,24,85],[23,75,23,76],[23,78,23,79],[23,81,23,82],[23,84,23,85],[23,87,23,88],[23,90,23,91],[24,87,24,88],[24,90,24,91],[25,87,25,88],[25,90,25,91],[25,75,25,76],[25,78,25,79],[27,75,27,76],[27,78,27,79],[27,81,27,82],[27,84,27,85],[25,81,25,82],[25,84,25,85],[3,93,3,94],[3,96,3,97],[4,93,4,94],[4,96,4,97],[29,75,29,76],[29,78,29,79],[29,81,29,82],[29,84,29,85],[27,87,27,88],[27,90,27,91],[1,99,1,100],[1,102,1,103],[1,105,1,106],[1,108,1,109],[29,87,29,88],[29,90,29,91],[1,93,1,94],[1,96,1,97],[2,93,2,94],[2,96,2,97],[3,99,3,100],[3,102,3,103],[3,105,3,106],[3,108,3,109],[2,99,2,100],[2,102,2,103],[2,105,2,106],[2,108,2,109],[6,99,6,100],[6,102,6,103],[4,99,4,100],[4,102,4,103],[4,105,4,106],[4,108,4,109],[6,105,6,106],[6,108,6,109],[8,93,8,94],[8,96,8,97],[8,99,8,100],[8,102,8,103],[8,105,8,106],[8,108,8,109],[6,93,6,94],[6,96,6,97],[11,93,11,94],[11,96,11,97],[11,99,11,100],[11,102,11,103],[9,93,9,94],[9,96,9,97],[9,99,9,100],[9,102,9,103],[9,105,9,106],[9,108,9,109],[11,105,11,106],[11,108,11,109],[12,105,12,106],[12,108,12,109],[13,105,13,106],[13,108,13,109],[12,93,12,94],[12,96,12,97],[13,93,13,94],[13,96,13,97],[13,99,13,100],[13,102,13,103],[12,99,12,100],[12,102,12,103],[16,93,16,94],[16,96,16,97],[16,99,16,100],[16,102,16,103],[15,93,15,94],[15,96,15,97],[15,99,15,100],[15,102,15,103],[15,105,15,106],[15,108,15,109],[16,105,16,106],[16,108,16,109],[18,105,18,106],[18,108,18,109],[22,105,22,106],[22,108,22,109],[18,93,18,94],[18,96,18,97],[22,93,22,94],[22,96,22,97],[22,99,22,100],[22,102,22,103],[18,99,18,100],[18,102,18,103],[24,93,24,94],[24,96,24,97],[24,99,24,100],[24,102,24,103],[23,93,23,94],[23,96,23,97],[23,99,23,100],[23,102,23,103],[23,105,23,106],[23,108,23,109],[24,105,24,106],[24,108,24,109],[25,105,25,106],[25,108,25,109],[25,93,25,94],[25,96,25,97],[27,93,27,94],[27,96,27,97],[27,99,27,100],[27,102,27,103],[25,99,25,100],[25,102,25,103],[3,111,3,112],[3,114,3,115],[4,111,4,112],[4,114,4,115],[29,93,29,94],[29,96,29,97],[29,99,29,100],[29,102,29,103],[27,105,27,106],[27,108,27,109],[1,117,1,118],[1,120,1,121],[1,123,1,124],[1,126,1,127],[29,105,29,106],[29,108,29,109],[1,111,1,112],[1,114,1,115],[2,111,2,112],[2,114,2,115],[3,117,3,118],[3,120,3,121],[3,123,3,124],[3,126,3,127],[2,117,2,118],[2,120,2,121],[2,123,2,124],[2,126,2,127],[6,117,6,118],[6,120,6,121],[4,117,4,118],[4,120,4,121],[4,123,4,124],[4,126,4,127],[6,123,6,124],[6,126,6,127],[8,111,8,112],[8,114,8,115],[8,117,8,118],[8,120,8,121],[8,123,8,124],[8,126,8,127],[6,111,6,112],[6,114,6,115],[11,111,11,112],[11,114,11,115],[11,117,11,118],[11,120,11,121],[9,111,9,112],[9,114,9,115],[9,117,9,118],[9,120,9,121],[9,123,9,124],[9,126,9,127],[11,123,11,124],[11,126,11,127],[12,123,12,124],[12,126,12,127],[13,123,13,124],[13,126,13,127],[12,111,12,112],[12,114,12,115],[13,111,13,112],[13,114,13,115],[13,117,13,118],[13,120,13,121],[12,117,12,118],[12,120,12,121],[16,111,16,112],[16,114,16,115],[16,117,16,118],[16,120,16,121],[15,111,15,112],[15,114,15,115],[15,117,15,118],[15,120,15,121],[15,123,15,124],[15,126,15,127],[16,123,16,124],[16,126,16,127],[18,123,18,124],[18,126,18,127],[22,123,22,124],[22,126,22,127],[18,111,18,112],[18,114,18,115],[22,111,22,112],[22,114,22,115],[22,117,22,118],[22,120,22,121],[18,117,18,118],[18,120,18,121],[24,111,24,112],[24,114,24,115],[24,117,24,118],[24,120,24,121],[23,111,23,112],[23,114,23,115],[23,117,23,118],[23,120,23,121],[23,123,23,124],[23,126,23,127],[24,123,24,124],[24,126,24,127],[25,123,25,124],[25,126,25,127],[25,111,25,112],[25,114,25,115],[27,111,27,112],[27,114,27,115],[27,117,27,118],[27,120,27,121],[25,117,25,118],[25,120,25,121],[3,129,3,130],[3,132,3,133],[4,129,4,130],[4,132,4,133],[29,111,29,112],[29,114,29,115],[29,117,29,118],[29,120,29,121],[27,123,27,124],[27,126,27,127],[1,135,1,136],[1,138,1,139],[1,141,1,142],[1,144,1,145],[29,123,29,124],[29,126,29,127],[1,129,1,130],[1,132,1,133],[2,129,2,130],[2,132,2,133],[3,135,3,136],[3,138,3,139],[3,141,3,142],[3,144,3,145],[2,135,2,136],[2,138,2,139],[2,141,2,142],[2,144,2,145],[6,135,6,136],[6,138,6,139],[4,135,4,136],[4,138,4,139],[4,141,4,142],[4,144,4,145],[6,141,6,142],[6,144,6,145],[8,129,8,130],[8,132,8,133],[8,135,8,136],[8,138,8,139],[8,141,8,142],[8,144,8,145],[6,129,6,130],[6,132,6,133],[11,129,11,130],[11,132,11,133],[11,135,11,136],[11,138,11,139],[9,129,9,130],[9,132,9,133],[9,135,9,136],[9,138,9,139],[9,141,9,142],[9,144,9,145],[11,141,11,142],[11,144,11,145],[12,141,12,142],[12,144,12,145],[13,141,13,142],[13,144,13,145],[12,129,12,130],[12,132,12,133],[13,129,13,130],[13,132,13,133],[13,135,13,136],[13,138,13,139],[12,135,12,136],[12,138,12,139],[16,129,16,130],[16,132,16,133],[16,135,16,136],[16,138,16,139],[15,129,15,130],[15,132,15,133],[15,135,15,136],[15,138,15,139],[15,141,15,142],[15,144,15,145],[16,141,16,142],[16,144,16,145],[18,141,18,142],[18,144,18,145],[22,141,22,142],[22,144,22,145],[18,129,18,130],[18,132,18,133],[22,129,22,130],[22,132,22,133],[22,135,22,136],[22,138,22,139],[18,135,18,136],[18,138,18,139],[24,129,24,130],[24,132,24,133],[24,135,24,136],[24,138,24,139],[23,129,23,130],[23,132,23,133],[23,135,23,136],[23,138,23,139],[23,141,23,142],[23,144,23,145],[24,141,24,142],[24,144,24,145],[25,141,25,142],[25,144,25,145],[25,129,25,130],[25,132,25,133],[27,129,27,130],[27,132,27,133],[27,135,27,136],[27,138,27,139],[25,135,25,136],[25,138,25,139],[3,147,3,148],[3,150,3,151],[4,147,4,148],[4,150,4,151],[29,129,29,130],[29,132,29,133],[29,135,29,136],[29,138,29,139],[27,141,27,142],[27,144,27,145],[1,153,1,154],[1,156,1,157],[1,159,1,160],[1,162,1,163],[29,141,29,142],[29,144,29,145],[1,147,1,148],[1,150,1,151],[2,147,2,148],[2,150,2,151],[3,153,3,154],[3,156,3,157],[3,159,3,160],[3,162,3,163],[2,153,2,154],[2,156,2,157],[2,159,2,160],[2,162,2,163],[6,153,6,154],[6,156,6,157],[4,153,4,154],[4,156,4,157],[4,159,4,160],[4,162,4,163],[6,159,6,160],[6,162,6,163],[8,147,8,148],[8,150,8,151],[8,153,8,154],[8,156,8,157],[8,159,8,160],[8,162,8,163],[6,147,6,148],[6,150,6,151],[11,147,11,148],[11,150,11,151],[11,153,11,154],[11,156,11,157],[9,147,9,148],[9,150,9,151],[9,153,9,154],[9,156,9,157],[9,159,9,160],[9,162,9,163],[11,159,11,160],[11,162,11,163],[12,159,12,160],[12,162,12,163],[13,159,13,160],[13,162,13,163],[12,147,12,148],[12,150,12,151],[13,147,13,148],[13,150,13,151],[13,153,13,154],[13,156,13,157],[12,153,12,154],[12,156,12,157],[16,147,16,148],[16,150,16,151],[16,153,16,154],[16,156,16,157],[15,147,15,148],[15,150,15,151],[15,153,15,154],[15,156,15,157],[15,159,15,160],[15,162,15,163],[16,159,16,160],[16,162,16,163],[18,159,18,160],[18,162,18,163],[22,159,22,160],[22,162,22,163],[18,147,18,148],[18,150,18,151],[22,147,22,148],[22,150,22,151],[22,153,22,154],[22,156,22,157],[18,153,18,154],[18,156,18,157],[24,147,24,148],[24,150,24,151],[24,153,24,154],[24,156,24,157],[23,147,23,148],[23,150,23,151],[23,153,23,154],[23,156,23,157],[23,159,23,160],[23,162,23,163],[24,159,24,160]],"merged_total":1596,"flags":["merged_cut"]}
[null,null,null,{"$f":"IF(COUNTBLANK(Input_Output!D33:E232)=400,\"\",IF(OR(COUNT(Input_Output!D33:D232)<3,COUNT(Input_Output!D33:D232)-COUNT(Input_Output!E33:E232)<0,COUNT(Input_Output!D33:D232)+COUNTBLANK(Input_Output!D33:D232)<200,MIN(Input_Output!D33:D232)<0,MAX(Input_Output!D33:D232)>=10000,COUNTIF(Input_Output!D33:D232,0)>0,COUNTBLANK(E34:E233)<200),\"Check\",\"\"))","v":""},null,null,{"$f":"IF(COUNTBLANK(Input_Output!G33:H232)=400,\"\",IF(OR(COUNT(Input_Output!G33:G232)<3,COUNT(Input_Output!G33:G232)-COUNT(Input_Output!H33:H232)<0,COUNT(Input_Output!G33:G232)+COUNTBLANK(Input_Output!G33:G232)<200,MIN(Input_Output!G33:G232)<0,MAX(Input_Output!G33:G232)>=10000,COUNTIF(Input_Output!G33:G232,0)>0,COUNTBLANK(H34:H233)<200),\"Check\",\"\"))","v":""},null,null,{"$f":"IF(COUNTBLANK(Input_Output!J33:K232)=400,\"\",IF(OR(COUNT(Input_Output!J33:J232)<3,COUNT(Input_Output!J33:J232)-COUNT(Input_Output!K33:K232)<0,COUNT(Input_Output!J33:J232)+COUNTBLANK(Input_Output!J33:J232)<200,MIN(Input_Output!J33:J232)<0,MAX(Input_Output!J33:J232)>=10000,COUNTIF(Input_Output!J33:J232,0)>0,COUNTBLANK(K34:K233)<200),\"Check\",\"\"))","v":""},null,null,{"$f":"IF(COUNTBLANK(Input_Output!M33:N232)=400,\"\",IF(OR(COUNT(Input_Output!M33:M232)<3,COUNT(Input_Output!M33:M232)-COUNT(Input_Output!N33:N232)<0,COUNT(Input_Output!M33:M232)+COUNTBLANK(Input_Output!M33:M232)<200,MIN(Input_Output!M33:M232)<0,MAX(Input_Output!M33:M232)>=10000,COUNTIF(Input_Output!M33:M232,0)>0,COUNTBLANK(N34:N233)<200),\"Check\",\"\"))","v":""},null,null,{"$f":"IF(COUNTBLANK(Input_Output!P33:Q232)=400,\"\",IF(OR(COUNT(Input_Output!P33:P232)<3,COUNT(Input_Output!P33:P232)-COUNT(Input_Output!Q33:Q232)<0,COUNT(Input_Output!P33:P232)+COUNTBLANK(Input_Output!P33:P232)<200,MIN(Input_Output!P33:P232)<0,MAX(Input_Output!P33:P232)>=10000,COUNTIF(Input_Output!P33:P232,0)>0,COUNTBLANK(Q34:Q233)<200),\"Check\",\"\"))","v":""},null,null,{"$f":"IF(COUNTBLANK(Input_Output!S33:T232)=400,\"\",IF(OR(COUNT(Input_Output!S33:S232)<3,COUNT(Input_Output!S33:S232)-COUNT(Input_Output!T33:T232)<0,COUNT(Input_Output!S33:S232)+COUNTBLANK(Input_Output!S33:S232)<200,MIN(Input_Output!S33:S232)<0,MAX(Input_Output!S33:S232)>=10000,COUNTIF(Input_Output!S33:S232,0)>0,COUNTBLANK(T34:T233)<200),\"Check\",\"\"))","v":""},null,null,{"$f":"IF(COUNTBLANK(Input_Output!V33:W232)=400,\"\",IF(OR(COUNT(Input_Output!V33:V232)<3,COUNT(Input_Output!V33:V232)-COUNT(Input_Output!W33:W232)<0,COUNT(Input_Output!V33:V232)+COUNTBLANK(Input_Output!V33:V232)<200,MIN(Input_Output!V33:V232)<0,MAX(Input_Output!V33:V232)>=10000,COUNTIF(Input_Output!V33:V232,0)>0,COUNTBLANK(W34:W233)<200),\"Check\",\"\"))","v":""},null,null,{"$f":"IF(COUNTBLANK(Input_Output!Y33:Z232)=400,\"\",IF(OR(COUNT(Input_Output!Y33:Y232)<3,COUNT(Input_Output!Y33:Y232)-COUNT(Input_Output!Z33:Z232)<0,COUNT(Input_Output!Y33:Y232)+COUNTBLANK(Input_Output!Y33:Y232)<200,MIN(Input_Output!Y33:Y232)<0,MAX(Input_Output!Y33:Y232)>=10000,COUNTIF(Input_Output!Y33:Y232,0)>0,COUNTBLANK(Z34:Z233)<200),\"Check\",\"\"))","v":""},null,null,{"$f":"IF(COUNTBLANK(Input_Output!AB33:AC232)=400,\"\",IF(OR(COUNT(Input_Output!AB33:AB232)<3,COUNT(Input_Output!AB33:AB232)-COUNT(Input_Output!AC33:AC232)<0,COUNT(Input_Output!AB33:AB232)+COUNTBLANK(Input_Output!AB33:AB232)<200,MIN(Input_Output!AB33:AB232)<0,MAX(Input_Output!AB33:AB232)>=10000,COUNTIF(Input_Output!AB33:AB232,0)>0,COUNTBLANK(AC34:AC233)<200),\"Check\",\"\"))","v":""},null,null,{"$f":"IF(COUNTBLANK(Input_Output!AE33:AF232)=400,\"\",IF(OR(COUNT(Input_Output!AE33:AE232)<3,COUNT(Input_Output!AE33:AE232)-COUNT(Input_Output!AF33:AF232)<0,COUNT(Input_Output!AE33:AE232)+COUNTBLANK(Input_Output!AE33:AE232)<200,MIN(Input_Output!AE33:AE232)<0,MAX(Input_Output!AE33:AE232)>=10000,COUNTIF(Input_Output!AE33:AE232,0)>0,COUNTBLANK(AF34:AF233)<200),\"Check\",\"\"))","v":""},null,null,{"$f":"IF(COUNTBLANK(Input_Output!AH33:AI232)=400,\"\",IF(OR(COUNT(Input_Output!AH33:AH232)<3,COUNT(Input_Output!AH33:AH232)-COUNT(Input_Output!AI33:AI232)<0,COUNT(Input_Output!AH33:AH232)+COUNTBLANK(Input_Output!AH33:AH232)<200,MIN(Input_Output!AH33:AH232)<0,MAX(Input_Output!AH33:AH232)>=10000,COUNTIF(Input_Output!AH33:AH232,0)>0,COUNTBLANK(AI34:AI233)<200),\"Check\",\"\"))","v":""},null,null,{"$f":"IF(COUNTBLANK(Input_Output!AK33:AL232)=400,\"\",IF(OR(COUNT(Input_Output!AK33:AK232)<3,COUNT(Input_Output!AK33:AK232)-COUNT(Input_Output!AL33:AL232)<0,COUNT(Input_Output!AK33:AK232)+COUNTBLANK(Input_Output!AK33:AK232)<200,MIN(Input_Output!AK33:AK232)<0,MAX(Input_Output!AK33:AK232)>=10000,COUNTIF(Input_Output!AK33:AK232,0)>0,COUNTBLANK(AL34:AL233)<200),\"Check\",\"\"))","v":""},null,null,{"$f":"IF(COUNTBLANK(Input_Output!AN33:AO232)=400,\"\",IF(OR(COUNT(Input_Output!AN33:AN232)<3,COUNT(Input_Output!AN33:AN232)-COUNT(Input_Output!AO33:AO232)<0,COUNT(Input_Output!AN33:AN232)+COUNTBLANK(Input_Output!AN33:AN232)<200,MIN(Input_Output!AN33:AN232)<0,MAX(Input_Output!AN33:AN232)>=10000,COUNTIF(Input_Output!AN33:AN232,0)>0,COUNTBLANK(AO34:AO233)<200),\"Check\",\"\"))","v":""},null,null,{"$f":"IF(COUNTBLANK(Input_Output!AQ33:AR232)=400,\"\",IF(OR(COUNT(Input_Output!AQ33:AQ232)<3,COUNT(Input_Output!AQ33:AQ232)-COUNT(Input_Output!AR33:AR232)<0,COUNT(Input_Output!AQ33:AQ232)+COUNTBLANK(Input_Output!AQ33:AQ232)<200,MIN(Input_Output!AQ33:AQ232)<0,MAX(Input_Output!AQ33:AQ232)>=10000,COUNTIF(Input_Output!AQ33:AQ232,0)>0,COUNTBLANK(AR34:AR233)<200),\"Check\",\"\"))","v":""},null,null,{"$f":"IF(COUNTBLANK(Input_Output!AT33:AU232)=400,\"\",IF(OR(COUNT(Input_Output!AT33:AT232)<3,COUNT(Input_Output!AT33:AT232)-COUNT(Input_Output!AU33:AU232)<0,COUNT(Input_Output!AT33:AT232)+COUNTBLANK(Input_Output!AT33:AT232)<200,MIN(Input_Output!AT33:AT232)<0,MAX(Input_Output!AT33:AT232)>=10000,COUNTIF(Input_Output!AT33:AT232,0)>0,COUNTBLANK(AU34:AU233)<200),\"Check\",\"\"))","v":""},null,null,{"$f":"IF(COUNTBLANK(Input_Output!AW33:AX232)=400,\"\",IF(OR(COUNT(Input_Output!AW33:AW232)<3,COUNT(Input_Output!AW33:AW232)-COUNT(Input_Output!AX33:AX232)<0,COUNT(Input_Output!AW33:AW232)+COUNTBLANK(Input_Output!AW33:AW232)<200,MIN(Input_Output!AW33:AW232)<0,MAX(Input_Output!AW33:AW232)>=10000,COUNTIF(Input_Output!AW33:AW232,0)>0,COUNTBLANK(AX34:AX233)<200),\"Check\",\"\"))","v":""},null,null,{"$f":"IF(COUNTBLANK(Input_Output!AZ33:BA232)=400,\"\",IF(OR(COUNT(Input_Output!AZ33:AZ232)<3,COUNT(Input_Output!AZ33:AZ232)-COUNT(Input_Output!BA33:BA232)<0,COUNT(Input_Output!AZ33:AZ232)+COUNTBLANK(Input_Output!AZ33:AZ232)<200,MIN(Input_Output!AZ33:AZ232)<0,MAX(Input_Output!AZ33:AZ232)>=10000,COUNTIF(Input_Output!AZ33:AZ232,0)>0,COUNTBLANK(BA34:BA233)<200),\"Check\",\"\"))","v":""},null,null,{"$f":"IF(COUNTBLANK(Input_Output!BC33:BD232)=400,\"\",IF(OR(COUNT(Input_Output!BC33:BC232)<3,COUNT(Input_Output!BC33:BC232)-COUNT(Input_Output!BD33:BD232)<0,COUNT(Input_Output!BC33:BC232)+COUNTBLANK(Input_Output!BC33:BC232)<200,MIN(Input_Output!BC33:BC232)<0,MAX(Input_Output!BC33:BC232)>=10000,COUNTIF(Input_Output!BC33:BC232,0)>0,COUNTBLANK(BD34:BD233)<200),\"Check\",\"\"))","v":""},null,null,{"$f":"IF(COUNTBLANK(Input_Output!BF33:BG232)=400,\"\",IF(OR(COUNT(Input_Output!BF33:BF232)<3,COUNT(Input_Output!BF33:BF232)-COUNT(Input_Output!BG33:BG232)<0,COUNT(Input_Output!BF33:BF232)+COUNTBLANK(Input_Output!BF33:BF232)<200,MIN(Input_Output!BF33:BF232)<0,MAX(Input_Output!BF33:BF232)>=10000,COUNTIF(Input_Output!BF33:BF232,0)>0,COUNTBLANK(BG34:BG233)<200),\"Check\",\"\"))","v":""},null,null,{"$f":"IF(COUNTBLANK(Input_Output!BI33:BJ232)=400,\"\",IF(OR(COUNT(Input_Output!BI33:BI232)<3,COUNT(Input_Output!BI33:BI232)-COUNT(Input_Output!BJ33:BJ232)<0,COUNT(Input_Output!BI33:BI232)+COUNTBLANK(Input_Output!BI33:BI232)<200,MIN(Input_Output!BI33:BI232)<0,MAX(Input_Output!BI33:BI232)>=10000,COUNTIF(Input_Output!BI33:BI232,0)>0,COUNTBLANK(BJ34:BJ233)<200),\"Check\",\"\"))","v":""},null,null,{"$f":"IF(COUNTBLANK(Input_Output!BL33:BM232)=400,\"\",IF(OR(COUNT(Input_Output!BL33:BL232)<3,COUNT(Input_Output!BL33:BL232)-COUNT(Input_Output!BM33:BM232)<0,COUNT(Input_Output!BL33:BL232)+COUNTBLANK(Input_Output!BL33:BL232)<200,MIN(Input_Output!BL33:BL232)<0,MAX(Input_Output!BL33:BL232)>=10000,COUNTIF(Input_Output!BL33:BL232,0)>0,COUNTBLANK(BM34:BM233)<200),\"Check\",\"\"))","v":""},null,null,{"$f":"IF(COUNTBLANK(Input_Output!BO33:BP232)=400,\"\",IF(OR(COUNT(Input_Output!BO33:BO232)<3,COUNT(Input_Output!BO33:BO232)-COUNT(Input_Output!BP33:BP232)<0,COUNT(Input_Output!BO33:BO232)+COUNTBLANK(Input_Output!BO33:BO232)<200,MIN(Input_Output!BO33:BO232)<0,MAX(Input_Output!BO33:BO232)>=10000,COUNTIF(Input_Output!BO33:BO232,0)>0,COUNTBLANK(BP34:BP233)<200),\"Check\",\"\"))","v":""},null,null,{"$f":"IF(COUNTBLANK(Input_Output!BR33:BS232)=400,\"\",IF(OR(COUNT(Input_Output!BR33:BR232)<3,COUNT(Input_Output!BR33:BR232)-COUNT(Input_Output!BS33:BS232)<0,COUNT(Input_Output!BR33:BR232)+COUNTBLANK(Input_Output!BR33:BR232)<200,MIN(Input_Output!BR33:BR232)<0,MAX(Input_Output!BR33:BR232)>=10000,COUNTIF(Input_Output!BR33:BR232,0)>0,COUNTBLANK(BS34:BS233)<200),\"Check\",\"\"))","v":""},null,null,{"$f":"IF(COUNTBLANK(Input_Output!BU33:BV232)=400,\"\",IF(OR(COUNT(Input_Output!BU33:BU232)<3,COUNT(Input_Output!BU33:BU232)-COUNT(Input_Output!BV33:BV232)<0,COUNT(Input_Output!BU33:BU232)+COUNTBLANK(Input_Output!BU33:BU232)<200,MIN(Input_Output!BU33:BU232)<0,MAX(Input_Output!BU33:BU232)>=10000,COUNTIF(Input_Output!BU33:BU232,0)>0,COUNTBLANK(BV34:BV233)<200),\"Check\",\"\"))","v":""},null,null,{"$f":"IF(COUNTBLANK(Input_Output!BX33:BY232)=400,\"\",IF(OR(COUNT(Input_Output!BX33:BX232)<3,COUNT(Input_Output!BX33:BX232)-COUNT(Input_Output!BY33:BY232)<0,COUNT(Input_Output!BX33:BX232)+COUNTBLANK(Input_Output!BX33:BX232)<200,MIN(Input_Output!BX33:BX232)<0,MAX(Input_Output!BX33:BX232)>=10000,COUNTIF(Input_Output!BX33:BX232,0)>0,COUNTBLANK(BY34:BY233)<200),\"Check\",\"\"))","v":""},null,null,{"$f":"IF(COUNTBLANK(Input_Output!CA33:CB232)=400,\"\",IF(OR(COUNT(Input_Output!CA33:CA232)<3,COUNT(Input_Output!CA33:CA232)-COUNT(Input_Output!CB33:CB232)<0,COUNT(Input_Output!CA33:CA232)+COUNTBLANK(Input_Output!CA33:CA232)<200,MIN(Input_Output!CA33:CA232)<0,MAX(Input_Output!CA33:CA232)>=10000,COUNTIF(Input_Output!CA33:CA232,0)>0,COUNTBLANK(CB34:CB233)<200),\"Check\",\"\"))","v":""},null,null,{"$f":"IF(COUNTBLANK(Input_Output!CD33:CE232)=400,\"\",IF(OR(COUNT(Input_Output!CD33:CD232)<3,COUNT(Input_Output!CD33:CD232)-COUNT(Input_Output!CE33:CE232)<0,COUNT(Input_Output!CD33:CD232)+COUNTBLANK(Input_Output!CD33:CD232)<200,MIN(Input_Output!CD33:CD232)<0,MAX(Input_Output!CD33:CD232)>=10000,COUNTIF(Input_Output!CD33:CD232,0)>0,COUNTBLANK(CE34:CE233)<200),\"Check\",\"\"))","v":""},null,null,{"$f":"IF(COUNTBLANK(Input_Output!CG33:CH232)=400,\"\",IF(OR(COUNT(Input_Output!CG33:CG232)<3,COUNT(Input_Output!CG33:CG232)-COUNT(Input_Output!CH33:CH232)<0,COUNT(Input_Output!CG33:CG232)+COUNTBLANK(Input_Output!CG33:CG232)<200,MIN(Input_Output!CG33:CG232)<0,MAX(Input_Output!CG33:CG232)>=10000,COUNTIF(Input_Output!CG33:CG232,0)>0,COUNTBLANK(CH34:CH233)<200),\"Check\",\"\"))","v":""},null,null,{"$f":"IF(COUNTBLANK(Input_Output!CJ33:CK232)=400,\"\",IF(OR(COUNT(Input_Output!CJ33:CJ232)<3,COUNT(Input_Output!CJ33:CJ232)-COUNT(Input_Output!CK33:CK232)<0,COUNT(Input_Output!CJ33:CJ232)+COUNTBLANK(Input_Output!CJ33:CJ232)<200,MIN(Input_Output!CJ33:CJ232)<0,MAX(Input_Output!CJ33:CJ232)>=10000,COUNTIF(Input_Output!CJ33:CJ232,0)>0,COUNTBLANK(CK34:CK233)<200),\"Check\",\"\"))","v":""},null,null,{"$f":"IF(COUNTBLANK(Input_Output!CM33:CN232)=400,\"\",IF(OR(COUNT(Input_Output!CM33:CM232)<3,COUNT(Input_Output!CM33:CM232)-COUNT(Input_Output!CN33:CN232)<0,COUNT(Input_Output!CM33:CM232)+COUNTBLANK(Input_Output!CM33:CM232)<200,MIN(Input_Output!CM33:CM232)<0,MAX(Input_Output!CM33:CM232)>=10000,COUNTIF(Input_Output!CM33:CM232,0)>0,COUNTBLANK(CN34:CN233)<200),\"Check\",\"\"))","v":""},null,null,{"$f":"IF(COUNTBLANK(Input_Output!CP33:CQ232)=400,\"\",IF(OR(COUNT(Input_Output!CP33:CP232)<3,COUNT(Input_Output!CP33:CP232)-COUNT(Input_Output!CQ33:CQ232)<0,COUNT(Input_Output!CP33:CP232)+COUNTBLANK(Input_Output!CP33:CP232)<200,MIN(Input_Output!CP33:CP232)<0,MAX(Input_Output!CP33:CP232)>=10000,COUNTIF(Input_Output!CP33:CP232,0)>0,COUNTBLANK(CQ34:CQ233)<200),\"Check\",\"\"))","v":""},null,null,{"$f":"IF(COUNTBLANK(Input_Output!CS33:CT232)=400,\"\",IF(OR(COUNT(Input_Output!CS33:CS232)<3,COUNT(Input_Output!CS33:CS232)-COUNT(Input_Output!CT33:CT232)<0,COUNT(Input_Output!CS33:CS232)+COUNTBLANK(Input_Output!CS33:CS232)<200,MIN(Input_Output!CS33:CS232)<0,MAX(Input_Output!CS33:CS232)>=10000,COUNTIF(Input_Output!CS33:CS232,0)>0,COUNTBLANK(CT34:CT233)<200),\"Check\",\"\"))","v":""},null,null,{"$f":"IF(COUNTBLANK(Input_Output!CV33:CW232)=400,\"\",IF(OR(COUNT(Input_Output!CV33:CV232)<3,COUNT(Input_Output!CV33:CV232)-COUNT(Input_Output!CW33:CW232)<0,COUNT(Input_Output!CV33:CV232)+COUNTBLANK(Input_Output!CV33:CV232)<200,MIN(Input_Output!CV33:CV232)<0,MAX(Input_Output!CV33:CV232)>=10000,COUNTIF(Input_Output!CV33:CV232,0)>0,COUNTBLANK(CW34:CW233)<200),\"Check\",\"\"))","v":""},null,null,{"$f":"IF(COUNTBLANK(Input_Output!CY33:CZ232)=400,\"\",IF(OR(COUNT(Input_Output!CY33:CY232)<3,COUNT(Input_Output!CY33:CY232)-COUNT(Input_Output!CZ33:CZ232)<0,COUNT(Input_Output!CY33:CY232)+COUNTBLANK(Input_Output!CY33:CY232)<200,MIN(Input_Output!CY33:CY232)<0,MAX(Input_Output!CY33:CY232)>=10000,COUNTIF(Input_Output!CY33:CY232,0)>0,COUNTBLANK(CZ34:CZ233)<200),\"Check\",\"\"))","v":""},null,null,{"$f":"IF(COUNTBLANK(Input_Output!DB33:DC232)=400,\"\",IF(OR(COUNT(Input_Output!DB33:DB232)<3,COUNT(Input_Output!DB33:DB232)-COUNT(Input_Output!DC33:DC232)<0,COUNT(Input_Output!DB33:DB232)+COUNTBLANK(Input_Output!DB33:DB232)<200,MIN(Input_Output!DB33:DB232)<0,MAX(Input_Output!DB33:DB232)>=10000,COUNTIF(Input_Output!DB33:DB232,0)>0,COUNTBLANK(DC34:DC233)<200),\"Check\",\"\"))","v":""},null,null,{"$f":"IF(COUNTBLANK(Input_Output!DE33:DF232)=400,\"\",IF(OR(COUNT(Input_Output!DE33:DE232)<3,COUNT(Input_Output!DE33:DE232)-COUNT(Input_Output!DF33:DF232)<0,COUNT(Input_Output!DE33:DE232)+COUNTBLANK(Input_Output!DE33:DE232)<200,MIN(Input_Output!DE33:DE232)<0,MAX(Input_Output!DE33:DE232)>=10000,COUNTIF(Input_Output!DE33:DE232,0)>0,COUNTBLANK(DF34:DF233)<200),\"Check\",\"\"))","v":""},null,null,{"$f":"IF(COUNTBLANK(Input_Output!DH33:DI232)=400,\"\",IF(OR(COUNT(Input_Output!DH33:DH232)<3,COUNT(Input_Output!DH33:DH232)-COUNT(Input_Output!DI33:DI232)<0,COUNT(Input_Output!DH33:DH232)+COUNTBLANK(Input_Output!DH33:DH232)<200,MIN(Input_Output!DH33:DH232)<0,MAX(Input_Output!DH33:DH232)>=10000,COUNTIF(Input_Output!DH33:DH232,0)>0,COUNTBLANK(DI34:DI233)<200),\"Check\",\"\"))","v":""},null,null,{"$f":"IF(COUNTBLANK(Input_Output!DK33:DL232)=400,\"\",IF(OR(COUNT(Input_Output!DK33:DK232)<3,COUNT(Input_Output!DK33:DK232)-COUNT(Input_Output!DL33:DL232)<0,COUNT(Input_Output!DK33:DK232)+COUNTBLANK(Input_Output!DK33:DK232)<200,MIN(Input_Output!DK33:DK232)<0,MAX(Input_Output!DK33:DK232)>=10000,COUNTIF(Input_Output!DK33:DK232,0)>0,COUNTBLANK(DL34:DL233)<200),\"Check\",\"\"))","v":""},null,null,{"$f":"IF(COUNTBLANK(Input_Output!DN33:DO232)=400,\"\",IF(OR(COUNT(Input_Output!DN33:DN232)<3,COUNT(Input_Output!DN33:DN232)-COUNT(Input_Output!DO33:DO232)<0,COUNT(Input_Output!DN33:DN232)+COUNTBLANK(Input_Output!DN33:DN232)<200,MIN(Input_Output!DN33:DN232)<0,MAX(Input_Output!DN33:DN232)>=10000,COUNTIF(Input_Output!DN33:DN232,0)>0,COUNTBLANK(DO34:DO233)<200),\"Check\",\"\"))","v":""},null,null,{"$f":"IF(COUNTBLANK(Input_Output!DQ33:DR232)=400,\"\",IF(OR(COUNT(Input_Output!DQ33:DQ232)<3,COUNT(Input_Output!DQ33:DQ232)-COUNT(Input_Output!DR33:DR232)<0,COUNT(Input_Output!DQ33:DQ232)+COUNTBLANK(Input_Output!DQ33:DQ232)<200,MIN(Input_Output!DQ33:DQ232)<0,MAX(Input_Output!DQ33:DQ232)>=10000,COUNTIF(Input_Output!DQ33:DQ232,0)>0,COUNTBLANK(DR34:DR233)<200),\"Check\",\"\"))","v":""},null,null,{"$f":"IF(COUNTBLANK(Input_Output!DT33:DU232)=400,\"\",IF(OR(COUNT(Input_Output!DT33:DT232)<3,COUNT(Input_Output!DT33:DT232)-COUNT(Input_Output!DU33:DU232)<0,COUNT(Input_Output!DT33:DT232)+COUNTBLANK(Input_Output!DT33:DT232)<200,MIN(Input_Output!DT33:DT232)<0,MAX(Input_Output!DT33:DT232)>=10000,COUNTIF(Input_Output!DT33:DT232,0)>0,COUNTBLANK(DU34:DU233)<200),\"Check\",\"\"))","v":""},null,null,{"$f":"IF(COUNTBLANK(Input_Output!DW33:DX232)=400,\"\",IF(OR(COUNT(Input_Output!DW33:DW232)<3,COUNT(Input_Output!DW33:DW232)-COUNT(Input_Output!DX33:DX232)<0,COUNT(Input_Output!DW33:DW232)+COUNTBLANK(Input_Output!DW33:DW232)<200,MIN(Input_Output!DW33:DW232)<0,MAX(Input_Output!DW33:DW232)>=10000,COUNTIF(Input_Output!DW33:DW232,0)>0,COUNTBLANK(DX34:DX233)<200),\"Check\",\"\"))","v":""},null,null,{"$f":"IF(COUNTBLANK(Input_Output!DZ33:EA232)=400,\"\",IF(OR(COUNT(Input_Output!DZ33:DZ232)<3,COUNT(Input_Output!DZ33:DZ232)-COUNT(Input_Output!EA33:EA232)<0,COUNT(Input_Output!DZ33:DZ232)+COUNTBLANK(Input_Output!DZ33:DZ232)<200,MIN(Input_Output!DZ33:DZ232)<0,MAX(Input_Output!DZ33:DZ232)>=10000,COUNTIF(Input_Output!DZ33:DZ232,0)>0,COUNTBLANK(EA34:EA233)<200),\"Check\",\"\"))","v":""},null,null,{"$f":"IF(COUNTBLANK(Input_Output!EC33:ED232)=400,\"\",IF(OR(COUNT(Input_Output!EC33:EC232)<3,COUNT(Input_Output!EC33:EC232)-COUNT(Input_Output!ED33:ED232)<0,COUNT(Input_Output!EC33:EC232)+COUNTBLANK(Input_Output!EC33:EC232)<200,MIN(Input_Output!EC33:EC232)<0,MAX(Input_Output!EC33:EC232)>=10000,COUNTIF(Input_Output!EC33:EC232,0)>0,COUNTBLANK(ED34:ED233)<200),\"Check\",\"\"))","v":""},null,null,{"$f":"IF(COUNTBLANK(Input_Output!EF33:EG232)=400,\"\",IF(OR(COUNT(Input_Output!EF33:EF232)<3,COUNT(Input_Output!EF33:EF232)-COUNT(Input_Output!EG33:EG232)<0,COUNT(Input_Output!EF33:EF232)+COUNTBLANK(Input_Output!EF33:EF232)<200,MIN(Input_Output!EF33:EF232)<0,MAX(Input_Output!EF33:EF232)>=10000,COUNTIF(Input_Output!EF33:EF232,0)>0,COUNTBLANK(EG34:EG233)<200),\"Check\",\"\"))","v":""},null,null,{"$f":"IF(COUNTBLANK(Input_Output!EI33:EJ232)=400,\"\",IF(OR(COUNT(Input_Output!EI33:EI232)<3,COUNT(Input_Output!EI33:EI232)-COUNT(Input_Output!EJ33:EJ232)<0,COUNT(Input_Output!EI33:EI232)+COUNTBLANK(Input_Output!EI33:EI232)<200,MIN(Input_Output!EI33:EI232)<0,MAX(Input_Output!EI33:EI232)>=10000,COUNTIF(Input_Output!EI33:EI232,0)>0,COUNTBLANK(EJ34:EJ233)<200),\"Check\",\"\"))","v":""},null,null,{"$f":"IF(COUNTBLANK(Input_Output!EL33:EM232)=400,\"\",IF(OR(COUNT(Input_Output!EL33:EL232)<3,COUNT(Input_Output!EL33:EL232)-COUNT(Input_Output!EM33:EM232)<0,COUNT(Input_Output!EL33:EL232)+COUNTBLANK(Input_Output!EL33:EL232)<200,MIN(Input_Output!EL33:EL232)<0,MAX(Input_Output!EL33:EL232)>=10000,COUNTIF(Input_Output!EL33:EL232,0)>0,COUNTBLANK(EM34:EM233)<200),\"Check\",\"\"))","v":""},null,null,{"$f":"IF(COUNTBLANK(Input_Output!EO33:EP232)=400,\"\",IF(OR(COUNT(Input_Output!EO33:EO232)<3,COUNT(Input_Output!EO33:EO232)-COUNT(Input_Output!EP33:EP232)<0,COUNT(Input_Output!EO33:EO232)+COUNTBLANK(Input_Output!EO33:EO232)<200,MIN(Input_Output!EO33:EO232)<0,MAX(Input_Output!EO33:EO232)>=10000,COUNTIF(Input_Output!EO33:EO232,0)>0,COUNTBLANK(EP34:EP233)<200),\"Check\",\"\"))","v":""},null,null,{"$f":"IF(COUNTBLANK(Input_Output!ER33:ES232)=400,\"\",IF(OR(COUNT(Input_Output!ER33:ER232)<3,COUNT(Input_Output!ER33:ER232)-COUNT(Input_Output!ES33:ES232)<0,COUNT(Input_Output!ER33:ER232)+COUNTBLANK(Input_Output!ER33:ER232)<200,MIN(Input_Output!ER33:ER232)<0,MAX(Input_Output!ER33:ER232)>=10000,COUNTIF(Input_Output!ER33:ER232,0)>0,COUNTBLANK(ES34:ES233)<200),\"Check\",\"\"))","v":""},null,null,{"$f":"IF(COUNTBLANK(Input_Output!EU33:EV232)=400,\"\",IF(OR(COUNT(Input_Output!EU33:EU232)<3,COUNT(Input_Output!EU33:EU232)-COUNT(Input_Output!EV33:EV232)<0,COUNT(Input_Output!EU33:EU232)+COUNTBLANK(Input_Output!EU33:EU232)<200,MIN(Input_Output!EU33:EU232)<0,MAX(Input_Output!EU33:EU232)>=10000,COUNTIF(Input_Output!EU33:EU232,0)>0,COUNTBLANK(EV34:EV233)<200),\"Check\",\"\"))","v":""},null,null,{"$f":"IF(COUNTBLANK(Input_Output!EX33:EY232)=400,\"\",IF(OR(COUNT(Input_Output!EX33:EX232)<3,COUNT(Input_Output!EX33:EX232)-COUNT(Input_Output!EY33:EY232)<0,COUNT(Input_Output!EX33:EX232)+COUNTBLANK(Input_Output!EX33:EX232)<200,MIN(Input_Output!EX33:EX232)<0,MAX(Input_Output!EX33:EX232)>=10000,COUNTIF(Input_Output!EX33:EX232,0)>0,COUNTBLANK(EY34:EY233)<200),\"Check\",\"\"))","v":""},null,null,{"$f":"IF(COUNTBLANK(Input_Output!FA33:FB232)=400,\"\",IF(OR(COUNT(Input_Output!FA33:FA232)<3,COUNT(Input_Output!FA33:FA232)-COUNT(Input_Output!FB33:FB232)<0,COUNT(Input_Output!FA33:FA232)+COUNTBLANK(Input_Output!FA33:FA232)<200,MIN(Input_Output!FA33:FA232)<0,MAX(Input_Output!FA33:FA232)>=10000,COUNTIF(Input_Output!FA33:FA232,0)>0,COUNTBLANK(FB34:FB233)<200),\"Check\",\"\"))","v":""},null,null,{"$f":"IF(COUNTBLANK(Input_Output!FD33:FE232)=400,\"\",IF(OR(COUNT(Input_Output!FD33:FD232)<3,COUNT(Input_Output!FD33:FD232)-COUNT(Input_Output!FE33:FE232)<0,COUNT(Input_Output!FD33:FD232)+COUNTBLANK(Input_Output!FD33:FD232)<200,MIN(Input_Output!FD33:FD232)<0,MAX(Input_Output!FD33:FD232)>=10000,COUNTIF(Input_Output!FD33:FD232,0)>0,COUNTBLANK(FE34:FE233)<200),\"Check\",\"\"))","v":""},null,null,{"$f":"IF(COUNTBLANK(Input_Output!FG33:FH232)=400,\"\",IF(OR(COUNT(Input_Output!FG33:FG232)<3,COUNT(Input_Output!FG33:FG232)-COUNT(Input_Output!FH33:FH232)<0,COUNT(Input_Output!FG33:FG232)+COUNTBLANK(Input_Output!FG33:FG232)<200,MIN(Input_Output!FG33:FG232)<0,MAX(Input_Output!FG33:FG232)>=10000,COUNTIF(Input_Output!FG33:FG232,0)>0,COUNTBLANK(FH34:FH233)<200),\"Check\",\"\"))","v":""},null,null,{"$f":"IF(COUNTBLANK(Input_Output!FJ33:FK232)=400,\"\",IF(OR(COUNT(Input_Output!FJ33:FJ232)<3,COUNT(Input_Output!FJ33:FJ232)-COUNT(Input_Output!FK33:FK232)<0,COUNT(Input_Output!FJ33:FJ232)+COUNTBLANK(Input_Output!FJ33:FJ232)<200,MIN(Input_Output!FJ33:FJ232)<0,MAX(Input_Output!FJ33:FJ232)>=10000,COUNTIF(Input_Output!FJ33:FJ232,0)>0,COUNTBLANK(FK34:FK233)<200),\"Check\",\"\"))","v":""},null,null,{"$f":"IF(COUNTBLANK(Input_Output!FM33:FN232)=400,\"\",IF(OR(COUNT(Input_Output!FM33:FM232)<3,COUNT(Input_Output!FM33:FM232)-COUNT(Input_Output!FN33:FN232)<0,COUNT(Input_Output!FM33:FM232)+COUNTBLANK(Input_Output!FM33:FM232)<200,MIN(Input_Output!FM33:FM232)<0,MAX(Input_Output!FM33:FM232)>=10000,COUNTIF(Input_Output!FM33:FM232,0)>0,COUNTBLANK(FN34:FN233)<200),\"Check\",\"\"))","v":""},null,null,{"$f":"IF(COUNTBLANK(Input_Output!FP33:FQ232)=400,\"\",IF(OR(COUNT(Input_Output!FP33:FP232)<3,COUNT(Input_Output!FP33:FP232)-COUNT(Input_Output!FQ33:FQ232)<0,COUNT(Input_Output!FP33:FP232)+COUNTBLANK(Input_Output!FP33:FP232)<200,MIN(Input_Output!FP33:FP232)<0,MAX(Input_Output!FP33:FP232)>=10000,COUNTIF(Input_Output!FP33:FP232,0)>0,COUNTBLANK(FQ34:FQ233)<200),\"Check\",\"\"))","v":""},null,null,{"$f":"IF(COUNTBLANK(Input_Output!FS33:FT232)=400,\"\",IF(OR(COUNT(Input_Output!FS33:FS232)<3,COUNT(Input_Output!FS33:FS232)-COUNT(Input_Output!FT33:FT232)<0,COUNT(Input_Output!FS33:FS232)+COUNTBLANK(Input_Output!FS33:FS232)<200,MIN(Input_Output!FS33:FS232)<0,MAX(Input_Output!FS33:FS232)>=10000,COUNTIF(Input_Output!FS33:FS232,0)>0,COUNTBLANK(FT34:FT233)<200),\"Check\",\"\"))","v":""},null,null,{"$f":"IF(COUNTBLANK(Input_Output!FV33:FW232)=400,\"\",IF(OR(COUNT(Input_Output!FV33:FV232)<3,COUNT(Input_Output!FV33:FV232)-COUNT(Input_Output!FW33:FW232)<0,COUNT(Input_Output!FV33:FV232)+COUNTBLANK(Input_Output!FV33:FV232)<200,MIN(Input_Output!FV33:FV232)<0,MAX(Input_Output!FV33:FV232)>=10000,COUNTIF(Input_Output!FV33:FV232,0)>0,COUNTBLANK(FW34:FW233)<200),\"Check\",\"\"))","v":""},null,null,{"$f":"IF(COUNTBLANK(Input_Output!FY33:FZ232)=400,\"\",IF(OR(COUNT(Input_Output!FY33:FY232)<3,COUNT(Input_Output!FY33:FY232)-COUNT(Input_Output!FZ33:FZ232)<0,COUNT(Input_Output!FY33:FY232)+COUNTBLANK(Input_Output!FY33:FY232)<200,MIN(Input_Output!FY33:FY232)<0,MAX(Input_Output!FY33:FY232)>=10000,COUNTIF(Input_Output!FY33:FY232,0)>0,COUNTBLANK(FZ34:FZ233)<200),\"Check\",\"\"))","v":""},null,null,{"$f":"IF(COUNTBLANK(Input_Output!GB33:GC232)=400,\"\",IF(OR(COUNT(Input_Output!GB33:GB232)<3,COUNT(Input_Output!GB33:GB232)-COUNT(Input_Output!GC33:GC232)<0,COUNT(Input_Output!GB33:GB232)+COUNTBLANK(Input_Output!GB33:GB232)<200,MIN(Input_Output!GB33:GB232)<0,MAX(Input_Output!GB33:GB232)>=10000,COUNTIF(Input_Output!GB33:GB232,0)>0,COUNTBLANK(GC34:GC233)<200),\"Check\",\"\"))","v":""},null,null,{"$f":"IF(COUNTBLANK(Input_Output!GE33:GF232)=400,\"\",IF(OR(COUNT(Input_Output!GE33:GE232)<3,COUNT(Input_Output!GE33:GE232)-COUNT(Input_Output!GF33:GF232)<0,COUNT(Input_Output!GE33:GE232)+COUNTBLANK(Input_Output!GE33:GE232)<200,MIN(Input_Output!GE33:GE232)<0,MAX(Input_Output!GE33:GE232)>=10000,COUNTIF(Input_Output!GE33:GE232,0)>0,COUNTBLANK(GF34:GF233)<200),\"Check\",\"\"))","v":""},null,null,{"$f":"IF(COUNTBLANK(Input_Output!GH33:GI232)=400,\"\",IF(OR(COUNT(Input_Output!GH33:GH232)<3,COUNT(Input_Output!GH33:GH232)-COUNT(Input_Output!GI33:GI232)<0,COUNT(Input_Output!GH33:GH232)+COUNTBLANK(Input_Output!GH33:GH232)<200,MIN(Input_Output!GH33:GH232)<0,MAX(Input_Output!GH33:GH232)>=10000,COUNTIF(Input_Output!GH33:GH232,0)>0,COUNTBLANK(GI34:GI233)<200),\"Check\",\"\"))","v":""},null,null,{"$f":"IF(COUNTBLANK(Input_Output!GK33:GL232)=400,\"\",IF(OR(COUNT(Input_Output!GK33:GK232)<3,COUNT(Input_Output!GK33:GK232)-COUNT(Input_Output!GL33:GL232)<0,COUNT(Input_Output!GK33:GK232)+COUNTBLANK(Input_Output!GK33:GK232)<200,MIN(Input_Output!GK33:GK232)<0,MAX(Input_Output!GK33:GK232)>=10000,COUNTIF(Input_Output!GK33:GK232,0)>0,COUNTBLANK(GL34:GL233)<200),\"Check\",\"\"))","v":""},null,null,{"$f":"IF(COUNTBLANK(Input_Output!GN33:GO232)=400,\"\",IF(OR(COUNT(Input_Output!GN33:GN232)<3,COUNT(Input_Output!GN33:GN232)-COUNT(Input_Output!GO33:GO232)<0,COUNT(Input_Output!GN33:GN232)+COUNTBLANK(Input_Output!GN33:GN232)<200,MIN(Input_Output!GN33:GN232)<0,MAX(Input_Output!GN33:GN232)>=10000,COUNTIF(Input_Output!GN33:GN232,0)>0,COUNTBLANK(GO34:GO233)<200),\"Check\",\"\"))","v":""},null,null,{"$f":"IF(COUNTBLANK(Input_Output!GQ33:GR232)=400,\"\",IF(OR(COUNT(Input_Output!GQ33:GQ232)<3,COUNT(Input_Output!GQ33:GQ232)-COUNT(Input_Output!GR33:GR232)<0,COUNT(Input_Output!GQ33:GQ232)+COUNTBLANK(Input_Output!GQ33:GQ232)<200,MIN(Input_Output!GQ33:GQ232)<0,MAX(Input_Output!GQ33:GQ232)>=10000,COUNTIF(Input_Output!GQ33:GQ232,0)>0,COUNTBLANK(GR34:GR233)<200),\"Check\",\"\"))","v":""},null,null,{"$f":"IF(COUNTBLANK(Input_Output!GT33:GU232)=400,\"\",IF(OR(COUNT(Input_Output!GT33:GT232)<3,COUNT(Input_Output!GT33:GT232)-COUNT(Input_Output!GU33:GU232)<0,COUNT(Input_Output!GT33:GT232)+COUNTBLANK(Input_Output!GT33:GT232)<200,MIN(Input_Output!GT33:GT232)<0,MAX(Input_Output!GT33:GT232)>=10000,COUNTIF(Input_Output!GT33:GT232,0)>0,COUNTBLANK(GU34:GU233)<200),\"Check\",\"\"))","v":""},null,null,{"$f":"IF(COUNTBLANK(Input_Output!GW33:GX232)=400,\"\",IF(OR(COUNT(Input_Output!GW33:GW232)<3,COUNT(Input_Output!GW33:GW232)-COUNT(Input_Output!GX33:GX232)<0,COUNT(Input_Output!GW33:GW232)+COUNTBLANK(Input_Output!GW33:GW232)<200,MIN(Input_Output!GW33:GW232)<0,MAX(Input_Output!GW33:GW232)>=10000,COUNTIF(Input_Output!GW33:GW232,0)>0,COUNTBLANK(GX34:GX233)<200),\"Check\",\"\"))","v":""},null,null,{"$f":"IF(COUNTBLANK(Input_Output!GZ33:HA232)=400,\"\",IF(OR(COUNT(Input_Output!GZ33:GZ232)<3,COUNT(Input_Output!GZ33:GZ232)-COUNT(Input_Output!HA33:HA232)<0,COUNT(Input_Output!GZ33:GZ232)+COUNTBLANK(Input_Output!GZ33:GZ232)<200,MIN(Input_Output!GZ33:GZ232)<0,MAX(Input_Output!GZ33:GZ232)>=10000,COUNTIF(Input_Output!GZ33:GZ232,0)>0,COUNTBLANK(HA34:HA233)<200),\"Check\",\"\"))","v":""},null,null,{"$f":"IF(COUNTBLANK(Input_Output!HC33:HD232)=400,\"\",IF(OR(COUNT(Input_Output!HC33:HC232)<3,COUNT(Input_Output!HC33:HC232)-COUNT(Input_Output!HD33:HD232)<0,COUNT(Input_Output!HC33:HC232)+COUNTBLANK(Input_Output!HC33:HC232)<200,MIN(Input_Output!HC33:HC232)<0,MAX(Input_Output!HC33:HC232)>=10000,COUNTIF(Input_Output!HC33:HC232,0)>0,COUNTBLANK(HD34:HD233)<200),\"Check\",\"\"))","v":""},null,null,{"$f":"IF(COUNTBLANK(Input_Output!HF33:HG232)=400,\"\",IF(OR(COUNT(Input_Output!HF33:HF232)<3,COUNT(Input_Output!HF33:HF232)-COUNT(Input_Output!HG33:HG232)<0,COUNT(Input_Output!HF33:HF232)+COUNTBLANK(Input_Output!HF33:HF232)<200,MIN(Input_Output!HF33:HF232)<0,MAX(Input_Output!HF33:HF232)>=10000,COUNTIF(Input_Output!HF33:HF232,0)>0,COUNTBLANK(HG34:HG233)<200),\"Check\",\"\"))","v":""},null,null,{"$f":"IF(COUNTBLANK(Input_Output!HI33:HJ232)=400,\"\",IF(OR(COUNT(Input_Output!HI33:HI232)<3,COUNT(Input_Output!HI33:HI232)-COUNT(Input_Output!HJ33:HJ232)<0,COUNT(Input_Output!HI33:HI232)+COUNTBLANK(Input_Output!HI33:HI232)<200,MIN(Input_Output!HI33:HI232)<0,MAX(Input_Output!HI33:HI232)>=10000,COUNTIF(Input_Output!HI33:HI232,0)>0,COUNTBLANK(HJ34:HJ233)<200),\"Check\",\"\"))","v":""},null,null,{"$f":"IF(COUNTBLANK(Input_Output!HL33:HM232)=400,\"\",IF(OR(COUNT(Input_Output!HL33:HL232)<3,COUNT(Input_Output!HL33:HL232)-COUNT(Input_Output!HM33:HM232)<0,COUNT(Input_Output!HL33:HL232)+COUNTBLANK(Input_Output!HL33:HL232)<200,MIN(Input_Output!HL33:HL232)<0,MAX(Input_Output!HL33:HL232)>=10000,COUNTIF(Input_Output!HL33:HL232,0)>0,COUNTBLANK(HM34:HM233)<200),\"Check\",\"\"))","v":""},null,null,{"$f":"IF(COUNTBLANK(Input_Output!HO33:HP232)=400,\"\",IF(OR(COUNT(Input_Output!HO33:HO232)<3,COUNT(Input_Output!HO33:HO232)-COUNT(Input_Output!HP33:HP232)<0,COUNT(Input_Output!HO33:HO232)+COUNTBLANK(Input_Output!HO33:HO232)<200,MIN(Input_Output!HO33:HO232)<0,MAX(Input_Output!HO33:HO232)>=10000,COUNTIF(Input_Output!HO33:HO232,0)>0,COUNTBLANK(HP34:HP233)<200),\"Check\",\"\"))","v":""},null,null,{"$f":"IF(COUNTBLANK(Input_Output!HR33:HS232)=400,\"\",IF(OR(COUNT(Input_Output!HR33:HR232)<3,COUNT(Input_Output!HR33:HR232)-COUNT(Input_Output!HS33:HS232)<0,COUNT(Input_Output!HR33:HR232)+COUNTBLANK(Input_Output!HR33:HR232)<200,MIN(Input_Output!HR33:HR232)<0,MAX(Input_Output!HR33:HR232)>=10000,COUNTIF(Input_Output!HR33:HR232,0)>0,COUNTBLANK(HS34:HS233)<200),\"Check\",\"\"))","v":""},null,null,{"$f":"IF(COUNTBLANK(Input_Output!HU33:HV232)=400,\"\",IF(OR(COUNT(Input_Output!HU33:HU232)<3,COUNT(Input_Output!HU33:HU232)-COUNT(Input_Output!HV33:HV232)<0,COUNT(Input_Output!HU33:HU232)+COUNTBLANK(Input_Output!HU33:HU232)<200,MIN(Input_Output!HU33:HU232)<0,MAX(Input_Output!HU33:HU232)>=10000,COUNTIF(Input_Output!HU33:HU232,0)>0,COUNTBLANK(HV34:HV233)<200),\"Check\",\"\"))","v":""},null,null,{"$f":"IF(COUNTBLANK(Input_Output!HX33:HY232)=400,\"\",IF(OR(COUNT(Input_Output!HX33:HX232)<3,COUNT(Input_Output!HX33:HX232)-COUNT(Input_Output!HY33:HY232)<0,COUNT(Input_Output!HX33:HX232)+COUNTBLANK(Input_Output!HX33:HX232)<200,MIN(Input_Output!HX33:HX232)<0,MAX(Input_Output!HX33:HX232)>=10000,COUNTIF(Input_Output!HX33:HX232,0)>0,COUNTBLANK(HY34:HY233)<200),\"Check\",\"\"))","v":""},null,null,{"$f":"IF(COUNTBLANK(Input_Output!IA33:IB232)=400,\"\",IF(OR(COUNT(Input_Output!IA33:IA232)<3,COUNT(Input_Output!IA33:IA232)-COUNT(Input_Output!IB33:IB232)<0,COUNT(Input_Output!IA33:IA232)+COUNTBLANK(Input_Output!IA33:IA232)<200,MIN(Input_Output!IA33:IA232)<0,MAX(Input_Output!IA33:IA232)>=10000,COUNTIF(Input_Output!IA33:IA232,0)>0,COUNTBLANK(IB34:IB233)<200),\"Check\",\"\"))","v":""},null,null,{"$f":"IF(COUNTBLANK(Input_Output!ID33:IE232)=400,\"\",IF(OR(COUNT(Input_Output!ID33:ID232)<3,COUNT(Input_Output!ID33:ID232)-COUNT(Input_Output!IE33:IE232)<0,COUNT(Input_Output!ID33:ID232)+COUNTBLANK(Input_Output!ID33:ID232)<200,MIN(Input_Output!ID33:ID232)<0,MAX(Input_Output!ID33:ID232)>=10000,COUNTIF(Input_Output!ID33:ID232,0)>0,COUNTBLANK(IE34:IE233)<200),\"Check\",\"\"))","v":""},null,null,{"$f":"IF(COUNTBLANK(Input_Output!IG33:IH232)=400,\"\",IF(OR(COUNT(Input_Output!IG33:IG232)<3,COUNT(Input_Output!IG33:IG232)-COUNT(Input_Output!IH33:IH232)<0,COUNT(Input_Output!IG33:IG232)+COUNTBLANK(Input_Output!IG33:IG232)<200,MIN(Input_Output!IG33:IG232)<0,MAX(Input_Output!IG33:IG232)>=10000,COUNTIF(Input_Output!IG33:IG232,0)>0,COUNTBLANK(IH34:IH233)<200),\"Check\",\"\"))","v":""},null,null,{"$f":"IF(COUNTBLANK(Input_Output!IJ33:IK232)=400,\"\",IF(OR(COUNT(Input_Output!IJ33:IJ232)<3,COUNT(Input_Output!IJ33:IJ232)-COUNT(Input_Output!IK33:IK232)<0,COUNT(Input_Output!IJ33:IJ232)+COUNTBLANK(Input_Output!IJ33:IJ232)<200,MIN(Input_Output!IJ33:IJ232)<0,MAX(Input_Output!IJ33:IJ232)>=10000,COUNTIF(Input_Output!IJ33:IJ232,0)>0,COUNTBLANK(IK34:IK233)<200),\"Check\",\"\"))","v":""},null,null,{"$f":"IF(COUNTBLANK(Input_Output!IM33:IN232)=400,\"\",IF(OR(COUNT(Input_Output!IM33:IM232)<3,COUNT(Input_Output!IM33:IM232)-COUNT(Input_Output!IN33:IN232)<0,COUNT(Input_Output!IM33:IM232)+COUNTBLANK(Input_Output!IM33:IM232)<200,MIN(Input_Output!IM33:IM232)<0,MAX(Input_Output!IM33:IM232)>=10000,COUNTIF(Input_Output!IM33:IM232,0)>0,COUNTBLANK(IN34:IN233)<200),\"Check\",\"\"))","v":""},null,null,{"$f":"IF(COUNTBLANK(Input_Output!IP33:IQ232)=400,\"\",IF(OR(COUNT(Input_Output!IP33:IP232)<3,COUNT(Input_Output!IP33:IP232)-COUNT(Input_Output!IQ33:IQ232)<0,COUNT(Input_Output!IP33:IP232)+COUNTBLANK(Input_Output!IP33:IP232)<200,MIN(Input_Output!IP33:IP232)<0,MAX(Input_Output!IP33:IP232)>=10000,COUNTIF(Input_Output!IP33:IP232,0)>0,COUNTBLANK(IQ34:IQ233)<200),\"Check\",\"\"))","v":""},null,null,{"$f":"IF(COUNTBLANK(Input_Output!IS33:IT232)=400,\"\",IF(OR(COUNT(Input_Output!IS33:IS232)<3,COUNT(Input_Output!IS33:IS232)-COUNT(Input_Output!IT33:IT232)<0,COUNT(Input_Output!IS33:IS232)+COUNTBLANK(Input_Output!IS33:IS232)<200,MIN(Input_Output!IS33:IS232)<0,MAX(Input_Output!IS33:IS232)>=10000,COUNTIF(Input_Output!IS33:IS232,0)>0,COUNTBLANK(IT34:IT233)<200),\"Check\",\"\"))","v":""}]
[null,"Compound"]
[null,"Crop"]
[null,"Region / Country"]
[null,"GAP"]
[]
[null,"Total number of data (n)"]
[]
[null,"Percentage of censored data"]
[null,"Number of non-censored data"]
[]
[null,"Lowest residue"]
[null,"Highest residue"]
[null,"Median residue"]
[]
[null,"Mean"]
[null,"Standard deviation (SD)"]
[]
[null,"Correction factor for censoring (CF)"]
[]
[null,"Proposed MRL estimate"]
[]
[null,"- Highest residue"]
[null,"- Mean + 4 SD"]
[null,"- CF x 3 Mean"]
[null,"Unrounded MRL"]
[]
[null,"Rounded MRL"]
[]
[]
[]
[]
[]
[null,null,null,null,{"$f":"IF(Input_Output!D33=\"\",T(Input_Output!E33),\"\")","v":""},null,null,{"$f":"IF(Input_Output!G33=\"\",T(Input_Output!H33),\"\")","v":""},null,null,{"$f":"IF(Input_Output!J33=\"\",T(Input_Output!K33),\"\")","v":""},null,null,{"$f":"IF(Input_Output!M33=\"\",T(Input_Output!N33),\"\")","v":""},null,null,{"$f":"IF(Input_Output!P33=\"\",T(Input_Output!Q33),\"\")","v":""},null,null,{"$f":"IF(Input_Output!S33=\"\",T(Input_Output!T33),\"\")","v":""},null,null,{"$f":"IF(Input_Output!V33=\"\",T(Input_Output!W33),\"\")","v":""},null,null,{"$f":"IF(Input_Output!Y33=\"\",T(Input_Output!Z33),\"\")","v":""},null,null,{"$f":"IF(Input_Output!AB33=\"\",T(Input_Output!AC33),\"\")","v":""},null,null,{"$f":"IF(Input_Output!AE33=\"\",T(Input_Output!AF33),\"\")","v":""},null,null,{"$f":"IF(Input_Output!AH33=\"\",T(Input_Output!AI33),\"\")","v":""},null,null,{"$f":"IF(Input_Output!AK33=\"\",T(Input_Output!AL33),\"\")","v":""},null,null,{"$f":"IF(Input_Output!AN33=\"\",T(Input_Output!AO33),\"\")","v":""},null,null,{"$f":"IF(Input_Output!AQ33=\"\",T(Input_Output!AR33),\"\")","v":""},null,null,{"$f":"IF(Input_Output!AT33=\"\",T(Input_Output!AU33),\"\")","v":""},null,null,{"$f":"IF(Input_Output!AW33=\"\",T(Input_Output!AX33),\"\")","v":""},null,null,{"$f":"IF(Input_Output!AZ33=\"\",T(Input_Output!BA33),\"\")","v":""},null,null,{"$f":"IF(Input_Output!BC33=\"\",T(Input_Output!BD33),\"\")","v":""},null,null,{"$f":"IF(Input_Output!BF33=\"\",T(Input_Output!BG33),\"\")","v":""},null,null,{"$f":"IF(Input_Output!BI33=\"\",T(Input_Output!BJ33),\"\")","v":""},null,null,{"$f":"IF(Input_Output!BL33=\"\",T(Input_Output!BM33),\"\")","v":""},null,null,{"$f":"IF(Input_Output!BO33=\"\",T(Input_Output!BP33),\"\")","v":""},null,null,{"$f":"IF(Input_Output!BR33=\"\",T(Input_Output!BS33),\"\")","v":""},null,null,{"$f":"IF(Input_Output!BU33=\"\",T(Input_Output!BV33),\"\")","v":""},null,null,{"$f":"IF(Input_Output!BX33=\"\",T(Input_Output!BY33),\"\")","v":""},null,null,{"$f":"IF(Input_Output!CA33=\"\",T(Input_Output!CB33),\"\")","v":""},null,null,{"$f":"IF(Input_Output!CD33=\"\",T(Input_Output!CE33),\"\")","v":""},null,null,{"$f":"IF(Input_Output!CG33=\"\",T(Input_Output!CH33),\"\")","v":""},null,null,{"$f":"IF(Input_Output!CJ33=\"\",T(Input_Output!CK33),\"\")","v":""},null,null,{"$f":"IF(Input_Output!CM33=\"\",T(Input_Output!CN33),\"\")","v":""},null,null,{"$f":"IF(Input_Output!CP33=\"\",T(Input_Output!CQ33),\"\")","v":""},null,null,{"$f":"IF(Input_Output!CS33=\"\",T(Input_Output!CT33),\"\")","v":""},null,null,{"$f":"IF(Input_Output!CV33=\"\",T(Input_Output!CW33),\"\")","v":""},null,null,{"$f":"IF(Input_Output!CY33=\"\",T(Input_Output!CZ33),\"\")","v":""},null,null,{"$f":"IF(Input_Output!DB33=\"\",T(Input_Output!DC33),\"\")","v":""},null,null,{"$f":"IF(Input_Output!DE33=\"\",T(Input_Output!DF33),\"\")","v":""},null,null,{"$f":"IF(Input_Output!DH33=\"\",T(Input_Output!DI33),\"\")","v":""},null,null,{"$f":"IF(Input_Output!DK33=\"\",T(Input_Output!DL33),\"\")","v":""},null,null,{"$f":"IF(Input_Output!DN33=\"\",T(Input_Output!DO33),\"\")","v":""},null,null,{"$f":"IF(Input_Output!DQ33=\"\",T(Input_Output!DR33),\"\")","v":""},null,null,{"$f":"IF(Input_Output!DT33=\"\",T(Input_Output!DU33),\"\")","v":""},null,null,{"$f":"IF(Input_Output!DW33=\"\",T(Input_Output!DX33),\"\")","v":""},null,null,{"$f":"IF(Input_Output!DZ33=\"\",T(Input_Output!EA33),\"\")","v":""},null,null,{"$f":"IF(Input_Output!EC33=\"\",T(Input_Output!ED33),\"\")","v":""},null,null,{"$f":"IF(Input_Output!EF33=\"\",T(Input_Output!EG33),\"\")","v":""},null,null,{"$f":"IF(Input_Output!EI33=\"\",T(Input_Output!EJ33),\"\")","v":""},null,null,{"$f":"IF(Input_Output!EL33=\"\",T(Input_Output!EM33),\"\")","v":""},null,null,{"$f":"IF(Input_Output!EO33=\"\",T(Input_Output!EP33),\"\")","v":""},null,null,{"$f":"IF(Input_Output!ER33=\"\",T(Input_Output!ES33),\"\")","v":""},null,null,{"$f":"IF(Input_Output!EU33=\"\",T(Input_Output!EV33),\"\")","v":""},null,null,{"$f":"IF(Input_Output!EX33=\"\",T(Input_Output!EY33),\"\")","v":""},null,null,{"$f":"IF(Input_Output!FA33=\"\",T(Input_Output!FB33),\"\")","v":""},null,null,{"$f":"IF(Input_Output!FD33=\"\",T(Input_Output!FE33),\"\")","v":""},null,null,{"$f":"IF(Input_Output!FG33=\"\",T(Input_Output!FH33),\"\")","v":""},null,null,{"$f":"IF(Input_Output!FJ33=\"\",T(Input_Output!FK33),\"\")","v":""},null,null,{"$f":"IF(Input_Output!FM33=\"\",T(Input_Output!FN33),\"\")","v":""},null,null,{"$f":"IF(Input_Output!FP33=\"\",T(Input_Output!FQ33),\"\")","v":""},null,null,{"$f":"IF(Input_Output!FS33=\"\",T(Input_Output!FT33),\"\")","v":""},null,null,{"$f":"IF(Input_Output!FV33=\"\",T(Input_Output!FW33),\"\")","v":""},null,null,{"$f":"IF(Input_Output!FY33=\"\",T(Input_Output!FZ33),\"\")","v":""},null,null,{"$f":"IF(Input_Output!GB33=\"\",T(Input_Output!GC33),\"\")","v":""},null,null,{"$f":"IF(Input_Output!GE33=\"\",T(Input_Output!GF33),\"\")","v":""},null,null,{"$f":"IF(Input_Output!GH33=\"\",T(Input_Output!GI33),\"\")","v":""},null,null,{"$f":"IF(Input_Output!GK33=\"\",T(Input_Output!GL33),\"\")","v":""},null,null,{"$f":"IF(Input_Output!GN33=\"\",T(Input_Output!GO33),\"\")","v":""},null,null,{"$f":"IF(Input_Output!GQ33=\"\",T(Input_Output!GR33),\"\")","v":""},null,null,{"$f":"IF(Input_Output!GT33=\"\",T(Input_Output!GU33),\"\")","v":""},null,null,{"$f":"IF(Input_Output!GW33=\"\",T(Input_Output!GX33),\"\")","v":""},null,null,{"$f":"IF(Input_Output!GZ33=\"\",T(Input_Output!HA33),\"\")","v":""},null,null,{"$f":"IF(Input_Output!HC33=\"\",T(Input_Output!HD33),\"\")","v":""},null,null,{"$f":"IF(Input_Output!HF33=\"\",T(Input_Output!HG33),\"\")","v":""},null,null,{"$f":"IF(Input_Output!HI33=\"\",T(Input_Output!HJ33),\"\")","v":""},null,null,{"$f":"IF(Input_Output!HL33=\"\",T(Input_Output!HM33),\"\")","v":""},null,null,{"$f":"IF(Input_Output!HO33=\"\",T(Input_Output!HP33),\"\")","v":""},null,null,{"$f":"IF(Input_Output!HR33=\"\",T(Input_Output!HS33),\"\")","v":""},null,null,{"$f":"IF(Input_Output!HU33=\"\",T(Input_Output!HV33),\"\")","v":""},null,null,{"$f":"IF(Input_Output!HX33=\"\",T(Input_Output!HY33),\"\")","v":""},null,null,{"$f":"IF(Input_Output!IA33=\"\",T(Input_Output!IB33),\"\")","v":""},null,null,{"$f":"IF(Input_Output!ID33=\"\",T(Input_Output!IE33),\"\")","v":""},null,null,{"$f":"IF(Input_Output!IG33=\"\",T(Input_Output!IH33),\"\")","v":""},null,null,{"$f":"IF(Input_Output!IJ33=\"\",T(Input_Output!IK33),\"\")","v":""},null,null,{"$f":"IF(Input_Output!IM33=\"\",T(Input_Output!IN33),\"\")","v":""},null,null,{"$f":"IF(Input_Output!IP33=\"\",T(Input_Output!IQ33),\"\")","v":""},null,null,{"$f":"IF(Input_Output!IS33=\"\",T(Input_Output!IT33),\"\")","v":""}]
[null,null,null,null,{"$f":"IF(Input_Output!D34=\"\",T(Input_Output!E34),\"\")","v":""},null,null,{"$f":"IF(Input_Output!G34=\"\",T(Input_Output!H34),\"\")","v":""},null,null,{"$f":"IF(Input_Output!J34=\"\",T(Input_Output!K34),\"\")","v":""},null,null,{"$f":"IF(Input_Output!M34=\"\",T(Input_Output!N34),\"\")","v":""},null,null,{"$f":"IF(Input_Output!P34=\"\",T(Input_Output!Q34),\"\")","v":""},null,null,{"$f":"IF(Input_Output!S34=\"\",T(Input_Output!T34),\"\")","v":""},null,null,{"$f":"IF(Input_Output!V34=\"\",T(Input_Output!W34),\"\")","v":""},null,null,{"$f":"IF(Input_Output!Y34=\"\",T(Input_Output!Z34),\"\")","v":""},null,null,{"$f":"IF(Input_Output!AB34=\"\",T(Input_Output!AC34),\"\")","v":""},null,null,{"$f":"IF(Input_Output!AE34=\"\",T(Input_Output!AF34),\"\")","v":""},null,null,{"$f":"IF(Input_Output!AH34=\"\",T(Input_Output!AI34),\"\")","v":""},null,null,{"$f":"IF(Input_Output!AK34=\"\",T(Input_Output!AL34),\"\")","v":""},null,null,{"$f":"IF(Input_Output!AN34=\"\",T(Input_Output!AO34),\"\")","v":""},null,null,{"$f":"IF(Input_Output!AQ34=\"\",T(Input_Output!AR34),\"\")","v":""},null,null,{"$f":"IF(Input_Output!AT34=\"\",T(Input_Output!AU34),\"\")","v":""},null,null,{"$f":"IF(Input_Output!AW34=\"\",T(Input_Output!AX34),\"\")","v":""},null,null,{"$f":"IF(Input_Output!AZ34=\"\",T(Input_Output!BA34),\"\")","v":""},null,null,{"$f":"IF(Input_Output!BC34=\"\",T(Input_Output!BD34),\"\")","v":""},null,null,{"$f":"IF(Input_Output!BF34=\"\",T(Input_Output!BG34),\"\")","v":""},null,null,{"$f":"IF(Input_Output!BI34=\"\",T(Input_Output!BJ34),\"\")","v":""},null,null,{"$f":"IF(Input_Output!BL34=\"\",T(Input_Output!BM34),\"\")","v":""},null,null,{"$f":"IF(Input_Output!BO34=\"\",T(Input_Output!BP34),\"\")","v":""},null,null,{"$f":"IF(Input_Output!BR34=\"\",T(Input_Output!BS34),\"\")","v":""},null,null,{"$f":"IF(Input_Output!BU34=\"\",T(Input_Output!BV34),\"\")","v":""},null,null,{"$f":"IF(Input_Output!BX34=\"\",T(Input_Output!BY34),\"\")","v":""},null,null,{"$f":"IF(Input_Output!CA34=\"\",T(Input_Output!CB34),\"\")","v":""},null,null,{"$f":"IF(Input_Output!CD34=\"\",T(Input_Output!CE34),\"\")","v":""},null,null,{"$f":"IF(Input_Output!CG34=\"\",T(Input_Output!CH34),\"\")","v":""},null,null,{"$f":"IF(Input_Output!CJ34=\"\",T(Input_Output!CK34),\"\")","v":""},null,null,{"$f":"IF(Input_Output!CM34=\"\",T(Input_Output!CN34),\"\")","v":""},null,null,{"$f":"IF(Input_Output!CP34=\"\",T(Input_Output!CQ34),\"\")","v":""},null,null,{"$f":"IF(Input_Output!CS34=\"\",T(Input_Output!CT34),\"\")","v":""},null,null,{"$f":"IF(Input_Output!CV34=\"\",T(Input_Output!CW34),\"\")","v":""},null,null,{"$f":"IF(Input_Output!CY34=\"\",T(Input_Output!CZ34),\"\")","v":""},null,null,{"$f":"IF(Input_Output!DB34=\"\",T(Input_Output!DC34),\"\")","v":""},null,null,{"$f":"IF(Input_Output!DE34=\"\",T(Input_Output!DF34),\"\")","v":""},null,null,{"$f":"IF(Input_Output!DH34=\"\",T(Input_Output!DI34),\"\")","v":""},null,null,{"$f":"IF(Input_Output!DK34=\"\",T(Input_Output!DL34),\"\")","v":""},null,null,{"$f":"IF(Input_Output!DN34=\"\",T(Input_Output!DO34),\"\")","v":""},null,null,{"$f":"IF(Input_Output!DQ34=\"\",T(Input_Output!DR34),\"\")","v":""},null,null,{"$f":"IF(Input_Output!DT34=\"\",T(Input_Output!DU34),\"\")","v":""},null,null,{"$f":"IF(Input_Output!DW34=\"\",T(Input_Output!DX34),\"\")","v":""},null,null,{"$f":"IF(Input_Output!DZ34=\"\",T(Input_Output!EA34),\"\")","v":""},null,null,{"$f":"IF(Input_Output!EC34=\"\",T(Input_Output!ED34),\"\")","v":""},null,null,{"$f":"IF(Input_Output!EF34=\"\",T(Input_Output!EG34),\"\")","v":""},null,null,{"$f":"IF(Input_Output!EI34=\"\",T(Input_Output!EJ34),\"\")","v":""},null,null,{"$f":"IF(Input_Output!EL34=\"\",T(Input_Output!EM34),\"\")","v":""},null,null,{"$f":"IF(Input_Output!EO34=\"\",T(Input_Output!EP34),\"\")","v":""},null,null,{"$f":"IF(Input_Output!ER34=\"\",T(Input_Output!ES34),\"\")","v":""},null,null,{"$f":"IF(Input_Output!EU34=\"\",T(Input_Output!EV34),\"\")","v":""},null,null,{"$f":"IF(Input_Output!EX34=\"\",T(Input_Output!EY34),\"\")","v":""},null,null,{"$f":"IF(Input_Output!FA34=\"\",T(Input_Output!FB34),\"\")","v":""},null,null,{"$f":"IF(Input_Output!FD34=\"\",T(Input_Output!FE34),\"\")","v":""},null,null,{"$f":"IF(Input_Output!FG34=\"\",T(Input_Output!FH34),\"\")","v":""},null,null,{"$f":"IF(Input_Output!FJ34=\"\",T(Input_Output!FK34),\"\")","v":""},null,null,{"$f":"IF(Input_Output!FM34=\"\",T(Input_Output!FN34),\"\")","v":""},null,null,{"$f":"IF(Input_Output!FP34=\"\",T(Input_Output!FQ34),\"\")","v":""},null,null,{"$f":"IF(Input_Output!FS34=\"\",T(Input_Output!FT34),\"\")","v":""},null,null,{"$f":"IF(Input_Output!FV34=\"\",T(Input_Output!FW34),\"\")","v":""},null,null,{"$f":"IF(Input_Output!FY34=\"\",T(Input_Output!FZ34),\"\")","v":""},null,null,{"$f":"IF(Input_Output!GB34=\"\",T(Input_Output!GC34),\"\")","v":""},null,null,{"$f":"IF(Input_Output!GE34=\"\",T(Input_Output!GF34),\"\")","v":""},null,null,{"$f":"IF(Input_Output!GH34=\"\",T(Input_Output!GI34),\"\")","v":""},null,null,{"$f":"IF(Input_Output!GK34=\"\",T(Input_Output!GL34),\"\")","v":""},null,null,{"$f":"IF(Input_Output!GN34=\"\",T(Input_Output!GO34),\"\")","v":""},null,null,{"$f":"IF(Input_Output!GQ34=\"\",T(Input_Output!GR34),\"\")","v":""},null,null,{"$f":"IF(Input_Output!GT34=\"\",T(Input_Output!GU34),\"\")","v":""},null,null,{"$f":"IF(Input_Output!GW34=\"\",T(Input_Output!GX34),\"\")","v":""},null,null,{"$f":"IF(Input_Output!GZ34=\"\",T(Input_Output!HA34),\"\")","v":""},null,null,{"$f":"IF(Input_Output!HC34=\"\",T(Input_Output!HD34),\"\")","v":""},null,null,{"$f":"IF(Input_Output!HF34=\"\",T(Input_Output!HG34),\"\")","v":""},null,null,{"$f":"IF(Input_Output!HI34=\"\",T(Input_Output!HJ34),\"\")","v":""},null,null,{"$f":"IF(Input_Output!HL34=\"\",T(Input_Output!HM34),\"\")","v":""},null,null,{"$f":"IF(Input_Output!HO34=\"\",T(Input_Output!HP34),\"\")","v":""},null,null,{"$f":"IF(Input_Output!HR34=\"\",T(Input_Output!HS34),\"\")","v":""},null,null,{"$f":"IF(Input_Output!HU34=\"\",T(Input_Output!HV34),\"\")","v":""},null,null,{"$f":"IF(Input_Output!HX34=\"\",T(Input_Output!HY34),\"\")","v":""},null,null,{"$f":"IF(Input_Output!IA34=\"\",T(Input_Output!IB34),\"\")","v":""},null,null,{"$f":"IF(Input_Output!ID34=\"\",T(Input_Output!IE34),\"\")","v":""},null,null,{"$f":"IF(Input_Output!IG34=\"\",T(Input_Output!IH34),\"\")","v":""},null,null,{"$f":"IF(Input_Output!IJ34=\"\",T(Input_Output!IK34),\"\")","v":""},null,null,{"$f":"IF(Input_Output!IM34=\"\",T(Input_Output!IN34),\"\")","v":""},null,null,{"$f":"IF(Input_Output!IP34=\"\",T(Input_Output!IQ34),\"\")","v":""},null,null,{"$f":"IF(Input_Output!IS34=\"\",T(Input_Output!IT34),\"\")","v":""}]
[null,null,null,null,{"$f":"IF(Input_Output!D35=\"\",T(Input_Output!E35),\"\")","v":""},null,null,{"$f":"IF(Input_Output!G35=\"\",T(Input_Output!H35),\"\")","v":""},null,null,{"$f":"IF(Input_Output!J35=\"\",T(Input_Output!K35),\"\")","v":""},null,null,{"$f":"IF(Input_Output!M35=\"\",T(Input_Output!N35),\"\")","v":""},null,null,{"$f":"IF(Input_Output!P35=\"\",T(Input_Output!Q35),\"\")","v":""},null,null,{"$f":"IF(Input_Output!S35=\"\",T(Input_Output!T35),\"\")","v":""},null,null,{"$f":"IF(Input_Output!V35=\"\",T(Input_Output!W35),\"\")","v":""},null,null,{"$f":"IF(Input_Output!Y35=\"\",T(Input_Output!Z35),\"\")","v":""},null,null,{"$f":"IF(Input_Output!AB35=\"\",T(Input_Output!AC35),\"\")","v":""},null,null,{"$f":"IF(Input_Output!AE35=\"\",T(Input_Output!AF35),\"\")","v":""},null,null,{"$f":"IF(Input_Output!AH35=\"\",T(Input_Output!AI35),\"\")","v":""},null,null,{"$f":"IF(Input_Output!AK35=\"\",T(Input_Output!AL35),\"\")","v":""},null,null,{"$f":"IF(Input_Output!AN35=\"\",T(Input_Output!AO35),\"\")","v":""},null,null,{"$f":"IF(Input_Output!AQ35=\"\",T(Input_Output!AR35),\"\")","v":""},null,null,{"$f":"IF(Input_Output!AT35=\"\",T(Input_Output!AU35),\"\")","v":""},null,null,{"$f":"IF(Input_Output!AW35=\"\",T(Input_Output!AX35),\"\")","v":""},null,null,{"$f":"IF(Input_Output!AZ35=\"\",T(Input_Output!BA35),\"\")","v":""},null,null,{"$f":"IF(Input_Output!BC35=\"\",T(Input_Output!BD35),\"\")","v":""},null,null,{"$f":"IF(Input_Output!BF35=\"\",T(Input_Output!BG35),\"\")","v":""},null,null,{"$f":"IF(Input_Output!BI35=\"\",T(Input_Output!BJ35),\"\")","v":""},null,null,{"$f":"IF(Input_Output!BL35=\"\",T(Input_Output!BM35),\"\")","v":""},null,null,{"$f":"IF(Input_Output!BO35=\"\",T(Input_Output!BP35),\"\")","v":""},null,null,{"$f":"IF(Input_Output!BR35=\"\",T(Input_Output!BS35),\"\")","v":""},null,null,{"$f":"IF(Input_Output!BU35=\"\",T(Input_Output!BV35),\"\")","v":""},null,null,{"$f":"IF(Input_Output!BX35=\"\",T(Input_Output!BY35),\"\")","v":""},null,null,{"$f":"IF(Input_Output!CA35=\"\",T(Input_Output!CB35),\"\")","v":""},null,null,{"$f":"IF(Input_Output!CD35=\"\",T(Input_Output!CE35),\"\")","v":""},null,null,{"$f":"IF(Input_Output!CG35=\"\",T(Input_Output!CH35),\"\")","v":""},null,null,{"$f":"IF(Input_Output!CJ35=\"\",T(Input_Output!CK35),\"\")","v":""},null,null,{"$f":"IF(Input_Output!CM35=\"\",T(Input_Output!CN35),\"\")","v":""},null,null,{"$f":"IF(Input_Output!CP35=\"\",T(Input_Output!CQ35),\"\")","v":""},null,null,{"$f":"IF(Input_Output!CS35=\"\",T(Input_Output!CT35),\"\")","v":""},null,null,{"$f":"IF(Input_Output!CV35=\"\",T(Input_Output!CW35),\"\")","v":""},null,null,{"$f":"IF(Input_Output!CY35=\"\",T(Input_Output!CZ35),\"\")","v":""},null,null,{"$f":"IF(Input_Output!DB35=\"\",T(Input_Output!DC35),\"\")","v":""},null,null,{"$f":"IF(Input_Output!DE35=\"\",T(Input_Output!DF35),\"\")","v":""},null,null,{"$f":"IF(Input_Output!DH35=\"\",T(Input_Output!DI35),\"\")","v":""},null,null,{"$f":"IF(Input_Output!DK35=\"\",T(Input_Output!DL35),\"\")","v":""},null,null,{"$f":"IF(Input_Output!DN35=\"\",T(Input_Output!DO35),\"\")","v":""},null,null,{"$f":"IF(Input_Output!DQ35=\"\",T(Input_Output!DR35),\"\")","v":""},null,null,{"$f":"IF(Input_Output!DT35=\"\",T(Input_Output!DU35),\"\")","v":""},null,null,{"$f":"IF(Input_Output!DW35=\"\",T(Input_Output!DX35),\"\")","v":""},null,null,{"$f":"IF(Input_Output!DZ35=\"\",T(Input_Output!EA35),\"\")","v":""},null,null,{"$f":"IF(Input_Output!EC35=\"\",T(Input_Output!ED35),\"\")","v":""},null,null,{"$f":"IF(Input_Output!EF35=\"\",T(Input_Output!EG35),\"\")","v":""},null,null,{"$f":"IF(Input_Output!EI35=\"\",T(Input_Output!EJ35),\"\")","v":""},null,null,{"$f":"IF(Input_Output!EL35=\"\",T(Input_Output!EM35),\"\")","v":""},null,null,{"$f":"IF(Input_Output!EO35=\"\",T(Input_Output!EP35),\"\")","v":""},null,null,{"$f":"IF(Input_Output!ER35=\"\",T(Input_Output!ES35),\"\")","v":""},null,null,{"$f":"IF(Input_Output!EU35=\"\",T(Input_Output!EV35),\"\")","v":""},null,null,{"$f":"IF(Input_Output!EX35=\"\",T(Input_Output!EY35),\"\")","v":""},null,null,{"$f":"IF(Input_Output!FA35=\"\",T(Input_Output!FB35),\"\")","v":""},null,null,{"$f":"IF(Input_Output!FD35=\"\",T(Input_Output!FE35),\"\")","v":""},null,null,{"$f":"IF(Input_Output!FG35=\"\",T(Input_Output!FH35),\"\")","v":""},null,null,{"$f":"IF(Input_Output!FJ35=\"\",T(Input_Output!FK35),\"\")","v":""},null,null,{"$f":"IF(Input_Output!FM35=\"\",T(Input_Output!FN35),\"\")","v":""},null,null,{"$f":"IF(Input_Output!FP35=\"\",T(Input_Output!FQ35),\"\")","v":""},null,null,{"$f":"IF(Input_Output!FS35=\"\",T(Input_Output!FT35),\"\")","v":""},null,null,{"$f":"IF(Input_Output!FV35=\"\",T(Input_Output!FW35),\"\")","v":""},null,null,{"$f":"IF(Input_Output!FY35=\"\",T(Input_Output!FZ35),\"\")","v":""},null,null,{"$f":"IF(Input_Output!GB35=\"\",T(Input_Output!GC35),\"\")","v":""},null,null,{"$f":"IF(Input_Output!GE35=\"\",T(Input_Output!GF35),\"\")","v":""},null,null,{"$f":"IF(Input_Output!GH35=\"\",T(Input_Output!GI35),\"\")","v":""},null,null,{"$f":"IF(Input_Output!GK35=\"\",T(Input_Output!GL35),\"\")","v":""},null,null,{"$f":"IF(Input_Output!GN35=\"\",T(Input_Output!GO35),\"\")","v":""},null,null,{"$f":"IF(Input_Output!GQ35=\"\",T(Input_Output!GR35),\"\")","v":""},null,null,{"$f":"IF(Input_Output!GT35=\"\",T(Input_Output!GU35),\"\")","v":""},null,null,{"$f":"IF(Input_Output!GW35=\"\",T(Input_Output!GX35),\"\")","v":""},null,null,{"$f":"IF(Input_Output!GZ35=\"\",T(Input_Output!HA35),\"\")","v":""},null,null,{"$f":"IF(Input_Output!HC35=\"\",T(Input_Output!HD35),\"\")","v":""},null,null,{"$f":"IF(Input_Output!HF35=\"\",T(Input_Output!HG35),\"\")","v":""},null,null,{"$f":"IF(Input_Output!HI35=\"\",T(Input_Output!HJ35),\"\")","v":""},null,null,{"$f":"IF(Input_Output!HL35=\"\",T(Input_Output!HM35),\"\")","v":""},null,null,{"$f":"IF(Input_Output!HO35=\"\",T(Input_Output!HP35),\"\")","v":""},null,null,{"$f":"IF(Input_Output!HR35=\"\",T(Input_Output!HS35),\"\")","v":""},null,null,{"$f":"IF(Input_Output!HU35=\"\",T(Input_Output!HV35),\"\")","v":""},null,null,{"$f":"IF(Input_Output!HX35=\"\",T(Input_Output!HY35),\"\")","v":""},null,null,{"$f":"IF(Input_Output!IA35=\"\",T(Input_Output!IB35),\"\")","v":""},null,null,{"$f":"IF(Input_Output!ID35=\"\",T(Input_Output!IE35),\"\")","v":""},null,null,{"$f":"IF(Input_Output!IG35=\"\",T(Input_Output!IH35),\"\")","v":""},null,null,{"$f":"IF(Input_Output!IJ35=\"\",T(Input_Output!IK35),\"\")","v":""},null,null,{"$f":"IF(Input_Output!IM35=\"\",T(Input_Output!IN35),\"\")","v":""},null,null,{"$f":"IF(Input_Output!IP35=\"\",T(Input_Output!IQ35),\"\")","v":""},null,null,{"$f":"IF(Input_Output!IS35=\"\",T(Input_Output!IT35),\"\")","v":""}]
[null,null,null,null,{"$f":"IF(Input_Output!D36=\"\",T(Input_Output!E36),\"\")","v":""},null,null,{"$f":"IF(Input_Output!G36=\"\",T(Input_Output!H36),\"\")","v":""},null,null,{"$f":"IF(Input_Output!J36=\"\",T(Input_Output!K36),\"\")","v":""},null,null,{"$f":"IF(Input_Output!M36=\"\",T(Input_Output!N36),\"\")","v":""},null,null,{"$f":"IF(Input_Output!P36=\"\",T(Input_Output!Q36),\"\")","v":""},null,null,{"$f":"IF(Input_Output!S36=\"\",T(Input_Output!T36),\"\")","v":""},null,null,{"$f":"IF(Input_Output!V36=\"\",T(Input_Output!W36),\"\")","v":""},null,null,{"$f":"IF(Input_Output!Y36=\"\",T(Input_Output!Z36),\"\")","v":""},null,null,{"$f":"IF(Input_Output!AB36=\"\",T(Input_Output!AC36),\"\")","v":""},null,null,{"$f":"IF(Input_Output!AE36=\"\",T(Input_Output!AF36),\"\")","v":""},null,null,{"$f":"IF(Input_Output!AH36=\"\",T(Input_Output!AI36),\"\")","v":""},null,null,{"$f":"IF(Input_Output!AK36=\"\",T(Input_Output!AL36),\"\")","v":""},null,null,{"$f":"IF(Input_Output!AN36=\"\",T(Input_Output!AO36),\"\")","v":""},null,null,{"$f":"IF(Input_Output!AQ36=\"\",T(Input_Output!AR36),\"\")","v":""},null,null,{"$f":"IF(Input_Output!AT36=\"\",T(Input_Output!AU36),\"\")","v":""},null,null,{"$f":"IF(Input_Output!AW36=\"\",T(Input_Output!AX36),\"\")","v":""},null,null,{"$f":"IF(Input_Output!AZ36=\"\",T(Input_Output!BA36),\"\")","v":""},null,null,{"$f":"IF(Input_Output!BC36=\"\",T(Input_Output!BD36),\"\")","v":""},null,null,{"$f":"IF(Input_Output!BF36=\"\",T(Input_Output!BG36),\"\")","v":""},null,null,{"$f":"IF(Input_Output!BI36=\"\",T(Input_Output!BJ36),\"\")","v":""},null,null,{"$f":"IF(Input_Output!BL36=\"\",T(Input_Output!BM36),\"\")","v":""},null,null,{"$f":"IF(Input_Output!BO36=\"\",T(Input_Output!BP36),\"\")","v":""},null,null,{"$f":"IF(Input_Output!BR36=\"\",T(Input_Output!BS36),\"\")","v":""},null,null,{"$f":"IF(Input_Output!BU36=\"\",T(Input_Output!BV36),\"\")","v":""},null,null,{"$f":"IF(Input_Output!BX36=\"\",T(Input_Output!BY36),\"\")","v":""},null,null,{"$f":"IF(Input_Output!CA36=\"\",T(Input_Output!CB36),\"\")","v":""},null,null,{"$f":"IF(Input_Output!CD36=\"\",T(Input_Output!CE36),\"\")","v":""},null,null,{"$f":"IF(Input_Output!CG36=\"\",T(Input_Output!CH36),\"\")","v":""},null,null,{"$f":"IF(Input_Output!CJ36=\"\",T(Input_Output!CK36),\"\")","v":""},null,null,{"$f":"IF(Input_Output!CM36=\"\",T(Input_Output!CN36),\"\")","v":""},null,null,{"$f":"IF(Input_Output!CP36=\"\",T(Input_Output!CQ36),\"\")","v":""},null,null,{"$f":"IF(Input_Output!CS36=\"\",T(Input_Output!CT36),\"\")","v":""},null,null,{"$f":"IF(Input_Output!CV36=\"\",T(Input_Output!CW36),\"\")","v":""},null,null,{"$f":"IF(Input_Output!CY36=\"\",T(Input_Output!CZ36),\"\")","v":""},null,null,{"$f":"IF(Input_Output!DB36=\"\",T(Input_Output!DC36),\"\")","v":""},null,null,{"$f":"IF(Input_Output!DE36=\"\",T(Input_Output!DF36),\"\")","v":""},null,null,{"$f":"IF(Input_Output!DH36=\"\",T(Input_Output!DI36),\"\")","v":""},null,null,{"$f":"IF(Input_Output!DK36=\"\",T(Input_Output!DL36),\"\")","v":""},null,null,{"$f":"IF(Input_Output!DN36=\"\",T(Input_Output!DO36),\"\")","v":""},null,null,{"$f":"IF(Input_Output!DQ36=\"\",T(Input_Output!DR36),\"\")","v":""},null,null,{"$f":"IF(Input_Output!DT36=\"\",T(Input_Output!DU36),\"\")","v":""},null,null,{"$f":"IF(Input_Output!DW36=\"\",T(Input_Output!DX36),\"\")","v":""},null,null,{"$f":"IF(Input_Output!DZ36=\"\",T(Input_Output!EA36),\"\")","v":""},null,null,{"$f":"IF(Input_Output!EC36=\"\",T(Input_Output!ED36),\"\")","v":""},null,null,{"$f":"IF(Input_Output!EF36=\"\",T(Input_Output!EG36),\"\")","v":""},null,null,{"$f":"IF(Input_Output!EI36=\"\",T(Input_Output!EJ36),\"\")","v":""},null,null,{"$f":"IF(Input_Output!EL36=\"\",T(Input_Output!EM36),\"\")","v":""},null,null,{"$f":"IF(Input_Output!EO36=\"\",T(Input_Output!EP36),\"\")","v":""},null,null,{"$f":"IF(Input_Output!ER36=\"\",T(Input_Output!ES36),\"\")","v":""},null,null,{"$f":"IF(Input_Output!EU36=\"\",T(Input_Output!EV36),\"\")","v":""},null,null,{"$f":"IF(Input_Output!EX36=\"\",T(Input_Output!EY36),\"\")","v":""},null,null,{"$f":"IF(Input_Output!FA36=\"\",T(Input_Output!FB36),\"\")","v":""},null,null,{"$f":"IF(Input_Output!FD36=\"\",T(Input_Output!FE36),\"\")","v":""},null,null,{"$f":"IF(Input_Output!FG36=\"\",T(Input_Output!FH36),\"\")","v":""},null,null,{"$f":"IF(Input_Output!FJ36=\"\",T(Input_Output!FK36),\"\")","v":""},null,null,{"$f":"IF(Input_Output!FM36=\"\",T(Input_Output!FN36),\"\")","v":""},null,null,{"$f":"IF(Input_Output!FP36=\"\",T(Input_Output!FQ36),\"\")","v":""},null,null,{"$f":"IF(Input_Output!FS36=\"\",T(Input_Output!FT36),\"\")","v":""},null,null,{"$f":"IF(Input_Output!FV36=\"\",T(Input_Output!FW36),\"\")","v":""},null,null,{"$f":"IF(Input_Output!FY36=\"\",T(Input_Output!FZ36),\"\")","v":""},null,null,{"$f":"IF(Input_Output!GB36=\"\",T(Input_Output!GC36),\"\")","v":""},null,null,{"$f":"IF(Input_Output!GE36=\"\",T(Input_Output!GF36),\"\")","v":""},null,null,{"$f":"IF(Input_Output!GH36=\"\",T(Input_Output!GI36),\"\")","v":""},null,null,{"$f":"IF(Input_Output!GK36=\"\",T(Input_Output!GL36),\"\")","v":""},null,null,{"$f":"IF(Input_Output!GN36=\"\",T(Input_Output!GO36),\"\")","v":""},null,null,{"$f":"IF(Input_Output!GQ36=\"\",T(Input_Output!GR36),\"\")","v":""},null,null,{"$f":"IF(Input_Output!GT36=\"\",T(Input_Output!GU36),\"\")","v":""},null,null,{"$f":"IF(Input_Output!GW36=\"\",T(Input_Output!GX36),\"\")","v":""},null,null,{"$f":"IF(Input_Output!GZ36=\"\",T(Input_Output!HA36),\"\")","v":""},null,null,{"$f":"IF(Input_Output!HC36=\"\",T(Input_Output!HD36),\"\")","v":""},null,null,{"$f":"IF(Input_Output!HF36=\"\",T(Input_Output!HG36),\"\")","v":""},null,null,{"$f":"IF(Input_Output!HI36=\"\",T(Input_Output!HJ36),\"\")","v":""},null,null,{"$f":"IF(Input_Output!HL36=\"\",T(Input_Output!HM36),\"\")","v":""},null,null,{"$f":"IF(Input_Output!HO36=\"\",T(Input_Output!HP36),\"\")","v":""},null,null,{"$f":"IF(Input_Output!HR36=\"\",T(Input_Output!HS36),\"\")","v":""},null,null,{"$f":"IF(Input_Output!HU36=\"\",T(Input_Output!HV36),\"\")","v":""},null,null,{"$f":"IF(Input_Output!HX36=\"\",T(Input_Output!HY36),\"\")","v":""},null,null,{"$f":"IF(Input_Output!IA36=\"\",T(Input_Output!IB36),\"\")","v":""},null,null,{"$f":"IF(Input_Output!ID36=\"\",T(Input_Output!IE36),\"\")","v":""},null,null,{"$f":"IF(Input_Output!IG36=\"\",T(Input_Output!IH36),\"\")","v":""},null,null,{"$f":"IF(Input_Output!IJ36=\"\",T(Input_Output!IK36),\"\")","v":""},null,null,{"$f":"IF(Input_Output!IM36=\"\",T(Input_Output!IN36),\"\")","v":""},null,null,{"$f":"IF(Input_Output!IP36=\"\",T(Input_Output!IQ36),\"\")","v":""},null,null,{"$f":"IF(Input_Output!IS36=\"\",T(Input_Output!IT36),\"\")","v":""}]
[null,null,null,null,{"$f":"IF(Input_Output!D37=\"\",T(Input_Output!E37),\"\")","v":""},null,null,{"$f":"IF(Input_Output!G37=\"\",T(Input_Output!H37),\"\")","v":""},null,null,{"$f":"IF(Input_Output!J37=\"\",T(Input_Output!K37),\"\")","v":""},null,null,{"$f":"IF(Input_Output!M37=\"\",T(Input_Output!N37),\"\")","v":""},null,null,{"$f":"IF(Input_Output!P37=\"\",T(Input_Output!Q37),\"\")","v":""},null,null,{"$f":"IF(Input_Output!S37=\"\",T(Input_Output!T37),\"\")","v":""},null,null,{"$f":"IF(Input_Output!V37=\"\",T(Input_Output!W37),\"\")","v":""},null,null,{"$f":"IF(Input_Output!Y37=\"\",T(Input_Output!Z37),\"\")","v":""},null,null,{"$f":"IF(Input_Output!AB37=\"\",T(Input_Output!AC37),\"\")","v":""},null,null,{"$f":"IF(Input_Output!AE37=\"\",T(Input_Output!AF37),\"\")","v":""},null,null,{"$f":"IF(Input_Output!AH37=\"\",T(Input_Output!AI37),\"\")","v":""},null,null,{"$f":"IF(Input_Output!AK37=\"\",T(Input_Output!AL37),\"\")","v":""},null,null,{"$f":"IF(Input_Output!AN37=\"\",T(Input_Output!AO37),\"\")","v":""},null,null,{"$f":"IF(Input_Output!AQ37=\"\",T(Input_Output!AR37),\"\")","v":""},null,null,{"$f":"IF(Input_Output!AT37=\"\",T(Input_Output!AU37),\"\")","v":""},null,null,{"$f":"IF(Input_Output!AW37=\"\",T(Input_Output!AX37),\"\")","v":""},null,null,{"$f":"IF(Input_Output!AZ37=\"\",T(Input_Output!BA37),\"\")","v":""},null,null,{"$f":"IF(Input_Output!BC37=\"\",T(Input_Output!BD37),\"\")","v":""},null,null,{"$f":"IF(Input_Output!BF37=\"\",T(Input_Output!BG37),\"\")","v":""},null,null,{"$f":"IF(Input_Output!BI37=\"\",T(Input_Output!BJ37),\"\")","v":""},null,null,{"$f":"IF(Input_Output!BL37=\"\",T(Input_Output!BM37),\"\")","v":""},null,null,{"$f":"IF(Input_Output!BO37=\"\",T(Input_Output!BP37),\"\")","v":""},null,null,{"$f":"IF(Input_Output!BR37=\"\",T(Input_Output!BS37),\"\")","v":""},null,null,{"$f":"IF(Input_Output!BU37=\"\",T(Input_Output!BV37),\"\")","v":""},null,null,{"$f":"IF(Input_Output!BX37=\"\",T(Input_Output!BY37),\"\")","v":""},null,null,{"$f":"IF(Input_Output!CA37=\"\",T(Input_Output!CB37),\"\")","v":""},null,null,{"$f":"IF(Input_Output!CD37=\"\",T(Input_Output!CE37),\"\")","v":""},null,null,{"$f":"IF(Input_Output!CG37=\"\",T(Input_Output!CH37),\"\")","v":""},null,null,{"$f":"IF(Input_Output!CJ37=\"\",T(Input_Output!CK37),\"\")","v":""},null,null,{"$f":"IF(Input_Output!CM37=\"\",T(Input_Output!CN37),\"\")","v":""},null,null,{"$f":"IF(Input_Output!CP37=\"\",T(Input_Output!CQ37),\"\")","v":""},null,null,{"$f":"IF(Input_Output!CS37=\"\",T(Input_Output!CT37),\"\")","v":""},null,null,{"$f":"IF(Input_Output!CV37=\"\",T(Input_Output!CW37),\"\")","v":""},null,null,{"$f":"IF(Input_Output!CY37=\"\",T(Input_Output!CZ37),\"\")","v":""},null,null,{"$f":"IF(Input_Output!DB37=\"\",T(Input_Output!DC37),\"\")","v":""},null,null,{"$f":"IF(Input_Output!DE37=\"\",T(Input_Output!DF37),\"\")","v":""},null,null,{"$f":"IF(Input_Output!DH37=\"\",T(Input_Output!DI37),\"\")","v":""},null,null,{"$f":"IF(Input_Output!DK37=\"\",T(Input_Output!DL37),\"\")","v":""},null,null,{"$f":"IF(Input_Output!DN37=\"\",T(Input_Output!DO37),\"\")","v":""},null,null,{"$f":"IF(Input_Output!DQ37=\"\",T(Input_Output!DR37),\"\")","v":""},null,null,{"$f":"IF(Input_Output!DT37=\"\",T(Input_Output!DU37),\"\")","v":""},null,null,{"$f":"IF(Input_Output!DW37=\"\",T(Input_Output!DX37),\"\")","v":""},null,null,{"$f":"IF(Input_Output!DZ37=\"\",T(Input_Output!EA37),\"\")","v":""},null,null,{"$f":"IF(Input_Output!EC37=\"\",T(Input_Output!ED37),\"\")","v":""},null,null,{"$f":"IF(Input_Output!EF37=\"\",T(Input_Output!EG37),\"\")","v":""},null,null,{"$f":"IF(Input_Output!EI37=\"\",T(Input_Output!EJ37),\"\")","v":""},null,null,{"$f":"IF(Input_Output!EL37=\"\",T(Input_Output!EM37),\"\")","v":""},null,null,{"$f":"IF(Input_Output!EO37=\"\",T(Input_Output!EP37),\"\")","v":""},null,null,{"$f":"IF(Input_Output!ER37=\"\",T(Input_Output!ES37),\"\")","v":""},null,null,{"$f":"IF(Input_Output!EU37=\"\",T(Input_Output!EV37),\"\")","v":""},null,null,{"$f":"IF(Input_Output!EX37=\"\",T(Input_Output!EY37),\"\")","v":""},null,null,{"$f":"IF(Input_Output!FA37=\"\",T(Input_Output!FB37),\"\")","v":""},null,null,{"$f":"IF(Input_Output!FD37=\"\",T(Input_Output!FE37),\"\")","v":""},null,null,{"$f":"IF(Input_Output!FG37=\"\",T(Input_Output!FH37),\"\")","v":""},null,null,{"$f":"IF(Input_Output!FJ37=\"\",T(Input_Output!FK37),\"\")","v":""},null,null,{"$f":"IF(Input_Output!FM37=\"\",T(Input_Output!FN37),\"\")","v":""},null,null,{"$f":"IF(Input_Output!FP37=\"\",T(Input_Output!FQ37),\"\")","v":""},null,null,{"$f":"IF(Input_Output!FS37=\"\",T(Input_Output!FT37),\"\")","v":""},null,null,{"$f":"IF(Input_Output!FV37=\"\",T(Input_Output!FW37),\"\")","v":""},null,null,{"$f":"IF(Input_Output!FY37=\"\",T(Input_Output!FZ37),\"\")","v":""},null,null,{"$f":"IF(Input_Output!GB37=\"\",T(Input_Output!GC37),\"\")","v":""},null,null,{"$f":"IF(Input_Output!GE37=\"\",T(Input_Output!GF37),\"\")","v":""},null,null,{"$f":"IF(Input_Output!GH37=\"\",T(Input_Output!GI37),\"\")","v":""},null,null,{"$f":"IF(Input_Output!GK37=\"\",T(Input_Output!GL37),\"\")","v":""},null,null,{"$f":"IF(Input_Output!GN37=\"\",T(Input_Output!GO37),\"\")","v":""},null,null,{"$f":"IF(Input_Output!GQ37=\"\",T(Input_Output!GR37),\"\")","v":""},null,null,{"$f":"IF(Input_Output!GT37=\"\",T(Input_Output!GU37),\"\")","v":""},null,null,{"$f":"IF(Input_Output!GW37=\"\",T(Input_Output!GX37),\"\")","v":""},null,null,{"$f":"IF(Input_Output!GZ37=\"\",T(Input_Output!HA37),\"\")","v":""},null,null,{"$f":"IF(Input_Output!HC37=\"\",T(Input_Output!HD37),\"\")","v":""},null,null,{"$f":"IF(Input_Output!HF37=\"\",T(Input_Output!HG37),\"\")","v":""},null,null,{"$f":"IF(Input_Output!HI37=\"\",T(Input_Output!HJ37),\"\")","v":""},null,null,{"$f":"IF(Input_Output!HL37=\"\",T(Input_Output!HM37),\"\")","v":""},null,null,{"$f":"IF(Input_Output!HO37=\"\",T(Input_Output!HP37),\"\")","v":""},null,null,{"$f":"IF(Input_Output!HR37=\"\",T(Input_Output!HS37),\"\")","v":""},null,null,{"$f":"IF(Input_Output!HU37=\"\",T(Input_Output!HV37),\"\")","v":""},null,null,{"$f":"IF(Input_Output!HX37=\"\",T(Input_Output!HY37),\"\")","v":""},null,null,{"$f":"IF(Input_Output!IA37=\"\",T(Input_Output!IB37),\"\")","v":""},null,null,{"$f":"IF(Input_Output!ID37=\"\",T(Input_Output!IE37),\"\")","v":""},null,null,{"$f":"IF(Input_Output!IG37=\"\",T(Input_Output!IH37),\"\")","v":""},null,null,{"$f":"IF(Input_Output!IJ37=\"\",T(Input_Output!IK37),\"\")","v":""},null,null,{"$f":"IF(Input_Output!IM37=\"\",T(Input_Output!IN37),\"\")","v":""},null,null,{"$f":"IF(Input_Output!IP37=\"\",T(Input_Output!IQ37),\"\")","v":""},null,null,{"$f":"IF(Input_Output!IS37=\"\",T(Input_Output!IT37),\"\")","v":""}]
[null,null,null,null,{"$f":"IF(Input_Output!D38=\"\",T(Input_Output!E38),\"\")","v":""},null,null,{"$f":"IF(Input_Output!G38=\"\",T(Input_Output!H38),\"\")","v":""},null,null,{"$f":"IF(Input_Output!J38=\"\",T(Input_Output!K38),\"\")","v":""},null,null,{"$f":"IF(Input_Output!M38=\"\",T(Input_Output!N38),\"\")","v":""},null,null,{"$f":"IF(Input_Output!P38=\"\",T(Input_Output!Q38),\"\")","v":""},null,null,{"$f":"IF(Input_Output!S38=\"\",T(Input_Output!T38),\"\")","v":""},null,null,{"$f":"IF(Input_Output!V38=\"\",T(Input_Output!W38),\"\")","v":""},null,null,{"$f":"IF(Input_Output!Y38=\"\",T(Input_Output!Z38),\"\")","v":""},null,null,{"$f":"IF(Input_Output!AB38=\"\",T(Input_Output!AC38),\"\")","v":""},null,null,{"$f":"IF(Input_Output!AE38=\"\",T(Input_Output!AF38),\"\")","v":""},null,null,{"$f":"IF(Input_Output!AH38=\"\",T(Input_Output!AI38),\"\")","v":""},null,null,{"$f":"IF(Input_Output!AK38=\"\",T(Input_Output!AL38),\"\")","v":""},null,null,{"$f":"IF(Input_Output!AN38=\"\",T(Input_Output!AO38),\"\")","v":""},null,null,{"$f":"IF(Input_Output!AQ38=\"\",T(Input_Output!AR38),\"\")","v":""},null,null,{"$f":"IF(Input_Output!AT38=\"\",T(Input_Output!AU38),\"\")","v":""},null,null,{"$f":"IF(Input_Output!AW38=\"\",T(Input_Output!AX38),\"\")","v":""},null,null,{"$f":"IF(Input_Output!AZ38=\"\",T(Input_Output!BA38),\"\")","v":""},null,null,{"$f":"IF(Input_Output!BC38=\"\",T(Input_Output!BD38),\"\")","v":""},null,null,{"$f":"IF(Input_Output!BF38=\"\",T(Input_Output!BG38),\"\")","v":""},null,null,{"$f":"IF(Input_Output!BI38=\"\",T(Input_Output!BJ38),\"\")","v":""},null,null,{"$f":"IF(Input_Output!BL38=\"\",T(Input_Output!BM38),\"\")","v":""},null,null,{"$f":"IF(Input_Output!BO38=\"\",T(Input_Output!BP38),\"\")","v":""},null,null,{"$f":"IF(Input_Output!BR38=\"\",T(Input_Output!BS38),\"\")","v":""},null,null,{"$f":"IF(Input_Output!BU38=\"\",T(Input_Output!BV38),\"\")","v":""},null,null,{"$f":"IF(Input_Output!BX38=\"\",T(Input_Output!BY38),\"\")","v":""},null,null,{"$f":"IF(Input_Output!CA38=\"\",T(Input_Output!CB38),\"\")","v":""},null,null,{"$f":"IF(Input_Output!CD38=\"\",T(Input_Output!CE38),\"\")","v":""},null,null,{"$f":"IF(Input_Output!CG38=\"\",T(Input_Output!CH38),\"\")","v":""},null,null,{"$f":"IF(Input_Output!CJ38=\"\",T(Input_Output!CK38),\"\")","v":""},null,null,{"$f":"IF(Input_Output!CM38=\"\",T(Input_Output!CN38),\"\")","v":""},null,null,{"$f":"IF(Input_Output!CP38=\"\",T(Input_Output!CQ38),\"\")","v":""},null,null,{"$f":"IF(Input_Output!CS38=\"\",T(Input_Output!CT38),\"\")","v":""},null,null,{"$f":"IF(Input_Output!CV38=\"\",T(Input_Output!CW38),\"\")","v":""},null,null,{"$f":"IF(Input_Output!CY38=\"\",T(Input_Output!CZ38),\"\")","v":""},null,null,{"$f":"IF(Input_Output!DB38=\"\",T(Input_Output!DC38),\"\")","v":""},null,null,{"$f":"IF(Input_Output!DE38=\"\",T(Input_Output!DF38),\"\")","v":""},null,null,{"$f":"IF(Input_Output!DH38=\"\",T(Input_Output!DI38),\"\")","v":""},null,null,{"$f":"IF(Input_Output!DK38=\"\",T(Input_Output!DL38),\"\")","v":""},null,null,{"$f":"IF(Input_Output!DN38=\"\",T(Input_Output!DO38),\"\")","v":""},null,null,{"$f":"IF(Input_Output!DQ38=\"\",T(Input_Output!DR38),\"\")","v":""},null,null,{"$f":"IF(Input_Output!DT38=\"\",T(Input_Output!DU38),\"\")","v":""},null,null,{"$f":"IF(Input_Output!DW38=\"\",T(Input_Output!DX38),\"\")","v":""},null,null,{"$f":"IF(Input_Output!DZ38=\"\",T(Input_Output!EA38),\"\")","v":""},null,null,{"$f":"IF(Input_Output!EC38=\"\",T(Input_Output!ED38),\"\")","v":""},null,null,{"$f":"IF(Input_Output!EF38=\"\",T(Input_Output!EG38),\"\")","v":""},null,null,{"$f":"IF(Input_Output!EI38=\"\",T(Input_Output!EJ38),\"\")","v":""},null,null,{"$f":"IF(Input_Output!EL38=\"\",T(Input_Output!EM38),\"\")","v":""},null,null,{"$f":"IF(Input_Output!EO38=\"\",T(Input_Output!EP38),\"\")","v":""},null,null,{"$f":"IF(Input_Output!ER38=\"\",T(Input_Output!ES38),\"\")","v":""},null,null,{"$f":"IF(Input_Output!EU38=\"\",T(Input_Output!EV38),\"\")","v":""},null,null,{"$f":"IF(Input_Output!EX38=\"\",T(Input_Output!EY38),\"\")","v":""},null,null,{"$f":"IF(Input_Output!FA38=\"\",T(Input_Output!FB38),\"\")","v":""},null,null,{"$f":"IF(Input_Output!FD38=\"\",T(Input_Output!FE38),\"\")","v":""},null,null,{"$f":"IF(Input_Output!FG38=\"\",T(Input_Output!FH38),\"\")","v":""},null,null,{"$f":"IF(Input_Output!FJ38=\"\",T(Input_Output!FK38),\"\")","v":""},null,null,{"$f":"IF(Input_Output!FM38=\"\",T(Input_Output!FN38),\"\")","v":""},null,null,{"$f":"IF(Input_Output!FP38=\"\",T(Input_Output!FQ38),\"\")","v":""},null,null,{"$f":"IF(Input_Output!FS38=\"\",T(Input_Output!FT38),\"\")","v":""},null,null,{"$f":"IF(Input_Output!FV38=\"\",T(Input_Output!FW38),\"\")","v":""},null,null,{"$f":"IF(Input_Output!FY38=\"\",T(Input_Output!FZ38),\"\")","v":""},null,null,{"$f":"IF(Input_Output!GB38=\"\",T(Input_Output!GC38),\"\")","v":""},null,null,{"$f":"IF(Input_Output!GE38=\"\",T(Input_Output!GF38),\"\")","v":""},null,null,{"$f":"IF(Input_Output!GH38=\"\",T(Input_Output!GI38),\"\")","v":""},null,null,{"$f":"IF(Input_Output!GK38=\"\",T(Input_Output!GL38),\"\")","v":""},null,null,{"$f":"IF(Input_Output!GN38=\"\",T(Input_Output!GO38),\"\")","v":""},null,null,{"$f":"IF(Input_Output!GQ38=\"\",T(Input_Output!GR38),\"\")","v":""},null,null,{"$f":"IF(Input_Output!GT38=\"\",T(Input_Output!GU38),\"\")","v":""},null,null,{"$f":"IF(Input_Output!GW38=\"\",T(Input_Output!GX38),\"\")","v":""},null,null,{"$f":"IF(Input_Output!GZ38=\"\",T(Input_Output!HA38),\"\")","v":""},null,null,{"$f":"IF(Input_Output!HC38=\"\",T(Input_Output!HD38),\"\")","v":""},null,null,{"$f":"IF(Input_Output!HF38=\"\",T(Input_Output!HG38),\"\")","v":""},null,null,{"$f":"IF(Input_Output!HI38=\"\",T(Input_Output!HJ38),\"\")","v":""},null,null,{"$f":"IF(Input_Output!HL38=\"\",T(Input_Output!HM38),\"\")","v":""},null,null,{"$f":"IF(Input_Output!HO38=\"\",T(Input_Output!HP38),\"\")","v":""},null,null,{"$f":"IF(Input_Output!HR38=\"\",T(Input_Output!HS38),\"\")","v":""},null,null,{"$f":"IF(Input_Output!HU38=\"\",T(Input_Output!HV38),\"\")","v":""},null,null,{"$f":"IF(Input_Output!HX38=\"\",T(Input_Output!HY38),\"\")","v":""},null,null,{"$f":"IF(Input_Output!IA38=\"\",T(Input_Output!IB38),\"\")","v":""},null,null,{"$f":"IF(Input_Output!ID38=\"\",T(Input_Output!IE38),\"\")","v":""},null,null,{"$f":"IF(Input_Output!IG38=\"\",T(Input_Output!IH38),\"\")","v":""},null,null,{"$f":"IF(Input_Output!IJ38=\"\",T(Input_Output!IK38),\"\")","v":""},null,null,{"$f":"IF(Input_Output!IM38=\"\",T(Input_Output!IN38),\"\")","v":""},null,null,{"$f":"IF(Input_Output!IP38=\"\",T(Input_Output!IQ38),\"\")","v":""},null,null,{"$f":"IF(Input_Output!IS38=\"\",T(Input_Output!IT38),\"\")","v":""}]
[null,null,null,null,{"$f":"IF(Input_Output!D39=\"\",T(Input_Output!E39),\"\")","v":""},null,null,{"$f":"IF(Input_Output!G39=\"\",T(Input_Output!H39),\"\")","v":""},null,null,{"$f":"IF(Input_Output!J39=\"\",T(Input_Output!K39),\"\")","v":""},null,null,{"$f":"IF(Input_Output!M39=\"\",T(Input_Output!N39),\"\")","v":""},null,null,{"$f":"IF(Input_Output!P39=\"\",T(Input_Output!Q39),\"\")","v":""},null,null,{"$f":"IF(Input_Output!S39=\"\",T(Input_Output!T39),\"\")","v":""},null,null,{"$f":"IF(Input_Output!V39=\"\",T(Input_Output!W39),\"\")","v":""},null,null,{"$f":"IF(Input_Output!Y39=\"\",T(Input_Output!Z39),\"\")","v":""},null,null,{"$f":"IF(Input_Output!AB39=\"\",T(Input_Output!AC39),\"\")","v":""},null,null,{"$f":"IF(Input_Output!AE39=\"\",T(Input_Output!AF39),\"\")","v":""},null,null,{"$f":"IF(Input_Output!AH39=\"\",T(Input_Output!AI39),\"\")","v":""},null,null,{"$f":"IF(Input_Output!AK39=\"\",T(Input_Output!AL39),\"\")","v":""},null,null,{"$f":"IF(Input_Output!AN39=\"\",T(Input_Output!AO39),\"\")","v":""},null,null,{"$f":"IF(Input_Output!AQ39=\"\",T(Input_Output!AR39),\"\")","v":""},null,null,{"$f":"IF(Input_Output!AT39=\"\",T(Input_Output!AU39),\"\")","v":""},null,null,{"$f":"IF(Input_Output!AW39=\"\",T(Input_Output!AX39),\"\")","v":""},null,null,{"$f":"IF(Input_Output!AZ39=\"\",T(Input_Output!BA39),\"\")","v":""},null,null,{"$f":"IF(Input_Output!BC39=\"\",T(Input_Output!BD39),\"\")","v":""},null,null,{"$f":"IF(Input_Output!BF39=\"\",T(Input_Output!BG39),\"\")","v":""},null,null,{"$f":"IF(Input_Output!BI39=\"\",T(Input_Output!BJ39),\"\")","v":""},null,null,{"$f":"IF(Input_Output!BL39=\"\",T(Input_Output!BM39),\"\")","v":""},null,null,{"$f":"IF(Input_Output!BO39=\"\",T(Input_Output!BP39),\"\")","v":""},null,null,{"$f":"IF(Input_Output!BR39=\"\",T(Input_Output!BS39),\"\")","v":""},null,null,{"$f":"IF(Input_Output!BU39=\"\",T(Input_Output!BV39),\"\")","v":""},null,null,{"$f":"IF(Input_Output!BX39=\"\",T(Input_Output!BY39),\"\")","v":""},null,null,{"$f":"IF(Input_Output!CA39=\"\",T(Input_Output!CB39),\"\")","v":""},null,null,{"$f":"IF(Input_Output!CD39=\"\",T(Input_Output!CE39),\"\")","v":""},null,null,{"$f":"IF(Input_Output!CG39=\"\",T(Input_Output!CH39),\"\")","v":""},null,null,{"$f":"IF(Input_Output!CJ39=\"\",T(Input_Output!CK39),\"\")","v":""},null,null,{"$f":"IF(Input_Output!CM39=\"\",T(Input_Output!CN39),\"\")","v":""},null,null,{"$f":"IF(Input_Output!CP39=\"\",T(Input_Output!CQ39),\"\")","v":""},null,null,{"$f":"IF(Input_Output!CS39=\"\",T(Input_Output!CT39),\"\")","v":""},null,null,{"$f":"IF(Input_Output!CV39=\"\",T(Input_Output!CW39),\"\")","v":""},null,null,{"$f":"IF(Input_Output!CY39=\"\",T(Input_Output!CZ39),\"\")","v":""},null,null,{"$f":"IF(Input_Output!DB39=\"\",T(Input_Output!DC39),\"\")","v":""},null,null,{"$f":"IF(Input_Output!DE39=\"\",T(Input_Output!DF39),\"\")","v":""},null,null,{"$f":"IF(Input_Output!DH39=\"\",T(Input_Output!DI39),\"\")","v":""},null,null,{"$f":"IF(Input_Output!DK39=\"\",T(Input_Output!DL39),\"\")","v":""},null,null,{"$f":"IF(Input_Output!DN39=\"\",T(Input_Output!DO39),\"\")","v":""},null,null,{"$f":"IF(Input_Output!DQ39=\"\",T(Input_Output!DR39),\"\")","v":""},null,null,{"$f":"IF(Input_Output!DT39=\"\",T(Input_Output!DU39),\"\")","v":""},null,null,{"$f":"IF(Input_Output!DW39=\"\",T(Input_Output!DX39),\"\")","v":""},null,null,{"$f":"IF(Input_Output!DZ39=\"\",T(Input_Output!EA39),\"\")","v":""},null,null,{"$f":"IF(Input_Output!EC39=\"\",T(Input_Output!ED39),\"\")","v":""},null,null,{"$f":"IF(Input_Output!EF39=\"\",T(Input_Output!EG39),\"\")","v":""},null,null,{"$f":"IF(Input_Output!EI39=\"\",T(Input_Output!EJ39),\"\")","v":""},null,null,{"$f":"IF(Input_Output!EL39=\"\",T(Input_Output!EM39),\"\")","v":""},null,null,{"$f":"IF(Input_Output!EO39=\"\",T(Input_Output!EP39),\"\")","v":""},null,null,{"$f":"IF(Input_Output!ER39=\"\",T(Input_Output!ES39),\"\")","v":""},null,null,{"$f":"IF(Input_Output!EU39=\"\",T(Input_Output!EV39),\"\")","v":""},null,null,{"$f":"IF(Input_Output!EX39=\"\",T(Input_Output!EY39),\"\")","v":""},null,null,{"$f":"IF(Input_Output!FA39=\"\",T(Input_Output!FB39),\"\")","v":""},null,null,{"$f":"IF(Input_Output!FD39=\"\",T(Input_Output!FE39),\"\")","v":""},null,null,{"$f":"IF(Input_Output!FG39=\"\",T(Input_Output!FH39),\"\")","v":""},null,null,{"$f":"IF(Input_Output!FJ39=\"\",T(Input_Output!FK39),\"\")","v":""},null,null,{"$f":"IF(Input_Output!FM39=\"\",T(Input_Output!FN39),\"\")","v":""},null,null,{"$f":"IF(Input_Output!FP39=\"\",T(Input_Output!FQ39),\"\")","v":""},null,null,{"$f":"IF(Input_Output!FS39=\"\",T(Input_Output!FT39),\"\")","v":""},null,null,{"$f":"IF(Input_Output!FV39=\"\",T(Input_Output!FW39),\"\")","v":""},null,null,{"$f":"IF(Input_Output!FY39=\"\",T(Input_Output!FZ39),\"\")","v":""},null,null,{"$f":"IF(Input_Output!GB39=\"\",T(Input_Output!GC39),\"\")","v":""},null,null,{"$f":"IF(Input_Output!GE39=\"\",T(Input_Output!GF39),\"\")","v":""},null,null,{"$f":"IF(Input_Output!GH39=\"\",T(Input_Output!GI39),\"\")","v":""},null,null,{"$f":"IF(Input_Output!GK39=\"\",T(Input_Output!GL39),\"\")","v":""},null,null,{"$f":"IF(Input_Output!GN39=\"\",T(Input_Output!GO39),\"\")","v":""},null,null,{"$f":"IF(Input_Output!GQ39=\"\",T(Input_Output!GR39),\"\")","v":""},null,null,{"$f":"IF(Input_Output!GT39=\"\",T(Input_Output!GU39),\"\")","v":""},null,null,{"$f":"IF(Input_Output!GW39=\"\",T(Input_Output!GX39),\"\")","v":""},null,null,{"$f":"IF(Input_Output!GZ39=\"\",T(Input_Output!HA39),\"\")","v":""},null,null,{"$f":"IF(Input_Output!HC39=\"\",T(Input_Output!HD39),\"\")","v":""},null,null,{"$f":"IF(Input_Output!HF39=\"\",T(Input_Output!HG39),\"\")","v":""},null,null,{"$f":"IF(Input_Output!HI39=\"\",T(Input_Output!HJ39),\"\")","v":""},null,null,{"$f":"IF(Input_Output!HL39=\"\",T(Input_Output!HM39),\"\")","v":""},null,null,{"$f":"IF(Input_Output!HO39=\"\",T(Input_Output!HP39),\"\")","v":""},null,null,{"$f":"IF(Input_Output!HR39=\"\",T(Input_Output!HS39),\"\")","v":""},null,null,{"$f":"IF(Input_Output!HU39=\"\",T(Input_Output!HV39),\"\")","v":""},null,null,{"$f":"IF(Input_Output!HX39=\"\",T(Input_Output!HY39),\"\")","v":""},null,null,{"$f":"IF(Input_Output!IA39=\"\",T(Input_Output!IB39),\"\")","v":""},null,null,{"$f":"IF(Input_Output!ID39=\"\",T(Input_Output!IE39),\"\")","v":""},null,null,{"$f":"IF(Input_Output!IG39=\"\",T(Input_Output!IH39),\"\")","v":""},null,null,{"$f":"IF(Input_Output!IJ39=\"\",T(Input_Output!IK39),\"\")","v":""},null,null,{"$f":"IF(Input_Output!IM39=\"\",T(Input_Output!IN39),\"\")","v":""},null,null,{"$f":"IF(Input_Output!IP39=\"\",T(Input_Output!IQ39),\"\")","v":""},null,null,{"$f":"IF(Input_Output!IS39=\"\",T(Input_Output!IT39),\"\")","v":""}]
[null,null,null,null,{"$f":"IF(Input_Output!D40=\"\",T(Input_Output!E40),\"\")","v":""},null,null,{"$f":"IF(Input_Output!G40=\"\",T(Input_Output!H40),\"\")","v":""},null,null,{"$f":"IF(Input_Output!J40=\"\",T(Input_Output!K40),\"\")","v":""},null,null,{"$f":"IF(Input_Output!M40=\"\",T(Input_Output!N40),\"\")","v":""},null,null,{"$f":"IF(Input_Output!P40=\"\",T(Input_Output!Q40),\"\")","v":""},null,null,{"$f":"IF(Input_Output!S40=\"\",T(Input_Output!T40),\"\")","v":""},null,null,{"$f":"IF(Input_Output!V40=\"\",T(Input_Output!W40),\"\")","v":""},null,null,{"$f":"IF(Input_Output!Y40=\"\",T(Input_Output!Z40),\"\")","v":""},null,null,{"$f":"IF(Input_Output!AB40=\"\",T(Input_Output!AC40),\"\")","v":""},null,null,{"$f":"IF(Input_Output!AE40=\"\",T(Input_Output!AF40),\"\")","v":""},null,null,{"$f":"IF(Input_Output!AH40=\"\",T(Input_Output!AI40),\"\")","v":""},null,null,{"$f":"IF(Input_Output!AK40=\"\",T(Input_Output!AL40),\"\")","v":""},null,null,{"$f":"IF(Input_Output!AN40=\"\",T(Input_Output!AO40),\"\")","v":""},null,null,{"$f":"IF(Input_Output!AQ40=\"\",T(Input_Output!AR40),\"\")","v":""},null,null,{"$f":"IF(Input_Output!AT40=\"\",T(Input_Output!AU40),\"\")","v":""},null,null,{"$f":"IF(Input_Output!AW40=\"\",T(Input_Output!AX40),\"\")","v":""},null,null,{"$f":"IF(Input_Output!AZ40=\"\",T(Input_Output!BA40),\"\")","v":""},null,null,{"$f":"IF(Input_Output!BC40=\"\",T(Input_Output!BD40),\"\")","v":""},null,null,{"$f":"IF(Input_Output!BF40=\"\",T(Input_Output!BG40),\"\")","v":""},null,null,{"$f":"IF(Input_Output!BI40=\"\",T(Input_Output!BJ40),\"\")","v":""},null,null,{"$f":"IF(Input_Output!BL40=\"\",T(Input_Output!BM40),\"\")","v":""},null,null,{"$f":"IF(Input_Output!BO40=\"\",T(Input_Output!BP40),\"\")","v":""},null,null,{"$f":"IF(Input_Output!BR40=\"\",T(Input_Output!BS40),\"\")","v":""},null,null,{"$f":"IF(Input_Output!BU40=\"\",T(Input_Output!BV40),\"\")","v":""},null,null,{"$f":"IF(Input_Output!BX40=\"\",T(Input_Output!BY40),\"\")","v":""},null,null,{"$f":"IF(Input_Output!CA40=\"\",T(Input_Output!CB40),\"\")","v":""},null,null,{"$f":"IF(Input_Output!CD40=\"\",T(Input_Output!CE40),\"\")","v":""},null,null,{"$f":"IF(Input_Output!CG40=\"\",T(Input_Output!CH40),\"\")","v":""},null,null,{"$f":"IF(Input_Output!CJ40=\"\",T(Input_Output!CK40),\"\")","v":""},null,null,{"$f":"IF(Input_Output!CM40=\"\",T(Input_Output!CN40),\"\")","v":""},null,null,{"$f":"IF(Input_Output!CP40=\"\",T(Input_Output!CQ40),\"\")","v":""},null,null,{"$f":"IF(Input_Output!CS40=\"\",T(Input_Output!CT40),\"\")","v":""},null,null,{"$f":"IF(Input_Output!CV40=\"\",T(Input_Output!CW40),\"\")","v":""},null,null,{"$f":"IF(Input_Output!CY40=\"\",T(Input_Output!CZ40),\"\")","v":""},null,null,{"$f":"IF(Input_Output!DB40=\"\",T(Input_Output!DC40),\"\")","v":""},null,null,{"$f":"IF(Input_Output!DE40=\"\",T(Input_Output!DF40),\"\")","v":""},null,null,{"$f":"IF(Input_Output!DH40=\"\",T(Input_Output!DI40),\"\")","v":""},null,null,{"$f":"IF(Input_Output!DK40=\"\",T(Input_Output!DL40),\"\")","v":""},null,null,{"$f":"IF(Input_Output!DN40=\"\",T(Input_Output!DO40),\"\")","v":""},null,null,{"$f":"IF(Input_Output!DQ40=\"\",T(Input_Output!DR40),\"\")","v":""},null,null,{"$f":"IF(Input_Output!DT40=\"\",T(Input_Output!DU40),\"\")","v":""},null,null,{"$f":"IF(Input_Output!DW40=\"\",T(Input_Output!DX40),\"\")","v":""},null,null,{"$f":"IF(Input_Output!DZ40=\"\",T(Input_Output!EA40),\"\")","v":""},null,null,{"$f":"IF(Input_Output!EC40=\"\",T(Input_Output!ED40),\"\")","v":""},null,null,{"$f":"IF(Input_Output!EF40=\"\",T(Input_Output!EG40),\"\")","v":""},null,null,{"$f":"IF(Input_Output!EI40=\"\",T(Input_Output!EJ40),\"\")","v":""},null,null,{"$f":"IF(Input_Output!EL40=\"\",T(Input_Output!EM40),\"\")","v":""},null,null,{"$f":"IF(Input_Output!EO40=\"\",T(Input_Output!EP40),\"\")","v":""},null,null,{"$f":"IF(Input_Output!ER40=\"\",T(Input_Output!ES40),\"\")","v":""},null,null,{"$f":"IF(Input_Output!EU40=\"\",T(Input_Output!EV40),\"\")","v":""},null,null,{"$f":"IF(Input_Output!EX40=\"\",T(Input_Output!EY40),\"\")","v":""},null,null,{"$f":"IF(Input_Output!FA40=\"\",T(Input_Output!FB40),\"\")","v":""},null,null,{"$f":"IF(Input_Output!FD40=\"\",T(Input_Output!FE40),\"\")","v":""},null,null,{"$f":"IF(Input_Output!FG40=\"\",T(Input_Output!FH40),\"\")","v":""},null,null,{"$f":"IF(Input_Output!FJ40=\"\",T(Input_Output!FK40),\"\")","v":""},null,null,{"$f":"IF(Input_Output!FM40=\"\",T(Input_Output!FN40),\"\")","v":""},null,null,{"$f":"IF(Input_Output!FP40=\"\",T(Input_Output!FQ40),\"\")","v":""},null,null,{"$f":"IF(Input_Output!FS40=\"\",T(Input_Output!FT40),\"\")","v":""},null,null,{"$f":"IF(Input_Output!FV40=\"\",T(Input_Output!FW40),\"\")","v":""},null,null,{"$f":"IF(Input_Output!FY40=\"\",T(Input_Output!FZ40),\"\")","v":""},null,null,{"$f":"IF(Input_Output!GB40=\"\",T(Input_Output!GC40),\"\")","v":""},null,null,{"$f":"IF(Input_Output!GE40=\"\",T(Input_Output!GF40),\"\")","v":""},null,null,{"$f":"IF(Input_Output!GH40=\"\",T(Input_Output!GI40),\"\")","v":""},null,null,{"$f":"IF(Input_Output!GK40=\"\",T(Input_Output!GL40),\"\")","v":""},null,null,{"$f":"IF(Input_Output!GN40=\"\",T(Input_Output!GO40),\"\")","v":""},null,null,{"$f":"IF(Input_Output!GQ40=\"\",T(Input_Output!GR40),\"\")","v":""},null,null,{"$f":"IF(Input_Output!GT40=\"\",T(Input_Output!GU40),\"\")","v":""},null,null,{"$f":"IF(Input_Output!GW40=\"\",T(Input_Output!GX40),\"\")","v":""},null,null,{"$f":"IF(Input_Output!GZ40=\"\",T(Input_Output!HA40),\"\")","v":""},null,null,{"$f":"IF(Input_Output!HC40=\"\",T(Input_Output!HD40),\"\")","v":""},null,null,{"$f":"IF(Input_Output!HF40=\"\",T(Input_Output!HG40),\"\")","v":""},null,null,{"$f":"IF(Input_Output!HI40=\"\",T(Input_Output!HJ40),\"\")","v":""},null,null,{"$f":"IF(Input_Output!HL40=\"\",T(Input_Output!HM40),\"\")","v":""},null,null,{"$f":"IF(Input_Output!HO40=\"\",T(Input_Output!HP40),\"\")","v":""},null,null,{"$f":"IF(Input_Output!HR40=\"\",T(Input_Output!HS40),\"\")","v":""},null,null,{"$f":"IF(Input_Output!HU40=\"\",T(Input_Output!HV40),\"\")","v":""},null,null,{"$f":"IF(Input_Output!HX40=\"\",T(Input_Output!HY40),\"\")","v":""},null,null,{"$f":"IF(Input_Output!IA40=\"\",T(Input_Output!IB40),\"\")","v":""},null,null,{"$f":"IF(Input_Output!ID40=\"\",T(Input_Output!IE40),\"\")","v":""},null,null,{"$f":"IF(Input_Output!IG40=\"\",T(Input_Output!IH40),\"\")","v":""},null,null,{"$f":"IF(Input_Output!IJ40=\"\",T(Input_Output!IK40),\"\")","v":""},null,null,{"$f":"IF(Input_Output!IM40=\"\",T(Input_Output!IN40),\"\")","v":""},null,null,{"$f":"IF(Input_Output!IP40=\"\",T(Input_Output!IQ40),\"\")","v":""},null,null,{"$f":"IF(Input_Output!IS40=\"\",T(Input_Output!IT40),\"\")","v":""}]
[null,null,null,null,{"$f":"IF(Input_Output!D41=\"\",T(Input_Output!E41),\"\")","v":""},null,null,{"$f":"IF(Input_Output!G41=\"\",T(Input_Output!H41),\"\")","v":""},null,null,{"$f":"IF(Input_Output!J41=\"\",T(Input_Output!K41),\"\")","v":""},null,null,{"$f":"IF(Input_Output!M41=\"\",T(Input_Output!N41),\"\")","v":""},null,null,{"$f":"IF(Input_Output!P41=\"\",T(Input_Output!Q41),\"\")","v":""},null,null,{"$f":"IF(Input_Output!S41=\"\",T(Input_Output!T41),\"\")","v":""},null,null,{"$f":"IF(Input_Output!V41=\"\",T(Input_Output!W41),\"\")","v":""},null,null,{"$f":"IF(Input_Output!Y41=\"\",T(Input_Output!Z41),\"\")","v":""},null,null,{"$f":"IF(Input_Output!AB41=\"\",T(Input_Output!AC41),\"\")","v":""},null,null,{"$f":"IF(Input_Output!AE41=\"\",T(Input_Output!AF41),\"\")","v":""},null,null,{"$f":"IF(Input_Output!AH41=\"\",T(Input_Output!AI41),\"\")","v":""},null,null,{"$f":"IF(Input_Output!AK41=\"\",T(Input_Output!AL41),\"\")","v":""},null,null,{"$f":"IF(Input_Output!AN41=\"\",T(Input_Output!AO41),\"\")","v":""},null,null,{"$f":"IF(Input_Output!AQ41=\"\",T(Input_Output!AR41),\"\")","v":""},null,null,{"$f":"IF(Input_Output!AT41=\"\",T(Input_Output!AU41),\"\")","v":""},null,null,{"$f":"IF(Input_Output!AW41=\"\",T(Input_Output!AX41),\"\")","v":""},null,null,{"$f":"IF(Input_Output!AZ41=\"\",T(Input_Output!BA41),\"\")","v":""},null,null,{"$f":"IF(Input_Output!BC41=\"\",T(Input_Output!BD41),\"\")","v":""},null,null,{"$f":"IF(Input_Output!BF41=\"\",T(Input_Output!BG41),\"\")","v":""},null,null,{"$f":"IF(Input_Output!BI41=\"\",T(Input_Output!BJ41),\"\")","v":""},null,null,{"$f":"IF(Input_Output!BL41=\"\",T(Input_Output!BM41),\"\")","v":""},null,null,{"$f":"IF(Input_Output!BO41=\"\",T(Input_Output!BP41),\"\")","v":""},null,null,{"$f":"IF(Input_Output!BR41=\"\",T(Input_Output!BS41),\"\")","v":""},null,null,{"$f":"IF(Input_Output!BU41=\"\",T(Input_Output!BV41),\"\")","v":""},null,null,{"$f":"IF(Input_Output!BX41=\"\",T(Input_Output!BY41),\"\")","v":""},null,null,{"$f":"IF(Input_Output!CA41=\"\",T(Input_Output!CB41),\"\")","v":""},null,null,{"$f":"IF(Input_Output!CD41=\"\",T(Input_Output!CE41),\"\")","v":""},null,null,{"$f":"IF(Input_Output!CG41=\"\",T(Input_Output!CH41),\"\")","v":""},null,null,{"$f":"IF(Input_Output!CJ41=\"\",T(Input_Output!CK41),\"\")","v":""},null,null,{"$f":"IF(Input_Output!CM41=\"\",T(Input_Output!CN41),\"\")","v":""},null,null,{"$f":"IF(Input_Output!CP41=\"\",T(Input_Output!CQ41),\"\")","v":""},null,null,{"$f":"IF(Input_Output!CS41=\"\",T(Input_Output!CT41),\"\")","v":""},null,null,{"$f":"IF(Input_Output!CV41=\"\",T(Input_Output!CW41),\"\")","v":""},null,null,{"$f":"IF(Input_Output!CY41=\"\",T(Input_Output!CZ41),\"\")","v":""},null,null,{"$f":"IF(Input_Output!DB41=\"\",T(Input_Output!DC41),\"\")","v":""},null,null,{"$f":"IF(Input_Output!DE41=\"\",T(Input_Output!DF41),\"\")","v":""},null,null,{"$f":"IF(Input_Output!DH41=\"\",T(Input_Output!DI41),\"\")","v":""},null,null,{"$f":"IF(Input_Output!DK41=\"\",T(Input_Output!DL41),\"\")","v":""},null,null,{"$f":"IF(Input_Output!DN41=\"\",T(Input_Output!DO41),\"\")","v":""},null,null,{"$f":"IF(Input_Output!DQ41=\"\",T(Input_Output!DR41),\"\")","v":""},null,null,{"$f":"IF(Input_Output!DT41=\"\",T(Input_Output!DU41),\"\")","v":""},null,null,{"$f":"IF(Input_Output!DW41=\"\",T(Input_Output!DX41),\"\")","v":""},null,null,{"$f":"IF(Input_Output!DZ41=\"\",T(Input_Output!EA41),\"\")","v":""},null,null,{"$f":"IF(Input_Output!EC41=\"\",T(Input_Output!ED41),\"\")","v":""},null,null,{"$f":"IF(Input_Output!EF41=\"\",T(Input_Output!EG41),\"\")","v":""},null,null,{"$f":"IF(Input_Output!EI41=\"\",T(Input_Output!EJ41),\"\")","v":""},null,null,{"$f":"IF(Input_Output!EL41=\"\",T(Input_Output!EM41),\"\")","v":""},null,null,{"$f":"IF(Input_Output!EO41=\"\",T(Input_Output!EP41),\"\")","v":""},null,null,{"$f":"IF(Input_Output!ER41=\"\",T(Input_Output!ES41),\"\")","v":""},null,null,{"$f":"IF(Input_Output!EU41=\"\",T(Input_Output!EV41),\"\")","v":""},null,null,{"$f":"IF(Input_Output!EX41=\"\",T(Input_Output!EY41),\"\")","v":""},null,null,{"$f":"IF(Input_Output!FA41=\"\",T(Input_Output!FB41),\"\")","v":""},null,null,{"$f":"IF(Input_Output!FD41=\"\",T(Input_Output!FE41),\"\")","v":""},null,null,{"$f":"IF(Input_Output!FG41=\"\",T(Input_Output!FH41),\"\")","v":""},null,null,{"$f":"IF(Input_Output!FJ41=\"\",T(Input_Output!FK41),\"\")","v":""},null,null,{"$f":"IF(Input_Output!FM41=\"\",T(Input_Output!FN41),\"\")","v":""},null,null,{"$f":"IF(Input_Output!FP41=\"\",T(Input_Output!FQ41),\"\")","v":""},null,null,{"$f":"IF(Input_Output!FS41=\"\",T(Input_Output!FT41),\"\")","v":""},null,null,{"$f":"IF(Input_Output!FV41=\"\",T(Input_Output!FW41),\"\")","v":""},null,null,{"$f":"IF(Input_Output!FY41=\"\",T(Input_Output!FZ41),\"\")","v":""},null,null,{"$f":"IF(Input_Output!GB41=\"\",T(Input_Output!GC41),\"\")","v":""},null,null,{"$f":"IF(Input_Output!GE41=\"\",T(Input_Output!GF41),\"\")","v":""},null,null,{"$f":"IF(Input_Output!GH41=\"\",T(Input_Output!GI41),\"\")","v":""},null,null,{"$f":"IF(Input_Output!GK41=\"\",T(Input_Output!GL41),\"\")","v":""},null,null,{"$f":"IF(Input_Output!GN41=\"\",T(Input_Output!GO41),\"\")","v":""},null,null,{"$f":"IF(Input_Output!GQ41=\"\",T(Input_Output!GR41),\"\")","v":""},null,null,{"$f":"IF(Input_Output!GT41=\"\",T(Input_Output!GU41),\"\")","v":""},null,null,{"$f":"IF(Input_Output!GW41=\"\",T(Input_Output!GX41),\"\")","v":""},null,null,{"$f":"IF(Input_Output!GZ41=\"\",T(Input_Output!HA41),\"\")","v":""},null,null,{"$f":"IF(Input_Output!HC41=\"\",T(Input_Output!HD41),\"\")","v":""},null,null,{"$f":"IF(Input_Output!HF41=\"\",T(Input_Output!HG41),\"\")","v":""},null,null,{"$f":"IF(Input_Output!HI41=\"\",T(Input_Output!HJ41),\"\")","v":""},null,null,{"$f":"IF(Input_Output!HL41=\"\",T(Input_Output!HM41),\"\")","v":""},null,null,{"$f":"IF(Input_Output!HO41=\"\",T(Input_Output!HP41),\"\")","v":""},null,null,{"$f":"IF(Input_Output!HR41=\"\",T(Input_Output!HS41),\"\")","v":""},null,null,{"$f":"IF(Input_Output!HU41=\"\",T(Input_Output!HV41),\"\")","v":""},null,null,{"$f":"IF(Input_Output!HX41=\"\",T(Input_Output!HY41),\"\")","v":""},null,null,{"$f":"IF(Input_Output!IA41=\"\",T(Input_Output!IB41),\"\")","v":""},null,null,{"$f":"IF(Input_Output!ID41=\"\",T(Input_Output!IE41),\"\")","v":""},null,null,{"$f":"IF(Input_Output!IG41=\"\",T(Input_Output!IH41),\"\")","v":""},null,null,{"$f":"IF(Input_Output!IJ41=\"\",T(Input_Output!IK41),\"\")","v":""},null,null,{"$f":"IF(Input_Output!IM41=\"\",T(Input_Output!IN41),\"\")","v":""},null,null,{"$f":"IF(Input_Output!IP41=\"\",T(Input_Output!IQ41),\"\")","v":""},null,null,{"$f":"IF(Input_Output!IS41=\"\",T(Input_Output!IT41),\"\")","v":""}]
[null,null,null,null,{"$f":"IF(Input_Output!D42=\"\",T(Input_Output!E42),\"\")","v":""},null,null,{"$f":"IF(Input_Output!G42=\"\",T(Input_Output!H42),\"\")","v":""},null,null,{"$f":"IF(Input_Output!J42=\"\",T(Input_Output!K42),\"\")","v":""},null,null,{"$f":"IF(Input_Output!M42=\"\",T(Input_Output!N42),\"\")","v":""},null,null,{"$f":"IF(Input_Output!P42=\"\",T(Input_Output!Q42),\"\")","v":""},null,null,{"$f":"IF(Input_Output!S42=\"\",T(Input_Output!T42),\"\")","v":""},null,null,{"$f":"IF(Input_Output!V42=\"\",T(Input_Output!W42),\"\")","v":""},null,null,{"$f":"IF(Input_Output!Y42=\"\",T(Input_Output!Z42),\"\")","v":""},null,null,{"$f":"IF(Input_Output!AB42=\"\",T(Input_Output!AC42),\"\")","v":""},null,null,{"$f":"IF(Input_Output!AE42=\"\",T(Input_Output!AF42),\"\")","v":""},null,null,{"$f":"IF(Input_Output!AH42=\"\",T(Input_Output!AI42),\"\")","v":""},null,null,{"$f":"IF(Input_Output!AK42=\"\",T(Input_Output!AL42),\"\")","v":""},null,null,{"$f":"IF(Input_Output!AN42=\"\",T(Input_Output!AO42),\"\")","v":""},null,null,{"$f":"IF(Input_Output!AQ42=\"\",T(Input_Output!AR42),\"\")","v":""},null,null,{"$f":"IF(Input_Output!AT42=\"\",T(Input_Output!AU42),\"\")","v":""},null,null,{"$f":"IF(Input_Output!AW42=\"\",T(Input_Output!AX42),\"\")","v":""},null,null,{"$f":"IF(Input_Output!AZ42=\"\",T(Input_Output!BA42),\"\")","v":""},null,null,{"$f":"IF(Input_Output!BC42=\"\",T(Input_Output!BD42),\"\")","v":""},null,null,{"$f":"IF(Input_Output!BF42=\"\",T(Input_Output!BG42),\"\")","v":""},null,null,{"$f":"IF(Input_Output!BI42=\"\",T(Input_Output!BJ42),\"\")","v":""},null,null,{"$f":"IF(Input_Output!BL42=\"\",T(Input_Output!BM42),\"\")","v":""},null,null,{"$f":"IF(Input_Output!BO42=\"\",T(Input_Output!BP42),\"\")","v":""},null,null,{"$f":"IF(Input_Output!BR42=\"\",T(Input_Output!BS42),\"\")","v":""},null,null,{"$f":"IF(Input_Output!BU42=\"\",T(Input_Output!BV42),\"\")","v":""},null,null,{"$f":"IF(Input_Output!BX42=\"\",T(Input_Output!BY42),\"\")","v":""},null,null,{"$f":"IF(Input_Output!CA42=\"\",T(Input_Output!CB42),\"\")","v":""},null,null,{"$f":"IF(Input_Output!CD42=\"\",T(Input_Output!CE42),\"\")","v":""},null,null,{"$f":"IF(Input_Output!CG42=\"\",T(Input_Output!CH42),\"\")","v":""},null,null,{"$f":"IF(Input_Output!CJ42=\"\",T(Input_Output!CK42),\"\")","v":""},null,null,{"$f":"IF(Input_Output!CM42=\"\",T(Input_Output!CN42),\"\")","v":""},null,null,{"$f":"IF(Input_Output!CP42=\"\",T(Input_Output!CQ42),\"\")","v":""},null,null,{"$f":"IF(Input_Output!CS42=\"\",T(Input_Output!CT42),\"\")","v":""},null,null,{"$f":"IF(Input_Output!CV42=\"\",T(Input_Output!CW42),\"\")","v":""},null,null,{"$f":"IF(Input_Output!CY42=\"\",T(Input_Output!CZ42),\"\")","v":""},null,null,{"$f":"IF(Input_Output!DB42=\"\",T(Input_Output!DC42),\"\")","v":""},null,null,{"$f":"IF(Input_Output!DE42=\"\",T(Input_Output!DF42),\"\")","v":""},null,null,{"$f":"IF(Input_Output!DH42=\"\",T(Input_Output!DI42),\"\")","v":""},null,null,{"$f":"IF(Input_Output!DK42=\"\",T(Input_Output!DL42),\"\")","v":""},null,null,{"$f":"IF(Input_Output!DN42=\"\",T(Input_Output!DO42),\"\")","v":""},null,null,{"$f":"IF(Input_Output!DQ42=\"\",T(Input_Output!DR42),\"\")","v":""},null,null,{"$f":"IF(Input_Output!DT42=\"\",T(Input_Output!DU42),\"\")","v":""},null,null,{"$f":"IF(Input_Output!DW42=\"\",T(Input_Output!DX42),\"\")","v":""},null,null,{"$f":"IF(Input_Output!DZ42=\"\",T(Input_Output!EA42),\"\")","v":""},null,null,{"$f":"IF(Input_Output!EC42=\"\",T(Input_Output!ED42),\"\")","v":""},null,null,{"$f":"IF(Input_Output!EF42=\"\",T(Input_Output!EG42),\"\")","v":""},null,null,{"$f":"IF(Input_Output!EI42=\"\",T(Input_Output!EJ42),\"\")","v":""},null,null,{"$f":"IF(Input_Output!EL42=\"\",T(Input_Output!EM42),\"\")","v":""},null,null,{"$f":"IF(Input_Output!EO42=\"\",T(Input_Output!EP42),\"\")","v":""},null,null,{"$f":"IF(Input_Output!ER42=\"\",T(Input_Output!ES42),\"\")","v":""},null,null,{"$f":"IF(Input_Output!EU42=\"\",T(Input_Output!EV42),\"\")","v":""},null,null,{"$f":"IF(Input_Output!EX42=\"\",T(Input_Output!EY42),\"\")","v":""},null,null,{"$f":"IF(Input_Output!FA42=\"\",T(Input_Output!FB42),\"\")","v":""},null,null,{"$f":"IF(Input_Output!FD42=\"\",T(Input_Output!FE42),\"\")","v":""},null,null,{"$f":"IF(Input_Output!FG42=\"\",T(Input_Output!FH42),\"\")","v":""},null,null,{"$f":"IF(Input_Output!FJ42=\"\",T(Input_Output!FK42),\"\")","v":""},null,null,{"$f":"IF(Input_Output!FM42=\"\",T(Input_Output!FN42),\"\")","v":""},null,null,{"$f":"IF(Input_Output!FP42=\"\",T(Input_Output!FQ42),\"\")","v":""},null,null,{"$f":"IF(Input_Output!FS42=\"\",T(Input_Output!FT42),\"\")","v":""},null,null,{"$f":"IF(Input_Output!FV42=\"\",T(Input_Output!FW42),\"\")","v":""},null,null,{"$f":"IF(Input_Output!FY42=\"\",T(Input_Output!FZ42),\"\")","v":""},null,null,{"$f":"IF(Input_Output!GB42=\"\",T(Input_Output!GC42),\"\")","v":""},null,null,{"$f":"IF(Input_Output!GE42=\"\",T(Input_Output!GF42),\"\")","v":""},null,null,{"$f":"IF(Input_Output!GH42=\"\",T(Input_Output!GI42),\"\")","v":""},null,null,{"$f":"IF(Input_Output!GK42=\"\",T(Input_Output!GL42),\"\")","v":""},null,null,{"$f":"IF(Input_Output!GN42=\"\",T(Input_Output!GO42),\"\")","v":""},null,null,{"$f":"IF(Input_Output!GQ42=\"\",T(Input_Output!GR42),\"\")","v":""},null,null,{"$f":"IF(Input_Output!GT42=\"\",T(Input_Output!GU42),\"\")","v":""},null,null,{"$f":"IF(Input_Output!GW42=\"\",T(Input_Output!GX42),\"\")","v":""},null,null,{"$f":"IF(Input_Output!GZ42=\"\",T(Input_Output!HA42),\"\")","v":""},null,null,{"$f":"IF(Input_Output!HC42=\"\",T(Input_Output!HD42),\"\")","v":""},null,null,{"$f":"IF(Input_Output!HF42=\"\",T(Input_Output!HG42),\"\")","v":""},null,null,{"$f":"IF(Input_Output!HI42=\"\",T(Input_Output!HJ42),\"\")","v":""},null,null,{"$f":"IF(Input_Output!HL42=\"\",T(Input_Output!HM42),\"\")","v":""},null,null,{"$f":"IF(Input_Output!HO42=\"\",T(Input_Output!HP42),\"\")","v":""},null,null,{"$f":"IF(Input_Output!HR42=\"\",T(Input_Output!HS42),\"\")","v":""},null,null,{"$f":"IF(Input_Output!HU42=\"\",T(Input_Output!HV42),\"\")","v":""},null,null,{"$f":"IF(Input_Output!HX42=\"\",T(Input_Output!HY42),\"\")","v":""},null,null,{"$f":"IF(Input_Output!IA42=\"\",T(Input_Output!IB42),\"\")","v":""},null,null,{"$f":"IF(Input_Output!ID42=\"\",T(Input_Output!IE42),\"\")","v":""},null,null,{"$f":"IF(Input_Output!IG42=\"\",T(Input_Output!IH42),\"\")","v":""},null,null,{"$f":"IF(Input_Output!IJ42=\"\",T(Input_Output!IK42),\"\")","v":""},null,null,{"$f":"IF(Input_Output!IM42=\"\",T(Input_Output!IN42),\"\")","v":""},null,null,{"$f":"IF(Input_Output!IP42=\"\",T(Input_Output!IQ42),\"\")","v":""},null,null,{"$f":"IF(Input_Output!IS42=\"\",T(Input_Output!IT42),\"\")","v":""}]
[null,null,null,null,{"$f":"IF(Input_Output!D43=\"\",T(Input_Output!E43),\"\")","v":""},null,null,{"$f":"IF(Input_Output!G43=\"\",T(Input_Output!H43),\"\")","v":""},null,null,{"$f":"IF(Input_Output!J43=\"\",T(Input_Output!K43),\"\")","v":""},null,null,{"$f":"IF(Input_Output!M43=\"\",T(Input_Output!N43),\"\")","v":""},null,null,{"$f":"IF(Input_Output!P43=\"\",T(Input_Output!Q43),\"\")","v":""},null,null,{"$f":"IF(Input_Output!S43=\"\",T(Input_Output!T43),\"\")","v":""},null,null,{"$f":"IF(Input_Output!V43=\"\",T(Input_Output!W43),\"\")","v":""},null,null,{"$f":"IF(Input_Output!Y43=\"\",T(Input_Output!Z43),\"\")","v":""},null,null,{"$f":"IF(Input_Output!AB43=\"\",T(Input_Output!AC43),\"\")","v":""},null,null,{"$f":"IF(Input_Output!AE43=\"\",T(Input_Output!AF43),\"\")","v":""},null,null,{"$f":"IF(Input_Output!AH43=\"\",T(Input_Output!AI43),\"\")","v":""},null,null,{"$f":"IF(Input_Output!AK43=\"\",T(Input_Output!AL43),\"\")","v":""},null,null,{"$f":"IF(Input_Output!AN43=\"\",T(Input_Output!AO43),\"\")","v":""},null,null,{"$f":"IF(Input_Output!AQ43=\"\",T(Input_Output!AR43),\"\")","v":""},null,null,{"$f":"IF(Input_Output!AT43=\"\",T(Input_Output!AU43),\"\")","v":""},null,null,{"$f":"IF(Input_Output!AW43=\"\",T(Input_Output!AX43),\"\")","v":""},null,null,{"$f":"IF(Input_Output!AZ43=\"\",T(Input_Output!BA43),\"\")","v":""},null,null,{"$f":"IF(Input_Output!BC43=\"\",T(Input_Output!BD43),\"\")","v":""},null,null,{"$f":"IF(Input_Output!BF43=\"\",T(Input_Output!BG43),\"\")","v":""},null,null,{"$f":"IF(Input_Output!BI43=\"\",T(Input_Output!BJ43),\"\")","v":""},null,null,{"$f":"IF(Input_Output!BL43=\"\",T(Input_Output!BM43),\"\")","v":""},null,null,{"$f":"IF(Input_Output!BO43=\"\",T(Input_Output!BP43),\"\")","v":""},null,null,{"$f":"IF(Input_Output!BR43=\"\",T(Input_Output!BS43),\"\")","v":""},null,null,{"$f":"IF(Input_Output!BU43=\"\",T(Input_Output!BV43),\"\")","v":""},null,null,{"$f":"IF(Input_Output!BX43=\"\",T(Input_Output!BY43),\"\")","v":""},null,null,{"$f":"IF(Input_Output!CA43=\"\",T(Input_Output!CB43),\"\")","v":""},null,null,{"$f":"IF(Input_Output!CD43=\"\",T(Input_Output!CE43),\"\")","v":""},null,null,{"$f":"IF(Input_Output!CG43=\"\",T(Input_Output!CH43),\"\")","v":""},null,null,{"$f":"IF(Input_Output!CJ43=\"\",T(Input_Output!CK43),\"\")","v":""},null,null,{"$f":"IF(Input_Output!CM43=\"\",T(Input_Output!CN43),\"\")","v":""},null,null,{"$f":"IF(Input_Output!CP43=\"\",T(Input_Output!CQ43),\"\")","v":""},null,null,{"$f":"IF(Input_Output!CS43=\"\",T(Input_Output!CT43),\"\")","v":""},null,null,{"$f":"IF(Input_Output!CV43=\"\",T(Input_Output!CW43),\"\")","v":""},null,null,{"$f":"IF(Input_Output!CY43=\"\",T(Input_Output!CZ43),\"\")","v":""},null,null,{"$f":"IF(Input_Output!DB43=\"\",T(Input_Output!DC43),\"\")","v":""},null,null,{"$f":"IF(Input_Output!DE43=\"\",T(Input_Output!DF43),\"\")","v":""},null,null,{"$f":"IF(Input_Output!DH43=\"\",T(Input_Output!DI43),\"\")","v":""},null,null,{"$f":"IF(Input_Output!DK43=\"\",T(Input_Output!DL43),\"\")","v":""},null,null,{"$f":"IF(Input_Output!DN43=\"\",T(Input_Output!DO43),\"\")","v":""},null,null,{"$f":"IF(Input_Output!DQ43=\"\",T(Input_Output!DR43),\"\")","v":""},null,null,{"$f":"IF(Input_Output!DT43=\"\",T(Input_Output!DU43),\"\")","v":""},null,null,{"$f":"IF(Input_Output!DW43=\"\",T(Input_Output!DX43),\"\")","v":""},null,null,{"$f":"IF(Input_Output!DZ43=\"\",T(Input_Output!EA43),\"\")","v":""},null,null,{"$f":"IF(Input_Output!EC43=\"\",T(Input_Output!ED43),\"\")","v":""},null,null,{"$f":"IF(Input_Output!EF43=\"\",T(Input_Output!EG43),\"\")","v":""},null,null,{"$f":"IF(Input_Output!EI43=\"\",T(Input_Output!EJ43),\"\")","v":""},null,null,{"$f":"IF(Input_Output!EL43=\"\",T(Input_Output!EM43),\"\")","v":""},null,null,{"$f":"IF(Input_Output!EO43=\"\",T(Input_Output!EP43),\"\")","v":""},null,null,{"$f":"IF(Input_Output!ER43=\"\",T(Input_Output!ES43),\"\")","v":""},null,null,{"$f":"IF(Input_Output!EU43=\"\",T(Input_Output!EV43),\"\")","v":""},null,null,{"$f":"IF(Input_Output!EX43=\"\",T(Input_Output!EY43),\"\")","v":""},null,null,{"$f":"IF(Input_Output!FA43=\"\",T(Input_Output!FB43),\"\")","v":""},null,null,{"$f":"IF(Input_Output!FD43=\"\",T(Input_Output!FE43),\"\")","v":""},null,null,{"$f":"IF(Input_Output!FG43=\"\",T(Input_Output!FH43),\"\")","v":""},null,null,{"$f":"IF(Input_Output!FJ43=\"\",T(Input_Output!FK43),\"\")","v":""},null,null,{"$f":"IF(Input_Output!FM43=\"\",T(Input_Output!FN43),\"\")","v":""},null,null,{"$f":"IF(Input_Output!FP43=\"\",T(Input_Output!FQ43),\"\")","v":""},null,null,{"$f":"IF(Input_Output!FS43=\"\",T(Input_Output!FT43),\"\")","v":""},null,null,{"$f":"IF(Input_Output!FV43=\"\",T(Input_Output!FW43),\"\")","v":""},null,null,{"$f":"IF(Input_Output!FY43=\"\",T(Input_Output!FZ43),\"\")","v":""},null,null,{"$f":"IF(Input_Output!GB43=\"\",T(Input_Output!GC43),\"\")","v":""},null,null,{"$f":"IF(Input_Output!GE43=\"\",T(Input_Output!GF43),\"\")","v":""},null,null,{"$f":"IF(Input_Output!GH43=\"\",T(Input_Output!GI43),\"\")","v":""},null,null,{"$f":"IF(Input_Output!GK43=\"\",T(Input_Output!GL43),\"\")","v":""},null,null,{"$f":"IF(Input_Output!GN43=\"\",T(Input_Output!GO43),\"\")","v":""},null,null,{"$f":"IF(Input_Output!GQ43=\"\",T(Input_Output!GR43),\"\")","v":""},null,null,{"$f":"IF(Input_Output!GT43=\"\",T(Input_Output!GU43),\"\")","v":""},null,null,{"$f":"IF(Input_Output!GW43=\"\",T(Input_Output!GX43),\"\")","v":""},null,null,{"$f":"IF(Input_Output!GZ43=\"\",T(Input_Output!HA43),\"\")","v":""},null,null,{"$f":"IF(Input_Output!HC43=\"\",T(Input_Output!HD43),\"\")","v":""},null,null,{"$f":"IF(Input_Output!HF43=\"\",T(Input_Output!HG43),\"\")","v":""},null,null,{"$f":"IF(Input_Output!HI43=\"\",T(Input_Output!HJ43),\"\")","v":""},null,null,{"$f":"IF(Input_Output!HL43=\"\",T(Input_Output!HM43),\"\")","v":""},null,null,{"$f":"IF(Input_Output!HO43=\"\",T(Input_Output!HP43),\"\")","v":""},null,null,{"$f":"IF(Input_Output!HR43=\"\",T(Input_Output!HS43),\"\")","v":""},null,null,{"$f":"IF(Input_Output!HU43=\"\",T(Input_Output!HV43),\"\")","v":""},null,null,{"$f":"IF(Input_Output!HX43=\"\",T(Input_Output!HY43),\"\")","v":""},null,null,{"$f":"IF(Input_Output!IA43=\"\",T(Input_Output!IB43),\"\")","v":""},null,null,{"$f":"IF(Input_Output!ID43=\"\",T(Input_Output!IE43),\"\")","v":""},null,null,{"$f":"IF(Input_Output!IG43=\"\",T(Input_Output!IH43),\"\")","v":""},null,null,{"$f":"IF(Input_Output!IJ43=\"\",T(Input_Output!IK43),\"\")","v":""},null,null,{"$f":"IF(Input_Output!IM43=\"\",T(Input_Output!IN43),\"\")","v":""},null,null,{"$f":"IF(Input_Output!IP43=\"\",T(Input_Output!IQ43),\"\")","v":""},null,null,{"$f":"IF(Input_Output!IS43=\"\",T(Input_Output!IT43),\"\")","v":""}]
[null,null,null,null,{"$f":"IF(Input_Output!D44=\"\",T(Input_Output!E44),\"\")","v":""},null,null,{"$f":"IF(Input_Output!G44=\"\",T(Input_Output!H44),\"\")","v":""},null,null,{"$f":"IF(Input_Output!J44=\"\",T(Input_Output!K44),\"\")","v":""},null,null,{"$f":"IF(Input_Output!M44=\"\",T(Input_Output!N44),\"\")","v":""},null,null,{"$f":"IF(Input_Output!P44=\"\",T(Input_Output!Q44),\"\")","v":""},null,null,{"$f":"IF(Input_Output!S44=\"\",T(Input_Output!T44),\"\")","v":""},null,null,{"$f":"IF(Input_Output!V44=\"\",T(Input_Output!W44),\"\")","v":""},null,null,{"$f":"IF(Input_Output!Y44=\"\",T(Input_Output!Z44),\"\")","v":""},null,null,{"$f":"IF(Input_Output!AB44=\"\",T(Input_Output!AC44),\"\")","v":""},null,null,{"$f":"IF(Input_Output!AE44=\"\",T(Input_Output!AF44),\"\")","v":""},null,null,{"$f":"IF(Input_Output!AH44=\"\",T(Input_Output!AI44),\"\")","v":""},null,null,{"$f":"IF(Input_Output!AK44=\"\",T(Input_Output!AL44),\"\")","v":""},null,null,{"$f":"IF(Input_Output!AN44=\"\",T(Input_Output!AO44),\"\")","v":""},null,null,{"$f":"IF(Input_Output!AQ44=\"\",T(Input_Output!AR44),\"\")","v":""},null,null,{"$f":"IF(Input_Output!AT44=\"\",T(Input_Output!AU44),\"\")","v":""},null,null,{"$f":"IF(Input_Output!AW44=\"\",T(Input_Output!AX44),\"\")","v":""},null,null,{"$f":"IF(Input_Output!AZ44=\"\",T(Input_Output!BA44),\"\")","v":""},null,null,{"$f":"IF(Input_Output!BC44=\"\",T(Input_Output!BD44),\"\")","v":""},null,null,{"$f":"IF(Input_Output!BF44=\"\",T(Input_Output!BG44),\"\")","v":""},null,null,{"$f":"IF(Input_Output!BI44=\"\",T(Input_Output!BJ44),\"\")","v":""},null,null,{"$f":"IF(Input_Output!BL44=\"\",T(Input_Output!BM44),\"\")","v":""},null,null,{"$f":"IF(Input_Output!BO44=\"\",T(Input_Output!BP44),\"\")","v":""},null,null,{"$f":"IF(Input_Output!BR44=\"\",T(Input_Output!BS44),\"\")","v":""},null,null,{"$f":"IF(Input_Output!BU44=\"\",T(Input_Output!BV44),\"\")","v":""},null,null,{"$f":"IF(Input_Output!BX44=\"\",T(Input_Output!BY44),\"\")","v":""},null,null,{"$f":"IF(Input_Output!CA44=\"\",T(Input_Output!CB44),\"\")","v":""},null,null,{"$f":"IF(Input_Output!CD44=\"\",T(Input_Output!CE44),\"\")","v":""},null,null,{"$f":"IF(Input_Output!CG44=\"\",T(Input_Output!CH44),\"\")","v":""},null,null,{"$f":"IF(Input_Output!CJ44=\"\",T(Input_Output!CK44),\"\")","v":""},null,null,{"$f":"IF(Input_Output!CM44=\"\",T(Input_Output!CN44),\"\")","v":""},null,null,{"$f":"IF(Input_Output!CP44=\"\",T(Input_Output!CQ44),\"\")","v":""},null,null,{"$f":"IF(Input_Output!CS44=\"\",T(Input_Output!CT44),\"\")","v":""},null,null,{"$f":"IF(Input_Output!CV44=\"\",T(Input_Output!CW44),\"\")","v":""},null,null,{"$f":"IF(Input_Output!CY44=\"\",T(Input_Output!CZ44),\"\")","v":""},null,null,{"$f":"IF(Input_Output!DB44=\"\",T(Input_Output!DC44),\"\")","v":""},null,null,{"$f":"IF(Input_Output!DE44=\"\",T(Input_Output!DF44),\"\")","v":""},null,null,{"$f":"IF(Input_Output!DH44=\"\",T(Input_Output!DI44),\"\")","v":""},null,null,{"$f":"IF(Input_Output!DK44=\"\",T(Input_Output!DL44),\"\")","v":""},null,null,{"$f":"IF(Input_Output!DN44=\"\",T(Input_Output!DO44),\"\")","v":""},null,null,{"$f":"IF(Input_Output!DQ44=\"\",T(Input_Output!DR44),\"\")","v":""},null,null,{"$f":"IF(Input_Output!DT44=\"\",T(Input_Output!DU44),\"\")","v":""},null,null,{"$f":"IF(Input_Output!DW44=\"\",T(Input_Output!DX44),\"\")","v":""},null,null,{"$f":"IF(Input_Output!DZ44=\"\",T(Input_Output!EA44),\"\")","v":""},null,null,{"$f":"IF(Input_Output!EC44=\"\",T(Input_Output!ED44),\"\")","v":""},null,null,{"$f":"IF(Input_Output!EF44=\"\",T(Input_Output!EG44),\"\")","v":""},null,null,{"$f":"IF(Input_Output!EI44=\"\",T(Input_Output!EJ44),\"\")","v":""},null,null,{"$f":"IF(Input_Output!EL44=\"\",T(Input_Output!EM44),\"\")","v":""},null,null,{"$f":"IF(Input_Output!EO44=\"\",T(Input_Output!EP44),\"\")","v":""},null,null,{"$f":"IF(Input_Output!ER44=\"\",T(Input_Output!ES44),\"\")","v":""},null,null,{"$f":"IF(Input_Output!EU44=\"\",T(Input_Output!EV44),\"\")","v":""},null,null,{"$f":"IF(Input_Output!EX44=\"\",T(Input_Output!EY44),\"\")","v":""},null,null,{"$f":"IF(Input_Output!FA44=\"\",T(Input_Output!FB44),\"\")","v":""},null,null,{"$f":"IF(Input_Output!FD44=\"\",T(Input_Output!FE44),\"\")","v":""},null,null,{"$f":"IF(Input_Output!FG44=\"\",T(Input_Output!FH44),\"\")","v":""},null,null,{"$f":"IF(Input_Output!FJ44=\"\",T(Input_Output!FK44),\"\")","v":""},null,null,{"$f":"IF(Input_Output!FM44=\"\",T(Input_Output!FN44),\"\")","v":""},null,null,{"$f":"IF(Input_Output!FP44=\"\",T(Input_Output!FQ44),\"\")","v":""},null,null,{"$f":"IF(Input_Output!FS44=\"\",T(Input_Output!FT44),\"\")","v":""},null,null,{"$f":"IF(Input_Output!FV44=\"\",T(Input_Output!FW44),\"\")","v":""},null,null,{"$f":"IF(Input_Output!FY44=\"\",T(Input_Output!FZ44),\"\")","v":""},null,null,{"$f":"IF(Input_Output!GB44=\"\",T(Input_Output!GC44),\"\")","v":""},null,null,{"$f":"IF(Input_Output!GE44=\"\",T(Input_Output!GF44),\"\")","v":""},null,null,{"$f":"IF(Input_Output!GH44=\"\",T(Input_Output!GI44),\"\")","v":""},null,null,{"$f":"IF(Input_Output!GK44=\"\",T(Input_Output!GL44),\"\")","v":""},null,null,{"$f":"IF(Input_Output!GN44=\"\",T(Input_Output!GO44),\"\")","v":""},null,null,{"$f":"IF(Input_Output!GQ44=\"\",T(Input_Output!GR44),\"\")","v":""},null,null,{"$f":"IF(Input_Output!GT44=\"\",T(Input_Output!GU44),\"\")","v":""},null,null,{"$f":"IF(Input_Output!GW44=\"\",T(Input_Output!GX44),\"\")","v":""},null,null,{"$f":"IF(Input_Output!GZ44=\"\",T(Input_Output!HA44),\"\")","v":""},null,null,{"$f":"IF(Input_Output!HC44=\"\",T(Input_Output!HD44),\"\")","v":""},null,null,{"$f":"IF(Input_Output!HF44=\"\",T(Input_Output!HG44),\"\")","v":""},null,null,{"$f":"IF(Input_Output!HI44=\"\",T(Input_Output!HJ44),\"\")","v":""},null,null,{"$f":"IF(Input_Output!HL44=\"\",T(Input_Output!HM44),\"\")","v":""},null,null,{"$f":"IF(Input_Output!HO44=\"\",T(Input_Output!HP44),\"\")","v":""},null,null,{"$f":"IF(Input_Output!HR44=\"\",T(Input_Output!HS44),\"\")","v":""},null,null,{"$f":"IF(Input_Output!HU44=\"\",T(Input_Output!HV44),\"\")","v":""},null,null,{"$f":"IF(Input_Output!HX44=\"\",T(Input_Output!HY44),\"\")","v":""},null,null,{"$f":"IF(Input_Output!IA44=\"\",T(Input_Output!IB44),\"\")","v":""},null,null,{"$f":"IF(Input_Output!ID44=\"\",T(Input_Output!IE44),\"\")","v":""},null,null,{"$f":"IF(Input_Output!IG44=\"\",T(Input_Output!IH44),\"\")","v":""},null,null,{"$f":"IF(Input_Output!IJ44=\"\",T(Input_Output!IK44),\"\")","v":""},null,null,{"$f":"IF(Input_Output!IM44=\"\",T(Input_Output!IN44),\"\")","v":""},null,null,{"$f":"IF(Input_Output!IP44=\"\",T(Input_Output!IQ44),\"\")","v":""},null,null,{"$f":"IF(Input_Output!IS44=\"\",T(Input_Output!IT44),\"\")","v":""}]
[null,null,null,null,{"$f":"IF(Input_Output!D45=\"\",T(Input_Output!E45),\"\")","v":""},null,null,{"$f":"IF(Input_Output!G45=\"\",T(Input_Output!H45),\"\")","v":""},null,null,{"$f":"IF(Input_Output!J45=\"\",T(Input_Output!K45),\"\")","v":""},null,null,{"$f":"IF(Input_Output!M45=\"\",T(Input_Output!N45),\"\")","v":""},null,null,{"$f":"IF(Input_Output!P45=\"\",T(Input_Output!Q45),\"\")","v":""},null,null,{"$f":"IF(Input_Output!S45=\"\",T(Input_Output!T45),\"\")","v":""},null,null,{"$f":"IF(Input_Output!V45=\"\",T(Input_Output!W45),\"\")","v":""},null,null,{"$f":"IF(Input_Output!Y45=\"\",T(Input_Output!Z45),\"\")","v":""},null,null,{"$f":"IF(Input_Output!AB45=\"\",T(Input_Output!AC45),\"\")","v":""},null,null,{"$f":"IF(Input_Output!AE45=\"\",T(Input_Output!AF45),\"\")","v":""},null,null,{"$f":"IF(Input_Output!AH45=\"\",T(Input_Output!AI45),\"\")","v":""},null,null,{"$f":"IF(Input_Output!AK45=\"\",T(Input_Output!AL45),\"\")","v":""},null,null,{"$f":"IF(Input_Output!AN45=\"\",T(Input_Output!AO45),\"\")","v":""},null,null,{"$f":"IF(Input_Output!AQ45=\"\",T(Input_Output!AR45),\"\")","v":""},null,null,{"$f":"IF(Input_Output!AT45=\"\",T(Input_Output!AU45),\"\")","v":""},null,null,{"$f":"IF(Input_Output!AW45=\"\",T(Input_Output!AX45),\"\")","v":""},null,null,{"$f":"IF(Input_Output!AZ45=\"\",T(Input_Output!BA45),\"\")","v":""},null,null,{"$f":"IF(Input_Output!BC45=\"\",T(Input_Output!BD45),\"\")","v":""},null,null,{"$f":"IF(Input_Output!BF45=\"\",T(Input_Output!BG45),\"\")","v":""},null,null,{"$f":"IF(Input_Output!BI45=\"\",T(Input_Output!BJ45),\"\")","v":""},null,null,{"$f":"IF(Input_Output!BL45=\"\",T(Input_Output!BM45),\"\")","v":""},null,null,{"$f":"IF(Input_Output!BO45=\"\",T(Input_Output!BP45),\"\")","v":""},null,null,{"$f":"IF(Input_Output!BR45=\"\",T(Input_Output!BS45),\"\")","v":""},null,null,{"$f":"IF(Input_Output!BU45=\"\",T(Input_Output!BV45),\"\")","v":""},null,null,{"$f":"IF(Input_Output!BX45=\"\",T(Input_Output!BY45),\"\")","v":""},null,null,{"$f":"IF(Input_Output!CA45=\"\",T(Input_Output!CB45),\"\")","v":""},null,null,{"$f":"IF(Input_Output!CD45=\"\",T(Input_Output!CE45),\"\")","v":""},null,null,{"$f":"IF(Input_Output!CG45=\"\",T(Input_Output!CH45),\"\")","v":""},null,null,{"$f":"IF(Input_Output!CJ45=\"\",T(Input_Output!CK45),\"\")","v":""},null,null,{"$f":"IF(Input_Output!CM45=\"\",T(Input_Output!CN45),\"\")","v":""},null,null,{"$f":"IF(Input_Output!CP45=\"\",T(Input_Output!CQ45),\"\")","v":""},null,null,{"$f":"IF(Input_Output!CS45=\"\",T(Input_Output!CT45),\"\")","v":""},null,null,{"$f":"IF(Input_Output!CV45=\"\",T(Input_Output!CW45),\"\")","v":""},null,null,{"$f":"IF(Input_Output!CY45=\"\",T(Input_Output!CZ45),\"\")","v":""},null,null,{"$f":"IF(Input_Output!DB45=\"\",T(Input_Output!DC45),\"\")","v":""},null,null,{"$f":"IF(Input_Output!DE45=\"\",T(Input_Output!DF45),\"\")","v":""},null,null,{"$f":"IF(Input_Output!DH45=\"\",T(Input_Output!DI45),\"\")","v":""},null,null,{"$f":"IF(Input_Output!DK45=\"\",T(Input_Output!DL45),\"\")","v":""},null,null,{"$f":"IF(Input_Output!DN45=\"\",T(Input_Output!DO45),\"\")","v":""},null,null,{"$f":"IF(Input_Output!DQ45=\"\",T(Input_Output!DR45),\"\")","v":""},null,null,{"$f":"IF(Input_Output!DT45=\"\",T(Input_Output!DU45),\"\")","v":""},null,null,{"$f":"IF(Input_Output!DW45=\"\",T(Input_Output!DX45),\"\")","v":""},null,null,{"$f":"IF(Input_Output!DZ45=\"\",T(Input_Output!EA45),\"\")","v":""},null,null,{"$f":"IF(Input_Output!EC45=\"\",T(Input_Output!ED45),\"\")","v":""},null,null,{"$f":"IF(Input_Output!EF45=\"\",T(Input_Output!EG45),\"\")","v":""},null,null,{"$f":"IF(Input_Output!EI45=\"\",T(Input_Output!EJ45),\"\")","v":""},null,null,{"$f":"IF(Input_Output!EL45=\"\",T(Input_Output!EM45),\"\")","v":""},null,null,{"$f":"IF(Input_Output!EO45=\"\",T(Input_Output!EP45),\"\")","v":""},null,null,{"$f":"IF(Input_Output!ER45=\"\",T(Input_Output!ES45),\"\")","v":""},null,null,{"$f":"IF(Input_Output!EU45=\"\",T(Input_Output!EV45),\"\")","v":""},null,null,{"$f":"IF(Input_Output!EX45=\"\",T(Input_Output!EY45),\"\")","v":""},null,null,{"$f":"IF(Input_Output!FA45=\"\",T(Input_Output!FB45),\"\")","v":""},null,null,{"$f":"IF(Input_Output!FD45=\"\",T(Input_Output!FE45),\"\")","v":""},null,null,{"$f":"IF(Input_Output!FG45=\"\",T(Input_Output!FH45),\"\")","v":""},null,null,{"$f":"IF(Input_Output!FJ45=\"\",T(Input_Output!FK45),\"\")","v":""},null,null,{"$f":"IF(Input_Output!FM45=\"\",T(Input_Output!FN45),\"\")","v":""},null,null,{"$f":"IF(Input_Output!FP45=\"\",T(Input_Output!FQ45),\"\")","v":""},null,null,{"$f":"IF(Input_Output!FS45=\"\",T(Input_Output!FT45),\"\")","v":""},null,null,{"$f":"IF(Input_Output!FV45=\"\",T(Input_Output!FW45),\"\")","v":""},null,null,{"$f":"IF(Input_Output!FY45=\"\",T(Input_Output!FZ45),\"\")","v":""},null,null,{"$f":"IF(Input_Output!GB45=\"\",T(Input_Output!GC45),\"\")","v":""},null,null,{"$f":"IF(Input_Output!GE45=\"\",T(Input_Output!GF45),\"\")","v":""},null,null,{"$f":"IF(Input_Output!GH45=\"\",T(Input_Output!GI45),\"\")","v":""},null,null,{"$f":"IF(Input_Output!GK45=\"\",T(Input_Output!GL45),\"\")","v":""},null,null,{"$f":"IF(Input_Output!GN45=\"\",T(Input_Output!GO45),\"\")","v":""},null,null,{"$f":"IF(Input_Output!GQ45=\"\",T(Input_Output!GR45),\"\")","v":""},null,null,{"$f":"IF(Input_Output!GT45=\"\",T(Input_Output!GU45),\"\")","v":""},null,null,{"$f":"IF(Input_Output!GW45=\"\",T(Input_Output!GX45),\"\")","v":""},null,null,{"$f":"IF(Input_Output!GZ45=\"\",T(Input_Output!HA45),\"\")","v":""},null,null,{"$f":"IF(Input_Output!HC45=\"\",T(Input_Output!HD45),\"\")","v":""},null,null,{"$f":"IF(Input_Output!HF45=\"\",T(Input_Output!HG45),\"\")","v":""},null,null,{"$f":"IF(Input_Output!HI45=\"\",T(Input_Output!HJ45),\"\")","v":""},null,null,{"$f":"IF(Input_Output!HL45=\"\",T(Input_Output!HM45),\"\")","v":""},null,null,{"$f":"IF(Input_Output!HO45=\"\",T(Input_Output!HP45),\"\")","v":""},null,null,{"$f":"IF(Input_Output!HR45=\"\",T(Input_Output!HS45),\"\")","v":""},null,null,{"$f":"IF(Input_Output!HU45=\"\",T(Input_Output!HV45),\"\")","v":""},null,null,{"$f":"IF(Input_Output!HX45=\"\",T(Input_Output!HY45),\"\")","v":""},null,null,{"$f":"IF(Input_Output!IA45=\"\",T(Input_Output!IB45),\"\")","v":""},null,null,{"$f":"IF(Input_Output!ID45=\"\",T(Input_Output!IE45),\"\")","v":""},null,null,{"$f":"IF(Input_Output!IG45=\"\",T(Input_Output!IH45),\"\")","v":""},null,null,{"$f":"IF(Input_Output!IJ45=\"\",T(Input_Output!IK45),\"\")","v":""},null,null,{"$f":"IF(Input_Output!IM45=\"\",T(Input_Output!IN45),\"\")","v":""},null,null,{"$f":"IF(Input_Output!IP45=\"\",T(Input_Output!IQ45),\"\")","v":""},null,null,{"$f":"IF(Input_Output!IS45=\"\",T(Input_Output!IT45),\"\")","v":""}]
[null,null,null,null,{"$f":"IF(Input_Output!D46=\"\",T(Input_Output!E46),\"\")","v":""},null,null,{"$f":"IF(Input_Output!G46=\"\",T(Input_Output!H46),\"\")","v":""},null,null,{"$f":"IF(Input_Output!J46=\"\",T(Input_Output!K46),\"\")","v":""},null,null,{"$f":"IF(Input_Output!M46=\"\",T(Input_Output!N46),\"\")","v":""},null,null,{"$f":"IF(Input_Output!P46=\"\",T(Input_Output!Q46),\"\")","v":""},null,null,{"$f":"IF(Input_Output!S46=\"\",T(Input_Output!T46),\"\")","v":""},null,null,{"$f":"IF(Input_Output!V46=\"\",T(Input_Output!W46),\"\")","v":""},null,null,{"$f":"IF(Input_Output!Y46=\"\",T(Input_Output!Z46),\"\")","v":""},null,null,{"$f":"IF(Input_Output!AB46=\"\",T(Input_Output!AC46),\"\")","v":""},null,null,{"$f":"IF(Input_Output!AE46=\"\",T(Input_Output!AF46),\"\")","v":""},null,null,{"$f":"IF(Input_Output!AH46=\"\",T(Input_Output!AI46),\"\")","v":""},null,null,{"$f":"IF(Input_Output!AK46=\"\",T(Input_Output!AL46),\"\")","v":""},null,null,{"$f":"IF(Input_Output!AN46=\"\",T(Input_Output!AO46),\"\")","v":""},null,null,{"$f":"IF(Input_Output!AQ46=\"\",T(Input_Output!AR46),\"\")","v":""},null,null,{"$f":"IF(Input_Output!AT46=\"\",T(Input_Output!AU46),\"\")","v":""},null,null,{"$f":"IF(Input_Output!AW46=\"\",T(Input_Output!AX46),\"\")","v":""},null,null,{"$f":"IF(Input_Output!AZ46=\"\",T(Input_Output!BA46),\"\")","v":""},null,null,{"$f":"IF(Input_Output!BC46=\"\",T(Input_Output!BD46),\"\")","v":""},null,null,{"$f":"IF(Input_Output!BF46=\"\",T(Input_Output!BG46),\"\")","v":""},null,null,{"$f":"IF(Input_Output!BI46=\"\",T(Input_Output!BJ46),\"\")","v":""},null,null,{"$f":"IF(Input_Output!BL46=\"\",T(Input_Output!BM46),\"\")","v":""},null,null,{"$f":"IF(Input_Output!BO46=\"\",T(Input_Output!BP46),\"\")","v":""},null,null,{"$f":"IF(Input_Output!BR46=\"\",T(Input_Output!BS46),\"\")","v":""},null,null,{"$f":"IF(Input_Output!BU46=\"\",T(Input_Output!BV46),\"\")","v":""},null,null,{"$f":"IF(Input_Output!BX46=\"\",T(Input_Output!BY46),\"\")","v":""},null,null,{"$f":"IF(Input_Output!CA46=\"\",T(Input_Output!CB46),\"\")","v":""},null,null,{"$f":"IF(Input_Output!CD46=\"\",T(Input_Output!CE46),\"\")","v":""},null,null,{"$f":"IF(Input_Output!CG46=\"\",T(Input_Output!CH46),\"\")","v":""},null,null,{"$f":"IF(Input_Output!CJ46=\"\",T(Input_Output!CK46),\"\")","v":""},null,null,{"$f":"IF(Input_Output!CM46=\"\",T(Input_Output!CN46),\"\")","v":""},null,null,{"$f":"IF(Input_Output!CP46=\"\",T(Input_Output!CQ46),\"\")","v":""},null,null,{"$f":"IF(Input_Output!CS46=\"\",T(Input_Output!CT46),\"\")","v":""},null,null,{"$f":"IF(Input_Output!CV46=\"\",T(Input_Output!CW46),\"\")","v":""},null,null,{"$f":"IF(Input_Output!CY46=\"\",T(Input_Output!CZ46),\"\")","v":""},null,null,{"$f":"IF(Input_Output!DB46=\"\",T(Input_Output!DC46),\"\")","v":""},null,null,{"$f":"IF(Input_Output!DE46=\"\",T(Input_Output!DF46),\"\")","v":""},null,null,{"$f":"IF(Input_Output!DH46=\"\",T(Input_Output!DI46),\"\")","v":""},null,null,{"$f":"IF(Input_Output!DK46=\"\",T(Input_Output!DL46),\"\")","v":""},null,null,{"$f":"IF(Input_Output!DN46=\"\",T(Input_Output!DO46),\"\")","v":""},null,null,{"$f":"IF(Input_Output!DQ46=\"\",T(Input_Output!DR46),\"\")","v":""},null,null,{"$f":"IF(Input_Output!DT46=\"\",T(Input_Output!DU46),\"\")","v":""},null,null,{"$f":"IF(Input_Output!DW46=\"\",T(Input_Output!DX46),\"\")","v":""},null,null,{"$f":"IF(Input_Output!DZ46=\"\",T(Input_Output!EA46),\"\")","v":""},null,null,{"$f":"IF(Input_Output!EC46=\"\",T(Input_Output!ED46),\"\")","v":""},null,null,{"$f":"IF(Input_Output!EF46=\"\",T(Input_Output!EG46),\"\")","v":""},null,null,{"$f":"IF(Input_Output!EI46=\"\",T(Input_Output!EJ46),\"\")","v":""},null,null,{"$f":"IF(Input_Output!EL46=\"\",T(Input_Output!EM46),\"\")","v":""},null,null,{"$f":"IF(Input_Output!EO46=\"\",T(Input_Output!EP46),\"\")","v":""},null,null,{"$f":"IF(Input_Output!ER46=\"\",T(Input_Output!ES46),\"\")","v":""},null,null,{"$f":"IF(Input_Output!EU46=\"\",T(Input_Output!EV46),\"\")","v":""},null,null,{"$f":"IF(Input_Output!EX46=\"\",T(Input_Output!EY46),\"\")","v":""},null,null,{"$f":"IF(Input_Output!FA46=\"\",T(Input_Output!FB46),\"\")","v":""},null,null,{"$f":"IF(Input_Output!FD46=\"\",T(Input_Output!FE46),\"\")","v":""},null,null,{"$f":"IF(Input_Output!FG46=\"\",T(Input_Output!FH46),\"\")","v":""},null,null,{"$f":"IF(Input_Output!FJ46=\"\",T(Input_Output!FK46),\"\")","v":""},null,null,{"$f":"IF(Input_Output!FM46=\"\",T(Input_Output!FN46),\"\")","v":""},null,null,{"$f":"IF(Input_Output!FP46=\"\",T(Input_Output!FQ46),\"\")","v":""},null,null,{"$f":"IF(Input_Output!FS46=\"\",T(Input_Output!FT46),\"\")","v":""},null,null,{"$f":"IF(Input_Output!FV46=\"\",T(Input_Output!FW46),\"\")","v":""},null,null,{"$f":"IF(Input_Output!FY46=\"\",T(Input_Output!FZ46),\"\")","v":""},null,null,{"$f":"IF(Input_Output!GB46=\"\",T(Input_Output!GC46),\"\")","v":""},null,null,{"$f":"IF(Input_Output!GE46=\"\",T(Input_Output!GF46),\"\")","v":""},null,null,{"$f":"IF(Input_Output!GH46=\"\",T(Input_Output!GI46),\"\")","v":""},null,null,{"$f":"IF(Input_Output!GK46=\"\",T(Input_Output!GL46),\"\")","v":""},null,null,{"$f":"IF(Input_Output!GN46=\"\",T(Input_Output!GO46),\"\")","v":""},null,null,{"$f":"IF(Input_Output!GQ46=\"\",T(Input_Output!GR46),\"\")","v":""},null,null,{"$f":"IF(Input_Output!GT46=\"\",T(Input_Output!GU46),\"\")","v":""},null,null,{"$f":"IF(Input_Output!GW46=\"\",T(Input_Output!GX46),\"\")","v":""},null,null,{"$f":"IF(Input_Output!GZ46=\"\",T(Input_Output!HA46),\"\")","v":""},null,null,{"$f":"IF(Input_Output!HC46=\"\",T(Input_Output!HD46),\"\")","v":""},null,null,{"$f":"IF(Input_Output!HF46=\"\",T(Input_Output!HG46),\"\")","v":""},null,null,{"$f":"IF(Input_Output!HI46=\"\",T(Input_Output!HJ46),\"\")","v":""},null,null,{"$f":"IF(Input_Output!HL46=\"\",T(Input_Output!HM46),\"\")","v":""},null,null,{"$f":"IF(Input_Output!HO46=\"\",T(Input_Output!HP46),\"\")","v":""},null,null,{"$f":"IF(Input_Output!HR46=\"\",T(Input_Output!HS46),\"\")","v":""},null,null,{"$f":"IF(Input_Output!HU46=\"\",T(Input_Output!HV46),\"\")","v":""},null,null,{"$f":"IF(Input_Output!HX46=\"\",T(Input_Output!HY46),\"\")","v":""},null,null,{"$f":"IF(Input_Output!IA46=\"\",T(Input_Output!IB46),\"\")","v":""},null,null,{"$f":"IF(Input_Output!ID46=\"\",T(Input_Output!IE46),\"\")","v":""},null,null,{"$f":"IF(Input_Output!IG46=\"\",T(Input_Output!IH46),\"\")","v":""},null,null,{"$f":"IF(Input_Output!IJ46=\"\",T(Input_Output!IK46),\"\")","v":""},null,null,{"$f":"IF(Input_Output!IM46=\"\",T(Input_Output!IN46),\"\")","v":""},null,null,{"$f":"IF(Input_Output!IP46=\"\",T(Input_Output!IQ46),\"\")","v":""},null,null,{"$f":"IF(Input_Output!IS46=\"\",T(Input_Output!IT46),\"\")","v":""}]
[null,null,null,null,{"$f":"IF(Input_Output!D47=\"\",T(Input_Output!E47),\"\")","v":""},null,null,{"$f":"IF(Input_Output!G47=\"\",T(Input_Output!H47),\"\")","v":""},null,null,{"$f":"IF(Input_Output!J47=\"\",T(Input_Output!K47),\"\")","v":""},null,null,{"$f":"IF(Input_Output!M47=\"\",T(Input_Output!N47),\"\")","v":""},null,null,{"$f":"IF(Input_Output!P47=\"\",T(Input_Output!Q47),\"\")","v":""},null,null,{"$f":"IF(Input_Output!S47=\"\",T(Input_Output!T47),\"\")","v":""},null,null,{"$f":"IF(Input_Output!V47=\"\",T(Input_Output!W47),\"\")","v":""},null,null,{"$f":"IF(Input_Output!Y47=\"\",T(Input_Output!Z47),\"\")","v":""},null,null,{"$f":"IF(Input_Output!AB47=\"\",T(Input_Output!AC47),\"\")","v":""},null,null,{"$f":"IF(Input_Output!AE47=\"\",T(Input_Output!AF47),\"\")","v":""},null,null,{"$f":"IF(Input_Output!AH47=\"\",T(Input_Output!AI47),\"\")","v":""},null,null,{"$f":"IF(Input_Output!AK47=\"\",T(Input_Output!AL47),\"\")","v":""},null,null,{"$f":"IF(Input_Output!AN47=\"\",T(Input_Output!AO47),\"\")","v":""},null,null,{"$f":"IF(Input_Output!AQ47=\"\",T(Input_Output!AR47),\"\")","v":""},null,null,{"$f":"IF(Input_Output!AT47=\"\",T(Input_Output!AU47),\"\")","v":""},null,null,{"$f":"IF(Input_Output!AW47=\"\",T(Input_Output!AX47),\"\")","v":""},null,null,{"$f":"IF(Input_Output!AZ47=\"\",T(Input_Output!BA47),\"\")","v":""},null,null,{"$f":"IF(Input_Output!BC47=\"\",T(Input_Output!BD47),\"\")","v":""},null,null,{"$f":"IF(Input_Output!BF47=\"\",T(Input_Output!BG47),\"\")","v":""},null,null,{"$f":"IF(Input_Output!BI47=\"\",T(Input_Output!BJ47),\"\")","v":""},null,null,{"$f":"IF(Input_Output!BL47=\"\",T(Input_Output!BM47),\"\")","v":""},null,null,{"$f":"IF(Input_Output!BO47=\"\",T(Input_Output!BP47),\"\")","v":""},null,null,{"$f":"IF(Input_Output!BR47=\"\",T(Input_Output!BS47),\"\")","v":""},null,null,{"$f":"IF(Input_Output!BU47=\"\",T(Input_Output!BV47),\"\")","v":""},null,null,{"$f":"IF(Input_Output!BX47=\"\",T(Input_Output!BY47),\"\")","v":""},null,null,{"$f":"IF(Input_Output!CA47=\"\",T(Input_Output!CB47),\"\")","v":""},null,null,{"$f":"IF(Input_Output!CD47=\"\",T(Input_Output!CE47),\"\")","v":""},null,null,{"$f":"IF(Input_Output!CG47=\"\",T(Input_Output!CH47),\"\")","v":""},null,null,{"$f":"IF(Input_Output!CJ47=\"\",T(Input_Output!CK47),\"\")","v":""},null,null,{"$f":"IF(Input_Output!CM47=\"\",T(Input_Output!CN47),\"\")","v":""},null,null,{"$f":"IF(Input_Output!CP47=\"\",T(Input_Output!CQ47),\"\")","v":""},null,null,{"$f":"IF(Input_Output!CS47=\"\",T(Input_Output!CT47),\"\")","v":""},null,null,{"$f":"IF(Input_Output!CV47=\"\",T(Input_Output!CW47),\"\")","v":""},null,null,{"$f":"IF(Input_Output!CY47=\"\",T(Input_Output!CZ47),\"\")","v":""},null,null,{"$f":"IF(Input_Output!DB47=\"\",T(Input_Output!DC47),\"\")","v":""},null,null,{"$f":"IF(Input_Output!DE47=\"\",T(Input_Output!DF47),\"\")","v":""},null,null,{"$f":"IF(Input_Output!DH47=\"\",T(Input_Output!DI47),\"\")","v":""},null,null,{"$f":"IF(Input_Output!DK47=\"\",T(Input_Output!DL47),\"\")","v":""},null,null,{"$f":"IF(Input_Output!DN47=\"\",T(Input_Output!DO47),\"\")","v":""},null,null,{"$f":"IF(Input_Output!DQ47=\"\",T(Input_Output!DR47),\"\")","v":""},null,null,{"$f":"IF(Input_Output!DT47=\"\",T(Input_Output!DU47),\"\")","v":""},null,null,{"$f":"IF(Input_Output!DW47=\"\",T(Input_Output!DX47),\"\")","v":""},null,null,{"$f":"IF(Input_Output!DZ47=\"\",T(Input_Output!EA47),\"\")","v":""},null,null,{"$f":"IF(Input_Output!EC47=\"\",T(Input_Output!ED47),\"\")","v":""},null,null,{"$f":"IF(Input_Output!EF47=\"\",T(Input_Output!EG47),\"\")","v":""},null,null,{"$f":"IF(Input_Output!EI47=\"\",T(Input_Output!EJ47),\"\")","v":""},null,null,{"$f":"IF(Input_Output!EL47=\"\",T(Input_Output!EM47),\"\")","v":""},null,null,{"$f":"IF(Input_Output!EO47=\"\",T(Input_Output!EP47),\"\")","v":""},null,null,{"$f":"IF(Input_Output!ER47=\"\",T(Input_Output!ES47),\"\")","v":""},null,null,{"$f":"IF(Input_Output!EU47=\"\",T(Input_Output!EV47),\"\")","v":""},null,null,{"$f":"IF(Input_Output!EX47=\"\",T(Input_Output!EY47),\"\")","v":""},null,null,{"$f":"IF(Input_Output!FA47=\"\",T(Input_Output!FB47),\"\")","v":""},null,null,{"$f":"IF(Input_Output!FD47=\"\",T(Input_Output!FE47),\"\")","v":""},null,null,{"$f":"IF(Input_Output!FG47=\"\",T(Input_Output!FH47),\"\")","v":""},null,null,{"$f":"IF(Input_Output!FJ47=\"\",T(Input_Output!FK47),\"\")","v":""},null,null,{"$f":"IF(Input_Output!FM47=\"\",T(Input_Output!FN47),\"\")","v":""},null,null,{"$f":"IF(Input_Output!FP47=\"\",T(Input_Output!FQ47),\"\")","v":""},null,null,{"$f":"IF(Input_Output!FS47=\"\",T(Input_Output!FT47),\"\")","v":""},null,null,{"$f":"IF(Input_Output!FV47=\"\",T(Input_Output!FW47),\"\")","v":""},null,null,{"$f":"IF(Input_Output!FY47=\"\",T(Input_Output!FZ47),\"\")","v":""},null,null,{"$f":"IF(Input_Output!GB47=\"\",T(Input_Output!GC47),\"\")","v":""},null,null,{"$f":"IF(Input_Output!GE47=\"\",T(Input_Output!GF47),\"\")","v":""},null,null,{"$f":"IF(Input_Output!GH47=\"\",T(Input_Output!GI47),\"\")","v":""},null,null,{"$f":"IF(Input_Output!GK47=\"\",T(Input_Output!GL47),\"\")","v":""},null,null,{"$f":"IF(Input_Output!GN47=\"\",T(Input_Output!GO47),\"\")","v":""},null,null,{"$f":"IF(Input_Output!GQ47=\"\",T(Input_Output!GR47),\"\")","v":""},null,null,{"$f":"IF(Input_Output!GT47=\"\",T(Input_Output!GU47),\"\")","v":""},null,null,{"$f":"IF(Input_Output!GW47=\"\",T(Input_Output!GX47),\"\")","v":""},null,null,{"$f":"IF(Input_Output!GZ47=\"\",T(Input_Output!HA47),\"\")","v":""},null,null,{"$f":"IF(Input_Output!HC47=\"\",T(Input_Output!HD47),\"\")","v":""},null,null,{"$f":"IF(Input_Output!HF47=\"\",T(Input_Output!HG47),\"\")","v":""},null,null,{"$f":"IF(Input_Output!HI47=\"\",T(Input_Output!HJ47),\"\")","v":""},null,null,{"$f":"IF(Input_Output!HL47=\"\",T(Input_Output!HM47),\"\")","v":""},null,null,{"$f":"IF(Input_Output!HO47=\"\",T(Input_Output!HP47),\"\")","v":""},null,null,{"$f":"IF(Input_Output!HR47=\"\",T(Input_Output!HS47),\"\")","v":""},null,null,{"$f":"IF(Input_Output!HU47=\"\",T(Input_Output!HV47),\"\")","v":""},null,null,{"$f":"IF(Input_Output!HX47=\"\",T(Input_Output!HY47),\"\")","v":""},null,null,{"$f":"IF(Input_Output!IA47=\"\",T(Input_Output!IB47),\"\")","v":""},null,null,{"$f":"IF(Input_Output!ID47=\"\",T(Input_Output!IE47),\"\")","v":""},null,null,{"$f":"IF(Input_Output!IG47=\"\",T(Input_Output!IH47),\"\")","v":""},null,null,{"$f":"IF(Input_Output!IJ47=\"\",T(Input_Output!IK47),\"\")","v":""},null,null,{"$f":"IF(Input_Output!IM47=\"\",T(Input_Output!IN47),\"\")","v":""},null,null,{"$f":"IF(Input_Output!IP47=\"\",T(Input_Output!IQ47),\"\")","v":""},null,null,{"$f":"IF(Input_Output!IS47=\"\",T(Input_Output!IT47),\"\")","v":""}]
[null,null,null,null,{"$f":"IF(Input_Output!D48=\"\",T(Input_Output!E48),\"\")","v":""},null,null,{"$f":"IF(Input_Output!G48=\"\",T(Input_Output!H48),\"\")","v":""},null,null,{"$f":"IF(Input_Output!J48=\"\",T(Input_Output!K48),\"\")","v":""},null,null,{"$f":"IF(Input_Output!M48=\"\",T(Input_Output!N48),\"\")","v":""},null,null,{"$f":"IF(Input_Output!P48=\"\",T(Input_Output!Q48),\"\")","v":""},null,null,{"$f":"IF(Input_Output!S48=\"\",T(Input_Output!T48),\"\")","v":""},null,null,{"$f":"IF(Input_Output!V48=\"\",T(Input_Output!W48),\"\")","v":""},null,null,{"$f":"IF(Input_Output!Y48=\"\",T(Input_Output!Z48),\"\")","v":""},null,null,{"$f":"IF(Input_Output!AB48=\"\",T(Input_Output!AC48),\"\")","v":""},null,null,{"$f":"IF(Input_Output!AE48=\"\",T(Input_Output!AF48),\"\")","v":""},null,null,{"$f":"IF(Input_Output!AH48=\"\",T(Input_Output!AI48),\"\")","v":""},null,null,{"$f":"IF(Input_Output!AK48=\"\",T(Input_Output!AL48),\"\")","v":""},null,null,{"$f":"IF(Input_Output!AN48=\"\",T(Input_Output!AO48),\"\")","v":""},null,null,{"$f":"IF(Input_Output!AQ48=\"\",T(Input_Output!AR48),\"\")","v":""},null,null,{"$f":"IF(Input_Output!AT48=\"\",T(Input_Output!AU48),\"\")","v":""},null,null,{"$f":"IF(Input_Output!AW48=\"\",T(Input_Output!AX48),\"\")","v":""},null,null,{"$f":"IF(Input_Output!AZ48=\"\",T(Input_Output!BA48),\"\")","v":""},null,null,{"$f":"IF(Input_Output!BC48=\"\",T(Input_Output!BD48),\"\")","v":""},null,null,{"$f":"IF(Input_Output!BF48=\"\",T(Input_Output!BG48),\"\")","v":""},null,null,{"$f":"IF(Input_Output!BI48=\"\",T(Input_Output!BJ48),\"\")","v":""},null,null,{"$f":"IF(Input_Output!BL48=\"\",T(Input_Output!BM48),\"\")","v":""},null,null,{"$f":"IF(Input_Output!BO48=\"\",T(Input_Output!BP48),\"\")","v":""},null,null,{"$f":"IF(Input_Output!BR48=\"\",T(Input_Output!BS48),\"\")","v":""},null,null,{"$f":"IF(Input_Output!BU48=\"\",T(Input_Output!BV48),\"\")","v":""},null,null,{"$f":"IF(Input_Output!BX48=\"\",T(Input_Output!BY48),\"\")","v":""},null,null,{"$f":"IF(Input_Output!CA48=\"\",T(Input_Output!CB48),\"\")","v":""},null,null,{"$f":"IF(Input_Output!CD48=\"\",T(Input_Output!CE48),\"\")","v":""},null,null,{"$f":"IF(Input_Output!CG48=\"\",T(Input_Output!CH48),\"\")","v":""},null,null,{"$f":"IF(Input_Output!CJ48=\"\",T(Input_Output!CK48),\"\")","v":""},null,null,{"$f":"IF(Input_Output!CM48=\"\",T(Input_Output!CN48),\"\")","v":""},null,null,{"$f":"IF(Input_Output!CP48=\"\",T(Input_Output!CQ48),\"\")","v":""},null,null,{"$f":"IF(Input_Output!CS48=\"\",T(Input_Output!CT48),\"\")","v":""},null,null,{"$f":"IF(Input_Output!CV48=\"\",T(Input_Output!CW48),\"\")","v":""},null,null,{"$f":"IF(Input_Output!CY48=\"\",T(Input_Output!CZ48),\"\")","v":""},null,null,{"$f":"IF(Input_Output!DB48=\"\",T(Input_Output!DC48),\"\")","v":""},null,null,{"$f":"IF(Input_Output!DE48=\"\",T(Input_Output!DF48),\"\")","v":""},null,null,{"$f":"IF(Input_Output!DH48=\"\",T(Input_Output!DI48),\"\")","v":""},null,null,{"$f":"IF(Input_Output!DK48=\"\",T(Input_Output!DL48),\"\")","v":""},null,null,{"$f":"IF(Input_Output!DN48=\"\",T(Input_Output!DO48),\"\")","v":""},null,null,{"$f":"IF(Input_Output!DQ48=\"\",T(Input_Output!DR48),\"\")","v":""},null,null,{"$f":"IF(Input_Output!DT48=\"\",T(Input_Output!DU48),\"\")","v":""},null,null,{"$f":"IF(Input_Output!DW48=\"\",T(Input_Output!DX48),\"\")","v":""},null,null,{"$f":"IF(Input_Output!DZ48=\"\",T(Input_Output!EA48),\"\")","v":""},null,null,{"$f":"IF(Input_Output!EC48=\"\",T(Input_Output!ED48),\"\")","v":""},null,null,{"$f":"IF(Input_Output!EF48=\"\",T(Input_Output!EG48),\"\")","v":""},null,null,{"$f":"IF(Input_Output!EI48=\"\",T(Input_Output!EJ48),\"\")","v":""},null,null,{"$f":"IF(Input_Output!EL48=\"\",T(Input_Output!EM48),\"\")","v":""},null,null,{"$f":"IF(Input_Output!EO48=\"\",T(Input_Output!EP48),\"\")","v":""},null,null,{"$f":"IF(Input_Output!ER48=\"\",T(Input_Output!ES48),\"\")","v":""},null,null,{"$f":"IF(Input_Output!EU48=\"\",T(Input_Output!EV48),\"\")","v":""},null,null,{"$f":"IF(Input_Output!EX48=\"\",T(Input_Output!EY48),\"\")","v":""},null,null,{"$f":"IF(Input_Output!FA48=\"\",T(Input_Output!FB48),\"\")","v":""},null,null,{"$f":"IF(Input_Output!FD48=\"\",T(Input_Output!FE48),\"\")","v":""},null,null,{"$f":"IF(Input_Output!FG48=\"\",T(Input_Output!FH48),\"\")","v":""},null,null,{"$f":"IF(Input_Output!FJ48=\"\",T(Input_Output!FK48),\"\")","v":""},null,null,{"$f":"IF(Input_Output!FM48=\"\",T(Input_Output!FN48),\"\")","v":""},null,null,{"$f":"IF(Input_Output!FP48=\"\",T(Input_Output!FQ48),\"\")","v":""},null,null,{"$f":"IF(Input_Output!FS48=\"\",T(Input_Output!FT48),\"\")","v":""},null,null,{"$f":"IF(Input_Output!FV48=\"\",T(Input_Output!FW48),\"\")","v":""},null,null,{"$f":"IF(Input_Output!FY48=\"\",T(Input_Output!FZ48),\"\")","v":""},null,null,{"$f":"IF(Input_Output!GB48=\"\",T(Input_Output!GC48),\"\")","v":""},null,null,{"$f":"IF(Input_Output!GE48=\"\",T(Input_Output!GF48),\"\")","v":""},null,null,{"$f":"IF(Input_Output!GH48=\"\",T(Input_Output!GI48),\"\")","v":""},null,null,{"$f":"IF(Input_Output!GK48=\"\",T(Input_Output!GL48),\"\")","v":""},null,null,{"$f":"IF(Input_Output!GN48=\"\",T(Input_Output!GO48),\"\")","v":""},null,null,{"$f":"IF(Input_Output!GQ48=\"\",T(Input_Output!GR48),\"\")","v":""},null,null,{"$f":"IF(Input_Output!GT48=\"\",T(Input_Output!GU48),\"\")","v":""},null,null,{"$f":"IF(Input_Output!GW48=\"\",T(Input_Output!GX48),\"\")","v":""},null,null,{"$f":"IF(Input_Output!GZ48=\"\",T(Input_Output!HA48),\"\")","v":""},null,null,{"$f":"IF(Input_Output!HC48=\"\",T(Input_Output!HD48),\"\")","v":""},null,null,{"$f":"IF(Input_Output!HF48=\"\",T(Input_Output!HG48),\"\")","v":""},null,null,{"$f":"IF(Input_Output!HI48=\"\",T(Input_Output!HJ48),\"\")","v":""},null,null,{"$f":"IF(Input_Output!HL48=\"\",T(Input_Output!HM48),\"\")","v":""},null,null,{"$f":"IF(Input_Output!HO48=\"\",T(Input_Output!HP48),\"\")","v":""},null,null,{"$f":"IF(Input_Output!HR48=\"\",T(Input_Output!HS48),\"\")","v":""},null,null,{"$f":"IF(Input_Output!HU48=\"\",T(Input_Output!HV48),\"\")","v":""},null,null,{"$f":"IF(Input_Output!HX48=\"\",T(Input_Output!HY48),\"\")","v":""},null,null,{"$f":"IF(Input_Output!IA48=\"\",T(Input_Output!IB48),\"\")","v":""},null,null,{"$f":"IF(Input_Output!ID48=\"\",T(Input_Output!IE48),\"\")","v":""},null,null,{"$f":"IF(Input_Output!IG48=\"\",T(Input_Output!IH48),\"\")","v":""},null,null,{"$f":"IF(Input_Output!IJ48=\"\",T(Input_Output!IK48),\"\")","v":""},null,null,{"$f":"IF(Input_Output!IM48=\"\",T(Input_Output!IN48),\"\")","v":""},null,null,{"$f":"IF(Input_Output!IP48=\"\",T(Input_Output!IQ48),\"\")","v":""},null,null,{"$f":"IF(Input_Output!IS48=\"\",T(Input_Output!IT48),\"\")","v":""}]
[null,null,null,null,{"$f":"IF(Input_Output!D49=\"\",T(Input_Output!E49),\"\")","v":""},null,null,{"$f":"IF(Input_Output!G49=\"\",T(Input_Output!H49),\"\")","v":""},null,null,{"$f":"IF(Input_Output!J49=\"\",T(Input_Output!K49),\"\")","v":""},null,null,{"$f":"IF(Input_Output!M49=\"\",T(Input_Output!N49),\"\")","v":""},null,null,{"$f":"IF(Input_Output!P49=\"\",T(Input_Output!Q49),\"\")","v":""},null,null,{"$f":"IF(Input_Output!S49=\"\",T(Input_Output!T49),\"\")","v":""},null,null,{"$f":"IF(Input_Output!V49=\"\",T(Input_Output!W49),\"\")","v":""},null,null,{"$f":"IF(Input_Output!Y49=\"\",T(Input_Output!Z49),\"\")","v":""},null,null,{"$f":"IF(Input_Output!AB49=\"\",T(Input_Output!AC49),\"\")","v":""},null,null,{"$f":"IF(Input_Output!AE49=\"\",T(Input_Output!AF49),\"\")","v":""},null,null,{"$f":"IF(Input_Output!AH49=\"\",T(Input_Output!AI49),\"\")","v":""},null,null,{"$f":"IF(Input_Output!AK49=\"\",T(Input_Output!AL49),\"\")","v":""},null,null,{"$f":"IF(Input_Output!AN49=\"\",T(Input_Output!AO49),\"\")","v":""},null,null,{"$f":"IF(Input_Output!AQ49=\"\",T(Input_Output!AR49),\"\")","v":""},null,null,{"$f":"IF(Input_Output!AT49=\"\",T(Input_Output!AU49),\"\")","v":""},null,null,{"$f":"IF(Input_Output!AW49=\"\",T(Input_Output!AX49),\"\")","v":""},null,null,{"$f":"IF(Input_Output!AZ49=\"\",T(Input_Output!BA49),\"\")","v":""},null,null,{"$f":"IF(Input_Output!BC49=\"\",T(Input_Output!BD49),\"\")","v":""},null,null,{"$f":"IF(Input_Output!BF49=\"\",T(Input_Output!BG49),\"\")","v":""},null,null,{"$f":"IF(Input_Output!BI49=\"\",T(Input_Output!BJ49),\"\")","v":""},null,null,{"$f":"IF(Input_Output!BL49=\"\",T(Input_Output!BM49),\"\")","v":""},null,null,{"$f":"IF(Input_Output!BO49=\"\",T(Input_Output!BP49),\"\")","v":""},null,null,{"$f":"IF(Input_Output!BR49=\"\",T(Input_Output!BS49),\"\")","v":""},null,null,{"$f":"IF(Input_Output!BU49=\"\",T(Input_Output!BV49),\"\")","v":""},null,null,{"$f":"IF(Input_Output!BX49=\"\",T(Input_Output!BY49),\"\")","v":""},null,null,{"$f":"IF(Input_Output!CA49=\"\",T(Input_Output!CB49),\"\")","v":""},null,null,{"$f":"IF(Input_Output!CD49=\"\",T(Input_Output!CE49),\"\")","v":""},null,null,{"$f":"IF(Input_Output!CG49=\"\",T(Input_Output!CH49),\"\")","v":""},null,null,{"$f":"IF(Input_Output!CJ49=\"\",T(Input_Output!CK49),\"\")","v":""},null,null,{"$f":"IF(Input_Output!CM49=\"\",T(Input_Output!CN49),\"\")","v":""},null,null,{"$f":"IF(Input_Output!CP49=\"\",T(Input_Output!CQ49),\"\")","v":""},null,null,{"$f":"IF(Input_Output!CS49=\"\",T(Input_Output!CT49),\"\")","v":""},null,null,{"$f":"IF(Input_Output!CV49=\"\",T(Input_Output!CW49),\"\")","v":""},null,null,{"$f":"IF(Input_Output!CY49=\"\",T(Input_Output!CZ49),\"\")","v":""},null,null,{"$f":"IF(Input_Output!DB49=\"\",T(Input_Output!DC49),\"\")","v":""},null,null,{"$f":"IF(Input_Output!DE49=\"\",T(Input_Output!DF49),\"\")","v":""},null,null,{"$f":"IF(Input_Output!DH49=\"\",T(Input_Output!DI49),\"\")","v":""},null,null,{"$f":"IF(Input_Output!DK49=\"\",T(Input_Output!DL49),\"\")","v":""},null,null,{"$f":"IF(Input_Output!DN49=\"\",T(Input_Output!DO49),\"\")","v":""},null,null,{"$f":"IF(Input_Output!DQ49=\"\",T(Input_Output!DR49),\"\")","v":""},null,null,{"$f":"IF(Input_Output!DT49=\"\",T(Input_Output!DU49),\"\")","v":""},null,null,{"$f":"IF(Input_Output!DW49=\"\",T(Input_Output!DX49),\"\")","v":""},null,null,{"$f":"IF(Input_Output!DZ49=\"\",T(Input_Output!EA49),\"\")","v":""},null,null,{"$f":"IF(Input_Output!EC49=\"\",T(Input_Output!ED49),\"\")","v":""},null,null,{"$f":"IF(Input_Output!EF49=\"\",T(Input_Output!EG49),\"\")","v":""},null,null,{"$f":"IF(Input_Output!EI49=\"\",T(Input_Output!EJ49),\"\")","v":""},null,null,{"$f":"IF(Input_Output!EL49=\"\",T(Input_Output!EM49),\"\")","v":""},null,null,{"$f":"IF(Input_Output!EO49=\"\",T(Input_Output!EP49),\"\")","v":""},null,null,{"$f":"IF(Input_Output!ER49=\"\",T(Input_Output!ES49),\"\")","v":""},null,null,{"$f":"IF(Input_Output!EU49=\"\",T(Input_Output!EV49),\"\")","v":""},null,null,{"$f":"IF(Input_Output!EX49=\"\",T(Input_Output!EY49),\"\")","v":""},null,null,{"$f":"IF(Input_Output!FA49=\"\",T(Input_Output!FB49),\"\")","v":""},null,null,{"$f":"IF(Input_Output!FD49=\"\",T(Input_Output!FE49),\"\")","v":""},null,null,{"$f":"IF(Input_Output!FG49=\"\",T(Input_Output!FH49),\"\")","v":""},null,null,{"$f":"IF(Input_Output!FJ49=\"\",T(Input_Output!FK49),\"\")","v":""},null,null,{"$f":"IF(Input_Output!FM49=\"\",T(Input_Output!FN49),\"\")","v":""},null,null,{"$f":"IF(Input_Output!FP49=\"\",T(Input_Output!FQ49),\"\")","v":""},null,null,{"$f":"IF(Input_Output!FS49=\"\",T(Input_Output!FT49),\"\")","v":""},null,null,{"$f":"IF(Input_Output!FV49=\"\",T(Input_Output!FW49),\"\")","v":""},null,null,{"$f":"IF(Input_Output!FY49=\"\",T(Input_Output!FZ49),\"\")","v":""},null,null,{"$f":"IF(Input_Output!GB49=\"\",T(Input_Output!GC49),\"\")","v":""},null,null,{"$f":"IF(Input_Output!GE49=\"\",T(Input_Output!GF49),\"\")","v":""},null,null,{"$f":"IF(Input_Output!GH49=\"\",T(Input_Output!GI49),\"\")","v":""},null,null,{"$f":"IF(Input_Output!GK49=\"\",T(Input_Output!GL49),\"\")","v":""},null,null,{"$f":"IF(Input_Output!GN49=\"\",T(Input_Output!GO49),\"\")","v":""},null,null,{"$f":"IF(Input_Output!GQ49=\"\",T(Input_Output!GR49),\"\")","v":""},null,null,{"$f":"IF(Input_Output!GT49=\"\",T(Input_Output!GU49),\"\")","v":""},null,null,{"$f":"IF(Input_Output!GW49=\"\",T(Input_Output!GX49),\"\")","v":""},null,null,{"$f":"IF(Input_Output!GZ49=\"\",T(Input_Output!HA49),\"\")","v":""},null,null,{"$f":"IF(Input_Output!HC49=\"\",T(Input_Output!HD49),\"\")","v":""},null,null,{"$f":"IF(Input_Output!HF49=\"\",T(Input_Output!HG49),\"\")","v":""},null,null,{"$f":"IF(Input_Output!HI49=\"\",T(Input_Output!HJ49),\"\")","v":""},null,null,{"$f":"IF(Input_Output!HL49=\"\",T(Input_Output!HM49),\"\")","v":""},null,null,{"$f":"IF(Input_Output!HO49=\"\",T(Input_Output!HP49),\"\")","v":""},null,null,{"$f":"IF(Input_Output!HR49=\"\",T(Input_Output!HS49),\"\")","v":""},null,null,{"$f":"IF(Input_Output!HU49=\"\",T(Input_Output!HV49),\"\")","v":""},null,null,{"$f":"IF(Input_Output!HX49=\"\",T(Input_Output!HY49),\"\")","v":""},null,null,{"$f":"IF(Input_Output!IA49=\"\",T(Input_Output!IB49),\"\")","v":""},null,null,{"$f":"IF(Input_Output!ID49=\"\",T(Input_Output!IE49),\"\")","v":""},null,null,{"$f":"IF(Input_Output!IG49=\"\",T(Input_Output!IH49),\"\")","v":""},null,null,{"$f":"IF(Input_Output!IJ49=\"\",T(Input_Output!IK49),\"\")","v":""},null,null,{"$f":"IF(Input_Output!IM49=\"\",T(Input_Output!IN49),\"\")","v":""},null,null,{"$f":"IF(Input_Output!IP49=\"\",T(Input_Output!IQ49),\"\")","v":""},null,null,{"$f":"IF(Input_Output!IS49=\"\",T(Input_Output!IT49),\"\")","v":""}]
[null,null,null,null,{"$f":"IF(Input_Output!D50=\"\",T(Input_Output!E50),\"\")","v":""},null,null,{"$f":"IF(Input_Output!G50=\"\",T(Input_Output!H50),\"\")","v":""},null,null,{"$f":"IF(Input_Output!J50=\"\",T(Input_Output!K50),\"\")","v":""},null,null,{"$f":"IF(Input_Output!M50=\"\",T(Input_Output!N50),\"\")","v":""},null,null,{"$f":"IF(Input_Output!P50=\"\",T(Input_Output!Q50),\"\")","v":""},null,null,{"$f":"IF(Input_Output!S50=\"\",T(Input_Output!T50),\"\")","v":""},null,null,{"$f":"IF(Input_Output!V50=\"\",T(Input_Output!W50),\"\")","v":""},null,null,{"$f":"IF(Input_Output!Y50=\"\",T(Input_Output!Z50),\"\")","v":""},null,null,{"$f":"IF(Input_Output!AB50=\"\",T(Input_Output!AC50),\"\")","v":""},null,null,{"$f":"IF(Input_Output!AE50=\"\",T(Input_Output!AF50),\"\")","v":""},null,null,{"$f":"IF(Input_Output!AH50=\"\",T(Input_Output!AI50),\"\")","v":""},null,null,{"$f":"IF(Input_Output!AK50=\"\",T(Input_Output!AL50),\"\")","v":""},null,null,{"$f":"IF(Input_Output!AN50=\"\",T(Input_Output!AO50),\"\")","v":""},null,null,{"$f":"IF(Input_Output!AQ50=\"\",T(Input_Output!AR50),\"\")","v":""},null,null,{"$f":"IF(Input_Output!AT50=\"\",T(Input_Output!AU50),\"\")","v":""},null,null,{"$f":"IF(Input_Output!AW50=\"\",T(Input_Output!AX50),\"\")","v":""},null,null,{"$f":"IF(Input_Output!AZ50=\"\",T(Input_Output!BA50),\"\")","v":""},null,null,{"$f":"IF(Input_Output!BC50=\"\",T(Input_Output!BD50),\"\")","v":""},null,null,{"$f":"IF(Input_Output!BF50=\"\",T(Input_Output!BG50),\"\")","v":""},null,null,{"$f":"IF(Input_Output!BI50=\"\",T(Input_Output!BJ50),\"\")","v":""},null,null,{"$f":"IF(Input_Output!BL50=\"\",T(Input_Output!BM50),\"\")","v":""},null,null,{"$f":"IF(Input_Output!BO50=\"\",T(Input_Output!BP50),\"\")","v":""},null,null,{"$f":"IF(Input_Output!BR50=\"\",T(Input_Output!BS50),\"\")","v":""},null,null,{"$f":"IF(Input_Output!BU50=\"\",T(Input_Output!BV50),\"\")","v":""},null,null,{"$f":"IF(Input_Output!BX50=\"\",T(Input_Output!BY50),\"\")","v":""},null,null,{"$f":"IF(Input_Output!CA50=\"\",T(Input_Output!CB50),\"\")","v":""},null,null,{"$f":"IF(Input_Output!CD50=\"\",T(Input_Output!CE50),\"\")","v":""},null,null,{"$f":"IF(Input_Output!CG50=\"\",T(Input_Output!CH50),\"\")","v":""},null,null,{"$f":"IF(Input_Output!CJ50=\"\",T(Input_Output!CK50),\"\")","v":""},null,null,{"$f":"IF(Input_Output!CM50=\"\",T(Input_Output!CN50),\"\")","v":""},null,null,{"$f":"IF(Input_Output!CP50=\"\",T(Input_Output!CQ50),\"\")","v":""},null,null,{"$f":"IF(Input_Output!CS50=\"\",T(Input_Output!CT50),\"\")","v":""},null,null,{"$f":"IF(Input_Output!CV50=\"\",T(Input_Output!CW50),\"\")","v":""},null,null,{"$f":"IF(Input_Output!CY50=\"\",T(Input_Output!CZ50),\"\")","v":""},null,null,{"$f":"IF(Input_Output!DB50=\"\",T(Input_Output!DC50),\"\")","v":""},null,null,{"$f":"IF(Input_Output!DE50=\"\",T(Input_Output!DF50),\"\")","v":""},null,null,{"$f":"IF(Input_Output!DH50=\"\",T(Input_Output!DI50),\"\")","v":""},null,null,{"$f":"IF(Input_Output!DK50=\"\",T(Input_Output!DL50),\"\")","v":""},null,null,{"$f":"IF(Input_Output!DN50=\"\",T(Input_Output!DO50),\"\")","v":""},null,null,{"$f":"IF(Input_Output!DQ50=\"\",T(Input_Output!DR50),\"\")","v":""},null,null,{"$f":"IF(Input_Output!DT50=\"\",T(Input_Output!DU50),\"\")","v":""},null,null,{"$f":"IF(Input_Output!DW50=\"\",T(Input_Output!DX50),\"\")","v":""},null,null,{"$f":"IF(Input_Output!DZ50=\"\",T(Input_Output!EA50),\"\")","v":""},null,null,{"$f":"IF(Input_Output!EC50=\"\",T(Input_Output!ED50),\"\")","v":""},null,null,{"$f":"IF(Input_Output!EF50=\"\",T(Input_Output!EG50),\"\")","v":""},null,null,{"$f":"IF(Input_Output!EI50=\"\",T(Input_Output!EJ50),\"\")","v":""},null,null,{"$f":"IF(Input_Output!EL50=\"\",T(Input_Output!EM50),\"\")","v":""},null,null,{"$f":"IF(Input_Output!EO50=\"\",T(Input_Output!EP50),\"\")","v":""},null,null,{"$f":"IF(Input_Output!ER50=\"\",T(Input_Output!ES50),\"\")","v":""},null,null,{"$f":"IF(Input_Output!EU50=\"\",T(Input_Output!EV50),\"\")","v":""},null,null,{"$f":"IF(Input_Output!EX50=\"\",T(Input_Output!EY50),\"\")","v":""},null,null,{"$f":"IF(Input_Output!FA50=\"\",T(Input_Output!FB50),\"\")","v":""},null,null,{"$f":"IF(Input_Output!FD50=\"\",T(Input_Output!FE50),\"\")","v":""},null,null,{"$f":"IF(Input_Output!FG50=\"\",T(Input_Output!FH50),\"\")","v":""},null,null,{"$f":"IF(Input_Output!FJ50=\"\",T(Input_Output!FK50),\"\")","v":""},null,null,{"$f":"IF(Input_Output!FM50=\"\",T(Input_Output!FN50),\"\")","v":""},null,null,{"$f":"IF(Input_Output!FP50=\"\",T(Input_Output!FQ50),\"\")","v":""},null,null,{"$f":"IF(Input_Output!FS50=\"\",T(Input_Output!FT50),\"\")","v":""},null,null,{"$f":"IF(Input_Output!FV50=\"\",T(Input_Output!FW50),\"\")","v":""},null,null,{"$f":"IF(Input_Output!FY50=\"\",T(Input_Output!FZ50),\"\")","v":""},null,null,{"$f":"IF(Input_Output!GB50=\"\",T(Input_Output!GC50),\"\")","v":""},null,null,{"$f":"IF(Input_Output!GE50=\"\",T(Input_Output!GF50),\"\")","v":""},null,null,{"$f":"IF(Input_Output!GH50=\"\",T(Input_Output!GI50),\"\")","v":""},null,null,{"$f":"IF(Input_Output!GK50=\"\",T(Input_Output!GL50),\"\")","v":""},null,null,{"$f":"IF(Input_Output!GN50=\"\",T(Input_Output!GO50),\"\")","v":""},null,null,{"$f":"IF(Input_Output!GQ50=\"\",T(Input_Output!GR50),\"\")","v":""},null,null,{"$f":"IF(Input_Output!GT50=\"\",T(Input_Output!GU50),\"\")","v":""},null,null,{"$f":"IF(Input_Output!GW50=\"\",T(Input_Output!GX50),\"\")","v":""},null,null,{"$f":"IF(Input_Output!GZ50=\"\",T(Input_Output!HA50),\"\")","v":""},null,null,{"$f":"IF(Input_Output!HC50=\"\",T(Input_Output!HD50),\"\")","v":""},null,null,{"$f":"IF(Input_Output!HF50=\"\",T(Input_Output!HG50),\"\")","v":""},null,null,{"$f":"IF(Input_Output!HI50=\"\",T(Input_Output!HJ50),\"\")","v":""},null,null,{"$f":"IF(Input_Output!HL50=\"\",T(Input_Output!HM50),\"\")","v":""},null,null,{"$f":"IF(Input_Output!HO50=\"\",T(Input_Output!HP50),\"\")","v":""},null,null,{"$f":"IF(Input_Output!HR50=\"\",T(Input_Output!HS50),\"\")","v":""},null,null,{"$f":"IF(Input_Output!HU50=\"\",T(Input_Output!HV50),\"\")","v":""},null,null,{"$f":"IF(Input_Output!HX50=\"\",T(Input_Output!HY50),\"\")","v":""},null,null,{"$f":"IF(Input_Output!IA50=\"\",T(Input_Output!IB50),\"\")","v":""},null,null,{"$f":"IF(Input_Output!ID50=\"\",T(Input_Output!IE50),\"\")","v":""},null,null,{"$f":"IF(Input_Output!IG50=\"\",T(Input_Output!IH50),\"\")","v":""},null,null,{"$f":"IF(Input_Output!IJ50=\"\",T(Input_Output!IK50),\"\")","v":""},null,null,{"$f":"IF(Input_Output!IM50=\"\",T(Input_Output!IN50),\"\")","v":""},null,null,{"$f":"IF(Input_Output!IP50=\"\",T(Input_Output!IQ50),\"\")","v":""},null,null,{"$f":"IF(Input_Output!IS50=\"\",T(Input_Output!IT50),\"\")","v":""}]
[null,null,null,null,{"$f":"IF(Input_Output!D51=\"\",T(Input_Output!E51),\"\")","v":""},null,null,{"$f":"IF(Input_Output!G51=\"\",T(Input_Output!H51),\"\")","v":""},null,null,{"$f":"IF(Input_Output!J51=\"\",T(Input_Output!K51),\"\")","v":""},null,null,{"$f":"IF(Input_Output!M51=\"\",T(Input_Output!N51),\"\")","v":""},null,null,{"$f":"IF(Input_Output!P51=\"\",T(Input_Output!Q51),\"\")","v":""},null,null,{"$f":"IF(Input_Output!S51=\"\",T(Input_Output!T51),\"\")","v":""},null,null,{"$f":"IF(Input_Output!V51=\"\",T(Input_Output!W51),\"\")","v":""},null,null,{"$f":"IF(Input_Output!Y51=\"\",T(Input_Output!Z51),\"\")","v":""},null,null,{"$f":"IF(Input_Output!AB51=\"\",T(Input_Output!AC51),\"\")","v":""},null,null,{"$f":"IF(Input_Output!AE51=\"\",T(Input_Output!AF51),\"\")","v":""},null,null,{"$f":"IF(Input_Output!AH51=\"\",T(Input_Output!AI51),\"\")","v":""},null,null,{"$f":"IF(Input_Output!AK51=\"\",T(Input_Output!AL51),\"\")","v":""},null,null,{"$f":"IF(Input_Output!AN51=\"\",T(Input_Output!AO51),\"\")","v":""},null,null,{"$f":"IF(Input_Output!AQ51=\"\",T(Input_Output!AR51),\"\")","v":""},null,null,{"$f":"IF(Input_Output!AT51=\"\",T(Input_Output!AU51),\"\")","v":""},null,null,{"$f":"IF(Input_Output!AW51=\"\",T(Input_Output!AX51),\"\")","v":""},null,null,{"$f":"IF(Input_Output!AZ51=\"\",T(Input_Output!BA51),\"\")","v":""},null,null,{"$f":"IF(Input_Output!BC51=\"\",T(Input_Output!BD51),\"\")","v":""},null,null,{"$f":"IF(Input_Output!BF51=\"\",T(Input_Output!BG51),\"\")","v":""},null,null,{"$f":"IF(Input_Output!BI51=\"\",T(Input_Output!BJ51),\"\")","v":""},null,null,{"$f":"IF(Input_Output!BL51=\"\",T(Input_Output!BM51),\"\")","v":""},null,null,{"$f":"IF(Input_Output!BO51=\"\",T(Input_Output!BP51),\"\")","v":""},null,null,{"$f":"IF(Input_Output!BR51=\"\",T(Input_Output!BS51),\"\")","v":""},null,null,{"$f":"IF(Input_Output!BU51=\"\",T(Input_Output!BV51),\"\")","v":""},null,null,{"$f":"IF(Input_Output!BX51=\"\",T(Input_Output!BY51),\"\")","v":""},null,null,{"$f":"IF(Input_Output!CA51=\"\",T(Input_Output!CB51),\"\")","v":""},null,null,{"$f":"IF(Input_Output!CD51=\"\",T(Input_Output!CE51),\"\")","v":""},null,null,{"$f":"IF(Input_Output!CG51=\"\",T(Input_Output!CH51),\"\")","v":""},null,null,{"$f":"IF(Input_Output!CJ51=\"\",T(Input_Output!CK51),\"\")","v":""},null,null,{"$f":"IF(Input_Output!CM51=\"\",T(Input_Output!CN51),\"\")","v":""},null,null,{"$f":"IF(Input_Output!CP51=\"\",T(Input_Output!CQ51),\"\")","v":""},null,null,{"$f":"IF(Input_Output!CS51=\"\",T(Input_Output!CT51),\"\")","v":""},null,null,{"$f":"IF(Input_Output!CV51=\"\",T(Input_Output!CW51),\"\")","v":""},null,null,{"$f":"IF(Input_Output!CY51=\"\",T(Input_Output!CZ51),\"\")","v":""},null,null,{"$f":"IF(Input_Output!DB51=\"\",T(Input_Output!DC51),\"\")","v":""},null,null,{"$f":"IF(Input_Output!DE51=\"\",T(Input_Output!DF51),\"\")","v":""},null,null,{"$f":"IF(Input_Output!DH51=\"\",T(Input_Output!DI51),\"\")","v":""},null,null,{"$f":"IF(Input_Output!DK51=\"\",T(Input_Output!DL51),\"\")","v":""},null,null,{"$f":"IF(Input_Output!DN51=\"\",T(Input_Output!DO51),\"\")","v":""},null,null,{"$f":"IF(Input_Output!DQ51=\"\",T(Input_Output!DR51),\"\")","v":""},null,null,{"$f":"IF(Input_Output!DT51=\"\",T(Input_Output!DU51),\"\")","v":""},null,null,{"$f":"IF(Input_Output!DW51=\"\",T(Input_Output!DX51),\"\")","v":""},null,null,{"$f":"IF(Input_Output!DZ51=\"\",T(Input_Output!EA51),\"\")","v":""},null,null,{"$f":"IF(Input_Output!EC51=\"\",T(Input_Output!ED51),\"\")","v":""},null,null,{"$f":"IF(Input_Output!EF51=\"\",T(Input_Output!EG51),\"\")","v":""},null,null,{"$f":"IF(Input_Output!EI51=\"\",T(Input_Output!EJ51),\"\")","v":""},null,null,{"$f":"IF(Input_Output!EL51=\"\",T(Input_Output!EM51),\"\")","v":""},null,null,{"$f":"IF(Input_Output!EO51=\"\",T(Input_Output!EP51),\"\")","v":""},null,null,{"$f":"IF(Input_Output!ER51=\"\",T(Input_Output!ES51),\"\")","v":""},null,null,{"$f":"IF(Input_Output!EU51=\"\",T(Input_Output!EV51),\"\")","v":""},null,null,{"$f":"IF(Input_Output!EX51=\"\",T(Input_Output!EY51),\"\")","v":""},null,null,{"$f":"IF(Input_Output!FA51=\"\",T(Input_Output!FB51),\"\")","v":""},null,null,{"$f":"IF(Input_Output!FD51=\"\",T(Input_Output!FE51),\"\")","v":""},null,null,{"$f":"IF(Input_Output!FG51=\"\",T(Input_Output!FH51),\"\")","v":""},null,null,{"$f":"IF(Input_Output!FJ51=\"\",T(Input_Output!FK51),\"\")","v":""},null,null,{"$f":"IF(Input_Output!FM51=\"\",T(Input_Output!FN51),\"\")","v":""},null,null,{"$f":"IF(Input_Output!FP51=\"\",T(Input_Output!FQ51),\"\")","v":""},null,null,{"$f":"IF(Input_Output!FS51=\"\",T(Input_Output!FT51),\"\")","v":""},null,null,{"$f":"IF(Input_Output!FV51=\"\",T(Input_Output!FW51),\"\")","v":""},null,null,{"$f":"IF(Input_Output!FY51=\"\",T(Input_Output!FZ51),\"\")","v":""},null,null,{"$f":"IF(Input_Output!GB51=\"\",T(Input_Output!GC51),\"\")","v":""},null,null,{"$f":"IF(Input_Output!GE51=\"\",T(Input_Output!GF51),\"\")","v":""},null,null,{"$f":"IF(Input_Output!GH51=\"\",T(Input_Output!GI51),\"\")","v":""},null,null,{"$f":"IF(Input_Output!GK51=\"\",T(Input_Output!GL51),\"\")","v":""},null,null,{"$f":"IF(Input_Output!GN51=\"\",T(Input_Output!GO51),\"\")","v":""},null,null,{"$f":"IF(Input_Output!GQ51=\"\",T(Input_Output!GR51),\"\")","v":""},null,null,{"$f":"IF(Input_Output!GT51=\"\",T(Input_Output!GU51),\"\")","v":""},null,null,{"$f":"IF(Input_Output!GW51=\"\",T(Input_Output!GX51),\"\")","v":""},null,null,{"$f":"IF(Input_Output!GZ51=\"\",T(Input_Output!HA51),\"\")","v":""},null,null,{"$f":"IF(Input_Output!HC51=\"\",T(Input_Output!HD51),\"\")","v":""},null,null,{"$f":"IF(Input_Output!HF51=\"\",T(Input_Output!HG51),\"\")","v":""},null,null,{"$f":"IF(Input_Output!HI51=\"\",T(Input_Output!HJ51),\"\")","v":""},null,null,{"$f":"IF(Input_Output!HL51=\"\",T(Input_Output!HM51),\"\")","v":""},null,null,{"$f":"IF(Input_Output!HO51=\"\",T(Input_Output!HP51),\"\")","v":""},null,null,{"$f":"IF(Input_Output!HR51=\"\",T(Input_Output!HS51),\"\")","v":""},null,null,{"$f":"IF(Input_Output!HU51=\"\",T(Input_Output!HV51),\"\")","v":""},null,null,{"$f":"IF(Input_Output!HX51=\"\",T(Input_Output!HY51),\"\")","v":""},null,null,{"$f":"IF(Input_Output!IA51=\"\",T(Input_Output!IB51),\"\")","v":""},null,null,{"$f":"IF(Input_Output!ID51=\"\",T(Input_Output!IE51),\"\")","v":""},null,null,{"$f":"IF(Input_Output!IG51=\"\",T(Input_Output!IH51),\"\")","v":""},null,null,{"$f":"IF(Input_Output!IJ51=\"\",T(Input_Output!IK51),\"\")","v":""},null,null,{"$f":"IF(Input_Output!IM51=\"\",T(Input_Output!IN51),\"\")","v":""},null,null,{"$f":"IF(Input_Output!IP51=\"\",T(Input_Output!IQ51),\"\")","v":""},null,null,{"$f":"IF(Input_Output!IS51=\"\",T(Input_Output!IT51),\"\")","v":""}]
[null,null,null,null,{"$f":"IF(Input_Output!D52=\"\",T(Input_Output!E52),\"\")","v":""},null,null,{"$f":"IF(Input_Output!G52=\"\",T(Input_Output!H52),\"\")","v":""},null,null,{"$f":"IF(Input_Output!J52=\"\",T(Input_Output!K52),\"\")","v":""},null,null,{"$f":"IF(Input_Output!M52=\"\",T(Input_Output!N52),\"\")","v":""},null,null,{"$f":"IF(Input_Output!P52=\"\",T(Input_Output!Q52),\"\")","v":""},null,null,{"$f":"IF(Input_Output!S52=\"\",T(Input_Output!T52),\"\")","v":""},null,null,{"$f":"IF(Input_Output!V52=\"\",T(Input_Output!W52),\"\")","v":""},null,null,{"$f":"IF(Input_Output!Y52=\"\",T(Input_Output!Z52),\"\")","v":""},null,null,{"$f":"IF(Input_Output!AB52=\"\",T(Input_Output!AC52),\"\")","v":""},null,null,{"$f":"IF(Input_Output!AE52=\"\",T(Input_Output!AF52),\"\")","v":""},null,null,{"$f":"IF(Input_Output!AH52=\"\",T(Input_Output!AI52),\"\")","v":""},null,null,{"$f":"IF(Input_Output!AK52=\"\",T(Input_Output!AL52),\"\")","v":""},null,null,{"$f":"IF(Input_Output!AN52=\"\",T(Input_Output!AO52),\"\")","v":""},null,null,{"$f":"IF(Input_Output!AQ52=\"\",T(Input_Output!AR52),\"\")","v":""},null,null,{"$f":"IF(Input_Output!AT52=\"\",T(Input_Output!AU52),\"\")","v":""},null,null,{"$f":"IF(Input_Output!AW52=\"\",T(Input_Output!AX52),\"\")","v":""},null,null,{"$f":"IF(Input_Output!AZ52=\"\",T(Input_Output!BA52),\"\")","v":""},null,null,{"$f":"IF(Input_Output!BC52=\"\",T(Input_Output!BD52),\"\")","v":""},null,null,{"$f":"IF(Input_Output!BF52=\"\",T(Input_Output!BG52),\"\")","v":""},null,null,{"$f":"IF(Input_Output!BI52=\"\",T(Input_Output!BJ52),\"\")","v":""},null,null,{"$f":"IF(Input_Output!BL52=\"\",T(Input_Output!BM52),\"\")","v":""},null,null,{"$f":"IF(Input_Output!BO52=\"\",T(Input_Output!BP52),\"\")","v":""},null,null,{"$f":"IF(Input_Output!BR52=\"\",T(Input_Output!BS52),\"\")","v":""},null,null,{"$f":"IF(Input_Output!BU52=\"\",T(Input_Output!BV52),\"\")","v":""},null,null,{"$f":"IF(Input_Output!BX52=\"\",T(Input_Output!BY52),\"\")","v":""},null,null,{"$f":"IF(Input_Output!CA52=\"\",T(Input_Output!CB52),\"\")","v":""},null,null,{"$f":"IF(Input_Output!CD52=\"\",T(Input_Output!CE52),\"\")","v":""},null,null,{"$f":"IF(Input_Output!CG52=\"\",T(Input_Output!CH52),\"\")","v":""},null,null,{"$f":"IF(Input_Output!CJ52=\"\",T(Input_Output!CK52),\"\")","v":""},null,null,{"$f":"IF(Input_Output!CM52=\"\",T(Input_Output!CN52),\"\")","v":""},null,null,{"$f":"IF(Input_Output!CP52=\"\",T(Input_Output!CQ52),\"\")","v":""},null,null,{"$f":"IF(Input_Output!CS52=\"\",T(Input_Output!CT52),\"\")","v":""},null,null,{"$f":"IF(Input_Output!CV52=\"\",T(Input_Output!CW52),\"\")","v":""},null,null,{"$f":"IF(Input_Output!CY52=\"\",T(Input_Output!CZ52),\"\")","v":""},null,null,{"$f":"IF(Input_Output!DB52=\"\",T(Input_Output!DC52),\"\")","v":""},null,null,{"$f":"IF(Input_Output!DE52=\"\",T(Input_Output!DF52),\"\")","v":""},null,null,{"$f":"IF(Input_Output!DH52=\"\",T(Input_Output!DI52),\"\")","v":""},null,null,{"$f":"IF(Input_Output!DK52=\"\",T(Input_Output!DL52),\"\")","v":""},null,null,{"$f":"IF(Input_Output!DN52=\"\",T(Input_Output!DO52),\"\")","v":""},null,null,{"$f":"IF(Input_Output!DQ52=\"\",T(Input_Output!DR52),\"\")","v":""},null,null,{"$f":"IF(Input_Output!DT52=\"\",T(Input_Output!DU52),\"\")","v":""},null,null,{"$f":"IF(Input_Output!DW52=\"\",T(Input_Output!DX52),\"\")","v":""},null,null,{"$f":"IF(Input_Output!DZ52=\"\",T(Input_Output!EA52),\"\")","v":""},null,null,{"$f":"IF(Input_Output!EC52=\"\",T(Input_Output!ED52),\"\")","v":""},null,null,{"$f":"IF(Input_Output!EF52=\"\",T(Input_Output!EG52),\"\")","v":""},null,null,{"$f":"IF(Input_Output!EI52=\"\",T(Input_Output!EJ52),\"\")","v":""},null,null,{"$f":"IF(Input_Output!EL52=\"\",T(Input_Output!EM52),\"\")","v":""},null,null,{"$f":"IF(Input_Output!EO52=\"\",T(Input_Output!EP52),\"\")","v":""},null,null,{"$f":"IF(Input_Output!ER52=\"\",T(Input_Output!ES52),\"\")","v":""},null,null,{"$f":"IF(Input_Output!EU52=\"\",T(Input_Output!EV52),\"\")","v":""},null,null,{"$f":"IF(Input_Output!EX52=\"\",T(Input_Output!EY52),\"\")","v":""},null,null,{"$f":"IF(Input_Output!FA52=\"\",T(Input_Output!FB52),\"\")","v":""},null,null,{"$f":"IF(Input_Output!FD52=\"\",T(Input_Output!FE52),\"\")","v":""},null,null,{"$f":"IF(Input_Output!FG52=\"\",T(Input_Output!FH52),\"\")","v":""},null,null,{"$f":"IF(Input_Output!FJ52=\"\",T(Input_Output!FK52),\"\")","v":""},null,null,{"$f":"IF(Input_Output!FM52=\"\",T(Input_Output!FN52),\"\")","v":""},null,null,{"$f":"IF(Input_Output!FP52=\"\",T(Input_Output!FQ52),\"\")","v":""},null,null,{"$f":"IF(Input_Output!FS52=\"\",T(Input_Output!FT52),\"\")","v":""},null,null,{"$f":"IF(Input_Output!FV52=\"\",T(Input_Output!FW52),\"\")","v":""},null,null,{"$f":"IF(Input_Output!FY52=\"\",T(Input_Output!FZ52),\"\")","v":""},null,null,{"$f":"IF(Input_Output!GB52=\"\",T(Input_Output!GC52),\"\")","v":""},null,null,{"$f":"IF(Input_Output!GE52=\"\",T(Input_Output!GF52),\"\")","v":""},null,null,{"$f":"IF(Input_Output!GH52=\"\",T(Input_Output!GI52),\"\")","v":""},null,null,{"$f":"IF(Input_Output!GK52=\"\",T(Input_Output!GL52),\"\")","v":""},null,null,{"$f":"IF(Input_Output!GN52=\"\",T(Input_Output!GO52),\"\")","v":""},null,null,{"$f":"IF(Input_Output!GQ52=\"\",T(Input_Output!GR52),\"\")","v":""},null,null,{"$f":"IF(Input_Output!GT52=\"\",T(Input_Output!GU52),\"\")","v":""},null,null,{"$f":"IF(Input_Output!GW52=\"\",T(Input_Output!GX52),\"\")","v":""},null,null,{"$f":"IF(Input_Output!GZ52=\"\",T(Input_Output!HA52),\"\")","v":""},null,null,{"$f":"IF(Input_Output!HC52=\"\",T(Input_Output!HD52),\"\")","v":""},null,null,{"$f":"IF(Input_Output!HF52=\"\",T(Input_Output!HG52),\"\")","v":""},null,null,{"$f":"IF(Input_Output!HI52=\"\",T(Input_Output!HJ52),\"\")","v":""},null,null,{"$f":"IF(Input_Output!HL52=\"\",T(Input_Output!HM52),\"\")","v":""},null,null,{"$f":"IF(Input_Output!HO52=\"\",T(Input_Output!HP52),\"\")","v":""},null,null,{"$f":"IF(Input_Output!HR52=\"\",T(Input_Output!HS52),\"\")","v":""},null,null,{"$f":"IF(Input_Output!HU52=\"\",T(Input_Output!HV52),\"\")","v":""},null,null,{"$f":"IF(Input_Output!HX52=\"\",T(Input_Output!HY52),\"\")","v":""},null,null,{"$f":"IF(Input_Output!IA52=\"\",T(Input_Output!IB52),\"\")","v":""},null,null,{"$f":"IF(Input_Output!ID52=\"\",T(Input_Output!IE52),\"\")","v":""},null,null,{"$f":"IF(Input_Output!IG52=\"\",T(Input_Output!IH52),\"\")","v":""},null,null,{"$f":"IF(Input_Output!IJ52=\"\",T(Input_Output!IK52),\"\")","v":""},null,null,{"$f":"IF(Input_Output!IM52=\"\",T(Input_Output!IN52),\"\")","v":""},null,null,{"$f":"IF(Input_Output!IP52=\"\",T(Input_Output!IQ52),\"\")","v":""},null,null,{"$f":"IF(Input_Output!IS52=\"\",T(Input_Output!IT52),\"\")","v":""}]
[null,null,null,null,{"$f":"IF(Input_Output!D53=\"\",T(Input_Output!E53),\"\")","v":""},null,null,{"$f":"IF(Input_Output!G53=\"\",T(Input_Output!H53),\"\")","v":""},null,null,{"$f":"IF(Input_Output!J53=\"\",T(Input_Output!K53),\"\")","v":""},null,null,{"$f":"IF(Input_Output!M53=\"\",T(Input_Output!N53),\"\")","v":""},null,null,{"$f":"IF(Input_Output!P53=\"\",T(Input_Output!Q53),\"\")","v":""},null,null,{"$f":"IF(Input_Output!S53=\"\",T(Input_Output!T53),\"\")","v":""},null,null,{"$f":"IF(Input_Output!V53=\"\",T(Input_Output!W53),\"\")","v":""},null,null,{"$f":"IF(Input_Output!Y53=\"\",T(Input_Output!Z53),\"\")","v":""},null,null,{"$f":"IF(Input_Output!AB53=\"\",T(Input_Output!AC53),\"\")","v":""},null,null,{"$f":"IF(Input_Output!AE53=\"\",T(Input_Output!AF53),\"\")","v":""},null,null,{"$f":"IF(Input_Output!AH53=\"\",T(Input_Output!AI53),\"\")","v":""},null,null,{"$f":"IF(Input_Output!AK53=\"\",T(Input_Output!AL53),\"\")","v":""},null,null,{"$f":"IF(Input_Output!AN53=\"\",T(Input_Output!AO53),\"\")","v":""},null,null,{"$f":"IF(Input_Output!AQ53=\"\",T(Input_Output!AR53),\"\")","v":""},null,null,{"$f":"IF(Input_Output!AT53=\"\",T(Input_Output!AU53),\"\")","v":""},null,null,{"$f":"IF(Input_Output!AW53=\"\",T(Input_Output!AX53),\"\")","v":""},null,null,{"$f":"IF(Input_Output!AZ53=\"\",T(Input_Output!BA53),\"\")","v":""},null,null,{"$f":"IF(Input_Output!BC53=\"\",T(Input_Output!BD53),\"\")","v":""},null,null,{"$f":"IF(Input_Output!BF53=\"\",T(Input_Output!BG53),\"\")","v":""},null,null,{"$f":"IF(Input_Output!BI53=\"\",T(Input_Output!BJ53),\"\")","v":""},null,null,{"$f":"IF(Input_Output!BL53=\"\",T(Input_Output!BM53),\"\")","v":""},null,null,{"$f":"IF(Input_Output!BO53=\"\",T(Input_Output!BP53),\"\")","v":""},null,null,{"$f":"IF(Input_Output!BR53=\"\",T(Input_Output!BS53),\"\")","v":""},null,null,{"$f":"IF(Input_Output!BU53=\"\",T(Input_Output!BV53),\"\")","v":""},null,null,{"$f":"IF(Input_Output!BX53=\"\",T(Input_Output!BY53),\"\")","v":""},null,null,{"$f":"IF(Input_Output!CA53=\"\",T(Input_Output!CB53),\"\")","v":""},null,null,{"$f":"IF(Input_Output!CD53=\"\",T(Input_Output!CE53),\"\")","v":""},null,null,{"$f":"IF(Input_Output!CG53=\"\",T(Input_Output!CH53),\"\")","v":""},null,null,{"$f":"IF(Input_Output!CJ53=\"\",T(Input_Output!CK53),\"\")","v":""},null,null,{"$f":"IF(Input_Output!CM53=\"\",T(Input_Output!CN53),\"\")","v":""},null,null,{"$f":"IF(Input_Output!CP53=\"\",T(Input_Output!CQ53),\"\")","v":""},null,null,{"$f":"IF(Input_Output!CS53=\"\",T(Input_Output!CT53),\"\")","v":""},null,null,{"$f":"IF(Input_Output!CV53=\"\",T(Input_Output!CW53),\"\")","v":""},null,null,{"$f":"IF(Input_Output!CY53=\"\",T(Input_Output!CZ53),\"\")","v":""},null,null,{"$f":"IF(Input_Output!DB53=\"\",T(Input_Output!DC53),\"\")","v":""},null,null,{"$f":"IF(Input_Output!DE53=\"\",T(Input_Output!DF53),\"\")","v":""},null,null,{"$f":"IF(Input_Output!DH53=\"\",T(Input_Output!DI53),\"\")","v":""},null,null,{"$f":"IF(Input_Output!DK53=\"\",T(Input_Output!DL53),\"\")","v":""},null,null,{"$f":"IF(Input_Output!DN53=\"\",T(Input_Output!DO53),\"\")","v":""},null,null,{"$f":"IF(Input_Output!DQ53=\"\",T(Input_Output!DR53),\"\")","v":""},null,null,{"$f":"IF(Input_Output!DT53=\"\",T(Input_Output!DU53),\"\")","v":""},null,null,{"$f":"IF(Input_Output!DW53=\"\",T(Input_Output!DX53),\"\")","v":""},null,null,{"$f":"IF(Input_Output!DZ53=\"\",T(Input_Output!EA53),\"\")","v":""},null,null,{"$f":"IF(Input_Output!EC53=\"\",T(Input_Output!ED53),\"\")","v":""},null,null,{"$f":"IF(Input_Output!EF53=\"\",T(Input_Output!EG53),\"\")","v":""},null,null,{"$f":"IF(Input_Output!EI53=\"\",T(Input_Output!EJ53),\"\")","v":""},null,null,{"$f":"IF(Input_Output!EL53=\"\",T(Input_Output!EM53),\"\")","v":""},null,null,{"$f":"IF(Input_Output!EO53=\"\",T(Input_Output!EP53),\"\")","v":""},null,null,{"$f":"IF(Input_Output!ER53=\"\",T(Input_Output!ES53),\"\")","v":""},null,null,{"$f":"IF(Input_Output!EU53=\"\",T(Input_Output!EV53),\"\")","v":""},null,null,{"$f":"IF(Input_Output!EX53=\"\",T(Input_Output!EY53),\"\")","v":""},null,null,{"$f":"IF(Input_Output!FA53=\"\",T(Input_Output!FB53),\"\")","v":""},null,null,{"$f":"IF(Input_Output!FD53=\"\",T(Input_Output!FE53),\"\")","v":""},null,null,{"$f":"IF(Input_Output!FG53=\"\",T(Input_Output!FH53),\"\")","v":""},null,null,{"$f":"IF(Input_Output!FJ53=\"\",T(Input_Output!FK53),\"\")","v":""},null,null,{"$f":"IF(Input_Output!FM53=\"\",T(Input_Output!FN53),\"\")","v":""},null,null,{"$f":"IF(Input_Output!FP53=\"\",T(Input_Output!FQ53),\"\")","v":""},null,null,{"$f":"IF(Input_Output!FS53=\"\",T(Input_Output!FT53),\"\")","v":""},null,null,{"$f":"IF(Input_Output!FV53=\"\",T(Input_Output!FW53),\"\")","v":""},null,null,{"$f":"IF(Input_Output!FY53=\"\",T(Input_Output!FZ53),\"\")","v":""},null,null,{"$f":"IF(Input_Output!GB53=\"\",T(Input_Output!GC53),\"\")","v":""},null,null,{"$f":"IF(Input_Output!GE53=\"\",T(Input_Output!GF53),\"\")","v":""},null,null,{"$f":"IF(Input_Output!GH53=\"\",T(Input_Output!GI53),\"\")","v":""},null,null,{"$f":"IF(Input_Output!GK53=\"\",T(Input_Output!GL53),\"\")","v":""},null,null,{"$f":"IF(Input_Output!GN53=\"\",T(Input_Output!GO53),\"\")","v":""},null,null,{"$f":"IF(Input_Output!GQ53=\"\",T(Input_Output!GR53),\"\")","v":""},null,null,{"$f":"IF(Input_Output!GT53=\"\",T(Input_Output!GU53),\"\")","v":""},null,null,{"$f":"IF(Input_Output!GW53=\"\",T(Input_Output!GX53),\"\")","v":""},null,null,{"$f":"IF(Input_Output!GZ53=\"\",T(Input_Output!HA53),\"\")","v":""},null,null,{"$f":"IF(Input_Output!HC53=\"\",T(Input_Output!HD53),\"\")","v":""},null,null,{"$f":"IF(Input_Output!HF53=\"\",T(Input_Output!HG53),\"\")","v":""},null,null,{"$f":"IF(Input_Output!HI53=\"\",T(Input_Output!HJ53),\"\")","v":""},null,null,{"$f":"IF(Input_Output!HL53=\"\",T(Input_Output!HM53),\"\")","v":""},null,null,{"$f":"IF(Input_Output!HO53=\"\",T(Input_Output!HP53),\"\")","v":""},null,null,{"$f":"IF(Input_Output!HR53=\"\",T(Input_Output!HS53),\"\")","v":""},null,null,{"$f":"IF(Input_Output!HU53=\"\",T(Input_Output!HV53),\"\")","v":""},null,null,{"$f":"IF(Input_Output!HX53=\"\",T(Input_Output!HY53),\"\")","v":""},null,null,{"$f":"IF(Input_Output!IA53=\"\",T(Input_Output!IB53),\"\")","v":""},null,null,{"$f":"IF(Input_Output!ID53=\"\",T(Input_Output!IE53),\"\")","v":""},null,null,{"$f":"IF(Input_Output!IG53=\"\",T(Input_Output!IH53),\"\")","v":""},null,null,{"$f":"IF(Input_Output!IJ53=\"\",T(Input_Output!IK53),\"\")","v":""},null,null,{"$f":"IF(Input_Output!IM53=\"\",T(Input_Output!IN53),\"\")","v":""},null,null,{"$f":"IF(Input_Output!IP53=\"\",T(Input_Output!IQ53),\"\")","v":""},null,null,{"$f":"IF(Input_Output!IS53=\"\",T(Input_Output!IT53),\"\")","v":""}]
[null,null,null,null,{"$f":"IF(Input_Output!D54=\"\",T(Input_Output!E54),\"\")","v":""},null,null,{"$f":"IF(Input_Output!G54=\"\",T(Input_Output!H54),\"\")","v":""},null,null,{"$f":"IF(Input_Output!J54=\"\",T(Input_Output!K54),\"\")","v":""},null,null,{"$f":"IF(Input_Output!M54=\"\",T(Input_Output!N54),\"\")","v":""},null,null,{"$f":"IF(Input_Output!P54=\"\",T(Input_Output!Q54),\"\")","v":""},null,null,{"$f":"IF(Input_Output!S54=\"\",T(Input_Output!T54),\"\")","v":""},null,null,{"$f":"IF(Input_Output!V54=\"\",T(Input_Output!W54),\"\")","v":""},null,null,{"$f":"IF(Input_Output!Y54=\"\",T(Input_Output!Z54),\"\")","v":""},null,null,{"$f":"IF(Input_Output!AB54=\"\",T(Input_Output!AC54),\"\")","v":""},null,null,{"$f":"IF(Input_Output!AE54=\"\",T(Input_Output!AF54),\"\")","v":""},null,null,{"$f":"IF(Input_Output!AH54=\"\",T(Input_Output!AI54),\"\")","v":""},null,null,{"$f":"IF(Input_Output!AK54=\"\",T(Input_Output!AL54),\"\")","v":""},null,null,{"$f":"IF(Input_Output!AN54=\"\",T(Input_Output!AO54),\"\")","v":""},null,null,{"$f":"IF(Input_Output!AQ54=\"\",T(Input_Output!AR54),\"\")","v":""},null,null,{"$f":"IF(Input_Output!AT54=\"\",T(Input_Output!AU54),\"\")","v":""},null,null,{"$f":"IF(Input_Output!AW54=\"\",T(Input_Output!AX54),\"\")","v":""},null,null,{"$f":"IF(Input_Output!AZ54=\"\",T(Input_Output!BA54),\"\")","v":""},null,null,{"$f":"IF(Input_Output!BC54=\"\",T(Input_Output!BD54),\"\")","v":""},null,null,{"$f":"IF(Input_Output!BF54=\"\",T(Input_Output!BG54),\"\")","v":""},null,null,{"$f":"IF(Input_Output!BI54=\"\",T(Input_Output!BJ54),\"\")","v":""},null,null,{"$f":"IF(Input_Output!BL54=\"\",T(Input_Output!BM54),\"\")","v":""},null,null,{"$f":"IF(Input_Output!BO54=\"\",T(Input_Output!BP54),\"\")","v":""},null,null,{"$f":"IF(Input_Output!BR54=\"\",T(Input_Output!BS54),\"\")","v":""},null,null,{"$f":"IF(Input_Output!BU54=\"\",T(Input_Output!BV54),\"\")","v":""},null,null,{"$f":"IF(Input_Output!BX54=\"\",T(Input_Output!BY54),\"\")","v":""},null,null,{"$f":"IF(Input_Output!CA54=\"\",T(Input_Output!CB54),\"\")","v":""},null,null,{"$f":"IF(Input_Output!CD54=\"\",T(Input_Output!CE54),\"\")","v":""},null,null,{"$f":"IF(Input_Output!CG54=\"\",T(Input_Output!CH54),\"\")","v":""},null,null,{"$f":"IF(Input_Output!CJ54=\"\",T(Input_Output!CK54),\"\")","v":""},null,null,{"$f":"IF(Input_Output!CM54=\"\",T(Input_Output!CN54),\"\")","v":""},null,null,{"$f":"IF(Input_Output!CP54=\"\",T(Input_Output!CQ54),\"\")","v":""},null,null,{"$f":"IF(Input_Output!CS54=\"\",T(Input_Output!CT54),\"\")","v":""},null,null,{"$f":"IF(Input_Output!CV54=\"\",T(Input_Output!CW54),\"\")","v":""},null,null,{"$f":"IF(Input_Output!CY54=\"\",T(Input_Output!CZ54),\"\")","v":""},null,null,{"$f":"IF(Input_Output!DB54=\"\",T(Input_Output!DC54),\"\")","v":""},null,null,{"$f":"IF(Input_Output!DE54=\"\",T(Input_Output!DF54),\"\")","v":""},null,null,{"$f":"IF(Input_Output!DH54=\"\",T(Input_Output!DI54),\"\")","v":""},null,null,{"$f":"IF(Input_Output!DK54=\"\",T(Input_Output!DL54),\"\")","v":""},null,null,{"$f":"IF(Input_Output!DN54=\"\",T(Input_Output!DO54),\"\")","v":""},null,null,{"$f":"IF(Input_Output!DQ54=\"\",T(Input_Output!DR54),\"\")","v":""},null,null,{"$f":"IF(Input_Output!DT54=\"\",T(Input_Output!DU54),\"\")","v":""},null,null,{"$f":"IF(Input_Output!DW54=\"\",T(Input_Output!DX54),\"\")","v":""},null,null,{"$f":"IF(Input_Output!DZ54=\"\",T(Input_Output!EA54),\"\")","v":""},null,null,{"$f":"IF(Input_Output!EC54=\"\",T(Input_Output!ED54),\"\")","v":""},null,null,{"$f":"IF(Input_Output!EF54=\"\",T(Input_Output!EG54),\"\")","v":""},null,null,{"$f":"IF(Input_Output!EI54=\"\",T(Input_Output!EJ54),\"\")","v":""},null,null,{"$f":"IF(Input_Output!EL54=\"\",T(Input_Output!EM54),\"\")","v":""},null,null,{"$f":"IF(Input_Output!EO54=\"\",T(Input_Output!EP54),\"\")","v":""},null,null,{"$f":"IF(Input_Output!ER54=\"\",T(Input_Output!ES54),\"\")","v":""},null,null,{"$f":"IF(Input_Output!EU54=\"\",T(Input_Output!EV54),\"\")","v":""},null,null,{"$f":"IF(Input_Output!EX54=\"\",T(Input_Output!EY54),\"\")","v":""},null,null,{"$f":"IF(Input_Output!FA54=\"\",T(Input_Output!FB54),\"\")","v":""},null,null,{"$f":"IF(Input_Output!FD54=\"\",T(Input_Output!FE54),\"\")","v":""},null,null,{"$f":"IF(Input_Output!FG54=\"\",T(Input_Output!FH54),\"\")","v":""},null,null,{"$f":"IF(Input_Output!FJ54=\"\",T(Input_Output!FK54),\"\")","v":""},null,null,{"$f":"IF(Input_Output!FM54=\"\",T(Input_Output!FN54),\"\")","v":""},null,null,{"$f":"IF(Input_Output!FP54=\"\",T(Input_Output!FQ54),\"\")","v":""},null,null,{"$f":"IF(Input_Output!FS54=\"\",T(Input_Output!FT54),\"\")","v":""},null,null,{"$f":"IF(Input_Output!FV54=\"\",T(Input_Output!FW54),\"\")","v":""},null,null,{"$f":"IF(Input_Output!FY54=\"\",T(Input_Output!FZ54),\"\")","v":""},null,null,{"$f":"IF(Input_Output!GB54=\"\",T(Input_Output!GC54),\"\")","v":""},null,null,{"$f":"IF(Input_Output!GE54=\"\",T(Input_Output!GF54),\"\")","v":""},null,null,{"$f":"IF(Input_Output!GH54=\"\",T(Input_Output!GI54),\"\")","v":""},null,null,{"$f":"IF(Input_Output!GK54=\"\",T(Input_Output!GL54),\"\")","v":""},null,null,{"$f":"IF(Input_Output!GN54=\"\",T(Input_Output!GO54),\"\")","v":""},null,null,{"$f":"IF(Input_Output!GQ54=\"\",T(Input_Output!GR54),\"\")","v":""},null,null,{"$f":"IF(Input_Output!GT54=\"\",T(Input_Output!GU54),\"\")","v":""},null,null,{"$f":"IF(Input_Output!GW54=\"\",T(Input_Output!GX54),\"\")","v":""},null,null,{"$f":"IF(Input_Output!GZ54=\"\",T(Input_Output!HA54),\"\")","v":""},null,null,{"$f":"IF(Input_Output!HC54=\"\",T(Input_Output!HD54),\"\")","v":""},null,null,{"$f":"IF(Input_Output!HF54=\"\",T(Input_Output!HG54),\"\")","v":""},null,null,{"$f":"IF(Input_Output!HI54=\"\",T(Input_Output!HJ54),\"\")","v":""},null,null,{"$f":"IF(Input_Output!HL54=\"\",T(Input_Output!HM54),\"\")","v":""},null,null,{"$f":"IF(Input_Output!HO54=\"\",T(Input_Output!HP54),\"\")","v":""},null,null,{"$f":"IF(Input_Output!HR54=\"\",T(Input_Output!HS54),\"\")","v":""},null,null,{"$f":"IF(Input_Output!HU54=\"\",T(Input_Output!HV54),\"\")","v":""},null,null,{"$f":"IF(Input_Output!HX54=\"\",T(Input_Output!HY54),\"\")","v":""},null,null,{"$f":"IF(Input_Output!IA54=\"\",T(Input_Output!IB54),\"\")","v":""},null,null,{"$f":"IF(Input_Output!ID54=\"\",T(Input_Output!IE54),\"\")","v":""},null,null,{"$f":"IF(Input_Output!IG54=\"\",T(Input_Output!IH54),\"\")","v":""},null,null,{"$f":"IF(Input_Output!IJ54=\"\",T(Input_Output!IK54),\"\")","v":""},null,null,{"$f":"IF(Input_Output!IM54=\"\",T(Input_Output!IN54),\"\")","v":""},null,null,{"$f":"IF(Input_Output!IP54=\"\",T(Input_Output!IQ54),\"\")","v":""},null,null,{"$f":"IF(Input_Output!IS54=\"\",T(Input_Output!IT54),\"\")","v":""}]
[null,null,null,null,{"$f":"IF(Input_Output!D55=\"\",T(Input_Output!E55),\"\")","v":""},null,null,{"$f":"IF(Input_Output!G55=\"\",T(Input_Output!H55),\"\")","v":""},null,null,{"$f":"IF(Input_Output!J55=\"\",T(Input_Output!K55),\"\")","v":""},null,null,{"$f":"IF(Input_Output!M55=\"\",T(Input_Output!N55),\"\")","v":""},null,null,{"$f":"IF(Input_Output!P55=\"\",T(Input_Output!Q55),\"\")","v":""},null,null,{"$f":"IF(Input_Output!S55=\"\",T(Input_Output!T55),\"\")","v":""},null,null,{"$f":"IF(Input_Output!V55=\"\",T(Input_Output!W55),\"\")","v":""},null,null,{"$f":"IF(Input_Output!Y55=\"\",T(Input_Output!Z55),\"\")","v":""},null,null,{"$f":"IF(Input_Output!AB55=\"\",T(Input_Output!AC55),\"\")","v":""},null,null,{"$f":"IF(Input_Output!AE55=\"\",T(Input_Output!AF55),\"\")","v":""},null,null,{"$f":"IF(Input_Output!AH55=\"\",T(Input_Output!AI55),\"\")","v":""},null,null,{"$f":"IF(Input_Output!AK55=\"\",T(Input_Output!AL55),\"\")","v":""},null,null,{"$f":"IF(Input_Output!AN55=\"\",T(Input_Output!AO55),\"\")","v":""},null,null,{"$f":"IF(Input_Output!AQ55=\"\",T(Input_Output!AR55),\"\")","v":""},null,null,{"$f":"IF(Input_Output!AT55=\"\",T(Input_Output!AU55),\"\")","v":""},null,null,{"$f":"IF(Input_Output!AW55=\"\",T(Input_Output!AX55),\"\")","v":""},null,null,{"$f":"IF(Input_Output!AZ55=\"\",T(Input_Output!BA55),\"\")","v":""},null,null,{"$f":"IF(Input_Output!BC55=\"\",T(Input_Output!BD55),\"\")","v":""},null,null,{"$f":"IF(Input_Output!BF55=\"\",T(Input_Output!BG55),\"\")","v":""},null,null,{"$f":"IF(Input_Output!BI55=\"\",T(Input_Output!BJ55),\"\")","v":""},null,null,{"$f":"IF(Input_Output!BL55=\"\",T(Input_Output!BM55),\"\")","v":""},null,null,{"$f":"IF(Input_Output!BO55=\"\",T(Input_Output!BP55),\"\")","v":""},null,null,{"$f":"IF(Input_Output!BR55=\"\",T(Input_Output!BS55),\"\")","v":""},null,null,{"$f":"IF(Input_Output!BU55=\"\",T(Input_Output!BV55),\"\")","v":""},null,null,{"$f":"IF(Input_Output!BX55=\"\",T(Input_Output!BY55),\"\")","v":""},null,null,{"$f":"IF(Input_Output!CA55=\"\",T(Input_Output!CB55),\"\")","v":""},null,null,{"$f":"IF(Input_Output!CD55=\"\",T(Input_Output!CE55),\"\")","v":""},null,null,{"$f":"IF(Input_Output!CG55=\"\",T(Input_Output!CH55),\"\")","v":""},null,null,{"$f":"IF(Input_Output!CJ55=\"\",T(Input_Output!CK55),\"\")","v":""},null,null,{"$f":"IF(Input_Output!CM55=\"\",T(Input_Output!CN55),\"\")","v":""},null,null,{"$f":"IF(Input_Output!CP55=\"\",T(Input_Output!CQ55),\"\")","v":""},null,null,{"$f":"IF(Input_Output!CS55=\"\",T(Input_Output!CT55),\"\")","v":""},null,null,{"$f":"IF(Input_Output!CV55=\"\",T(Input_Output!CW55),\"\")","v":""},null,null,{"$f":"IF(Input_Output!CY55=\"\",T(Input_Output!CZ55),\"\")","v":""},null,null,{"$f":"IF(Input_Output!DB55=\"\",T(Input_Output!DC55),\"\")","v":""},null,null,{"$f":"IF(Input_Output!DE55=\"\",T(Input_Output!DF55),\"\")","v":""},null,null,{"$f":"IF(Input_Output!DH55=\"\",T(Input_Output!DI55),\"\")","v":""},null,null,{"$f":"IF(Input_Output!DK55=\"\",T(Input_Output!DL55),\"\")","v":""},null,null,{"$f":"IF(Input_Output!DN55=\"\",T(Input_Output!DO55),\"\")","v":""},null,null,{"$f":"IF(Input_Output!DQ55=\"\",T(Input_Output!DR55),\"\")","v":""},null,null,{"$f":"IF(Input_Output!DT55=\"\",T(Input_Output!DU55),\"\")","v":""},null,null,{"$f":"IF(Input_Output!DW55=\"\",T(Input_Output!DX55),\"\")","v":""},null,null,{"$f":"IF(Input_Output!DZ55=\"\",T(Input_Output!EA55),\"\")","v":""},null,null,{"$f":"IF(Input_Output!EC55=\"\",T(Input_Output!ED55),\"\")","v":""},null,null,{"$f":"IF(Input_Output!EF55=\"\",T(Input_Output!EG55),\"\")","v":""},null,null,{"$f":"IF(Input_Output!EI55=\"\",T(Input_Output!EJ55),\"\")","v":""},null,null,{"$f":"IF(Input_Output!EL55=\"\",T(Input_Output!EM55),\"\")","v":""},null,null,{"$f":"IF(Input_Output!EO55=\"\",T(Input_Output!EP55),\"\")","v":""},null,null,{"$f":"IF(Input_Output!ER55=\"\",T(Input_Output!ES55),\"\")","v":""},null,null,{"$f":"IF(Input_Output!EU55=\"\",T(Input_Output!EV55),\"\")","v":""},null,null,{"$f":"IF(Input_Output!EX55=\"\",T(Input_Output!EY55),\"\")","v":""},null,null,{"$f":"IF(Input_Output!FA55=\"\",T(Input_Output!FB55),\"\")","v":""},null,null,{"$f":"IF(Input_Output!FD55=\"\",T(Input_Output!FE55),\"\")","v":""},null,null,{"$f":"IF(Input_Output!FG55=\"\",T(Input_Output!FH55),\"\")","v":""},null,null,{"$f":"IF(Input_Output!FJ55=\"\",T(Input_Output!FK55),\"\")","v":""},null,null,{"$f":"IF(Input_Output!FM55=\"\",T(Input_Output!FN55),\"\")","v":""},null,null,{"$f":"IF(Input_Output!FP55=\"\",T(Input_Output!FQ55),\"\")","v":""},null,null,{"$f":"IF(Input_Output!FS55=\"\",T(Input_Output!FT55),\"\")","v":""},null,null,{"$f":"IF(Input_Output!FV55=\"\",T(Input_Output!FW55),\"\")","v":""},null,null,{"$f":"IF(Input_Output!FY55=\"\",T(Input_Output!FZ55),\"\")","v":""},null,null,{"$f":"IF(Input_Output!GB55=\"\",T(Input_Output!GC55),\"\")","v":""},null,null,{"$f":"IF(Input_Output!GE55=\"\",T(Input_Output!GF55),\"\")","v":""},null,null,{"$f":"IF(Input_Output!GH55=\"\",T(Input_Output!GI55),\"\")","v":""},null,null,{"$f":"IF(Input_Output!GK55=\"\",T(Input_Output!GL55),\"\")","v":""},null,null,{"$f":"IF(Input_Output!GN55=\"\",T(Input_Output!GO55),\"\")","v":""},null,null,{"$f":"IF(Input_Output!GQ55=\"\",T(Input_Output!GR55),\"\")","v":""},null,null,{"$f":"IF(Input_Output!GT55=\"\",T(Input_Output!GU55),\"\")","v":""},null,null,{"$f":"IF(Input_Output!GW55=\"\",T(Input_Output!GX55),\"\")","v":""},null,null,{"$f":"IF(Input_Output!GZ55=\"\",T(Input_Output!HA55),\"\")","v":""},null,null,{"$f":"IF(Input_Output!HC55=\"\",T(Input_Output!HD55),\"\")","v":""},null,null,{"$f":"IF(Input_Output!HF55=\"\",T(Input_Output!HG55),\"\")","v":""},null,null,{"$f":"IF(Input_Output!HI55=\"\",T(Input_Output!HJ55),\"\")","v":""},null,null,{"$f":"IF(Input_Output!HL55=\"\",T(Input_Output!HM55),\"\")","v":""},null,null,{"$f":"IF(Input_Output!HO55=\"\",T(Input_Output!HP55),\"\")","v":""},null,null,{"$f":"IF(Input_Output!HR55=\"\",T(Input_Output!HS55),\"\")","v":""},null,null,{"$f":"IF(Input_Output!HU55=\"\",T(Input_Output!HV55),\"\")","v":""},null,null,{"$f":"IF(Input_Output!HX55=\"\",T(Input_Output!HY55),\"\")","v":""},null,null,{"$f":"IF(Input_Output!IA55=\"\",T(Input_Output!IB55),\"\")","v":""},null,null,{"$f":"IF(Input_Output!ID55=\"\",T(Input_Output!IE55),\"\")","v":""},null,null,{"$f":"IF(Input_Output!IG55=\"\",T(Input_Output!IH55),\"\")","v":""},null,null,{"$f":"IF(Input_Output!IJ55=\"\",T(Input_Output!IK55),\"\")","v":""},null,null,{"$f":"IF(Input_Output!IM55=\"\",T(Input_Output!IN55),\"\")","v":""},null,null,{"$f":"IF(Input_Output!IP55=\"\",T(Input_Output!IQ55),\"\")","v":""},null,null,{"$f":"IF(Input_Output!IS55=\"\",T(Input_Output!IT55),\"\")","v":""}]
[null,null,null,null,{"$f":"IF(Input_Output!D56=\"\",T(Input_Output!E56),\"\")","v":""},null,null,{"$f":"IF(Input_Output!G56=\"\",T(Input_Output!H56),\"\")","v":""},null,null,{"$f":"IF(Input_Output!J56=\"\",T(Input_Output!K56),\"\")","v":""},null,null,{"$f":"IF(Input_Output!M56=\"\",T(Input_Output!N56),\"\")","v":""},null,null,{"$f":"IF(Input_Output!P56=\"\",T(Input_Output!Q56),\"\")","v":""},null,null,{"$f":"IF(Input_Output!S56=\"\",T(Input_Output!T56),\"\")","v":""},null,null,{"$f":"IF(Input_Output!V56=\"\",T(Input_Output!W56),\"\")","v":""},null,null,{"$f":"IF(Input_Output!Y56=\"\",T(Input_Output!Z56),\"\")","v":""},null,null,{"$f":"IF(Input_Output!AB56=\"\",T(Input_Output!AC56),\"\")","v":""},null,null,{"$f":"IF(Input_Output!AE56=\"\",T(Input_Output!AF56),\"\")","v":""},null,null,{"$f":"IF(Input_Output!AH56=\"\",T(Input_Output!AI56),\"\")","v":""},null,null,{"$f":"IF(Input_Output!AK56=\"\",T(Input_Output!AL56),\"\")","v":""},null,null,{"$f":"IF(Input_Output!AN56=\"\",T(Input_Output!AO56),\"\")","v":""},null,null,{"$f":"IF(Input_Output!AQ56=\"\",T(Input_Output!AR56),\"\")","v":""},null,null,{"$f":"IF(Input_Output!AT56=\"\",T(Input_Output!AU56),\"\")","v":""},null,null,{"$f":"IF(Input_Output!AW56=\"\",T(Input_Output!AX56),\"\")","v":""},null,null,{"$f":"IF(Input_Output!AZ56=\"\",T(Input_Output!BA56),\"\")","v":""},null,null,{"$f":"IF(Input_Output!BC56=\"\",T(Input_Output!BD56),\"\")","v":""},null,null,{"$f":"IF(Input_Output!BF56=\"\",T(Input_Output!BG56),\"\")","v":""},null,null,{"$f":"IF(Input_Output!BI56=\"\",T(Input_Output!BJ56),\"\")","v":""},null,null,{"$f":"IF(Input_Output!BL56=\"\",T(Input_Output!BM56),\"\")","v":""},null,null,{"$f":"IF(Input_Output!BO56=\"\",T(Input_Output!BP56),\"\")","v":""},null,null,{"$f":"IF(Input_Output!BR56=\"\",T(Input_Output!BS56),\"\")","v":""},null,null,{"$f":"IF(Input_Output!BU56=\"\",T(Input_Output!BV56),\"\")","v":""},null,null,{"$f":"IF(Input_Output!BX56=\"\",T(Input_Output!BY56),\"\")","v":""},null,null,{"$f":"IF(Input_Output!CA56=\"\",T(Input_Output!CB56),\"\")","v":""},null,null,{"$f":"IF(Input_Output!CD56=\"\",T(Input_Output!CE56),\"\")","v":""},null,null,{"$f":"IF(Input_Output!CG56=\"\",T(Input_Output!CH56),\"\")","v":""},null,null,{"$f":"IF(Input_Output!CJ56=\"\",T(Input_Output!CK56),\"\")","v":""},null,null,{"$f":"IF(Input_Output!CM56=\"\",T(Input_Output!CN56),\"\")","v":""},null,null,{"$f":"IF(Input_Output!CP56=\"\",T(Input_Output!CQ56),\"\")","v":""},null,null,{"$f":"IF(Input_Output!CS56=\"\",T(Input_Output!CT56),\"\")","v":""},null,null,{"$f":"IF(Input_Output!CV56=\"\",T(Input_Output!CW56),\"\")","v":""},null,null,{"$f":"IF(Input_Output!CY56=\"\",T(Input_Output!CZ56),\"\")","v":""},null,null,{"$f":"IF(Input_Output!DB56=\"\",T(Input_Output!DC56),\"\")","v":""},null,null,{"$f":"IF(Input_Output!DE56=\"\",T(Input_Output!DF56),\"\")","v":""},null,null,{"$f":"IF(Input_Output!DH56=\"\",T(Input_Output!DI56),\"\")","v":""},null,null,{"$f":"IF(Input_Output!DK56=\"\",T(Input_Output!DL56),\"\")","v":""},null,null,{"$f":"IF(Input_Output!DN56=\"\",T(Input_Output!DO56),\"\")","v":""},null,null,{"$f":"IF(Input_Output!DQ56=\"\",T(Input_Output!DR56),\"\")","v":""},null,null,{"$f":"IF(Input_Output!DT56=\"\",T(Input_Output!DU56),\"\")","v":""},null,null,{"$f":"IF(Input_Output!DW56=\"\",T(Input_Output!DX56),\"\")","v":""},null,null,{"$f":"IF(Input_Output!DZ56=\"\",T(Input_Output!EA56),\"\")","v":""},null,null,{"$f":"IF(Input_Output!EC56=\"\",T(Input_Output!ED56),\"\")","v":""},null,null,{"$f":"IF(Input_Output!EF56=\"\",T(Input_Output!EG56),\"\")","v":""},null,null,{"$f":"IF(Input_Output!EI56=\"\",T(Input_Output!EJ56),\"\")","v":""},null,null,{"$f":"IF(Input_Output!EL56=\"\",T(Input_Output!EM56),\"\")","v":""},null,null,{"$f":"IF(Input_Output!EO56=\"\",T(Input_Output!EP56),\"\")","v":""},null,null,{"$f":"IF(Input_Output!ER56=\"\",T(Input_Output!ES56),\"\")","v":""},null,null,{"$f":"IF(Input_Output!EU56=\"\",T(Input_Output!EV56),\"\")","v":""},null,null,{"$f":"IF(Input_Output!EX56=\"\",T(Input_Output!EY56),\"\")","v":""},null,null,{"$f":"IF(Input_Output!FA56=\"\",T(Input_Output!FB56),\"\")","v":""},null,null,{"$f":"IF(Input_Output!FD56=\"\",T(Input_Output!FE56),\"\")","v":""},null,null,{"$f":"IF(Input_Output!FG56=\"\",T(Input_Output!FH56),\"\")","v":""},null,null,{"$f":"IF(Input_Output!FJ56=\"\",T(Input_Output!FK56),\"\")","v":""},null,null,{"$f":"IF(Input_Output!FM56=\"\",T(Input_Output!FN56),\"\")","v":""},null,null,{"$f":"IF(Input_Output!FP56=\"\",T(Input_Output!FQ56),\"\")","v":""},null,null,{"$f":"IF(Input_Output!FS56=\"\",T(Input_Output!FT56),\"\")","v":""},null,null,{"$f":"IF(Input_Output!FV56=\"\",T(Input_Output!FW56),\"\")","v":""},null,null,{"$f":"IF(Input_Output!FY56=\"\",T(Input_Output!FZ56),\"\")","v":""},null,null,{"$f":"IF(Input_Output!GB56=\"\",T(Input_Output!GC56),\"\")","v":""},null,null,{"$f":"IF(Input_Output!GE56=\"\",T(Input_Output!GF56),\"\")","v":""},null,null,{"$f":"IF(Input_Output!GH56=\"\",T(Input_Output!GI56),\"\")","v":""},null,null,{"$f":"IF(Input_Output!GK56=\"\",T(Input_Output!GL56),\"\")","v":""},null,null,{"$f":"IF(Input_Output!GN56=\"\",T(Input_Output!GO56),\"\")","v":""},null,null,{"$f":"IF(Input_Output!GQ56=\"\",T(Input_Output!GR56),\"\")","v":""},null,null,{"$f":"IF(Input_Output!GT56=\"\",T(Input_Output!GU56),\"\")","v":""},null,null,{"$f":"IF(Input_Output!GW56=\"\",T(Input_Output!GX56),\"\")","v":""},null,null,{"$f":"IF(Input_Output!GZ56=\"\",T(Input_Output!HA56),\"\")","v":""},null,null,{"$f":"IF(Input_Output!HC56=\"\",T(Input_Output!HD56),\"\")","v":""},null,null,{"$f":"IF(Input_Output!HF56=\"\",T(Input_Output!HG56),\"\")","v":""},null,null,{"$f":"IF(Input_Output!HI56=\"\",T(Input_Output!HJ56),\"\")","v":""},null,null,{"$f":"IF(Input_Output!HL56=\"\",T(Input_Output!HM56),\"\")","v":""},null,null,{"$f":"IF(Input_Output!HO56=\"\",T(Input_Output!HP56),\"\")","v":""},null,null,{"$f":"IF(Input_Output!HR56=\"\",T(Input_Output!HS56),\"\")","v":""},null,null,{"$f":"IF(Input_Output!HU56=\"\",T(Input_Output!HV56),\"\")","v":""},null,null,{"$f":"IF(Input_Output!HX56=\"\",T(Input_Output!HY56),\"\")","v":""},null,null,{"$f":"IF(Input_Output!IA56=\"\",T(Input_Output!IB56),\"\")","v":""},null,null,{"$f":"IF(Input_Output!ID56=\"\",T(Input_Output!IE56),\"\")","v":""},null,null,{"$f":"IF(Input_Output!IG56=\"\",T(Input_Output!IH56),\"\")","v":""},null,null,{"$f":"IF(Input_Output!IJ56=\"\",T(Input_Output!IK56),\"\")","v":""},null,null,{"$f":"IF(Input_Output!IM56=\"\",T(Input_Output!IN56),\"\")","v":""},null,null,{"$f":"IF(Input_Output!IP56=\"\",T(Input_Output!IQ56),\"\")","v":""},null,null,{"$f":"IF(Input_Output!IS56=\"\",T(Input_Output!IT56),\"\")","v":""}]
[null,null,null,null,{"$f":"IF(Input_Output!D57=\"\",T(Input_Output!E57),\"\")","v":""},null,null,{"$f":"IF(Input_Output!G57=\"\",T(Input_Output!H57),\"\")","v":""},null,null,{"$f":"IF(Input_Output!J57=\"\",T(Input_Output!K57),\"\")","v":""},null,null,{"$f":"IF(Input_Output!M57=\"\",T(Input_Output!N57),\"\")","v":""},null,null,{"$f":"IF(Input_Output!P57=\"\",T(Input_Output!Q57),\"\")","v":""},null,null,{"$f":"IF(Input_Output!S57=\"\",T(Input_Output!T57),\"\")","v":""},null,null,{"$f":"IF(Input_Output!V57=\"\",T(Input_Output!W57),\"\")","v":""},null,null,{"$f":"IF(Input_Output!Y57=\"\",T(Input_Output!Z57),\"\")","v":""},null,null,{"$f":"IF(Input_Output!AB57=\"\",T(Input_Output!AC57),\"\")","v":""},null,null,{"$f":"IF(Input_Output!AE57=\"\",T(Input_Output!AF57),\"\")","v":""},null,null,{"$f":"IF(Input_Output!AH57=\"\",T(Input_Output!AI57),\"\")","v":""},null,null,{"$f":"IF(Input_Output!AK57=\"\",T(Input_Output!AL57),\"\")","v":""},null,null,{"$f":"IF(Input_Output!AN57=\"\",T(Input_Output!AO57),\"\")","v":""},null,null,{"$f":"IF(Input_Output!AQ57=\"\",T(Input_Output!AR57),\"\")","v":""},null,null,{"$f":"IF(Input_Output!AT57=\"\",T(Input_Output!AU57),\"\")","v":""},null,null,{"$f":"IF(Input_Output!AW57=\"\",T(Input_Output!AX57),\"\")","v":""},null,null,{"$f":"IF(Input_Output!AZ57=\"\",T(Input_Output!BA57),\"\")","v":""},null,null,{"$f":"IF(Input_Output!BC57=\"\",T(Input_Output!BD57),\"\")","v":""},null,null,{"$f":"IF(Input_Output!BF57=\"\",T(Input_Output!BG57),\"\")","v":""},null,null,{"$f":"IF(Input_Output!BI57=\"\",T(Input_Output!BJ57),\"\")","v":""},null,null,{"$f":"IF(Input_Output!BL57=\"\",T(Input_Output!BM57),\"\")","v":""},null,null,{"$f":"IF(Input_Output!BO57=\"\",T(Input_Output!BP57),\"\")","v":""},null,null,{"$f":"IF(Input_Output!BR57=\"\",T(Input_Output!BS57),\"\")","v":""},null,null,{"$f":"IF(Input_Output!BU57=\"\",T(Input_Output!BV57),\"\")","v":""},null,null,{"$f":"IF(Input_Output!BX57=\"\",T(Input_Output!BY57),\"\")","v":""},null,null,{"$f":"IF(Input_Output!CA57=\"\",T(Input_Output!CB57),\"\")","v":""},null,null,{"$f":"IF(Input_Output!CD57=\"\",T(Input_Output!CE57),\"\")","v":""},null,null,{"$f":"IF(Input_Output!CG57=\"\",T(Input_Output!CH57),\"\")","v":""},null,null,{"$f":"IF(Input_Output!CJ57=\"\",T(Input_Output!CK57),\"\")","v":""},null,null,{"$f":"IF(Input_Output!CM57=\"\",T(Input_Output!CN57),\"\")","v":""},null,null,{"$f":"IF(Input_Output!CP57=\"\",T(Input_Output!CQ57),\"\")","v":""},null,null,{"$f":"IF(Input_Output!CS57=\"\",T(Input_Output!CT57),\"\")","v":""},null,null,{"$f":"IF(Input_Output!CV57=\"\",T(Input_Output!CW57),\"\")","v":""},null,null,{"$f":"IF(Input_Output!CY57=\"\",T(Input_Output!CZ57),\"\")","v":""},null,null,{"$f":"IF(Input_Output!DB57=\"\",T(Input_Output!DC57),\"\")","v":""},null,null,{"$f":"IF(Input_Output!DE57=\"\",T(Input_Output!DF57),\"\")","v":""},null,null,{"$f":"IF(Input_Output!DH57=\"\",T(Input_Output!DI57),\"\")","v":""},null,null,{"$f":"IF(Input_Output!DK57=\"\",T(Input_Output!DL57),\"\")","v":""},null,null,{"$f":"IF(Input_Output!DN57=\"\",T(Input_Output!DO57),\"\")","v":""},null,null,{"$f":"IF(Input_Output!DQ57=\"\",T(Input_Output!DR57),\"\")","v":""},null,null,{"$f":"IF(Input_Output!DT57=\"\",T(Input_Output!DU57),\"\")","v":""},null,null,{"$f":"IF(Input_Output!DW57=\"\",T(Input_Output!DX57),\"\")","v":""},null,null,{"$f":"IF(Input_Output!DZ57=\"\",T(Input_Output!EA57),\"\")","v":""},null,null,{"$f":"IF(Input_Output!EC57=\"\",T(Input_Output!ED57),\"\")","v":""},null,null,{"$f":"IF(Input_Output!EF57=\"\",T(Input_Output!EG57),\"\")","v":""},null,null,{"$f":"IF(Input_Output!EI57=\"\",T(Input_Output!EJ57),\"\")","v":""},null,null,{"$f":"IF(Input_Output!EL57=\"\",T(Input_Output!EM57),\"\")","v":""},null,null,{"$f":"IF(Input_Output!EO57=\"\",T(Input_Output!EP57),\"\")","v":""},null,null,{"$f":"IF(Input_Output!ER57=\"\",T(Input_Output!ES57),\"\")","v":""},null,null,{"$f":"IF(Input_Output!EU57=\"\",T(Input_Output!EV57),\"\")","v":""},null,null,{"$f":"IF(Input_Output!EX57=\"\",T(Input_Output!EY57),\"\")","v":""},null,null,{"$f":"IF(Input_Output!FA57=\"\",T(Input_Output!FB57),\"\")","v":""},null,null,{"$f":"IF(Input_Output!FD57=\"\",T(Input_Output!FE57),\"\")","v":""},null,null,{"$f":"IF(Input_Output!FG57=\"\",T(Input_Output!FH57),\"\")","v":""},null,null,{"$f":"IF(Input_Output!FJ57=\"\",T(Input_Output!FK57),\"\")","v":""},null,null,{"$f":"IF(Input_Output!FM57=\"\",T(Input_Output!FN57),\"\")","v":""},null,null,{"$f":"IF(Input_Output!FP57=\"\",T(Input_Output!FQ57),\"\")","v":""},null,null,{"$f":"IF(Input_Output!FS57=\"\",T(Input_Output!FT57),\"\")","v":""},null,null,{"$f":"IF(Input_Output!FV57=\"\",T(Input_Output!FW57),\"\")","v":""},null,null,{"$f":"IF(Input_Output!FY57=\"\",T(Input_Output!FZ57),\"\")","v":""},null,null,{"$f":"IF(Input_Output!GB57=\"\",T(Input_Output!GC57),\"\")","v":""},null,null,{"$f":"IF(Input_Output!GE57=\"\",T(Input_Output!GF57),\"\")","v":""},null,null,{"$f":"IF(Input_Output!GH57=\"\",T(Input_Output!GI57),\"\")","v":""},null,null,{"$f":"IF(Input_Output!GK57=\"\",T(Input_Output!GL57),\"\")","v":""},null,null,{"$f":"IF(Input_Output!GN57=\"\",T(Input_Output!GO57),\"\")","v":""},null,null,{"$f":"IF(Input_Output!GQ57=\"\",T(Input_Output!GR57),\"\")","v":""},null,null,{"$f":"IF(Input_Output!GT57=\"\",T(Input_Output!GU57),\"\")","v":""},null,null,{"$f":"IF(Input_Output!GW57=\"\",T(Input_Output!GX57),\"\")","v":""},null,null,{"$f":"IF(Input_Output!GZ57=\"\",T(Input_Output!HA57),\"\")","v":""},null,null,{"$f":"IF(Input_Output!HC57=\"\",T(Input_Output!HD57),\"\")","v":""},null,null,{"$f":"IF(Input_Output!HF57=\"\",T(Input_Output!HG57),\"\")","v":""},null,null,{"$f":"IF(Input_Output!HI57=\"\",T(Input_Output!HJ57),\"\")","v":""},null,null,{"$f":"IF(Input_Output!HL57=\"\",T(Input_Output!HM57),\"\")","v":""},null,null,{"$f":"IF(Input_Output!HO57=\"\",T(Input_Output!HP57),\"\")","v":""},null,null,{"$f":"IF(Input_Output!HR57=\"\",T(Input_Output!HS57),\"\")","v":""},null,null,{"$f":"IF(Input_Output!HU57=\"\",T(Input_Output!HV57),\"\")","v":""},null,null,{"$f":"IF(Input_Output!HX57=\"\",T(Input_Output!HY57),\"\")","v":""},null,null,{"$f":"IF(Input_Output!IA57=\"\",T(Input_Output!IB57),\"\")","v":""},null,null,{"$f":"IF(Input_Output!ID57=\"\",T(Input_Output!IE57),\"\")","v":""},null,null,{"$f":"IF(Input_Output!IG57=\"\",T(Input_Output!IH57),\"\")","v":""},null,null,{"$f":"IF(Input_Output!IJ57=\"\",T(Input_Output!IK57),\"\")","v":""},null,null,{"$f":"IF(Input_Output!IM57=\"\",T(Input_Output!IN57),\"\")","v":""},null,null,{"$f":"IF(Input_Output!IP57=\"\",T(Input_Output!IQ57),\"\")","v":""},null,null,{"$f":"IF(Input_Output!IS57=\"\",T(Input_Output!IT57),\"\")","v":""}]
[null,null,null,null,{"$f":"IF(Input_Output!D58=\"\",T(Input_Output!E58),\"\")","v":""},null,null,{"$f":"IF(Input_Output!G58=\"\",T(Input_Output!H58),\"\")","v":""},null,null,{"$f":"IF(Input_Output!J58=\"\",T(Input_Output!K58),\"\")","v":""},null,null,{"$f":"IF(Input_Output!M58=\"\",T(Input_Output!N58),\"\")","v":""},null,null,{"$f":"IF(Input_Output!P58=\"\",T(Input_Output!Q58),\"\")","v":""},null,null,{"$f":"IF(Input_Output!S58=\"\",T(Input_Output!T58),\"\")","v":""},null,null,{"$f":"IF(Input_Output!V58=\"\",T(Input_Output!W58),\"\")","v":""},null,null,{"$f":"IF(Input_Output!Y58=\"\",T(Input_Output!Z58),\"\")","v":""},null,null,{"$f":"IF(Input_Output!AB58=\"\",T(Input_Output!AC58),\"\")","v":""},null,null,{"$f":"IF(Input_Output!AE58=\"\",T(Input_Output!AF58),\"\")","v":""},null,null,{"$f":"IF(Input_Output!AH58=\"\",T(Input_Output!AI58),\"\")","v":""},null,null,{"$f":"IF(Input_Output!AK58=\"\",T(Input_Output!AL58),\"\")","v":""},null,null,{"$f":"IF(Input_Output!AN58=\"\",T(Input_Output!AO58),\"\")","v":""},null,null,{"$f":"IF(Input_Output!AQ58=\"\",T(Input_Output!AR58),\"\")","v":""},null,null,{"$f":"IF(Input_Output!AT58=\"\",T(Input_Output!AU58),\"\")","v":""},null,null,{"$f":"IF(Input_Output!AW58=\"\",T(Input_Output!AX58),\"\")","v":""},null,null,{"$f":"IF(Input_Output!AZ58=\"\",T(Input_Output!BA58),\"\")","v":""},null,null,{"$f":"IF(Input_Output!BC58=\"\",T(Input_Output!BD58),\"\")","v":""},null,null,{"$f":"IF(Input_Output!BF58=\"\",T(Input_Output!BG58),\"\")","v":""},null,null,{"$f":"IF(Input_Output!BI58=\"\",T(Input_Output!BJ58),\"\")","v":""},null,null,{"$f":"IF(Input_Output!BL58=\"\",T(Input_Output!BM58),\"\")","v":""},null,null,{"$f":"IF(Input_Output!BO58=\"\",T(Input_Output!BP58),\"\")","v":""},null,null,{"$f":"IF(Input_Output!BR58=\"\",T(Input_Output!BS58),\"\")","v":""},null,null,{"$f":"IF(Input_Output!BU58=\"\",T(Input_Output!BV58),\"\")","v":""},null,null,{"$f":"IF(Input_Output!BX58=\"\",T(Input_Output!BY58),\"\")","v":""},null,null,{"$f":"IF(Input_Output!CA58=\"\",T(Input_Output!CB58),\"\")","v":""},null,null,{"$f":"IF(Input_Output!CD58=\"\",T(Input_Output!CE58),\"\")","v":""},null,null,{"$f":"IF(Input_Output!CG58=\"\",T(Input_Output!CH58),\"\")","v":""},null,null,{"$f":"IF(Input_Output!CJ58=\"\",T(Input_Output!CK58),\"\")","v":""},null,null,{"$f":"IF(Input_Output!CM58=\"\",T(Input_Output!CN58),\"\")","v":""},null,null,{"$f":"IF(Input_Output!CP58=\"\",T(Input_Output!CQ58),\"\")","v":""},null,null,{"$f":"IF(Input_Output!CS58=\"\",T(Input_Output!CT58),\"\")","v":""},null,null,{"$f":"IF(Input_Output!CV58=\"\",T(Input_Output!CW58),\"\")","v":""},null,null,{"$f":"IF(Input_Output!CY58=\"\",T(Input_Output!CZ58),\"\")","v":""},null,null,{"$f":"IF(Input_Output!DB58=\"\",T(Input_Output!DC58),\"\")","v":""},null,null,{"$f":"IF(Input_Output!DE58=\"\",T(Input_Output!DF58),\"\")","v":""},null,null,{"$f":"IF(Input_Output!DH58=\"\",T(Input_Output!DI58),\"\")","v":""},null,null,{"$f":"IF(Input_Output!DK58=\"\",T(Input_Output!DL58),\"\")","v":""},null,null,{"$f":"IF(Input_Output!DN58=\"\",T(Input_Output!DO58),\"\")","v":""},null,null,{"$f":"IF(Input_Output!DQ58=\"\",T(Input_Output!DR58),\"\")","v":""},null,null,{"$f":"IF(Input_Output!DT58=\"\",T(Input_Output!DU58),\"\")","v":""},null,null,{"$f":"IF(Input_Output!DW58=\"\",T(Input_Output!DX58),\"\")","v":""},null,null,{"$f":"IF(Input_Output!DZ58=\"\",T(Input_Output!EA58),\"\")","v":""},null,null,{"$f":"IF(Input_Output!EC58=\"\",T(Input_Output!ED58),\"\")","v":""},null,null,{"$f":"IF(Input_Output!EF58=\"\",T(Input_Output!EG58),\"\")","v":""},null,null,{"$f":"IF(Input_Output!EI58=\"\",T(Input_Output!EJ58),\"\")","v":""},null,null,{"$f":"IF(Input_Output!EL58=\"\",T(Input_Output!EM58),\"\")","v":""},null,null,{"$f":"IF(Input_Output!EO58=\"\",T(Input_Output!EP58),\"\")","v":""},null,null,{"$f":"IF(Input_Output!ER58=\"\",T(Input_Output!ES58),\"\")","v":""},null,null,{"$f":"IF(Input_Output!EU58=\"\",T(Input_Output!EV58),\"\")","v":""},null,null,{"$f":"IF(Input_Output!EX58=\"\",T(Input_Output!EY58),\"\")","v":""},null,null,{"$f":"IF(Input_Output!FA58=\"\",T(Input_Output!FB58),\"\")","v":""},null,null,{"$f":"IF(Input_Output!FD58=\"\",T(Input_Output!FE58),\"\")","v":""},null,null,{"$f":"IF(Input_Output!FG58=\"\",T(Input_Output!FH58),\"\")","v":""},null,null,{"$f":"IF(Input_Output!FJ58=\"\",T(Input_Output!FK58),\"\")","v":""},null,null,{"$f":"IF(Input_Output!FM58=\"\",T(Input_Output!FN58),\"\")","v":""},null,null,{"$f":"IF(Input_Output!FP58=\"\",T(Input_Output!FQ58),\"\")","v":""},null,null,{"$f":"IF(Input_Output!FS58=\"\",T(Input_Output!FT58),\"\")","v":""},null,null,{"$f":"IF(Input_Output!FV58=\"\",T(Input_Output!FW58),\"\")","v":""},null,null,{"$f":"IF(Input_Output!FY58=\"\",T(Input_Output!FZ58),\"\")","v":""},null,null,{"$f":"IF(Input_Output!GB58=\"\",T(Input_Output!GC58),\"\")","v":""},null,null,{"$f":"IF(Input_Output!GE58=\"\",T(Input_Output!GF58),\"\")","v":""},null,null,{"$f":"IF(Input_Output!GH58=\"\",T(Input_Output!GI58),\"\")","v":""},null,null,{"$f":"IF(Input_Output!GK58=\"\",T(Input_Output!GL58),\"\")","v":""},null,null,{"$f":"IF(Input_Output!GN58=\"\",T(Input_Output!GO58),\"\")","v":""},null,null,{"$f":"IF(Input_Output!GQ58=\"\",T(Input_Output!GR58),\"\")","v":""},null,null,{"$f":"IF(Input_Output!GT58=\"\",T(Input_Output!GU58),\"\")","v":""},null,null,{"$f":"IF(Input_Output!GW58=\"\",T(Input_Output!GX58),\"\")","v":""},null,null,{"$f":"IF(Input_Output!GZ58=\"\",T(Input_Output!HA58),\"\")","v":""},null,null,{"$f":"IF(Input_Output!HC58=\"\",T(Input_Output!HD58),\"\")","v":""},null,null,{"$f":"IF(Input_Output!HF58=\"\",T(Input_Output!HG58),\"\")","v":""},null,null,{"$f":"IF(Input_Output!HI58=\"\",T(Input_Output!HJ58),\"\")","v":""},null,null,{"$f":"IF(Input_Output!HL58=\"\",T(Input_Output!HM58),\"\")","v":""},null,null,{"$f":"IF(Input_Output!HO58=\"\",T(Input_Output!HP58),\"\")","v":""},null,null,{"$f":"IF(Input_Output!HR58=\"\",T(Input_Output!HS58),\"\")","v":""},null,null,{"$f":"IF(Input_Output!HU58=\"\",T(Input_Output!HV58),\"\")","v":""},null,null,{"$f":"IF(Input_Output!HX58=\"\",T(Input_Output!HY58),\"\")","v":""},null,null,{"$f":"IF(Input_Output!IA58=\"\",T(Input_Output!IB58),\"\")","v":""},null,null,{"$f":"IF(Input_Output!ID58=\"\",T(Input_Output!IE58),\"\")","v":""},null,null,{"$f":"IF(Input_Output!IG58=\"\",T(Input_Output!IH58),\"\")","v":""},null,null,{"$f":"IF(Input_Output!IJ58=\"\",T(Input_Output!IK58),\"\")","v":""},null,null,{"$f":"IF(Input_Output!IM58=\"\",T(Input_Output!IN58),\"\")","v":""},null,null,{"$f":"IF(Input_Output!IP58=\"\",T(Input_Output!IQ58),\"\")","v":""},null,null,{"$f":"IF(Input_Output!IS58=\"\",T(Input_Output!IT58),\"\")","v":""}]
[null,null,null,null,{"$f":"IF(Input_Output!D59=\"\",T(Input_Output!E59),\"\")","v":""},null,null,{"$f":"IF(Input_Output!G59=\"\",T(Input_Output!H59),\"\")","v":""},null,null,{"$f":"IF(Input_Output!J59=\"\",T(Input_Output!K59),\"\")","v":""},null,null,{"$f":"IF(Input_Output!M59=\"\",T(Input_Output!N59),\"\")","v":""},null,null,{"$f":"IF(Input_Output!P59=\"\",T(Input_Output!Q59),\"\")","v":""},null,null,{"$f":"IF(Input_Output!S59=\"\",T(Input_Output!T59),\"\")","v":""},null,null,{"$f":"IF(Input_Output!V59=\"\",T(Input_Output!W59),\"\")","v":""},null,null,{"$f":"IF(Input_Output!Y59=\"\",T(Input_Output!Z59),\"\")","v":""},null,null,{"$f":"IF(Input_Output!AB59=\"\",T(Input_Output!AC59),\"\")","v":""},null,null,{"$f":"IF(Input_Output!AE59=\"\",T(Input_Output!AF59),\"\")","v":""},null,null,{"$f":"IF(Input_Output!AH59=\"\",T(Input_Output!AI59),\"\")","v":""},null,null,{"$f":"IF(Input_Output!AK59=\"\",T(Input_Output!AL59),\"\")","v":""},null,null,{"$f":"IF(Input_Output!AN59=\"\",T(Input_Output!AO59),\"\")","v":""},null,null,{"$f":"IF(Input_Output!AQ59=\"\",T(Input_Output!AR59),\"\")","v":""},null,null,{"$f":"IF(Input_Output!AT59=\"\",T(Input_Output!AU59),\"\")","v":""},null,null,{"$f":"IF(Input_Output!AW59=\"\",T(Input_Output!AX59),\"\")","v":""},null,null,{"$f":"IF(Input_Output!AZ59=\"\",T(Input_Output!BA59),\"\")","v":""},null,null,{"$f":"IF(Input_Output!BC59=\"\",T(Input_Output!BD59),\"\")","v":""},null,null,{"$f":"IF(Input_Output!BF59=\"\",T(Input_Output!BG59),\"\")","v":""},null,null,{"$f":"IF(Input_Output!BI59=\"\",T(Input_Output!BJ59),\"\")","v":""},null,null,{"$f":"IF(Input_Output!BL59=\"\",T(Input_Output!BM59),\"\")","v":""},null,null,{"$f":"IF(Input_Output!BO59=\"\",T(Input_Output!BP59),\"\")","v":""},null,null,{"$f":"IF(Input_Output!BR59=\"\",T(Input_Output!BS59),\"\")","v":""},null,null,{"$f":"IF(Input_Output!BU59=\"\",T(Input_Output!BV59),\"\")","v":""},null,null,{"$f":"IF(Input_Output!BX59=\"\",T(Input_Output!BY59),\"\")","v":""},null,null,{"$f":"IF(Input_Output!CA59=\"\",T(Input_Output!CB59),\"\")","v":""},null,null,{"$f":"IF(Input_Output!CD59=\"\",T(Input_Output!CE59),\"\")","v":""},null,null,{"$f":"IF(Input_Output!CG59=\"\",T(Input_Output!CH59),\"\")","v":""},null,null,{"$f":"IF(Input_Output!CJ59=\"\",T(Input_Output!CK59),\"\")","v":""},null,null,{"$f":"IF(Input_Output!CM59=\"\",T(Input_Output!CN59),\"\")","v":""},null,null,{"$f":"IF(Input_Output!CP59=\"\",T(Input_Output!CQ59),\"\")","v":""},null,null,{"$f":"IF(Input_Output!CS59=\"\",T(Input_Output!CT59),\"\")","v":""},null,null,{"$f":"IF(Input_Output!CV59=\"\",T(Input_Output!CW59),\"\")","v":""},null,null,{"$f":"IF(Input_Output!CY59=\"\",T(Input_Output!CZ59),\"\")","v":""},null,null,{"$f":"IF(Input_Output!DB59=\"\",T(Input_Output!DC59),\"\")","v":""},null,null,{"$f":"IF(Input_Output!DE59=\"\",T(Input_Output!DF59),\"\")","v":""},null,null,{"$f":"IF(Input_Output!DH59=\"\",T(Input_Output!DI59),\"\")","v":""},null,null,{"$f":"IF(Input_Output!DK59=\"\",T(Input_Output!DL59),\"\")","v":""},null,null,{"$f":"IF(Input_Output!DN59=\"\",T(Input_Output!DO59),\"\")","v":""},null,null,{"$f":"IF(Input_Output!DQ59=\"\",T(Input_Output!DR59),\"\")","v":""},null,null,{"$f":"IF(Input_Output!DT59=\"\",T(Input_Output!DU59),\"\")","v":""},null,null,{"$f":"IF(Input_Output!DW59=\"\",T(Input_Output!DX59),\"\")","v":""},null,null,{"$f":"IF(Input_Output!DZ59=\"\",T(Input_Output!EA59),\"\")","v":""},null,null,{"$f":"IF(Input_Output!EC59=\"\",T(Input_Output!ED59),\"\")","v":""},null,null,{"$f":"IF(Input_Output!EF59=\"\",T(Input_Output!EG59),\"\")","v":""},null,null,{"$f":"IF(Input_Output!EI59=\"\",T(Input_Output!EJ59),\"\")","v":""},null,null,{"$f":"IF(Input_Output!EL59=\"\",T(Input_Output!EM59),\"\")","v":""},null,null,{"$f":"IF(Input_Output!EO59=\"\",T(Input_Output!EP59),\"\")","v":""},null,null,{"$f":"IF(Input_Output!ER59=\"\",T(Input_Output!ES59),\"\")","v":""},null,null,{"$f":"IF(Input_Output!EU59=\"\",T(Input_Output!EV59),\"\")","v":""},null,null,{"$f":"IF(Input_Output!EX59=\"\",T(Input_Output!EY59),\"\")","v":""},null,null,{"$f":"IF(Input_Output!FA59=\"\",T(Input_Output!FB59),\"\")","v":""},null,null,{"$f":"IF(Input_Output!FD59=\"\",T(Input_Output!FE59),\"\")","v":""},null,null,{"$f":"IF(Input_Output!FG59=\"\",T(Input_Output!FH59),\"\")","v":""},null,null,{"$f":"IF(Input_Output!FJ59=\"\",T(Input_Output!FK59),\"\")","v":""},null,null,{"$f":"IF(Input_Output!FM59=\"\",T(Input_Output!FN59),\"\")","v":""},null,null,{"$f":"IF(Input_Output!FP59=\"\",T(Input_Output!FQ59),\"\")","v":""},null,null,{"$f":"IF(Input_Output!FS59=\"\",T(Input_Output!FT59),\"\")","v":""},null,null,{"$f":"IF(Input_Output!FV59=\"\",T(Input_Output!FW59),\"\")","v":""},null,null,{"$f":"IF(Input_Output!FY59=\"\",T(Input_Output!FZ59),\"\")","v":""},null,null,{"$f":"IF(Input_Output!GB59=\"\",T(Input_Output!GC59),\"\")","v":""},null,null,{"$f":"IF(Input_Output!GE59=\"\",T(Input_Output!GF59),\"\")","v":""},null,null,{"$f":"IF(Input_Output!GH59=\"\",T(Input_Output!GI59),\"\")","v":""},null,null,{"$f":"IF(Input_Output!GK59=\"\",T(Input_Output!GL59),\"\")","v":""},null,null,{"$f":"IF(Input_Output!GN59=\"\",T(Input_Output!GO59),\"\")","v":""},null,null,{"$f":"IF(Input_Output!GQ59=\"\",T(Input_Output!GR59),\"\")","v":""},null,null,{"$f":"IF(Input_Output!GT59=\"\",T(Input_Output!GU59),\"\")","v":""},null,null,{"$f":"IF(Input_Output!GW59=\"\",T(Input_Output!GX59),\"\")","v":""},null,null,{"$f":"IF(Input_Output!GZ59=\"\",T(Input_Output!HA59),\"\")","v":""},null,null,{"$f":"IF(Input_Output!HC59=\"\",T(Input_Output!HD59),\"\")","v":""},null,null,{"$f":"IF(Input_Output!HF59=\"\",T(Input_Output!HG59),\"\")","v":""},null,null,{"$f":"IF(Input_Output!HI59=\"\",T(Input_Output!HJ59),\"\")","v":""},null,null,{"$f":"IF(Input_Output!HL59=\"\",T(Input_Output!HM59),\"\")","v":""},null,null,{"$f":"IF(Input_Output!HO59=\"\",T(Input_Output!HP59),\"\")","v":""},null,null,{"$f":"IF(Input_Output!HR59=\"\",T(Input_Output!HS59),\"\")","v":""},null,null,{"$f":"IF(Input_Output!HU59=\"\",T(Input_Output!HV59),\"\")","v":""},null,null,{"$f":"IF(Input_Output!HX59=\"\",T(Input_Output!HY59),\"\")","v":""},null,null,{"$f":"IF(Input_Output!IA59=\"\",T(Input_Output!IB59),\"\")","v":""},null,null,{"$f":"IF(Input_Output!ID59=\"\",T(Input_Output!IE59),\"\")","v":""},null,null,{"$f":"IF(Input_Output!IG59=\"\",T(Input_Output!IH59),\"\")","v":""},null,null,{"$f":"IF(Input_Output!IJ59=\"\",T(Input_Output!IK59),\"\")","v":""},null,null,{"$f":"IF(Input_Output!IM59=\"\",T(Input_Output!IN59),\"\")","v":""},null,null,{"$f":"IF(Input_Output!IP59=\"\",T(Input_Output!IQ59),\"\")","v":""},null,null,{"$f":"IF(Input_Output!IS59=\"\",T(Input_Output!IT59),\"\")","v":""}]
[null,null,null,null,{"$f":"IF(Input_Output!D60=\"\",T(Input_Output!E60),\"\")","v":""},null,null,{"$f":"IF(Input_Output!G60=\"\",T(Input_Output!H60),\"\")","v":""},null,null,{"$f":"IF(Input_Output!J60=\"\",T(Input_Output!K60),\"\")","v":""},null,null,{"$f":"IF(Input_Output!M60=\"\",T(Input_Output!N60),\"\")","v":""},null,null,{"$f":"IF(Input_Output!P60=\"\",T(Input_Output!Q60),\"\")","v":""},null,null,{"$f":"IF(Input_Output!S60=\"\",T(Input_Output!T60),\"\")","v":""},null,null,{"$f":"IF(Input_Output!V60=\"\",T(Input_Output!W60),\"\")","v":""},null,null,{"$f":"IF(Input_Output!Y60=\"\",T(Input_Output!Z60),\"\")","v":""},null,null,{"$f":"IF(Input_Output!AB60=\"\",T(Input_Output!AC60),\"\")","v":""},null,null,{"$f":"IF(Input_Output!AE60=\"\",T(Input_Output!AF60),\"\")","v":""},null,null,{"$f":"IF(Input_Output!AH60=\"\",T(Input_Output!AI60),\"\")","v":""},null,null,{"$f":"IF(Input_Output!AK60=\"\",T(Input_Output!AL60),\"\")","v":""},null,null,{"$f":"IF(Input_Output!AN60=\"\",T(Input_Output!AO60),\"\")","v":""},null,null,{"$f":"IF(Input_Output!AQ60=\"\",T(Input_Output!AR60),\"\")","v":""},null,null,{"$f":"IF(Input_Output!AT60=\"\",T(Input_Output!AU60),\"\")","v":""},null,null,{"$f":"IF(Input_Output!AW60=\"\",T(Input_Output!AX60),\"\")","v":""},null,null,{"$f":"IF(Input_Output!AZ60=\"\",T(Input_Output!BA60),\"\")","v":""},null,null,{"$f":"IF(Input_Output!BC60=\"\",T(Input_Output!BD60),\"\")","v":""},null,null,{"$f":"IF(Input_Output!BF60=\"\",T(Input_Output!BG60),\"\")","v":""},null,null,{"$f":"IF(Input_Output!BI60=\"\",T(Input_Output!BJ60),\"\")","v":""},null,null,{"$f":"IF(Input_Output!BL60=\"\",T(Input_Output!BM60),\"\")","v":""},null,null,{"$f":"IF(Input_Output!BO60=\"\",T(Input_Output!BP60),\"\")","v":""},null,null,{"$f":"IF(Input_Output!BR60=\"\",T(Input_Output!BS60),\"\")","v":""},null,null,{"$f":"IF(Input_Output!BU60=\"\",T(Input_Output!BV60),\"\")","v":""},null,null,{"$f":"IF(Input_Output!BX60=\"\",T(Input_Output!BY60),\"\")","v":""},null,null,{"$f":"IF(Input_Output!CA60=\"\",T(Input_Output!CB60),\"\")","v":""},null,null,{"$f":"IF(Input_Output!CD60=\"\",T(Input_Output!CE60),\"\")","v":""},null,null,{"$f":"IF(Input_Output!CG60=\"\",T(Input_Output!CH60),\"\")","v":""},null,null,{"$f":"IF(Input_Output!CJ60=\"\",T(Input_Output!CK60),\"\")","v":""},null,null,{"$f":"IF(Input_Output!CM60=\"\",T(Input_Output!CN60),\"\")","v":""},null,null,{"$f":"IF(Input_Output!CP60=\"\",T(Input_Output!CQ60),\"\")","v":""},null,null,{"$f":"IF(Input_Output!CS60=\"\",T(Input_Output!CT60),\"\")","v":""},null,null,{"$f":"IF(Input_Output!CV60=\"\",T(Input_Output!CW60),\"\")","v":""},null,null,{"$f":"IF(Input_Output!CY60=\"\",T(Input_Output!CZ60),\"\")","v":""},null,null,{"$f":"IF(Input_Output!DB60=\"\",T(Input_Output!DC60),\"\")","v":""},null,null,{"$f":"IF(Input_Output!DE60=\"\",T(Input_Output!DF60),\"\")","v":""},null,null,{"$f":"IF(Input_Output!DH60=\"\",T(Input_Output!DI60),\"\")","v":""},null,null,{"$f":"IF(Input_Output!DK60=\"\",T(Input_Output!DL60),\"\")","v":""},null,null,{"$f":"IF(Input_Output!DN60=\"\",T(Input_Output!DO60),\"\")","v":""},null,null,{"$f":"IF(Input_Output!DQ60=\"\",T(Input_Output!DR60),\"\")","v":""},null,null,{"$f":"IF(Input_Output!DT60=\"\",T(Input_Output!DU60),\"\")","v":""},null,null,{"$f":"IF(Input_Output!DW60=\"\",T(Input_Output!DX60),\"\")","v":""},null,null,{"$f":"IF(Input_Output!DZ60=\"\",T(Input_Output!EA60),\"\")","v":""},null,null,{"$f":"IF(Input_Output!EC60=\"\",T(Input_Output!ED60),\"\")","v":""},null,null,{"$f":"IF(Input_Output!EF60=\"\",T(Input_Output!EG60),\"\")","v":""},null,null,{"$f":"IF(Input_Output!EI60=\"\",T(Input_Output!EJ60),\"\")","v":""},null,null,{"$f":"IF(Input_Output!EL60=\"\",T(Input_Output!EM60),\"\")","v":""},null,null,{"$f":"IF(Input_Output!EO60=\"\",T(Input_Output!EP60),\"\")","v":""},null,null,{"$f":"IF(Input_Output!ER60=\"\",T(Input_Output!ES60),\"\")","v":""},null,null,{"$f":"IF(Input_Output!EU60=\"\",T(Input_Output!EV60),\"\")","v":""},null,null,{"$f":"IF(Input_Output!EX60=\"\",T(Input_Output!EY60),\"\")","v":""},null,null,{"$f":"IF(Input_Output!FA60=\"\",T(Input_Output!FB60),\"\")","v":""},null,null,{"$f":"IF(Input_Output!FD60=\"\",T(Input_Output!FE60),\"\")","v":""},null,null,{"$f":"IF(Input_Output!FG60=\"\",T(Input_Output!FH60),\"\")","v":""},null,null,{"$f":"IF(Input_Output!FJ60=\"\",T(Input_Output!FK60),\"\")","v":""},null,null,{"$f":"IF(Input_Output!FM60=\"\",T(Input_Output!FN60),\"\")","v":""},null,null,{"$f":"IF(Input_Output!FP60=\"\",T(Input_Output!FQ60),\"\")","v":""},null,null,{"$f":"IF(Input_Output!FS60=\"\",T(Input_Output!FT60),\"\")","v":""},null,null,{"$f":"IF(Input_Output!FV60=\"\",T(Input_Output!FW60),\"\")","v":""},null,null,{"$f":"IF(Input_Output!FY60=\"\",T(Input_Output!FZ60),\"\")","v":""},null,null,{"$f":"IF(Input_Output!GB60=\"\",T(Input_Output!GC60),\"\")","v":""},null,null,{"$f":"IF(Input_Output!GE60=\"\",T(Input_Output!GF60),\"\")","v":""},null,null,{"$f":"IF(Input_Output!GH60=\"\",T(Input_Output!GI60),\"\")","v":""},null,null,{"$f":"IF(Input_Output!GK60=\"\",T(Input_Output!GL60),\"\")","v":""},null,null,{"$f":"IF(Input_Output!GN60=\"\",T(Input_Output!GO60),\"\")","v":""},null,null,{"$f":"IF(Input_Output!GQ60=\"\",T(Input_Output!GR60),\"\")","v":""},null,null,{"$f":"IF(Input_Output!GT60=\"\",T(Input_Output!GU60),\"\")","v":""},null,null,{"$f":"IF(Input_Output!GW60=\"\",T(Input_Output!GX60),\"\")","v":""},null,null,{"$f":"IF(Input_Output!GZ60=\"\",T(Input_Output!HA60),\"\")","v":""},null,null,{"$f":"IF(Input_Output!HC60=\"\",T(Input_Output!HD60),\"\")","v":""},null,null,{"$f":"IF(Input_Output!HF60=\"\",T(Input_Output!HG60),\"\")","v":""},null,null,{"$f":"IF(Input_Output!HI60=\"\",T(Input_Output!HJ60),\"\")","v":""},null,null,{"$f":"IF(Input_Output!HL60=\"\",T(Input_Output!HM60),\"\")","v":""},null,null,{"$f":"IF(Input_Output!HO60=\"\",T(Input_Output!HP60),\"\")","v":""},null,null,{"$f":"IF(Input_Output!HR60=\"\",T(Input_Output!HS60),\"\")","v":""},null,null,{"$f":"IF(Input_Output!HU60=\"\",T(Input_Output!HV60),\"\")","v":""},null,null,{"$f":"IF(Input_Output!HX60=\"\",T(Input_Output!HY60),\"\")","v":""},null,null,{"$f":"IF(Input_Output!IA60=\"\",T(Input_Output!IB60),\"\")","v":""},null,null,{"$f":"IF(Input_Output!ID60=\"\",T(Input_Output!IE60),\"\")","v":""},null,null,{"$f":"IF(Input_Output!IG60=\"\",T(Input_Output!IH60),\"\")","v":""},null,null,{"$f":"IF(Input_Output!IJ60=\"\",T(Input_Output!IK60),\"\")","v":""},null,null,{"$f":"IF(Input_Output!IM60=\"\",T(Input_Output!IN60),\"\")","v":""},null,null,{"$f":"IF(Input_Output!IP60=\"\",T(Input_Output!IQ60),\"\")","v":""},null,null,{"$f":"IF(Input_Output!IS60=\"\",T(Input_Output!IT60),\"\")","v":""}]
[null,null,null,null,{"$f":"IF(Input_Output!D61=\"\",T(Input_Output!E61),\"\")","v":""},null,null,{"$f":"IF(Input_Output!G61=\"\",T(Input_Output!H61),\"\")","v":""},null,null,{"$f":"IF(Input_Output!J61=\"\",T(Input_Output!K61),\"\")","v":""},null,null,{"$f":"IF(Input_Output!M61=\"\",T(Input_Output!N61),\"\")","v":""},null,null,{"$f":"IF(Input_Output!P61=\"\",T(Input_Output!Q61),\"\")","v":""},null,null,{"$f":"IF(Input_Output!S61=\"\",T(Input_Output!T61),\"\")","v":""},null,null,{"$f":"IF(Input_Output!V61=\"\",T(Input_Output!W61),\"\")","v":""},null,null,{"$f":"IF(Input_Output!Y61=\"\",T(Input_Output!Z61),\"\")","v":""},null,null,{"$f":"IF(Input_Output!AB61=\"\",T(Input_Output!AC61),\"\")","v":""},null,null,{"$f":"IF(Input_Output!AE61=\"\",T(Input_Output!AF61),\"\")","v":""},null,null,{"$f":"IF(Input_Output!AH61=\"\",T(Input_Output!AI61),\"\")","v":""},null,null,{"$f":"IF(Input_Output!AK61=\"\",T(Input_Output!AL61),\"\")","v":""},null,null,{"$f":"IF(Input_Output!AN61=\"\",T(Input_Output!AO61),\"\")","v":""},null,null,{"$f":"IF(Input_Output!AQ61=\"\",T(Input_Output!AR61),\"\")","v":""},null,null,{"$f":"IF(Input_Output!AT61=\"\",T(Input_Output!AU61),\"\")","v":""},null,null,{"$f":"IF(Input_Output!AW61=\"\",T(Input_Output!AX61),\"\")","v":""},null,null,{"$f":"IF(Input_Output!AZ61=\"\",T(Input_Output!BA61),\"\")","v":""},null,null,{"$f":"IF(Input_Output!BC61=\"\",T(Input_Output!BD61),\"\")","v":""},null,null,{"$f":"IF(Input_Output!BF61=\"\",T(Input_Output!BG61),\"\")","v":""},null,null,{"$f":"IF(Input_Output!BI61=\"\",T(Input_Output!BJ61),\"\")","v":""},null,null,{"$f":"IF(Input_Output!BL61=\"\",T(Input_Output!BM61),\"\")","v":""},null,null,{"$f":"IF(Input_Output!BO61=\"\",T(Input_Output!BP61),\"\")","v":""},null,null,{"$f":"IF(Input_Output!BR61=\"\",T(Input_Output!BS61),\"\")","v":""},null,null,{"$f":"IF(Input_Output!BU61=\"\",T(Input_Output!BV61),\"\")","v":""},null,null,{"$f":"IF(Input_Output!BX61=\"\",T(Input_Output!BY61),\"\")","v":""},null,null,{"$f":"IF(Input_Output!CA61=\"\",T(Input_Output!CB61),\"\")","v":""},null,null,{"$f":"IF(Input_Output!CD61=\"\",T(Input_Output!CE61),\"\")","v":""},null,null,{"$f":"IF(Input_Output!CG61=\"\",T(Input_Output!CH61),\"\")","v":""},null,null,{"$f":"IF(Input_Output!CJ61=\"\",T(Input_Output!CK61),\"\")","v":""},null,null,{"$f":"IF(Input_Output!CM61=\"\",T(Input_Output!CN61),\"\")","v":""},null,null,{"$f":"IF(Input_Output!CP61=\"\",T(Input_Output!CQ61),\"\")","v":""},null,null,{"$f":"IF(Input_Output!CS61=\"\",T(Input_Output!CT61),\"\")","v":""},null,null,{"$f":"IF(Input_Output!CV61=\"\",T(Input_Output!CW61),\"\")","v":""},null,null,{"$f":"IF(Input_Output!CY61=\"\",T(Input_Output!CZ61),\"\")","v":""},null,null,{"$f":"IF(Input_Output!DB61=\"\",T(Input_Output!DC61),\"\")","v":""},null,null,{"$f":"IF(Input_Output!DE61=\"\",T(Input_Output!DF61),\"\")","v":""},null,null,{"$f":"IF(Input_Output!DH61=\"\",T(Input_Output!DI61),\"\")","v":""},null,null,{"$f":"IF(Input_Output!DK61=\"\",T(Input_Output!DL61),\"\")","v":""},null,null,{"$f":"IF(Input_Output!DN61=\"\",T(Input_Output!DO61),\"\")","v":""},null,null,{"$f":"IF(Input_Output!DQ61=\"\",T(Input_Output!DR61),\"\")","v":""},null,null,{"$f":"IF(Input_Output!DT61=\"\",T(Input_Output!DU61),\"\")","v":""},null,null,{"$f":"IF(Input_Output!DW61=\"\",T(Input_Output!DX61),\"\")","v":""},null,null,{"$f":"IF(Input_Output!DZ61=\"\",T(Input_Output!EA61),\"\")","v":""},null,null,{"$f":"IF(Input_Output!EC61=\"\",T(Input_Output!ED61),\"\")","v":""},null,null,{"$f":"IF(Input_Output!EF61=\"\",T(Input_Output!EG61),\"\")","v":""},null,null,{"$f":"IF(Input_Output!EI61=\"\",T(Input_Output!EJ61),\"\")","v":""},null,null,{"$f":"IF(Input_Output!EL61=\"\",T(Input_Output!EM61),\"\")","v":""},null,null,{"$f":"IF(Input_Output!EO61=\"\",T(Input_Output!EP61),\"\")","v":""},null,null,{"$f":"IF(Input_Output!ER61=\"\",T(Input_Output!ES61),\"\")","v":""},null,null,{"$f":"IF(Input_Output!EU61=\"\",T(Input_Output!EV61),\"\")","v":""},null,null,{"$f":"IF(Input_Output!EX61=\"\",T(Input_Output!EY61),\"\")","v":""},null,null,{"$f":"IF(Input_Output!FA61=\"\",T(Input_Output!FB61),\"\")","v":""},null,null,{"$f":"IF(Input_Output!FD61=\"\",T(Input_Output!FE61),\"\")","v":""},null,null,{"$f":"IF(Input_Output!FG61=\"\",T(Input_Output!FH61),\"\")","v":""},null,null,{"$f":"IF(Input_Output!FJ61=\"\",T(Input_Output!FK61),\"\")","v":""},null,null,{"$f":"IF(Input_Output!FM61=\"\",T(Input_Output!FN61),\"\")","v":""},null,null,{"$f":"IF(Input_Output!FP61=\"\",T(Input_Output!FQ61),\"\")","v":""},null,null,{"$f":"IF(Input_Output!FS61=\"\",T(Input_Output!FT61),\"\")","v":""},null,null,{"$f":"IF(Input_Output!FV61=\"\",T(Input_Output!FW61),\"\")","v":""},null,null,{"$f":"IF(Input_Output!FY61=\"\",T(Input_Output!FZ61),\"\")","v":""},null,null,{"$f":"IF(Input_Output!GB61=\"\",T(Input_Output!GC61),\"\")","v":""},null,null,{"$f":"IF(Input_Output!GE61=\"\",T(Input_Output!GF61),\"\")","v":""},null,null,{"$f":"IF(Input_Output!GH61=\"\",T(Input_Output!GI61),\"\")","v":""},null,null,{"$f":"IF(Input_Output!GK61=\"\",T(Input_Output!GL61),\"\")","v":""},null,null,{"$f":"IF(Input_Output!GN61=\"\",T(Input_Output!GO61),\"\")","v":""},null,null,{"$f":"IF(Input_Output!GQ61=\"\",T(Input_Output!GR61),\"\")","v":""},null,null,{"$f":"IF(Input_Output!GT61=\"\",T(Input_Output!GU61),\"\")","v":""},null,null,{"$f":"IF(Input_Output!GW61=\"\",T(Input_Output!GX61),\"\")","v":""},null,null,{"$f":"IF(Input_Output!GZ61=\"\",T(Input_Output!HA61),\"\")","v":""},null,null,{"$f":"IF(Input_Output!HC61=\"\",T(Input_Output!HD61),\"\")","v":""},null,null,{"$f":"IF(Input_Output!HF61=\"\",T(Input_Output!HG61),\"\")","v":""},null,null,{"$f":"IF(Input_Output!HI61=\"\",T(Input_Output!HJ61),\"\")","v":""},null,null,{"$f":"IF(Input_Output!HL61=\"\",T(Input_Output!HM61),\"\")","v":""},null,null,{"$f":"IF(Input_Output!HO61=\"\",T(Input_Output!HP61),\"\")","v":""},null,null,{"$f":"IF(Input_Output!HR61=\"\",T(Input_Output!HS61),\"\")","v":""},null,null,{"$f":"IF(Input_Output!HU61=\"\",T(Input_Output!HV61),\"\")","v":""},null,null,{"$f":"IF(Input_Output!HX61=\"\",T(Input_Output!HY61),\"\")","v":""},null,null,{"$f":"IF(Input_Output!IA61=\"\",T(Input_Output!IB61),\"\")","v":""},null,null,{"$f":"IF(Input_Output!ID61=\"\",T(Input_Output!IE61),\"\")","v":""},null,null,{"$f":"IF(Input_Output!IG61=\"\",T(Input_Output!IH61),\"\")","v":""},null,null,{"$f":"IF(Input_Output!IJ61=\"\",T(Input_Output!IK61),\"\")","v":""},null,null,{"$f":"IF(Input_Output!IM61=\"\",T(Input_Output!IN61),\"\")","v":""},null,null,{"$f":"IF(Input_Output!IP61=\"\",T(Input_Output!IQ61),\"\")","v":""},null,null,{"$f":"IF(Input_Output!IS61=\"\",T(Input_Output!IT61),\"\")","v":""}]
[null,null,null,null,{"$f":"IF(Input_Output!D62=\"\",T(Input_Output!E62),\"\")","v":""},null,null,{"$f":"IF(Input_Output!G62=\"\",T(Input_Output!H62),\"\")","v":""},null,null,{"$f":"IF(Input_Output!J62=\"\",T(Input_Output!K62),\"\")","v":""},null,null,{"$f":"IF(Input_Output!M62=\"\",T(Input_Output!N62),\"\")","v":""},null,null,{"$f":"IF(Input_Output!P62=\"\",T(Input_Output!Q62),\"\")","v":""},null,null,{"$f":"IF(Input_Output!S62=\"\",T(Input_Output!T62),\"\")","v":""},null,null,{"$f":"IF(Input_Output!V62=\"\",T(Input_Output!W62),\"\")","v":""},null,null,{"$f":"IF(Input_Output!Y62=\"\",T(Input_Output!Z62),\"\")","v":""},null,null,{"$f":"IF(Input_Output!AB62=\"\",T(Input_Output!AC62),\"\")","v":""},null,null,{"$f":"IF(Input_Output!AE62=\"\",T(Input_Output!AF62),\"\")","v":""},null,null,{"$f":"IF(Input_Output!AH62=\"\",T(Input_Output!AI62),\"\")","v":""},null,null,{"$f":"IF(Input_Output!AK62=\"\",T(Input_Output!AL62),\"\")","v":""},null,null,{"$f":"IF(Input_Output!AN62=\"\",T(Input_Output!AO62),\"\")","v":""},null,null,{"$f":"IF(Input_Output!AQ62=\"\",T(Input_Output!AR62),\"\")","v":""},null,null,{"$f":"IF(Input_Output!AT62=\"\",T(Input_Output!AU62),\"\")","v":""},null,null,{"$f":"IF(Input_Output!AW62=\"\",T(Input_Output!AX62),\"\")","v":""},null,null,{"$f":"IF(Input_Output!AZ62=\"\",T(Input_Output!BA62),\"\")","v":""},null,null,{"$f":"IF(Input_Output!BC62=\"\",T(Input_Output!BD62),\"\")","v":""},null,null,{"$f":"IF(Input_Output!BF62=\"\",T(Input_Output!BG62),\"\")","v":""},null,null,{"$f":"IF(Input_Output!BI62=\"\",T(Input_Output!BJ62),\"\")","v":""},null,null,{"$f":"IF(Input_Output!BL62=\"\",T(Input_Output!BM62),\"\")","v":""},null,null,{"$f":"IF(Input_Output!BO62=\"\",T(Input_Output!BP62),\"\")","v":""},null,null,{"$f":"IF(Input_Output!BR62=\"\",T(Input_Output!BS62),\"\")","v":""},null,null,{"$f":"IF(Input_Output!BU62=\"\",T(Input_Output!BV62),\"\")","v":""},null,null,{"$f":"IF(Input_Output!BX62=\"\",T(Input_Output!BY62),\"\")","v":""},null,null,{"$f":"IF(Input_Output!CA62=\"\",T(Input_Output!CB62),\"\")","v":""},null,null,{"$f":"IF(Input_Output!CD62=\"\",T(Input_Output!CE62),\"\")","v":""},null,null,{"$f":"IF(Input_Output!CG62=\"\",T(Input_Output!CH62),\"\")","v":""},null,null,{"$f":"IF(Input_Output!CJ62=\"\",T(Input_Output!CK62),\"\")","v":""},null,null,{"$f":"IF(Input_Output!CM62=\"\",T(Input_Output!CN62),\"\")","v":""},null,null,{"$f":"IF(Input_Output!CP62=\"\",T(Input_Output!CQ62),\"\")","v":""},null,null,{"$f":"IF(Input_Output!CS62=\"\",T(Input_Output!CT62),\"\")","v":""},null,null,{"$f":"IF(Input_Output!CV62=\"\",T(Input_Output!CW62),\"\")","v":""},null,null,{"$f":"IF(Input_Output!CY62=\"\",T(Input_Output!CZ62),\"\")","v":""},null,null,{"$f":"IF(Input_Output!DB62=\"\",T(Input_Output!DC62),\"\")","v":""},null,null,{"$f":"IF(Input_Output!DE62=\"\",T(Input_Output!DF62),\"\")","v":""},null,null,{"$f":"IF(Input_Output!DH62=\"\",T(Input_Output!DI62),\"\")","v":""},null,null,{"$f":"IF(Input_Output!DK62=\"\",T(Input_Output!DL62),\"\")","v":""},null,null,{"$f":"IF(Input_Output!DN62=\"\",T(Input_Output!DO62),\"\")","v":""},null,null,{"$f":"IF(Input_Output!DQ62=\"\",T(Input_Output!DR62),\"\")","v":""},null,null,{"$f":"IF(Input_Output!DT62=\"\",T(Input_Output!DU62),\"\")","v":""},null,null,{"$f":"IF(Input_Output!DW62=\"\",T(Input_Output!DX62),\"\")","v":""},null,null,{"$f":"IF(Input_Output!DZ62=\"\",T(Input_Output!EA62),\"\")","v":""},null,null,{"$f":"IF(Input_Output!EC62=\"\",T(Input_Output!ED62),\"\")","v":""},null,null,{"$f":"IF(Input_Output!EF62=\"\",T(Input_Output!EG62),\"\")","v":""},null,null,{"$f":"IF(Input_Output!EI62=\"\",T(Input_Output!EJ62),\"\")","v":""},null,null,{"$f":"IF(Input_Output!EL62=\"\",T(Input_Output!EM62),\"\")","v":""},null,null,{"$f":"IF(Input_Output!EO62=\"\",T(Input_Output!EP62),\"\")","v":""},null,null,{"$f":"IF(Input_Output!ER62=\"\",T(Input_Output!ES62),\"\")","v":""},null,null,{"$f":"IF(Input_Output!EU62=\"\",T(Input_Output!EV62),\"\")","v":""},null,null,{"$f":"IF(Input_Output!EX62=\"\",T(Input_Output!EY62),\"\")","v":""},null,null,{"$f":"IF(Input_Output!FA62=\"\",T(Input_Output!FB62),\"\")","v":""},null,null,{"$f":"IF(Input_Output!FD62=\"\",T(Input_Output!FE62),\"\")","v":""},null,null,{"$f":"IF(Input_Output!FG62=\"\",T(Input_Output!FH62),\"\")","v":""},null,null,{"$f":"IF(Input_Output!FJ62=\"\",T(Input_Output!FK62),\"\")","v":""},null,null,{"$f":"IF(Input_Output!FM62=\"\",T(Input_Output!FN62),\"\")","v":""},null,null,{"$f":"IF(Input_Output!FP62=\"\",T(Input_Output!FQ62),\"\")","v":""},null,null,{"$f":"IF(Input_Output!FS62=\"\",T(Input_Output!FT62),\"\")","v":""},null,null,{"$f":"IF(Input_Output!FV62=\"\",T(Input_Output!FW62),\"\")","v":""},null,null,{"$f":"IF(Input_Output!FY62=\"\",T(Input_Output!FZ62),\"\")","v":""},null,null,{"$f":"IF(Input_Output!GB62=\"\",T(Input_Output!GC62),\"\")","v":""},null,null,{"$f":"IF(Input_Output!GE62=\"\",T(Input_Output!GF62),\"\")","v":""},null,null,{"$f":"IF(Input_Output!GH62=\"\",T(Input_Output!GI62),\"\")","v":""},null,null,{"$f":"IF(Input_Output!GK62=\"\",T(Input_Output!GL62),\"\")","v":""},null,null,{"$f":"IF(Input_Output!GN62=\"\",T(Input_Output!GO62),\"\")","v":""},null,null,{"$f":"IF(Input_Output!GQ62=\"\",T(Input_Output!GR62),\"\")","v":""},null,null,{"$f":"IF(Input_Output!GT62=\"\",T(Input_Output!GU62),\"\")","v":""},null,null,{"$f":"IF(Input_Output!GW62=\"\",T(Input_Output!GX62),\"\")","v":""},null,null,{"$f":"IF(Input_Output!GZ62=\"\",T(Input_Output!HA62),\"\")","v":""},null,null,{"$f":"IF(Input_Output!HC62=\"\",T(Input_Output!HD62),\"\")","v":""},null,null,{"$f":"IF(Input_Output!HF62=\"\",T(Input_Output!HG62),\"\")","v":""},null,null,{"$f":"IF(Input_Output!HI62=\"\",T(Input_Output!HJ62),\"\")","v":""},null,null,{"$f":"IF(Input_Output!HL62=\"\",T(Input_Output!HM62),\"\")","v":""},null,null,{"$f":"IF(Input_Output!HO62=\"\",T(Input_Output!HP62),\"\")","v":""},null,null,{"$f":"IF(Input_Output!HR62=\"\",T(Input_Output!HS62),\"\")","v":""},null,null,{"$f":"IF(Input_Output!HU62=\"\",T(Input_Output!HV62),\"\")","v":""},null,null,{"$f":"IF(Input_Output!HX62=\"\",T(Input_Output!HY62),\"\")","v":""},null,null,{"$f":"IF(Input_Output!IA62=\"\",T(Input_Output!IB62),\"\")","v":""},null,null,{"$f":"IF(Input_Output!ID62=\"\",T(Input_Output!IE62),\"\")","v":""},null,null,{"$f":"IF(Input_Output!IG62=\"\",T(Input_Output!IH62),\"\")","v":""},null,null,{"$f":"IF(Input_Output!IJ62=\"\",T(Input_Output!IK62),\"\")","v":""},null,null,{"$f":"IF(Input_Output!IM62=\"\",T(Input_Output!IN62),\"\")","v":""},null,null,{"$f":"IF(Input_Output!IP62=\"\",T(Input_Output!IQ62),\"\")","v":""},null,null,{"$f":"IF(Input_Output!IS62=\"\",T(Input_Output!IT62),\"\")","v":""}]
[null,null,null,null,{"$f":"IF(Input_Output!D63=\"\",T(Input_Output!E63),\"\")","v":""},null,null,{"$f":"IF(Input_Output!G63=\"\",T(Input_Output!H63),\"\")","v":""},null,null,{"$f":"IF(Input_Output!J63=\"\",T(Input_Output!K63),\"\")","v":""},null,null,{"$f":"IF(Input_Output!M63=\"\",T(Input_Output!N63),\"\")","v":""},null,null,{"$f":"IF(Input_Output!P63=\"\",T(Input_Output!Q63),\"\")","v":""},null,null,{"$f":"IF(Input_Output!S63=\"\",T(Input_Output!T63),\"\")","v":""},null,null,{"$f":"IF(Input_Output!V63=\"\",T(Input_Output!W63),\"\")","v":""},null,null,{"$f":"IF(Input_Output!Y63=\"\",T(Input_Output!Z63),\"\")","v":""},null,null,{"$f":"IF(Input_Output!AB63=\"\",T(Input_Output!AC63),\"\")","v":""},null,null,{"$f":"IF(Input_Output!AE63=\"\",T(Input_Output!AF63),\"\")","v":""},null,null,{"$f":"IF(Input_Output!AH63=\"\",T(Input_Output!AI63),\"\")","v":""},null,null,{"$f":"IF(Input_Output!AK63=\"\",T(Input_Output!AL63),\"\")","v":""},null,null,{"$f":"IF(Input_Output!AN63=\"\",T(Input_Output!AO63),\"\")","v":""},null,null,{"$f":"IF(Input_Output!AQ63=\"\",T(Input_Output!AR63),\"\")","v":""},null,null,{"$f":"IF(Input_Output!AT63=\"\",T(Input_Output!AU63),\"\")","v":""},null,null,{"$f":"IF(Input_Output!AW63=\"\",T(Input_Output!AX63),\"\")","v":""},null,null,{"$f":"IF(Input_Output!AZ63=\"\",T(Input_Output!BA63),\"\")","v":""},null,null,{"$f":"IF(Input_Output!BC63=\"\",T(Input_Output!BD63),\"\")","v":""},null,null,{"$f":"IF(Input_Output!BF63=\"\",T(Input_Output!BG63),\"\")","v":""},null,null,{"$f":"IF(Input_Output!BI63=\"\",T(Input_Output!BJ63),\"\")","v":""},null,null,{"$f":"IF(Input_Output!BL63=\"\",T(Input_Output!BM63),\"\")","v":""},null,null,{"$f":"IF(Input_Output!BO63=\"\",T(Input_Output!BP63),\"\")","v":""},null,null,{"$f":"IF(Input_Output!BR63=\"\",T(Input_Output!BS63),\"\")","v":""},null,null,{"$f":"IF(Input_Output!BU63=\"\",T(Input_Output!BV63),\"\")","v":""},null,null,{"$f":"IF(Input_Output!BX63=\"\",T(Input_Output!BY63),\"\")","v":""},null,null,{"$f":"IF(Input_Output!CA63=\"\",T(Input_Output!CB63),\"\")","v":""},null,null,{"$f":"IF(Input_Output!CD63=\"\",T(Input_Output!CE63),\"\")","v":""},null,null,{"$f":"IF(Input_Output!CG63=\"\",T(Input_Output!CH63),\"\")","v":""},null,null,{"$f":"IF(Input_Output!CJ63=\"\",T(Input_Output!CK63),\"\")","v":""},null,null,{"$f":"IF(Input_Output!CM63=\"\",T(Input_Output!CN63),\"\")","v":""},null,null,{"$f":"IF(Input_Output!CP63=\"\",T(Input_Output!CQ63),\"\")","v":""},null,null,{"$f":"IF(Input_Output!CS63=\"\",T(Input_Output!CT63),\"\")","v":""},null,null,{"$f":"IF(Input_Output!CV63=\"\",T(Input_Output!CW63),\"\")","v":""},null,null,{"$f":"IF(Input_Output!CY63=\"\",T(Input_Output!CZ63),\"\")","v":""},null,null,{"$f":"IF(Input_Output!DB63=\"\",T(Input_Output!DC63),\"\")","v":""},null,null,{"$f":"IF(Input_Output!DE63=\"\",T(Input_Output!DF63),\"\")","v":""},null,null,{"$f":"IF(Input_Output!DH63=\"\",T(Input_Output!DI63),\"\")","v":""},null,null,{"$f":"IF(Input_Output!DK63=\"\",T(Input_Output!DL63),\"\")","v":""},null,null,{"$f":"IF(Input_Output!DN63=\"\",T(Input_Output!DO63),\"\")","v":""},null,null,{"$f":"IF(Input_Output!DQ63=\"\",T(Input_Output!DR63),\"\")","v":""},null,null,{"$f":"IF(Input_Output!DT63=\"\",T(Input_Output!DU63),\"\")","v":""},null,null,{"$f":"IF(Input_Output!DW63=\"\",T(Input_Output!DX63),\"\")","v":""},null,null,{"$f":"IF(Input_Output!DZ63=\"\",T(Input_Output!EA63),\"\")","v":""},null,null,{"$f":"IF(Input_Output!EC63=\"\",T(Input_Output!ED63),\"\")","v":""},null,null,{"$f":"IF(Input_Output!EF63=\"\",T(Input_Output!EG63),\"\")","v":""},null,null,{"$f":"IF(Input_Output!EI63=\"\",T(Input_Output!EJ63),\"\")","v":""},null,null,{"$f":"IF(Input_Output!EL63=\"\",T(Input_Output!EM63),\"\")","v":""},null,null,{"$f":"IF(Input_Output!EO63=\"\",T(Input_Output!EP63),\"\")","v":""},null,null,{"$f":"IF(Input_Output!ER63=\"\",T(Input_Output!ES63),\"\")","v":""},null,null,{"$f":"IF(Input_Output!EU63=\"\",T(Input_Output!EV63),\"\")","v":""},null,null,{"$f":"IF(Input_Output!EX63=\"\",T(Input_Output!EY63),\"\")","v":""},null,null,{"$f":"IF(Input_Output!FA63=\"\",T(Input_Output!FB63),\"\")","v":""},null,null,{"$f":"IF(Input_Output!FD63=\"\",T(Input_Output!FE63),\"\")","v":""},null,null,{"$f":"IF(Input_Output!FG63=\"\",T(Input_Output!FH63),\"\")","v":""},null,null,{"$f":"IF(Input_Output!FJ63=\"\",T(Input_Output!FK63),\"\")","v":""},null,null,{"$f":"IF(Input_Output!FM63=\"\",T(Input_Output!FN63),\"\")","v":""},null,null,{"$f":"IF(Input_Output!FP63=\"\",T(Input_Output!FQ63),\"\")","v":""},null,null,{"$f":"IF(Input_Output!FS63=\"\",T(Input_Output!FT63),\"\")","v":""},null,null,{"$f":"IF(Input_Output!FV63=\"\",T(Input_Output!FW63),\"\")","v":""},null,null,{"$f":"IF(Input_Output!FY63=\"\",T(Input_Output!FZ63),\"\")","v":""},null,null,{"$f":"IF(Input_Output!GB63=\"\",T(Input_Output!GC63),\"\")","v":""},null,null,{"$f":"IF(Input_Output!GE63=\"\",T(Input_Output!GF63),\"\")","v":""},null,null,{"$f":"IF(Input_Output!GH63=\"\",T(Input_Output!GI63),\"\")","v":""},null,null,{"$f":"IF(Input_Output!GK63=\"\",T(Input_Output!GL63),\"\")","v":""},null,null,{"$f":"IF(Input_Output!GN63=\"\",T(Input_Output!GO63),\"\")","v":""},null,null,{"$f":"IF(Input_Output!GQ63=\"\",T(Input_Output!GR63),\"\")","v":""},null,null,{"$f":"IF(Input_Output!GT63=\"\",T(Input_Output!GU63),\"\")","v":""},null,null,{"$f":"IF(Input_Output!GW63=\"\",T(Input_Output!GX63),\"\")","v":""},null,null,{"$f":"IF(Input_Output!GZ63=\"\",T(Input_Output!HA63),\"\")","v":""},null,null,{"$f":"IF(Input_Output!HC63=\"\",T(Input_Output!HD63),\"\")","v":""},null,null,{"$f":"IF(Input_Output!HF63=\"\",T(Input_Output!HG63),\"\")","v":""},null,null,{"$f":"IF(Input_Output!HI63=\"\",T(Input_Output!HJ63),\"\")","v":""},null,null,{"$f":"IF(Input_Output!HL63=\"\",T(Input_Output!HM63),\"\")","v":""},null,null,{"$f":"IF(Input_Output!HO63=\"\",T(Input_Output!HP63),\"\")","v":""},null,null,{"$f":"IF(Input_Output!HR63=\"\",T(Input_Output!HS63),\"\")","v":""},null,null,{"$f":"IF(Input_Output!HU63=\"\",T(Input_Output!HV63),\"\")","v":""},null,null,{"$f":"IF(Input_Output!HX63=\"\",T(Input_Output!HY63),\"\")","v":""},null,null,{"$f":"IF(Input_Output!IA63=\"\",T(Input_Output!IB63),\"\")","v":""},null,null,{"$f":"IF(Input_Output!ID63=\"\",T(Input_Output!IE63),\"\")","v":""},null,null,{"$f":"IF(Input_Output!IG63=\"\",T(Input_Output!IH63),\"\")","v":""},null,null,{"$f":"IF(Input_Output!IJ63=\"\",T(Input_Output!IK63),\"\")","v":""},null,null,{"$f":"IF(Input_Output!IM63=\"\",T(Input_Output!IN63),\"\")","v":""},null,null,{"$f":"IF(Input_Output!IP63=\"\",T(Input_Output!IQ63),\"\")","v":""},null,null,{"$f":"IF(Input_Output!IS63=\"\",T(Input_Output!IT63),\"\")","v":""}]
[null,null,null,null,{"$f":"IF(Input_Output!D64=\"\",T(Input_Output!E64),\"\")","v":""},null,null,{"$f":"IF(Input_Output!G64=\"\",T(Input_Output!H64),\"\")","v":""},null,null,{"$f":"IF(Input_Output!J64=\"\",T(Input_Output!K64),\"\")","v":""},null,null,{"$f":"IF(Input_Output!M64=\"\",T(Input_Output!N64),\"\")","v":""},null,null,{"$f":"IF(Input_Output!P64=\"\",T(Input_Output!Q64),\"\")","v":""},null,null,{"$f":"IF(Input_Output!S64=\"\",T(Input_Output!T64),\"\")","v":""},null,null,{"$f":"IF(Input_Output!V64=\"\",T(Input_Output!W64),\"\")","v":""},null,null,{"$f":"IF(Input_Output!Y64=\"\",T(Input_Output!Z64),\"\")","v":""},null,null,{"$f":"IF(Input_Output!AB64=\"\",T(Input_Output!AC64),\"\")","v":""},null,null,{"$f":"IF(Input_Output!AE64=\"\",T(Input_Output!AF64),\"\")","v":""},null,null,{"$f":"IF(Input_Output!AH64=\"\",T(Input_Output!AI64),\"\")","v":""},null,null,{"$f":"IF(Input_Output!AK64=\"\",T(Input_Output!AL64),\"\")","v":""},null,null,{"$f":"IF(Input_Output!AN64=\"\",T(Input_Output!AO64),\"\")","v":""},null,null,{"$f":"IF(Input_Output!AQ64=\"\",T(Input_Output!AR64),\"\")","v":""},null,null,{"$f":"IF(Input_Output!AT64=\"\",T(Input_Output!AU64),\"\")","v":""},null,null,{"$f":"IF(Input_Output!AW64=\"\",T(Input_Output!AX64),\"\")","v":""},null,null,{"$f":"IF(Input_Output!AZ64=\"\",T(Input_Output!BA64),\"\")","v":""},null,null,{"$f":"IF(Input_Output!BC64=\"\",T(Input_Output!BD64),\"\")","v":""},null,null,{"$f":"IF(Input_Output!BF64=\"\",T(Input_Output!BG64),\"\")","v":""},null,null,{"$f":"IF(Input_Output!BI64=\"\",T(Input_Output!BJ64),\"\")","v":""},null,null,{"$f":"IF(Input_Output!BL64=\"\",T(Input_Output!BM64),\"\")","v":""},null,null,{"$f":"IF(Input_Output!BO64=\"\",T(Input_Output!BP64),\"\")","v":""},null,null,{"$f":"IF(Input_Output!BR64=\"\",T(Input_Output!BS64),\"\")","v":""},null,null,{"$f":"IF(Input_Output!BU64=\"\",T(Input_Output!BV64),\"\")","v":""},null,null,{"$f":"IF(Input_Output!BX64=\"\",T(Input_Output!BY64),\"\")","v":""},null,null,{"$f":"IF(Input_Output!CA64=\"\",T(Input_Output!CB64),\"\")","v":""},null,null,{"$f":"IF(Input_Output!CD64=\"\",T(Input_Output!CE64),\"\")","v":""},null,null,{"$f":"IF(Input_Output!CG64=\"\",T(Input_Output!CH64),\"\")","v":""},null,null,{"$f":"IF(Input_Output!CJ64=\"\",T(Input_Output!CK64),\"\")","v":""},null,null,{"$f":"IF(Input_Output!CM64=\"\",T(Input_Output!CN64),\"\")","v":""},null,null,{"$f":"IF(Input_Output!CP64=\"\",T(Input_Output!CQ64),\"\")","v":""},null,null,{"$f":"IF(Input_Output!CS64=\"\",T(Input_Output!CT64),\"\")","v":""},null,null,{"$f":"IF(Input_Output!CV64=\"\",T(Input_Output!CW64),\"\")","v":""},null,null,{"$f":"IF(Input_Output!CY64=\"\",T(Input_Output!CZ64),\"\")","v":""},null,null,{"$f":"IF(Input_Output!DB64=\"\",T(Input_Output!DC64),\"\")","v":""},null,null,{"$f":"IF(Input_Output!DE64=\"\",T(Input_Output!DF64),\"\")","v":""},null,null,{"$f":"IF(Input_Output!DH64=\"\",T(Input_Output!DI64),\"\")","v":""},null,null,{"$f":"IF(Input_Output!DK64=\"\",T(Input_Output!DL64),\"\")","v":""},null,null,{"$f":"IF(Input_Output!DN64=\"\",T(Input_Output!DO64),\"\")","v":""},null,null,{"$f":"IF(Input_Output!DQ64=\"\",T(Input_Output!DR64),\"\")","v":""},null,null,{"$f":"IF(Input_Output!DT64=\"\",T(Input_Output!DU64),\"\")","v":""},null,null,{"$f":"IF(Input_Output!DW64=\"\",T(Input_Output!DX64),\"\")","v":""},null,null,{"$f":"IF(Input_Output!DZ64=\"\",T(Input_Output!EA64),\"\")","v":""},null,null,{"$f":"IF(Input_Output!EC64=\"\",T(Input_Output!ED64),\"\")","v":""},null,null,{"$f":"IF(Input_Output!EF64=\"\",T(Input_Output!EG64),\"\")","v":""},null,null,{"$f":"IF(Input_Output!EI64=\"\",T(Input_Output!EJ64),\"\")","v":""},null,null,{"$f":"IF(Input_Output!EL64=\"\",T(Input_Output!EM64),\"\")","v":""},null,null,{"$f":"IF(Input_Output!EO64=\"\",T(Input_Output!EP64),\"\")","v":""},null,null,{"$f":"IF(Input_Output!ER64=\"\",T(Input_Output!ES64),\"\")","v":""},null,null,{"$f":"IF(Input_Output!EU64=\"\",T(Input_Output!EV64),\"\")","v":""},null,null,{"$f":"IF(Input_Output!EX64=\"\",T(Input_Output!EY64),\"\")","v":""},null,null,{"$f":"IF(Input_Output!FA64=\"\",T(Input_Output!FB64),\"\")","v":""},null,null,{"$f":"IF(Input_Output!FD64=\"\",T(Input_Output!FE64),\"\")","v":""},null,null,{"$f":"IF(Input_Output!FG64=\"\",T(Input_Output!FH64),\"\")","v":""},null,null,{"$f":"IF(Input_Output!FJ64=\"\",T(Input_Output!FK64),\"\")","v":""},null,null,{"$f":"IF(Input_Output!FM64=\"\",T(Input_Output!FN64),\"\")","v":""},null,null,{"$f":"IF(Input_Output!FP64=\"\",T(Input_Output!FQ64),\"\")","v":""},null,null,{"$f":"IF(Input_Output!FS64=\"\",T(Input_Output!FT64),\"\")","v":""},null,null,{"$f":"IF(Input_Output!FV64=\"\",T(Input_Output!FW64),\"\")","v":""},null,null,{"$f":"IF(Input_Output!FY64=\"\",T(Input_Output!FZ64),\"\")","v":""},null,null,{"$f":"IF(Input_Output!GB64=\"\",T(Input_Output!GC64),\"\")","v":""},null,null,{"$f":"IF(Input_Output!GE64=\"\",T(Input_Output!GF64),\"\")","v":""},null,null,{"$f":"IF(Input_Output!GH64=\"\",T(Input_Output!GI64),\"\")","v":""},null,null,{"$f":"IF(Input_Output!GK64=\"\",T(Input_Output!GL64),\"\")","v":""},null,null,{"$f":"IF(Input_Output!GN64=\"\",T(Input_Output!GO64),\"\")","v":""},null,null,{"$f":"IF(Input_Output!GQ64=\"\",T(Input_Output!GR64),\"\")","v":""},null,null,{"$f":"IF(Input_Output!GT64=\"\",T(Input_Output!GU64),\"\")","v":""},null,null,{"$f":"IF(Input_Output!GW64=\"\",T(Input_Output!GX64),\"\")","v":""},null,null,{"$f":"IF(Input_Output!GZ64=\"\",T(Input_Output!HA64),\"\")","v":""},null,null,{"$f":"IF(Input_Output!HC64=\"\",T(Input_Output!HD64),\"\")","v":""},null,null,{"$f":"IF(Input_Output!HF64=\"\",T(Input_Output!HG64),\"\")","v":""},null,null,{"$f":"IF(Input_Output!HI64=\"\",T(Input_Output!HJ64),\"\")","v":""},null,null,{"$f":"IF(Input_Output!HL64=\"\",T(Input_Output!HM64),\"\")","v":""},null,null,{"$f":"IF(Input_Output!HO64=\"\",T(Input_Output!HP64),\"\")","v":""},null,null,{"$f":"IF(Input_Output!HR64=\"\",T(Input_Output!HS64),\"\")","v":""},null,null,{"$f":"IF(Input_Output!HU64=\"\",T(Input_Output!HV64),\"\")","v":""},null,null,{"$f":"IF(Input_Output!HX64=\"\",T(Input_Output!HY64),\"\")","v":""},null,null,{"$f":"IF(Input_Output!IA64=\"\",T(Input_Output!IB64),\"\")","v":""},null,null,{"$f":"IF(Input_Output!ID64=\"\",T(Input_Output!IE64),\"\")","v":""},null,null,{"$f":"IF(Input_Output!IG64=\"\",T(Input_Output!IH64),\"\")","v":""},null,null,{"$f":"IF(Input_Output!IJ64=\"\",T(Input_Output!IK64),\"\")","v":""},null,null,{"$f":"IF(Input_Output!IM64=\"\",T(Input_Output!IN64),\"\")","v":""},null,null,{"$f":"IF(Input_Output!IP64=\"\",T(Input_Output!IQ64),\"\")","v":""},null,null,{"$f":"IF(Input_Output!IS64=\"\",T(Input_Output!IT64),\"\")","v":""}]
[null,null,null,null,{"$f":"IF(Input_Output!D65=\"\",T(Input_Output!E65),\"\")","v":""},null,null,{"$f":"IF(Input_Output!G65=\"\",T(Input_Output!H65),\"\")","v":""},null,null,{"$f":"IF(Input_Output!J65=\"\",T(Input_Output!K65),\"\")","v":""},null,null,{"$f":"IF(Input_Output!M65=\"\",T(Input_Output!N65),\"\")","v":""},null,null,{"$f":"IF(Input_Output!P65=\"\",T(Input_Output!Q65),\"\")","v":""},null,null,{"$f":"IF(Input_Output!S65=\"\",T(Input_Output!T65),\"\")","v":""},null,null,{"$f":"IF(Input_Output!V65=\"\",T(Input_Output!W65),\"\")","v":""},null,null,{"$f":"IF(Input_Output!Y65=\"\",T(Input_Output!Z65),\"\")","v":""},null,null,{"$f":"IF(Input_Output!AB65=\"\",T(Input_Output!AC65),\"\")","v":""},null,null,{"$f":"IF(Input_Output!AE65=\"\",T(Input_Output!AF65),\"\")","v":""},null,null,{"$f":"IF(Input_Output!AH65=\"\",T(Input_Output!AI65),\"\")","v":""},null,null,{"$f":"IF(Input_Output!AK65=\"\",T(Input_Output!AL65),\"\")","v":""},null,null,{"$f":"IF(Input_Output!AN65=\"\",T(Input_Output!AO65),\"\")","v":""},null,null,{"$f":"IF(Input_Output!AQ65=\"\",T(Input_Output!AR65),\"\")","v":""},null,null,{"$f":"IF(Input_Output!AT65=\"\",T(Input_Output!AU65),\"\")","v":""},null,null,{"$f":"IF(Input_Output!AW65=\"\",T(Input_Output!AX65),\"\")","v":""},null,null,{"$f":"IF(Input_Output!AZ65=\"\",T(Input_Output!BA65),\"\")","v":""},null,null,{"$f":"IF(Input_Output!BC65=\"\",T(Input_Output!BD65),\"\")","v":""},null,null,{"$f":"IF(Input_Output!BF65=\"\",T(Input_Output!BG65),\"\")","v":""},null,null,{"$f":"IF(Input_Output!BI65=\"\",T(Input_Output!BJ65),\"\")","v":""},null,null,{"$f":"IF(Input_Output!BL65=\"\",T(Input_Output!BM65),\"\")","v":""},null,null,{"$f":"IF(Input_Output!BO65=\"\",T(Input_Output!BP65),\"\")","v":""},null,null,{"$f":"IF(Input_Output!BR65=\"\",T(Input_Output!BS65),\"\")","v":""},null,null,{"$f":"IF(Input_Output!BU65=\"\",T(Input_Output!BV65),\"\")","v":""},null,null,{"$f":"IF(Input_Output!BX65=\"\",T(Input_Output!BY65),\"\")","v":""},null,null,{"$f":"IF(Input_Output!CA65=\"\",T(Input_Output!CB65),\"\")","v":""},null,null,{"$f":"IF(Input_Output!CD65=\"\",T(Input_Output!CE65),\"\")","v":""},null,null,{"$f":"IF(Input_Output!CG65=\"\",T(Input_Output!CH65),\"\")","v":""},null,null,{"$f":"IF(Input_Output!CJ65=\"\",T(Input_Output!CK65),\"\")","v":""},null,null,{"$f":"IF(Input_Output!CM65=\"\",T(Input_Output!CN65),\"\")","v":""},null,null,{"$f":"IF(Input_Output!CP65=\"\",T(Input_Output!CQ65),\"\")","v":""},null,null,{"$f":"IF(Input_Output!CS65=\"\",T(Input_Output!CT65),\"\")","v":""},null,null,{"$f":"IF(Input_Output!CV65=\"\",T(Input_Output!CW65),\"\")","v":""},null,null,{"$f":"IF(Input_Output!CY65=\"\",T(Input_Output!CZ65),\"\")","v":""},null,null,{"$f":"IF(Input_Output!DB65=\"\",T(Input_Output!DC65),\"\")","v":""},null,null,{"$f":"IF(Input_Output!DE65=\"\",T(Input_Output!DF65),\"\")","v":""},null,null,{"$f":"IF(Input_Output!DH65=\"\",T(Input_Output!DI65),\"\")","v":""},null,null,{"$f":"IF(Input_Output!DK65=\"\",T(Input_Output!DL65),\"\")","v":""},null,null,{"$f":"IF(Input_Output!DN65=\"\",T(Input_Output!DO65),\"\")","v":""},null,null,{"$f":"IF(Input_Output!DQ65=\"\",T(Input_Output!DR65),\"\")","v":""},null,null,{"$f":"IF(Input_Output!DT65=\"\",T(Input_Output!DU65),\"\")","v":""},null,null,{"$f":"IF(Input_Output!DW65=\"\",T(Input_Output!DX65),\"\")","v":""},null,null,{"$f":"IF(Input_Output!DZ65=\"\",T(Input_Output!EA65),\"\")","v":""},null,null,{"$f":"IF(Input_Output!EC65=\"\",T(Input_Output!ED65),\"\")","v":""},null,null,{"$f":"IF(Input_Output!EF65=\"\",T(Input_Output!EG65),\"\")","v":""},null,null,{"$f":"IF(Input_Output!EI65=\"\",T(Input_Output!EJ65),\"\")","v":""},null,null,{"$f":"IF(Input_Output!EL65=\"\",T(Input_Output!EM65),\"\")","v":""},null,null,{"$f":"IF(Input_Output!EO65=\"\",T(Input_Output!EP65),\"\")","v":""},null,null,{"$f":"IF(Input_Output!ER65=\"\",T(Input_Output!ES65),\"\")","v":""},null,null,{"$f":"IF(Input_Output!EU65=\"\",T(Input_Output!EV65),\"\")","v":""},null,null,{"$f":"IF(Input_Output!EX65=\"\",T(Input_Output!EY65),\"\")","v":""},null,null,{"$f":"IF(Input_Output!FA65=\"\",T(Input_Output!FB65),\"\")","v":""},null,null,{"$f":"IF(Input_Output!FD65=\"\",T(Input_Output!FE65),\"\")","v":""},null,null,{"$f":"IF(Input_Output!FG65=\"\",T(Input_Output!FH65),\"\")","v":""},null,null,{"$f":"IF(Input_Output!FJ65=\"\",T(Input_Output!FK65),\"\")","v":""},null,null,{"$f":"IF(Input_Output!FM65=\"\",T(Input_Output!FN65),\"\")","v":""},null,null,{"$f":"IF(Input_Output!FP65=\"\",T(Input_Output!FQ65),\"\")","v":""},null,null,{"$f":"IF(Input_Output!FS65=\"\",T(Input_Output!FT65),\"\")","v":""},null,null,{"$f":"IF(Input_Output!FV65=\"\",T(Input_Output!FW65),\"\")","v":""},null,null,{"$f":"IF(Input_Output!FY65=\"\",T(Input_Output!FZ65),\"\")","v":""},null,null,{"$f":"IF(Input_Output!GB65=\"\",T(Input_Output!GC65),\"\")","v":""},null,null,{"$f":"IF(Input_Output!GE65=\"\",T(Input_Output!GF65),\"\")","v":""},null,null,{"$f":"IF(Input_Output!GH65=\"\",T(Input_Output!GI65),\"\")","v":""},null,null,{"$f":"IF(Input_Output!GK65=\"\",T(Input_Output!GL65),\"\")","v":""},null,null,{"$f":"IF(Input_Output!GN65=\"\",T(Input_Output!GO65),\"\")","v":""},null,null,{"$f":"IF(Input_Output!GQ65=\"\",T(Input_Output!GR65),\"\")","v":""},null,null,{"$f":"IF(Input_Output!GT65=\"\",T(Input_Output!GU65),\"\")","v":""},null,null,{"$f":"IF(Input_Output!GW65=\"\",T(Input_Output!GX65),\"\")","v":""},null,null,{"$f":"IF(Input_Output!GZ65=\"\",T(Input_Output!HA65),\"\")","v":""},null,null,{"$f":"IF(Input_Output!HC65=\"\",T(Input_Output!HD65),\"\")","v":""},null,null,{"$f":"IF(Input_Output!HF65=\"\",T(Input_Output!HG65),\"\")","v":""},null,null,{"$f":"IF(Input_Output!HI65=\"\",T(Input_Output!HJ65),\"\")","v":""},null,null,{"$f":"IF(Input_Output!HL65=\"\",T(Input_Output!HM65),\"\")","v":""},null,null,{"$f":"IF(Input_Output!HO65=\"\",T(Input_Output!HP65),\"\")","v":""},null,null,{"$f":"IF(Input_Output!HR65=\"\",T(Input_Output!HS65),\"\")","v":""},null,null,{"$f":"IF(Input_Output!HU65=\"\",T(Input_Output!HV65),\"\")","v":""},null,null,{"$f":"IF(Input_Output!HX65=\"\",T(Input_Output!HY65),\"\")","v":""},null,null,{"$f":"IF(Input_Output!IA65=\"\",T(Input_Output!IB65),\"\")","v":""},null,null,{"$f":"IF(Input_Output!ID65=\"\",T(Input_Output!IE65),\"\")","v":""},null,null,{"$f":"IF(Input_Output!IG65=\"\",T(Input_Output!IH65),\"\")","v":""},null,null,{"$f":"IF(Input_Output!IJ65=\"\",T(Input_Output!IK65),\"\")","v":""},null,null,{"$f":"IF(Input_Output!IM65=\"\",T(Input_Output!IN65),\"\")","v":""},null,null,{"$f":"IF(Input_Output!IP65=\"\",T(Input_Output!IQ65),\"\")","v":""},null,null,{"$f":"IF(Input_Output!IS65=\"\",T(Input_Output!IT65),\"\")","v":""}]
[null,null,null,null,{"$f":"IF(Input_Output!D66=\"\",T(Input_Output!E66),\"\")","v":""},null,null,{"$f":"IF(Input_Output!G66=\"\",T(Input_Output!H66),\"\")","v":""},null,null,{"$f":"IF(Input_Output!J66=\"\",T(Input_Output!K66),\"\")","v":""},null,null,{"$f":"IF(Input_Output!M66=\"\",T(Input_Output!N66),\"\")","v":""},null,null,{"$f":"IF(Input_Output!P66=\"\",T(Input_Output!Q66),\"\")","v":""},null,null,{"$f":"IF(Input_Output!S66=\"\",T(Input_Output!T66),\"\")","v":""},null,null,{"$f":"IF(Input_Output!V66=\"\",T(Input_Output!W66),\"\")","v":""},null,null,{"$f":"IF(Input_Output!Y66=\"\",T(Input_Output!Z66),\"\")","v":""},null,null,{"$f":"IF(Input_Output!AB66=\"\",T(Input_Output!AC66),\"\")","v":""},null,null,{"$f":"IF(Input_Output!AE66=\"\",T(Input_Output!AF66),\"\")","v":""},null,null,{"$f":"IF(Input_Output!AH66=\"\",T(Input_Output!AI66),\"\")","v":""},null,null,{"$f":"IF(Input_Output!AK66=\"\",T(Input_Output!AL66),\"\")","v":""},null,null,{"$f":"IF(Input_Output!AN66=\"\",T(Input_Output!AO66),\"\")","v":""},null,null,{"$f":"IF(Input_Output!AQ66=\"\",T(Input_Output!AR66),\"\")","v":""},null,null,{"$f":"IF(Input_Output!AT66=\"\",T(Input_Output!AU66),\"\")","v":""},null,null,{"$f":"IF(Input_Output!AW66=\"\",T(Input_Output!AX66),\"\")","v":""},null,null,{"$f":"IF(Input_Output!AZ66=\"\",T(Input_Output!BA66),\"\")","v":""},null,null,{"$f":"IF(Input_Output!BC66=\"\",T(Input_Output!BD66),\"\")","v":""},null,null,{"$f":"IF(Input_Output!BF66=\"\",T(Input_Output!BG66),\"\")","v":""},null,null,{"$f":"IF(Input_Output!BI66=\"\",T(Input_Output!BJ66),\"\")","v":""},null,null,{"$f":"IF(Input_Output!BL66=\"\",T(Input_Output!BM66),\"\")","v":""},null,null,{"$f":"IF(Input_Output!BO66=\"\",T(Input_Output!BP66),\"\")","v":""},null,null,{"$f":"IF(Input_Output!BR66=\"\",T(Input_Output!BS66),\"\")","v":""},null,null,{"$f":"IF(Input_Output!BU66=\"\",T(Input_Output!BV66),\"\")","v":""},null,null,{"$f":"IF(Input_Output!BX66=\"\",T(Input_Output!BY66),\"\")","v":""},null,null,{"$f":"IF(Input_Output!CA66=\"\",T(Input_Output!CB66),\"\")","v":""},null,null,{"$f":"IF(Input_Output!CD66=\"\",T(Input_Output!CE66),\"\")","v":""},null,null,{"$f":"IF(Input_Output!CG66=\"\",T(Input_Output!CH66),\"\")","v":""},null,null,{"$f":"IF(Input_Output!CJ66=\"\",T(Input_Output!CK66),\"\")","v":""},null,null,{"$f":"IF(Input_Output!CM66=\"\",T(Input_Output!CN66),\"\")","v":""},null,null,{"$f":"IF(Input_Output!CP66=\"\",T(Input_Output!CQ66),\"\")","v":""},null,null,{"$f":"IF(Input_Output!CS66=\"\",T(Input_Output!CT66),\"\")","v":""},null,null,{"$f":"IF(Input_Output!CV66=\"\",T(Input_Output!CW66),\"\")","v":""},null,null,{"$f":"IF(Input_Output!CY66=\"\",T(Input_Output!CZ66),\"\")","v":""},null,null,{"$f":"IF(Input_Output!DB66=\"\",T(Input_Output!DC66),\"\")","v":""},null,null,{"$f":"IF(Input_Output!DE66=\"\",T(Input_Output!DF66),\"\")","v":""},null,null,{"$f":"IF(Input_Output!DH66=\"\",T(Input_Output!DI66),\"\")","v":""},null,null,{"$f":"IF(Input_Output!DK66=\"\",T(Input_Output!DL66),\"\")","v":""},null,null,{"$f":"IF(Input_Output!DN66=\"\",T(Input_Output!DO66),\"\")","v":""},null,null,{"$f":"IF(Input_Output!DQ66=\"\",T(Input_Output!DR66),\"\")","v":""},null,null,{"$f":"IF(Input_Output!DT66=\"\",T(Input_Output!DU66),\"\")","v":""},null,null,{"$f":"IF(Input_Output!DW66=\"\",T(Input_Output!DX66),\"\")","v":""},null,null,{"$f":"IF(Input_Output!DZ66=\"\",T(Input_Output!EA66),\"\")","v":""},null,null,{"$f":"IF(Input_Output!EC66=\"\",T(Input_Output!ED66),\"\")","v":""},null,null,{"$f":"IF(Input_Output!EF66=\"\",T(Input_Output!EG66),\"\")","v":""},null,null,{"$f":"IF(Input_Output!EI66=\"\",T(Input_Output!EJ66),\"\")","v":""},null,null,{"$f":"IF(Input_Output!EL66=\"\",T(Input_Output!EM66),\"\")","v":""},null,null,{"$f":"IF(Input_Output!EO66=\"\",T(Input_Output!EP66),\"\")","v":""},null,null,{"$f":"IF(Input_Output!ER66=\"\",T(Input_Output!ES66),\"\")","v":""},null,null,{"$f":"IF(Input_Output!EU66=\"\",T(Input_Output!EV66),\"\")","v":""},null,null,{"$f":"IF(Input_Output!EX66=\"\",T(Input_Output!EY66),\"\")","v":""},null,null,{"$f":"IF(Input_Output!FA66=\"\",T(Input_Output!FB66),\"\")","v":""},null,null,{"$f":"IF(Input_Output!FD66=\"\",T(Input_Output!FE66),\"\")","v":""},null,null,{"$f":"IF(Input_Output!FG66=\"\",T(Input_Output!FH66),\"\")","v":""},null,null,{"$f":"IF(Input_Output!FJ66=\"\",T(Input_Output!FK66),\"\")","v":""},null,null,{"$f":"IF(Input_Output!FM66=\"\",T(Input_Output!FN66),\"\")","v":""},null,null,{"$f":"IF(Input_Output!FP66=\"\",T(Input_Output!FQ66),\"\")","v":""},null,null,{"$f":"IF(Input_Output!FS66=\"\",T(Input_Output!FT66),\"\")","v":""},null,null,{"$f":"IF(Input_Output!FV66=\"\",T(Input_Output!FW66),\"\")","v":""},null,null,{"$f":"IF(Input_Output!FY66=\"\",T(Input_Output!FZ66),\"\")","v":""},null,null,{"$f":"IF(Input_Output!GB66=\"\",T(Input_Output!GC66),\"\")","v":""},null,null,{"$f":"IF(Input_Output!GE66=\"\",T(Input_Output!GF66),\"\")","v":""},null,null,{"$f":"IF(Input_Output!GH66=\"\",T(Input_Output!GI66),\"\")","v":""},null,null,{"$f":"IF(Input_Output!GK66=\"\",T(Input_Output!GL66),\"\")","v":""},null,null,{"$f":"IF(Input_Output!GN66=\"\",T(Input_Output!GO66),\"\")","v":""},null,null,{"$f":"IF(Input_Output!GQ66=\"\",T(Input_Output!GR66),\"\")","v":""},null,null,{"$f":"IF(Input_Output!GT66=\"\",T(Input_Output!GU66),\"\")","v":""},null,null,{"$f":"IF(Input_Output!GW66=\"\",T(Input_Output!GX66),\"\")","v":""},null,null,{"$f":"IF(Input_Output!GZ66=\"\",T(Input_Output!HA66),\"\")","v":""},null,null,{"$f":"IF(Input_Output!HC66=\"\",T(Input_Output!HD66),\"\")","v":""},null,null,{"$f":"IF(Input_Output!HF66=\"\",T(Input_Output!HG66),\"\")","v":""},null,null,{"$f":"IF(Input_Output!HI66=\"\",T(Input_Output!HJ66),\"\")","v":""},null,null,{"$f":"IF(Input_Output!HL66=\"\",T(Input_Output!HM66),\"\")","v":""},null,null,{"$f":"IF(Input_Output!HO66=\"\",T(Input_Output!HP66),\"\")","v":""},null,null,{"$f":"IF(Input_Output!HR66=\"\",T(Input_Output!HS66),\"\")","v":""},null,null,{"$f":"IF(Input_Output!HU66=\"\",T(Input_Output!HV66),\"\")","v":""},null,null,{"$f":"IF(Input_Output!HX66=\"\",T(Input_Output!HY66),\"\")","v":""},null,null,{"$f":"IF(Input_Output!IA66=\"\",T(Input_Output!IB66),\"\")","v":""},null,null,{"$f":"IF(Input_Output!ID66=\"\",T(Input_Output!IE66),\"\")","v":""},null,null,{"$f":"IF(Input_Output!IG66=\"\",T(Input_Output!IH66),\"\")","v":""},null,null,{"$f":"IF(Input_Output!IJ66=\"\",T(Input_Output!IK66),\"\")","v":""},null,null,{"$f":"IF(Input_Output!IM66=\"\",T(Input_Output!IN66),\"\")","v":""},null,null,{"$f":"IF(Input_Output!IP66=\"\",T(Input_Output!IQ66),\"\")","v":""},null,null,{"$f":"IF(Input_Output!IS66=\"\",T(Input_Output!IT66),\"\")","v":""}]
[null,null,null,null,{"$f":"IF(Input_Output!D67=\"\",T(Input_Output!E67),\"\")","v":""},null,null,{"$f":"IF(Input_Output!G67=\"\",T(Input_Output!H67),\"\")","v":""},null,null,{"$f":"IF(Input_Output!J67=\"\",T(Input_Output!K67),\"\")","v":""},null,null,{"$f":"IF(Input_Output!M67=\"\",T(Input_Output!N67),\"\")","v":""},null,null,{"$f":"IF(Input_Output!P67=\"\",T(Input_Output!Q67),\"\")","v":""},null,null,{"$f":"IF(Input_Output!S67=\"\",T(Input_Output!T67),\"\")","v":""},null,null,{"$f":"IF(Input_Output!V67=\"\",T(Input_Output!W67),\"\")","v":""},null,null,{"$f":"IF(Input_Output!Y67=\"\",T(Input_Output!Z67),\"\")","v":""},null,null,{"$f":"IF(Input_Output!AB67=\"\",T(Input_Output!AC67),\"\")","v":""},null,null,{"$f":"IF(Input_Output!AE67=\"\",T(Input_Output!AF67),\"\")","v":""},null,null,{"$f":"IF(Input_Output!AH67=\"\",T(Input_Output!AI67),\"\")","v":""},null,null,{"$f":"IF(Input_Output!AK67=\"\",T(Input_Output!AL67),\"\")","v":""},null,null,{"$f":"IF(Input_Output!AN67=\"\",T(Input_Output!AO67),\"\")","v":""},null,null,{"$f":"IF(Input_Output!AQ67=\"\",T(Input_Output!AR67),\"\")","v":""},null,null,{"$f":"IF(Input_Output!AT67=\"\",T(Input_Output!AU67),\"\")","v":""},null,null,{"$f":"IF(Input_Output!AW67=\"\",T(Input_Output!AX67),\"\")","v":""},null,null,{"$f":"IF(Input_Output!AZ67=\"\",T(Input_Output!BA67),\"\")","v":""},null,null,{"$f":"IF(Input_Output!BC67=\"\",T(Input_Output!BD67),\"\")","v":""},null,null,{"$f":"IF(Input_Output!BF67=\"\",T(Input_Output!BG67),\"\")","v":""},null,null,{"$f":"IF(Input_Output!BI67=\"\",T(Input_Output!BJ67),\"\")","v":""},null,null,{"$f":"IF(Input_Output!BL67=\"\",T(Input_Output!BM67),\"\")","v":""},null,null,{"$f":"IF(Input_Output!BO67=\"\",T(Input_Output!BP67),\"\")","v":""},null,null,{"$f":"IF(Input_Output!BR67=\"\",T(Input_Output!BS67),\"\")","v":""},null,null,{"$f":"IF(Input_Output!BU67=\"\",T(Input_Output!BV67),\"\")","v":""},null,null,{"$f":"IF(Input_Output!BX67=\"\",T(Input_Output!BY67),\"\")","v":""},null,null,{"$f":"IF(Input_Output!CA67=\"\",T(Input_Output!CB67),\"\")","v":""},null,null,{"$f":"IF(Input_Output!CD67=\"\",T(Input_Output!CE67),\"\")","v":""},null,null,{"$f":"IF(Input_Output!CG67=\"\",T(Input_Output!CH67),\"\")","v":""},null,null,{"$f":"IF(Input_Output!CJ67=\"\",T(Input_Output!CK67),\"\")","v":""},null,null,{"$f":"IF(Input_Output!CM67=\"\",T(Input_Output!CN67),\"\")","v":""},null,null,{"$f":"IF(Input_Output!CP67=\"\",T(Input_Output!CQ67),\"\")","v":""},null,null,{"$f":"IF(Input_Output!CS67=\"\",T(Input_Output!CT67),\"\")","v":""},null,null,{"$f":"IF(Input_Output!CV67=\"\",T(Input_Output!CW67),\"\")","v":""},null,null,{"$f":"IF(Input_Output!CY67=\"\",T(Input_Output!CZ67),\"\")","v":""},null,null,{"$f":"IF(Input_Output!DB67=\"\",T(Input_Output!DC67),\"\")","v":""},null,null,{"$f":"IF(Input_Output!DE67=\"\",T(Input_Output!DF67),\"\")","v":""},null,null,{"$f":"IF(Input_Output!DH67=\"\",T(Input_Output!DI67),\"\")","v":""},null,null,{"$f":"IF(Input_Output!DK67=\"\",T(Input_Output!DL67),\"\")","v":""},null,null,{"$f":"IF(Input_Output!DN67=\"\",T(Input_Output!DO67),\"\")","v":""},null,null,{"$f":"IF(Input_Output!DQ67=\"\",T(Input_Output!DR67),\"\")","v":""},null,null,{"$f":"IF(Input_Output!DT67=\"\",T(Input_Output!DU67),\"\")","v":""},null,null,{"$f":"IF(Input_Output!DW67=\"\",T(Input_Output!DX67),\"\")","v":""},null,null,{"$f":"IF(Input_Output!DZ67=\"\",T(Input_Output!EA67),\"\")","v":""},null,null,{"$f":"IF(Input_Output!EC67=\"\",T(Input_Output!ED67),\"\")","v":""},null,null,{"$f":"IF(Input_Output!EF67=\"\",T(Input_Output!EG67),\"\")","v":""},null,null,{"$f":"IF(Input_Output!EI67=\"\",T(Input_Output!EJ67),\"\")","v":""},null,null,{"$f":"IF(Input_Output!EL67=\"\",T(Input_Output!EM67),\"\")","v":""},null,null,{"$f":"IF(Input_Output!EO67=\"\",T(Input_Output!EP67),\"\")","v":""},null,null,{"$f":"IF(Input_Output!ER67=\"\",T(Input_Output!ES67),\"\")","v":""},null,null,{"$f":"IF(Input_Output!EU67=\"\",T(Input_Output!EV67),\"\")","v":""},null,null,{"$f":"IF(Input_Output!EX67=\"\",T(Input_Output!EY67),\"\")","v":""},null,null,{"$f":"IF(Input_Output!FA67=\"\",T(Input_Output!FB67),\"\")","v":""},null,null,{"$f":"IF(Input_Output!FD67=\"\",T(Input_Output!FE67),\"\")","v":""},null,null,{"$f":"IF(Input_Output!FG67=\"\",T(Input_Output!FH67),\"\")","v":""},null,null,{"$f":"IF(Input_Output!FJ67=\"\",T(Input_Output!FK67),\"\")","v":""},null,null,{"$f":"IF(Input_Output!FM67=\"\",T(Input_Output!FN67),\"\")","v":""},null,null,{"$f":"IF(Input_Output!FP67=\"\",T(Input_Output!FQ67),\"\")","v":""},null,null,{"$f":"IF(Input_Output!FS67=\"\",T(Input_Output!FT67),\"\")","v":""},null,null,{"$f":"IF(Input_Output!FV67=\"\",T(Input_Output!FW67),\"\")","v":""},null,null,{"$f":"IF(Input_Output!FY67=\"\",T(Input_Output!FZ67),\"\")","v":""},null,null,{"$f":"IF(Input_Output!GB67=\"\",T(Input_Output!GC67),\"\")","v":""},null,null,{"$f":"IF(Input_Output!GE67=\"\",T(Input_Output!GF67),\"\")","v":""},null,null,{"$f":"IF(Input_Output!GH67=\"\",T(Input_Output!GI67),\"\")","v":""},null,null,{"$f":"IF(Input_Output!GK67=\"\",T(Input_Output!GL67),\"\")","v":""},null,null,{"$f":"IF(Input_Output!GN67=\"\",T(Input_Output!GO67),\"\")","v":""},null,null,{"$f":"IF(Input_Output!GQ67=\"\",T(Input_Output!GR67),\"\")","v":""},null,null,{"$f":"IF(Input_Output!GT67=\"\",T(Input_Output!GU67),\"\")","v":""},null,null,{"$f":"IF(Input_Output!GW67=\"\",T(Input_Output!GX67),\"\")","v":""},null,null,{"$f":"IF(Input_Output!GZ67=\"\",T(Input_Output!HA67),\"\")","v":""},null,null,{"$f":"IF(Input_Output!HC67=\"\",T(Input_Output!HD67),\"\")","v":""},null,null,{"$f":"IF(Input_Output!HF67=\"\",T(Input_Output!HG67),\"\")","v":""},null,null,{"$f":"IF(Input_Output!HI67=\"\",T(Input_Output!HJ67),\"\")","v":""},null,null,{"$f":"IF(Input_Output!HL67=\"\",T(Input_Output!HM67),\"\")","v":""},null,null,{"$f":"IF(Input_Output!HO67=\"\",T(Input_Output!HP67),\"\")","v":""},null,null,{"$f":"IF(Input_Output!HR67=\"\",T(Input_Output!HS67),\"\")","v":""},null,null,{"$f":"IF(Input_Output!HU67=\"\",T(Input_Output!HV67),\"\")","v":""},null,null,{"$f":"IF(Input_Output!HX67=\"\",T(Input_Output!HY67),\"\")","v":""},null,null,{"$f":"IF(Input_Output!IA67=\"\",T(Input_Output!IB67),\"\")","v":""},null,null,{"$f":"IF(Input_Output!ID67=\"\",T(Input_Output!IE67),\"\")","v":""},null,null,{"$f":"IF(Input_Output!IG67=\"\",T(Input_Output!IH67),\"\")","v":""},null,null,{"$f":"IF(Input_Output!IJ67=\"\",T(Input_Output!IK67),\"\")","v":""},null,null,{"$f":"IF(Input_Output!IM67=\"\",T(Input_Output!IN67),\"\")","v":""},null,null,{"$f":"IF(Input_Output!IP67=\"\",T(Input_Output!IQ67),\"\")","v":""},null,null,{"$f":"IF(Input_Output!IS67=\"\",T(Input_Output!IT67),\"\")","v":""}]
[null,null,null,null,{"$f":"IF(Input_Output!D68=\"\",T(Input_Output!E68),\"\")","v":""},null,null,{"$f":"IF(Input_Output!G68=\"\",T(Input_Output!H68),\"\")","v":""},null,null,{"$f":"IF(Input_Output!J68=\"\",T(Input_Output!K68),\"\")","v":""},null,null,{"$f":"IF(Input_Output!M68=\"\",T(Input_Output!N68),\"\")","v":""},null,null,{"$f":"IF(Input_Output!P68=\"\",T(Input_Output!Q68),\"\")","v":""},null,null,{"$f":"IF(Input_Output!S68=\"\",T(Input_Output!T68),\"\")","v":""},null,null,{"$f":"IF(Input_Output!V68=\"\",T(Input_Output!W68),\"\")","v":""},null,null,{"$f":"IF(Input_Output!Y68=\"\",T(Input_Output!Z68),\"\")","v":""},null,null,{"$f":"IF(Input_Output!AB68=\"\",T(Input_Output!AC68),\"\")","v":""},null,null,{"$f":"IF(Input_Output!AE68=\"\",T(Input_Output!AF68),\"\")","v":""},null,null,{"$f":"IF(Input_Output!AH68=\"\",T(Input_Output!AI68),\"\")","v":""},null,null,{"$f":"IF(Input_Output!AK68=\"\",T(Input_Output!AL68),\"\")","v":""},null,null,{"$f":"IF(Input_Output!AN68=\"\",T(Input_Output!AO68),\"\")","v":""},null,null,{"$f":"IF(Input_Output!AQ68=\"\",T(Input_Output!AR68),\"\")","v":""},null,null,{"$f":"IF(Input_Output!AT68=\"\",T(Input_Output!AU68),\"\")","v":""},null,null,{"$f":"IF(Input_Output!AW68=\"\",T(Input_Output!AX68),\"\")","v":""},null,null,{"$f":"IF(Input_Output!AZ68=\"\",T(Input_Output!BA68),\"\")","v":""},null,null,{"$f":"IF(Input_Output!BC68=\"\",T(Input_Output!BD68),\"\")","v":""},null,null,{"$f":"IF(Input_Output!BF68=\"\",T(Input_Output!BG68),\"\")","v":""},null,null,{"$f":"IF(Input_Output!BI68=\"\",T(Input_Output!BJ68),\"\")","v":""},null,null,{"$f":"IF(Input_Output!BL68=\"\",T(Input_Output!BM68),\"\")","v":""},null,null,{"$f":"IF(Input_Output!BO68=\"\",T(Input_Output!BP68),\"\")","v":""},null,null,{"$f":"IF(Input_Output!BR68=\"\",T(Input_Output!BS68),\"\")","v":""},null,null,{"$f":"IF(Input_Output!BU68=\"\",T(Input_Output!BV68),\"\")","v":""},null,null,{"$f":"IF(Input_Output!BX68=\"\",T(Input_Output!BY68),\"\")","v":""},null,null,{"$f":"IF(Input_Output!CA68=\"\",T(Input_Output!CB68),\"\")","v":""},null,null,{"$f":"IF(Input_Output!CD68=\"\",T(Input_Output!CE68),\"\")","v":""},null,null,{"$f":"IF(Input_Output!CG68=\"\",T(Input_Output!CH68),\"\")","v":""},null,null,{"$f":"IF(Input_Output!CJ68=\"\",T(Input_Output!CK68),\"\")","v":""},null,null,{"$f":"IF(Input_Output!CM68=\"\",T(Input_Output!CN68),\"\")","v":""},null,null,{"$f":"IF(Input_Output!CP68=\"\",T(Input_Output!CQ68),\"\")","v":""},null,null,{"$f":"IF(Input_Output!CS68=\"\",T(Input_Output!CT68),\"\")","v":""},null,null,{"$f":"IF(Input_Output!CV68=\"\",T(Input_Output!CW68),\"\")","v":""},null,null,{"$f":"IF(Input_Output!CY68=\"\",T(Input_Output!CZ68),\"\")","v":""},null,null,{"$f":"IF(Input_Output!DB68=\"\",T(Input_Output!DC68),\"\")","v":""},null,null,{"$f":"IF(Input_Output!DE68=\"\",T(Input_Output!DF68),\"\")","v":""},null,null,{"$f":"IF(Input_Output!DH68=\"\",T(Input_Output!DI68),\"\")","v":""},null,null,{"$f":"IF(Input_Output!DK68=\"\",T(Input_Output!DL68),\"\")","v":""},null,null,{"$f":"IF(Input_Output!DN68=\"\",T(Input_Output!DO68),\"\")","v":""},null,null,{"$f":"IF(Input_Output!DQ68=\"\",T(Input_Output!DR68),\"\")","v":""},null,null,{"$f":"IF(Input_Output!DT68=\"\",T(Input_Output!DU68),\"\")","v":""},null,null,{"$f":"IF(Input_Output!DW68=\"\",T(Input_Output!DX68),\"\")","v":""},null,null,{"$f":"IF(Input_Output!DZ68=\"\",T(Input_Output!EA68),\"\")","v":""},null,null,{"$f":"IF(Input_Output!EC68=\"\",T(Input_Output!ED68),\"\")","v":""},null,null,{"$f":"IF(Input_Output!EF68=\"\",T(Input_Output!EG68),\"\")","v":""},null,null,{"$f":"IF(Input_Output!EI68=\"\",T(Input_Output!EJ68),\"\")","v":""},null,null,{"$f":"IF(Input_Output!EL68=\"\",T(Input_Output!EM68),\"\")","v":""},null,null,{"$f":"IF(Input_Output!EO68=\"\",T(Input_Output!EP68),\"\")","v":""},null,null,{"$f":"IF(Input_Output!ER68=\"\",T(Input_Output!ES68),\"\")","v":""},null,null,{"$f":"IF(Input_Output!EU68=\"\",T(Input_Output!EV68),\"\")","v":""},null,null,{"$f":"IF(Input_Output!EX68=\"\",T(Input_Output!EY68),\"\")","v":""},null,null,{"$f":"IF(Input_Output!FA68=\"\",T(Input_Output!FB68),\"\")","v":""},null,null,{"$f":"IF(Input_Output!FD68=\"\",T(Input_Output!FE68),\"\")","v":""},null,null,{"$f":"IF(Input_Output!FG68=\"\",T(Input_Output!FH68),\"\")","v":""},null,null,{"$f":"IF(Input_Output!FJ68=\"\",T(Input_Output!FK68),\"\")","v":""},null,null,{"$f":"IF(Input_Output!FM68=\"\",T(Input_Output!FN68),\"\")","v":""},null,null,{"$f":"IF(Input_Output!FP68=\"\",T(Input_Output!FQ68),\"\")","v":""},null,null,{"$f":"IF(Input_Output!FS68=\"\",T(Input_Output!FT68),\"\")","v":""},null,null,{"$f":"IF(Input_Output!FV68=\"\",T(Input_Output!FW68),\"\")","v":""},null,null,{"$f":"IF(Input_Output!FY68=\"\",T(Input_Output!FZ68),\"\")","v":""},null,null,{"$f":"IF(Input_Output!GB68=\"\",T(Input_Output!GC68),\"\")","v":""},null,null,{"$f":"IF(Input_Output!GE68=\"\",T(Input_Output!GF68),\"\")","v":""},null,null,{"$f":"IF(Input_Output!GH68=\"\",T(Input_Output!GI68),\"\")","v":""},null,null,{"$f":"IF(Input_Output!GK68=\"\",T(Input_Output!GL68),\"\")","v":""},null,null,{"$f":"IF(Input_Output!GN68=\"\",T(Input_Output!GO68),\"\")","v":""},null,null,{"$f":"IF(Input_Output!GQ68=\"\",T(Input_Output!GR68),\"\")","v":""},null,null,{"$f":"IF(Input_Output!GT68=\"\",T(Input_Output!GU68),\"\")","v":""},null,null,{"$f":"IF(Input_Output!GW68=\"\",T(Input_Output!GX68),\"\")","v":""},null,null,{"$f":"IF(Input_Output!GZ68=\"\",T(Input_Output!HA68),\"\")","v":""},null,null,{"$f":"IF(Input_Output!HC68=\"\",T(Input_Output!HD68),\"\")","v":""},null,null,{"$f":"IF(Input_Output!HF68=\"\",T(Input_Output!HG68),\"\")","v":""},null,null,{"$f":"IF(Input_Output!HI68=\"\",T(Input_Output!HJ68),\"\")","v":""},null,null,{"$f":"IF(Input_Output!HL68=\"\",T(Input_Output!HM68),\"\")","v":""},null,null,{"$f":"IF(Input_Output!HO68=\"\",T(Input_Output!HP68),\"\")","v":""},null,null,{"$f":"IF(Input_Output!HR68=\"\",T(Input_Output!HS68),\"\")","v":""},null,null,{"$f":"IF(Input_Output!HU68=\"\",T(Input_Output!HV68),\"\")","v":""},null,null,{"$f":"IF(Input_Output!HX68=\"\",T(Input_Output!HY68),\"\")","v":""},null,null,{"$f":"IF(Input_Output!IA68=\"\",T(Input_Output!IB68),\"\")","v":""},null,null,{"$f":"IF(Input_Output!ID68=\"\",T(Input_Output!IE68),\"\")","v":""},null,null,{"$f":"IF(Input_Output!IG68=\"\",T(Input_Output!IH68),\"\")","v":""},null,null,{"$f":"IF(Input_Output!IJ68=\"\",T(Input_Output!IK68),\"\")","v":""},null,null,{"$f":"IF(Input_Output!IM68=\"\",T(Input_Output!IN68),\"\")","v":""},null,null,{"$f":"IF(Input_Output!IP68=\"\",T(Input_Output!IQ68),\"\")","v":""},null,null,{"$f":"IF(Input_Output!IS68=\"\",T(Input_Output!IT68),\"\")","v":""}]
[null,null,null,null,{"$f":"IF(Input_Output!D69=\"\",T(Input_Output!E69),\"\")","v":""},null,null,{"$f":"IF(Input_Output!G69=\"\",T(Input_Output!H69),\"\")","v":""},null,null,{"$f":"IF(Input_Output!J69=\"\",T(Input_Output!K69),\"\")","v":""},null,null,{"$f":"IF(Input_Output!M69=\"\",T(Input_Output!N69),\"\")","v":""},null,null,{"$f":"IF(Input_Output!P69=\"\",T(Input_Output!Q69),\"\")","v":""},null,null,{"$f":"IF(Input_Output!S69=\"\",T(Input_Output!T69),\"\")","v":""},null,null,{"$f":"IF(Input_Output!V69=\"\",T(Input_Output!W69),\"\")","v":""},null,null,{"$f":"IF(Input_Output!Y69=\"\",T(Input_Output!Z69),\"\")","v":""},null,null,{"$f":"IF(Input_Output!AB69=\"\",T(Input_Output!AC69),\"\")","v":""},null,null,{"$f":"IF(Input_Output!AE69=\"\",T(Input_Output!AF69),\"\")","v":""},null,null,{"$f":"IF(Input_Output!AH69=\"\",T(Input_Output!AI69),\"\")","v":""},null,null,{"$f":"IF(Input_Output!AK69=\"\",T(Input_Output!AL69),\"\")","v":""},null,null,{"$f":"IF(Input_Output!AN69=\"\",T(Input_Output!AO69),\"\")","v":""},null,null,{"$f":"IF(Input_Output!AQ69=\"\",T(Input_Output!AR69),\"\")","v":""},null,null,{"$f":"IF(Input_Output!AT69=\"\",T(Input_Output!AU69),\"\")","v":""},null,null,{"$f":"IF(Input_Output!AW69=\"\",T(Input_Output!AX69),\"\")","v":""},null,null,{"$f":"IF(Input_Output!AZ69=\"\",T(Input_Output!BA69),\"\")","v":""},null,null,{"$f":"IF(Input_Output!BC69=\"\",T(Input_Output!BD69),\"\")","v":""},null,null,{"$f":"IF(Input_Output!BF69=\"\",T(Input_Output!BG69),\"\")","v":""},null,null,{"$f":"IF(Input_Output!BI69=\"\",T(Input_Output!BJ69),\"\")","v":""},null,null,{"$f":"IF(Input_Output!BL69=\"\",T(Input_Output!BM69),\"\")","v":""},null,null,{"$f":"IF(Input_Output!BO69=\"\",T(Input_Output!BP69),\"\")","v":""},null,null,{"$f":"IF(Input_Output!BR69=\"\",T(Input_Output!BS69),\"\")","v":""},null,null,{"$f":"IF(Input_Output!BU69=\"\",T(Input_Output!BV69),\"\")","v":""},null,null,{"$f":"IF(Input_Output!BX69=\"\",T(Input_Output!BY69),\"\")","v":""},null,null,{"$f":"IF(Input_Output!CA69=\"\",T(Input_Output!CB69),\"\")","v":""},null,null,{"$f":"IF(Input_Output!CD69=\"\",T(Input_Output!CE69),\"\")","v":""},null,null,{"$f":"IF(Input_Output!CG69=\"\",T(Input_Output!CH69),\"\")","v":""},null,null,{"$f":"IF(Input_Output!CJ69=\"\",T(Input_Output!CK69),\"\")","v":""},null,null,{"$f":"IF(Input_Output!CM69=\"\",T(Input_Output!CN69),\"\")","v":""},null,null,{"$f":"IF(Input_Output!CP69=\"\",T(Input_Output!CQ69),\"\")","v":""},null,null,{"$f":"IF(Input_Output!CS69=\"\",T(Input_Output!CT69),\"\")","v":""},null,null,{"$f":"IF(Input_Output!CV69=\"\",T(Input_Output!CW69),\"\")","v":""},null,null,{"$f":"IF(Input_Output!CY69=\"\",T(Input_Output!CZ69),\"\")","v":""},null,null,{"$f":"IF(Input_Output!DB69=\"\",T(Input_Output!DC69),\"\")","v":""},null,null,{"$f":"IF(Input_Output!DE69=\"\",T(Input_Output!DF69),\"\")","v":""},null,null,{"$f":"IF(Input_Output!DH69=\"\",T(Input_Output!DI69),\"\")","v":""},null,null,{"$f":"IF(Input_Output!DK69=\"\",T(Input_Output!DL69),\"\")","v":""},null,null,{"$f":"IF(Input_Output!DN69=\"\",T(Input_Output!DO69),\"\")","v":""},null,null,{"$f":"IF(Input_Output!DQ69=\"\",T(Input_Output!DR69),\"\")","v":""},null,null,{"$f":"IF(Input_Output!DT69=\"\",T(Input_Output!DU69),\"\")","v":""},null,null,{"$f":"IF(Input_Output!DW69=\"\",T(Input_Output!DX69),\"\")","v":""},null,null,{"$f":"IF(Input_Output!DZ69=\"\",T(Input_Output!EA69),\"\")","v":""},null,null,{"$f":"IF(Input_Output!EC69=\"\",T(Input_Output!ED69),\"\")","v":""},null,null,{"$f":"IF(Input_Output!EF69=\"\",T(Input_Output!EG69),\"\")","v":""},null,null,{"$f":"IF(Input_Output!EI69=\"\",T(Input_Output!EJ69),\"\")","v":""},null,null,{"$f":"IF(Input_Output!EL69=\"\",T(Input_Output!EM69),\"\")","v":""},null,null,{"$f":"IF(Input_Output!EO69=\"\",T(Input_Output!EP69),\"\")","v":""},null,null,{"$f":"IF(Input_Output!ER69=\"\",T(Input_Output!ES69),\"\")","v":""},null,null,{"$f":"IF(Input_Output!EU69=\"\",T(Input_Output!EV69),\"\")","v":""},null,null,{"$f":"IF(Input_Output!EX69=\"\",T(Input_Output!EY69),\"\")","v":""},null,null,{"$f":"IF(Input_Output!FA69=\"\",T(Input_Output!FB69),\"\")","v":""},null,null,{"$f":"IF(Input_Output!FD69=\"\",T(Input_Output!FE69),\"\")","v":""},null,null,{"$f":"IF(Input_Output!FG69=\"\",T(Input_Output!FH69),\"\")","v":""},null,null,{"$f":"IF(Input_Output!FJ69=\"\",T(Input_Output!FK69),\"\")","v":""},null,null,{"$f":"IF(Input_Output!FM69=\"\",T(Input_Output!FN69),\"\")","v":""},null,null,{"$f":"IF(Input_Output!FP69=\"\",T(Input_Output!FQ69),\"\")","v":""},null,null,{"$f":"IF(Input_Output!FS69=\"\",T(Input_Output!FT69),\"\")","v":""},null,null,{"$f":"IF(Input_Output!FV69=\"\",T(Input_Output!FW69),\"\")","v":""},null,null,{"$f":"IF(Input_Output!FY69=\"\",T(Input_Output!FZ69),\"\")","v":""},null,null,{"$f":"IF(Input_Output!GB69=\"\",T(Input_Output!GC69),\"\")","v":""},null,null,{"$f":"IF(Input_Output!GE69=\"\",T(Input_Output!GF69),\"\")","v":""},null,null,{"$f":"IF(Input_Output!GH69=\"\",T(Input_Output!GI69),\"\")","v":""},null,null,{"$f":"IF(Input_Output!GK69=\"\",T(Input_Output!GL69),\"\")","v":""},null,null,{"$f":"IF(Input_Output!GN69=\"\",T(Input_Output!GO69),\"\")","v":""},null,null,{"$f":"IF(Input_Output!GQ69=\"\",T(Input_Output!GR69),\"\")","v":""},null,null,{"$f":"IF(Input_Output!GT69=\"\",T(Input_Output!GU69),\"\")","v":""},null,null,{"$f":"IF(Input_Output!GW69=\"\",T(Input_Output!GX69),\"\")","v":""},null,null,{"$f":"IF(Input_Output!GZ69=\"\",T(Input_Output!HA69),\"\")","v":""},null,null,{"$f":"IF(Input_Output!HC69=\"\",T(Input_Output!HD69),\"\")","v":""},null,null,{"$f":"IF(Input_Output!HF69=\"\",T(Input_Output!HG69),\"\")","v":""},null,null,{"$f":"IF(Input_Output!HI69=\"\",T(Input_Output!HJ69),\"\")","v":""},null,null,{"$f":"IF(Input_Output!HL69=\"\",T(Input_Output!HM69),\"\")","v":""},null,null,{"$f":"IF(Input_Output!HO69=\"\",T(Input_Output!HP69),\"\")","v":""},null,null,{"$f":"IF(Input_Output!HR69=\"\",T(Input_Output!HS69),\"\")","v":""},null,null,{"$f":"IF(Input_Output!HU69=\"\",T(Input_Output!HV69),\"\")","v":""},null,null,{"$f":"IF(Input_Output!HX69=\"\",T(Input_Output!HY69),\"\")","v":""},null,null,{"$f":"IF(Input_Output!IA69=\"\",T(Input_Output!IB69),\"\")","v":""},null,null,{"$f":"IF(Input_Output!ID69=\"\",T(Input_Output!IE69),\"\")","v":""},null,null,{"$f":"IF(Input_Output!IG69=\"\",T(Input_Output!IH69),\"\")","v":""},null,null,{"$f":"IF(Input_Output!IJ69=\"\",T(Input_Output!IK69),\"\")","v":""},null,null,{"$f":"IF(Input_Output!IM69=\"\",T(Input_Output!IN69),\"\")","v":""},null,null,{"$f":"IF(Input_Output!IP69=\"\",T(Input_Output!IQ69),\"\")","v":""},null,null,{"$f":"IF(Input_Output!IS69=\"\",T(Input_Output!IT69),\"\")","v":""}]
[null,null,null,null,{"$f":"IF(Input_Output!D70=\"\",T(Input_Output!E70),\"\")","v":""},null,null,{"$f":"IF(Input_Output!G70=\"\",T(Input_Output!H70),\"\")","v":""},null,null,{"$f":"IF(Input_Output!J70=\"\",T(Input_Output!K70),\"\")","v":""},null,null,{"$f":"IF(Input_Output!M70=\"\",T(Input_Output!N70),\"\")","v":""},null,null,{"$f":"IF(Input_Output!P70=\"\",T(Input_Output!Q70),\"\")","v":""},null,null,{"$f":"IF(Input_Output!S70=\"\",T(Input_Output!T70),\"\")","v":""},null,null,{"$f":"IF(Input_Output!V70=\"\",T(Input_Output!W70),\"\")","v":""},null,null,{"$f":"IF(Input_Output!Y70=\"\",T(Input_Output!Z70),\"\")","v":""},null,null,{"$f":"IF(Input_Output!AB70=\"\",T(Input_Output!AC70),\"\")","v":""},null,null,{"$f":"IF(Input_Output!AE70=\"\",T(Input_Output!AF70),\"\")","v":""},null,null,{"$f":"IF(Input_Output!AH70=\"\",T(Input_Output!AI70),\"\")","v":""},null,null,{"$f":"IF(Input_Output!AK70=\"\",T(Input_Output!AL70),\"\")","v":""},null,null,{"$f":"IF(Input_Output!AN70=\"\",T(Input_Output!AO70),\"\")","v":""},null,null,{"$f":"IF(Input_Output!AQ70=\"\",T(Input_Output!AR70),\"\")","v":""},null,null,{"$f":"IF(Input_Output!AT70=\"\",T(Input_Output!AU70),\"\")","v":""},null,null,{"$f":"IF(Input_Output!AW70=\"\",T(Input_Output!AX70),\"\")","v":""},null,null,{"$f":"IF(Input_Output!AZ70=\"\",T(Input_Output!BA70),\"\")","v":""},null,null,{"$f":"IF(Input_Output!BC70=\"\",T(Input_Output!BD70),\"\")","v":""},null,null,{"$f":"IF(Input_Output!BF70=\"\",T(Input_Output!BG70),\"\")","v":""},null,null,{"$f":"IF(Input_Output!BI70=\"\",T(Input_Output!BJ70),\"\")","v":""},null,null,{"$f":"IF(Input_Output!BL70=\"\",T(Input_Output!BM70),\"\")","v":""},null,null,{"$f":"IF(Input_Output!BO70=\"\",T(Input_Output!BP70),\"\")","v":""},null,null,{"$f":"IF(Input_Output!BR70=\"\",T(Input_Output!BS70),\"\")","v":""},null,null,{"$f":"IF(Input_Output!BU70=\"\",T(Input_Output!BV70),\"\")","v":""},null,null,{"$f":"IF(Input_Output!BX70=\"\",T(Input_Output!BY70),\"\")","v":""},null,null,{"$f":"IF(Input_Output!CA70=\"\",T(Input_Output!CB70),\"\")","v":""},null,null,{"$f":"IF(Input_Output!CD70=\"\",T(Input_Output!CE70),\"\")","v":""},null,null,{"$f":"IF(Input_Output!CG70=\"\",T(Input_Output!CH70),\"\")","v":""},null,null,{"$f":"IF(Input_Output!CJ70=\"\",T(Input_Output!CK70),\"\")","v":""},null,null,{"$f":"IF(Input_Output!CM70=\"\",T(Input_Output!CN70),\"\")","v":""},null,null,{"$f":"IF(Input_Output!CP70=\"\",T(Input_Output!CQ70),\"\")","v":""},null,null,{"$f":"IF(Input_Output!CS70=\"\",T(Input_Output!CT70),\"\")","v":""},null,null,{"$f":"IF(Input_Output!CV70=\"\",T(Input_Output!CW70),\"\")","v":""},null,null,{"$f":"IF(Input_Output!CY70=\"\",T(Input_Output!CZ70),\"\")","v":""},null,null,{"$f":"IF(Input_Output!DB70=\"\",T(Input_Output!DC70),\"\")","v":""},null,null,{"$f":"IF(Input_Output!DE70=\"\",T(Input_Output!DF70),\"\")","v":""},null,null,{"$f":"IF(Input_Output!DH70=\"\",T(Input_Output!DI70),\"\")","v":""},null,null,{"$f":"IF(Input_Output!DK70=\"\",T(Input_Output!DL70),\"\")","v":""},null,null,{"$f":"IF(Input_Output!DN70=\"\",T(Input_Output!DO70),\"\")","v":""},null,null,{"$f":"IF(Input_Output!DQ70=\"\",T(Input_Output!DR70),\"\")","v":""},null,null,{"$f":"IF(Input_Output!DT70=\"\",T(Input_Output!DU70),\"\")","v":""},null,null,{"$f":"IF(Input_Output!DW70=\"\",T(Input_Output!DX70),\"\")","v":""},null,null,{"$f":"IF(Input_Output!DZ70=\"\",T(Input_Output!EA70),\"\")","v":""},null,null,{"$f":"IF(Input_Output!EC70=\"\",T(Input_Output!ED70),\"\")","v":""},null,null,{"$f":"IF(Input_Output!EF70=\"\",T(Input_Output!EG70),\"\")","v":""},null,null,{"$f":"IF(Input_Output!EI70=\"\",T(Input_Output!EJ70),\"\")","v":""},null,null,{"$f":"IF(Input_Output!EL70=\"\",T(Input_Output!EM70),\"\")","v":""},null,null,{"$f":"IF(Input_Output!EO70=\"\",T(Input_Output!EP70),\"\")","v":""},null,null,{"$f":"IF(Input_Output!ER70=\"\",T(Input_Output!ES70),\"\")","v":""},null,null,{"$f":"IF(Input_Output!EU70=\"\",T(Input_Output!EV70),\"\")","v":""},null,null,{"$f":"IF(Input_Output!EX70=\"\",T(Input_Output!EY70),\"\")","v":""},null,null,{"$f":"IF(Input_Output!FA70=\"\",T(Input_Output!FB70),\"\")","v":""},null,null,{"$f":"IF(Input_Output!FD70=\"\",T(Input_Output!FE70),\"\")","v":""},null,null,{"$f":"IF(Input_Output!FG70=\"\",T(Input_Output!FH70),\"\")","v":""},null,null,{"$f":"IF(Input_Output!FJ70=\"\",T(Input_Output!FK70),\"\")","v":""},null,null,{"$f":"IF(Input_Output!FM70=\"\",T(Input_Output!FN70),\"\")","v":""},null,null,{"$f":"IF(Input_Output!FP70=\"\",T(Input_Output!FQ70),\"\")","v":""},null,null,{"$f":"IF(Input_Output!FS70=\"\",T(Input_Output!FT70),\"\")","v":""},null,null,{"$f":"IF(Input_Output!FV70=\"\",T(Input_Output!FW70),\"\")","v":""},null,null,{"$f":"IF(Input_Output!FY70=\"\",T(Input_Output!FZ70),\"\")","v":""},null,null,{"$f":"IF(Input_Output!GB70=\"\",T(Input_Output!GC70),\"\")","v":""},null,null,{"$f":"IF(Input_Output!GE70=\"\",T(Input_Output!GF70),\"\")","v":""},null,null,{"$f":"IF(Input_Output!GH70=\"\",T(Input_Output!GI70),\"\")","v":""},null,null,{"$f":"IF(Input_Output!GK70=\"\",T(Input_Output!GL70),\"\")","v":""},null,null,{"$f":"IF(Input_Output!GN70=\"\",T(Input_Output!GO70),\"\")","v":""},null,null,{"$f":"IF(Input_Output!GQ70=\"\",T(Input_Output!GR70),\"\")","v":""},null,null,{"$f":"IF(Input_Output!GT70=\"\",T(Input_Output!GU70),\"\")","v":""},null,null,{"$f":"IF(Input_Output!GW70=\"\",T(Input_Output!GX70),\"\")","v":""},null,null,{"$f":"IF(Input_Output!GZ70=\"\",T(Input_Output!HA70),\"\")","v":""},null,null,{"$f":"IF(Input_Output!HC70=\"\",T(Input_Output!HD70),\"\")","v":""},null,null,{"$f":"IF(Input_Output!HF70=\"\",T(Input_Output!HG70),\"\")","v":""},null,null,{"$f":"IF(Input_Output!HI70=\"\",T(Input_Output!HJ70),\"\")","v":""},null,null,{"$f":"IF(Input_Output!HL70=\"\",T(Input_Output!HM70),\"\")","v":""},null,null,{"$f":"IF(Input_Output!HO70=\"\",T(Input_Output!HP70),\"\")","v":""},null,null,{"$f":"IF(Input_Output!HR70=\"\",T(Input_Output!HS70),\"\")","v":""},null,null,{"$f":"IF(Input_Output!HU70=\"\",T(Input_Output!HV70),\"\")","v":""},null,null,{"$f":"IF(Input_Output!HX70=\"\",T(Input_Output!HY70),\"\")","v":""},null,null,{"$f":"IF(Input_Output!IA70=\"\",T(Input_Output!IB70),\"\")","v":""},null,null,{"$f":"IF(Input_Output!ID70=\"\",T(Input_Output!IE70),\"\")","v":""},null,null,{"$f":"IF(Input_Output!IG70=\"\",T(Input_Output!IH70),\"\")","v":""},null,null,{"$f":"IF(Input_Output!IJ70=\"\",T(Input_Output!IK70),\"\")","v":""},null,null,{"$f":"IF(Input_Output!IM70=\"\",T(Input_Output!IN70),\"\")","v":""},null,null,{"$f":"IF(Input_Output!IP70=\"\",T(Input_Output!IQ70),\"\")","v":""},null,null,{"$f":"IF(Input_Output!IS70=\"\",T(Input_Output!IT70),\"\")","v":""}]
[null,null,null,null,{"$f":"IF(Input_Output!D71=\"\",T(Input_Output!E71),\"\")","v":""},null,null,{"$f":"IF(Input_Output!G71=\"\",T(Input_Output!H71),\"\")","v":""},null,null,{"$f":"IF(Input_Output!J71=\"\",T(Input_Output!K71),\"\")","v":""},null,null,{"$f":"IF(Input_Output!M71=\"\",T(Input_Output!N71),\"\")","v":""},null,null,{"$f":"IF(Input_Output!P71=\"\",T(Input_Output!Q71),\"\")","v":""},null,null,{"$f":"IF(Input_Output!S71=\"\",T(Input_Output!T71),\"\")","v":""},null,null,{"$f":"IF(Input_Output!V71=\"\",T(Input_Output!W71),\"\")","v":""},null,null,{"$f":"IF(Input_Output!Y71=\"\",T(Input_Output!Z71),\"\")","v":""},null,null,{"$f":"IF(Input_Output!AB71=\"\",T(Input_Output!AC71),\"\")","v":""},null,null,{"$f":"IF(Input_Output!AE71=\"\",T(Input_Output!AF71),\"\")","v":""},null,null,{"$f":"IF(Input_Output!AH71=\"\",T(Input_Output!AI71),\"\")","v":""},null,null,{"$f":"IF(Input_Output!AK71=\"\",T(Input_Output!AL71),\"\")","v":""},null,null,{"$f":"IF(Input_Output!AN71=\"\",T(Input_Output!AO71),\"\")","v":""},null,null,{"$f":"IF(Input_Output!AQ71=\"\",T(Input_Output!AR71),\"\")","v":""},null,null,{"$f":"IF(Input_Output!AT71=\"\",T(Input_Output!AU71),\"\")","v":""},null,null,{"$f":"IF(Input_Output!AW71=\"\",T(Input_Output!AX71),\"\")","v":""},null,null,{"$f":"IF(Input_Output!AZ71=\"\",T(Input_Output!BA71),\"\")","v":""},null,null,{"$f":"IF(Input_Output!BC71=\"\",T(Input_Output!BD71),\"\")","v":""},null,null,{"$f":"IF(Input_Output!BF71=\"\",T(Input_Output!BG71),\"\")","v":""},null,null,{"$f":"IF(Input_Output!BI71=\"\",T(Input_Output!BJ71),\"\")","v":""},null,null,{"$f":"IF(Input_Output!BL71=\"\",T(Input_Output!BM71),\"\")","v":""},null,null,{"$f":"IF(Input_Output!BO71=\"\",T(Input_Output!BP71),\"\")","v":""},null,null,{"$f":"IF(Input_Output!BR71=\"\",T(Input_Output!BS71),\"\")","v":""},null,null,{"$f":"IF(Input_Output!BU71=\"\",T(Input_Output!BV71),\"\")","v":""},null,null,{"$f":"IF(Input_Output!BX71=\"\",T(Input_Output!BY71),\"\")","v":""},null,null,{"$f":"IF(Input_Output!CA71=\"\",T(Input_Output!CB71),\"\")","v":""},null,null,{"$f":"IF(Input_Output!CD71=\"\",T(Input_Output!CE71),\"\")","v":""},null,null,{"$f":"IF(Input_Output!CG71=\"\",T(Input_Output!CH71),\"\")","v":""},null,null,{"$f":"IF(Input_Output!CJ71=\"\",T(Input_Output!CK71),\"\")","v":""},null,null,{"$f":"IF(Input_Output!CM71=\"\",T(Input_Output!CN71),\"\")","v":""},null,null,{"$f":"IF(Input_Output!CP71=\"\",T(Input_Output!CQ71),\"\")","v":""},null,null,{"$f":"IF(Input_Output!CS71=\"\",T(Input_Output!CT71),\"\")","v":""},null,null,{"$f":"IF(Input_Output!CV71=\"\",T(Input_Output!CW71),\"\")","v":""},null,null,{"$f":"IF(Input_Output!CY71=\"\",T(Input_Output!CZ71),\"\")","v":""},null,null,{"$f":"IF(Input_Output!DB71=\"\",T(Input_Output!DC71),\"\")","v":""},null,null,{"$f":"IF(Input_Output!DE71=\"\",T(Input_Output!DF71),\"\")","v":""},null,null,{"$f":"IF(Input_Output!DH71=\"\",T(Input_Output!DI71),\"\")","v":""},null,null,{"$f":"IF(Input_Output!DK71=\"\",T(Input_Output!DL71),\"\")","v":""},null,null,{"$f":"IF(Input_Output!DN71=\"\",T(Input_Output!DO71),\"\")","v":""},null,null,{"$f":"IF(Input_Output!DQ71=\"\",T(Input_Output!DR71),\"\")","v":""},null,null,{"$f":"IF(Input_Output!DT71=\"\",T(Input_Output!DU71),\"\")","v":""},null,null,{"$f":"IF(Input_Output!DW71=\"\",T(Input_Output!DX71),\"\")","v":""},null,null,{"$f":"IF(Input_Output!DZ71=\"\",T(Input_Output!EA71),\"\")","v":""},null,null,{"$f":"IF(Input_Output!EC71=\"\",T(Input_Output!ED71),\"\")","v":""},null,null,{"$f":"IF(Input_Output!EF71=\"\",T(Input_Output!EG71),\"\")","v":""},null,null,{"$f":"IF(Input_Output!EI71=\"\",T(Input_Output!EJ71),\"\")","v":""},null,null,{"$f":"IF(Input_Output!EL71=\"\",T(Input_Output!EM71),\"\")","v":""},null,null,{"$f":"IF(Input_Output!EO71=\"\",T(Input_Output!EP71),\"\")","v":""},null,null,{"$f":"IF(Input_Output!ER71=\"\",T(Input_Output!ES71),\"\")","v":""},null,null,{"$f":"IF(Input_Output!EU71=\"\",T(Input_Output!EV71),\"\")","v":""},null,null,{"$f":"IF(Input_Output!EX71=\"\",T(Input_Output!EY71),\"\")","v":""},null,null,{"$f":"IF(Input_Output!FA71=\"\",T(Input_Output!FB71),\"\")","v":""},null,null,{"$f":"IF(Input_Output!FD71=\"\",T(Input_Output!FE71),\"\")","v":""},null,null,{"$f":"IF(Input_Output!FG71=\"\",T(Input_Output!FH71),\"\")","v":""},null,null,{"$f":"IF(Input_Output!FJ71=\"\",T(Input_Output!FK71),\"\")","v":""},null,null,{"$f":"IF(Input_Output!FM71=\"\",T(Input_Output!FN71),\"\")","v":""},null,null,{"$f":"IF(Input_Output!FP71=\"\",T(Input_Output!FQ71),\"\")","v":""},null,null,{"$f":"IF(Input_Output!FS71=\"\",T(Input_Output!FT71),\"\")","v":""},null,null,{"$f":"IF(Input_Output!FV71=\"\",T(Input_Output!FW71),\"\")","v":""},null,null,{"$f":"IF(Input_Output!FY71=\"\",T(Input_Output!FZ71),\"\")","v":""},null,null,{"$f":"IF(Input_Output!GB71=\"\",T(Input_Output!GC71),\"\")","v":""},null,null,{"$f":"IF(Input_Output!GE71=\"\",T(Input_Output!GF71),\"\")","v":""},null,null,{"$f":"IF(Input_Output!GH71=\"\",T(Input_Output!GI71),\"\")","v":""},null,null,{"$f":"IF(Input_Output!GK71=\"\",T(Input_Output!GL71),\"\")","v":""},null,null,{"$f":"IF(Input_Output!GN71=\"\",T(Input_Output!GO71),\"\")","v":""},null,null,{"$f":"IF(Input_Output!GQ71=\"\",T(Input_Output!GR71),\"\")","v":""},null,null,{"$f":"IF(Input_Output!GT71=\"\",T(Input_Output!GU71),\"\")","v":""},null,null,{"$f":"IF(Input_Output!GW71=\"\",T(Input_Output!GX71),\"\")","v":""},null,null,{"$f":"IF(Input_Output!GZ71=\"\",T(Input_Output!HA71),\"\")","v":""},null,null,{"$f":"IF(Input_Output!HC71=\"\",T(Input_Output!HD71),\"\")","v":""},null,null,{"$f":"IF(Input_Output!HF71=\"\",T(Input_Output!HG71),\"\")","v":""},null,null,{"$f":"IF(Input_Output!HI71=\"\",T(Input_Output!HJ71),\"\")","v":""},null,null,{"$f":"IF(Input_Output!HL71=\"\",T(Input_Output!HM71),\"\")","v":""},null,null,{"$f":"IF(Input_Output!HO71=\"\",T(Input_Output!HP71),\"\")","v":""},null,null,{"$f":"IF(Input_Output!HR71=\"\",T(Input_Output!HS71),\"\")","v":""},null,null,{"$f":"IF(Input_Output!HU71=\"\",T(Input_Output!HV71),\"\")","v":""},null,null,{"$f":"IF(Input_Output!HX71=\"\",T(Input_Output!HY71),\"\")","v":""},null,null,{"$f":"IF(Input_Output!IA71=\"\",T(Input_Output!IB71),\"\")","v":""},null,null,{"$f":"IF(Input_Output!ID71=\"\",T(Input_Output!IE71),\"\")","v":""},null,null,{"$f":"IF(Input_Output!IG71=\"\",T(Input_Output!IH71),\"\")","v":""},null,null,{"$f":"IF(Input_Output!IJ71=\"\",T(Input_Output!IK71),\"\")","v":""},null,null,{"$f":"IF(Input_Output!IM71=\"\",T(Input_Output!IN71),\"\")","v":""},null,null,{"$f":"IF(Input_Output!IP71=\"\",T(Input_Output!IQ71),\"\")","v":""},null,null,{"$f":"IF(Input_Output!IS71=\"\",T(Input_Output!IT71),\"\")","v":""}]
[null,null,null,null,{"$f":"IF(Input_Output!D72=\"\",T(Input_Output!E72),\"\")","v":""},null,null,{"$f":"IF(Input_Output!G72=\"\",T(Input_Output!H72),\"\")","v":""},null,null,{"$f":"IF(Input_Output!J72=\"\",T(Input_Output!K72),\"\")","v":""},null,null,{"$f":"IF(Input_Output!M72=\"\",T(Input_Output!N72),\"\")","v":""},null,null,{"$f":"IF(Input_Output!P72=\"\",T(Input_Output!Q72),\"\")","v":""},null,null,{"$f":"IF(Input_Output!S72=\"\",T(Input_Output!T72),\"\")","v":""},null,null,{"$f":"IF(Input_Output!V72=\"\",T(Input_Output!W72),\"\")","v":""},null,null,{"$f":"IF(Input_Output!Y72=\"\",T(Input_Output!Z72),\"\")","v":""},null,null,{"$f":"IF(Input_Output!AB72=\"\",T(Input_Output!AC72),\"\")","v":""},null,null,{"$f":"IF(Input_Output!AE72=\"\",T(Input_Output!AF72),\"\")","v":""},null,null,{"$f":"IF(Input_Output!AH72=\"\",T(Input_Output!AI72),\"\")","v":""},null,null,{"$f":"IF(Input_Output!AK72=\"\",T(Input_Output!AL72),\"\")","v":""},null,null,{"$f":"IF(Input_Output!AN72=\"\",T(Input_Output!AO72),\"\")","v":""},null,null,{"$f":"IF(Input_Output!AQ72=\"\",T(Input_Output!AR72),\"\")","v":""},null,null,{"$f":"IF(Input_Output!AT72=\"\",T(Input_Output!AU72),\"\")","v":""},null,null,{"$f":"IF(Input_Output!AW72=\"\",T(Input_Output!AX72),\"\")","v":""},null,null,{"$f":"IF(Input_Output!AZ72=\"\",T(Input_Output!BA72),\"\")","v":""},null,null,{"$f":"IF(Input_Output!BC72=\"\",T(Input_Output!BD72),\"\")","v":""},null,null,{"$f":"IF(Input_Output!BF72=\"\",T(Input_Output!BG72),\"\")","v":""},null,null,{"$f":"IF(Input_Output!BI72=\"\",T(Input_Output!BJ72),\"\")","v":""},null,null,{"$f":"IF(Input_Output!BL72=\"\",T(Input_Output!BM72),\"\")","v":""},null,null,{"$f":"IF(Input_Output!BO72=\"\",T(Input_Output!BP72),\"\")","v":""},null,null,{"$f":"IF(Input_Output!BR72=\"\",T(Input_Output!BS72),\"\")","v":""},null,null,{"$f":"IF(Input_Output!BU72=\"\",T(Input_Output!BV72),\"\")","v":""},null,null,{"$f":"IF(Input_Output!BX72=\"\",T(Input_Output!BY72),\"\")","v":""},null,null,{"$f":"IF(Input_Output!CA72=\"\",T(Input_Output!CB72),\"\")","v":""},null,null,{"$f":"IF(Input_Output!CD72=\"\",T(Input_Output!CE72),\"\")","v":""},null,null,{"$f":"IF(Input_Output!CG72=\"\",T(Input_Output!CH72),\"\")","v":""},null,null,{"$f":"IF(Input_Output!CJ72=\"\",T(Input_Output!CK72),\"\")","v":""},null,null,{"$f":"IF(Input_Output!CM72=\"\",T(Input_Output!CN72),\"\")","v":""},null,null,{"$f":"IF(Input_Output!CP72=\"\",T(Input_Output!CQ72),\"\")","v":""},null,null,{"$f":"IF(Input_Output!CS72=\"\",T(Input_Output!CT72),\"\")","v":""},null,null,{"$f":"IF(Input_Output!CV72=\"\",T(Input_Output!CW72),\"\")","v":""},null,null,{"$f":"IF(Input_Output!CY72=\"\",T(Input_Output!CZ72),\"\")","v":""},null,null,{"$f":"IF(Input_Output!DB72=\"\",T(Input_Output!DC72),\"\")","v":""},null,null,{"$f":"IF(Input_Output!DE72=\"\",T(Input_Output!DF72),\"\")","v":""},null,null,{"$f":"IF(Input_Output!DH72=\"\",T(Input_Output!DI72),\"\")","v":""},null,null,{"$f":"IF(Input_Output!DK72=\"\",T(Input_Output!DL72),\"\")","v":""},null,null,{"$f":"IF(Input_Output!DN72=\"\",T(Input_Output!DO72),\"\")","v":""},null,null,{"$f":"IF(Input_Output!DQ72=\"\",T(Input_Output!DR72),\"\")","v":""},null,null,{"$f":"IF(Input_Output!DT72=\"\",T(Input_Output!DU72),\"\")","v":""},null,null,{"$f":"IF(Input_Output!DW72=\"\",T(Input_Output!DX72),\"\")","v":""},null,null,{"$f":"IF(Input_Output!DZ72=\"\",T(Input_Output!EA72),\"\")","v":""},null,null,{"$f":"IF(Input_Output!EC72=\"\",T(Input_Output!ED72),\"\")","v":""},null,null,{"$f":"IF(Input_Output!EF72=\"\",T(Input_Output!EG72),\"\")","v":""},null,null,{"$f":"IF(Input_Output!EI72=\"\",T(Input_Output!EJ72),\"\")","v":""},null,null,{"$f":"IF(Input_Output!EL72=\"\",T(Input_Output!EM72),\"\")","v":""},null,null,{"$f":"IF(Input_Output!EO72=\"\",T(Input_Output!EP72),\"\")","v":""},null,null,{"$f":"IF(Input_Output!ER72=\"\",T(Input_Output!ES72),\"\")","v":""},null,null,{"$f":"IF(Input_Output!EU72=\"\",T(Input_Output!EV72),\"\")","v":""},null,null,{"$f":"IF(Input_Output!EX72=\"\",T(Input_Output!EY72),\"\")","v":""},null,null,{"$f":"IF(Input_Output!FA72=\"\",T(Input_Output!FB72),\"\")","v":""},null,null,{"$f":"IF(Input_Output!FD72=\"\",T(Input_Output!FE72),\"\")","v":""},null,null,{"$f":"IF(Input_Output!FG72=\"\",T(Input_Output!FH72),\"\")","v":""},null,null,{"$f":"IF(Input_Output!FJ72=\"\",T(Input_Output!FK72),\"\")","v":""},null,null,{"$f":"IF(Input_Output!FM72=\"\",T(Input_Output!FN72),\"\")","v":""},null,null,{"$f":"IF(Input_Output!FP72=\"\",T(Input_Output!FQ72),\"\")","v":""},null,null,{"$f":"IF(Input_Output!FS72=\"\",T(Input_Output!FT72),\"\")","v":""},null,null,{"$f":"IF(Input_Output!FV72=\"\",T(Input_Output!FW72),\"\")","v":""},null,null,{"$f":"IF(Input_Output!FY72=\"\",T(Input_Output!FZ72),\"\")","v":""},null,null,{"$f":"IF(Input_Output!GB72=\"\",T(Input_Output!GC72),\"\")","v":""},null,null,{"$f":"IF(Input_Output!GE72=\"\",T(Input_Output!GF72),\"\")","v":""},null,null,{"$f":"IF(Input_Output!GH72=\"\",T(Input_Output!GI72),\"\")","v":""},null,null,{"$f":"IF(Input_Output!GK72=\"\",T(Input_Output!GL72),\"\")","v":""},null,null,{"$f":"IF(Input_Output!GN72=\"\",T(Input_Output!GO72),\"\")","v":""},null,null,{"$f":"IF(Input_Output!GQ72=\"\",T(Input_Output!GR72),\"\")","v":""},null,null,{"$f":"IF(Input_Output!GT72=\"\",T(Input_Output!GU72),\"\")","v":""},null,null,{"$f":"IF(Input_Output!GW72=\"\",T(Input_Output!GX72),\"\")","v":""},null,null,{"$f":"IF(Input_Output!GZ72=\"\",T(Input_Output!HA72),\"\")","v":""},null,null,{"$f":"IF(Input_Output!HC72=\"\",T(Input_Output!HD72),\"\")","v":""},null,null,{"$f":"IF(Input_Output!HF72=\"\",T(Input_Output!HG72),\"\")","v":""},null,null,{"$f":"IF(Input_Output!HI72=\"\",T(Input_Output!HJ72),\"\")","v":""},null,null,{"$f":"IF(Input_Output!HL72=\"\",T(Input_Output!HM72),\"\")","v":""},null,null,{"$f":"IF(Input_Output!HO72=\"\",T(Input_Output!HP72),\"\")","v":""},null,null,{"$f":"IF(Input_Output!HR72=\"\",T(Input_Output!HS72),\"\")","v":""},null,null,{"$f":"IF(Input_Output!HU72=\"\",T(Input_Output!HV72),\"\")","v":""},null,null,{"$f":"IF(Input_Output!HX72=\"\",T(Input_Output!HY72),\"\")","v":""},null,null,{"$f":"IF(Input_Output!IA72=\"\",T(Input_Output!IB72),\"\")","v":""},null,null,{"$f":"IF(Input_Output!ID72=\"\",T(Input_Output!IE72),\"\")","v":""},null,null,{"$f":"IF(Input_Output!IG72=\"\",T(Input_Output!IH72),\"\")","v":""},null,null,{"$f":"IF(Input_Output!IJ72=\"\",T(Input_Output!IK72),\"\")","v":""},null,null,{"$f":"IF(Input_Output!IM72=\"\",T(Input_Output!IN72),\"\")","v":""},null,null,{"$f":"IF(Input_Output!IP72=\"\",T(Input_Output!IQ72),\"\")","v":""},null,null,{"$f":"IF(Input_Output!IS72=\"\",T(Input_Output!IT72),\"\")","v":""}]
[null,null,null,null,{"$f":"IF(Input_Output!D73=\"\",T(Input_Output!E73),\"\")","v":""},null,null,{"$f":"IF(Input_Output!G73=\"\",T(Input_Output!H73),\"\")","v":""},null,null,{"$f":"IF(Input_Output!J73=\"\",T(Input_Output!K73),\"\")","v":""},null,null,{"$f":"IF(Input_Output!M73=\"\",T(Input_Output!N73),\"\")","v":""},null,null,{"$f":"IF(Input_Output!P73=\"\",T(Input_Output!Q73),\"\")","v":""},null,null,{"$f":"IF(Input_Output!S73=\"\",T(Input_Output!T73),\"\")","v":""},null,null,{"$f":"IF(Input_Output!V73=\"\",T(Input_Output!W73),\"\")","v":""},null,null,{"$f":"IF(Input_Output!Y73=\"\",T(Input_Output!Z73),\"\")","v":""},null,null,{"$f":"IF(Input_Output!AB73=\"\",T(Input_Output!AC73),\"\")","v":""},null,null,{"$f":"IF(Input_Output!AE73=\"\",T(Input_Output!AF73),\"\")","v":""},null,null,{"$f":"IF(Input_Output!AH73=\"\",T(Input_Output!AI73),\"\")","v":""},null,null,{"$f":"IF(Input_Output!AK73=\"\",T(Input_Output!AL73),\"\")","v":""},null,null,{"$f":"IF(Input_Output!AN73=\"\",T(Input_Output!AO73),\"\")","v":""},null,null,{"$f":"IF(Input_Output!AQ73=\"\",T(Input_Output!AR73),\"\")","v":""},null,null,{"$f":"IF(Input_Output!AT73=\"\",T(Input_Output!AU73),\"\")","v":""},null,null,{"$f":"IF(Input_Output!AW73=\"\",T(Input_Output!AX73),\"\")","v":""},null,null,{"$f":"IF(Input_Output!AZ73=\"\",T(Input_Output!BA73),\"\")","v":""},null,null,{"$f":"IF(Input_Output!BC73=\"\",T(Input_Output!BD73),\"\")","v":""},null,null,{"$f":"IF(Input_Output!BF73=\"\",T(Input_Output!BG73),\"\")","v":""},null,null,{"$f":"IF(Input_Output!BI73=\"\",T(Input_Output!BJ73),\"\")","v":""},null,null,{"$f":"IF(Input_Output!BL73=\"\",T(Input_Output!BM73),\"\")","v":""},null,null,{"$f":"IF(Input_Output!BO73=\"\",T(Input_Output!BP73),\"\")","v":""},null,null,{"$f":"IF(Input_Output!BR73=\"\",T(Input_Output!BS73),\"\")","v":""},null,null,{"$f":"IF(Input_Output!BU73=\"\",T(Input_Output!BV73),\"\")","v":""},null,null,{"$f":"IF(Input_Output!BX73=\"\",T(Input_Output!BY73),\"\")","v":""},null,null,{"$f":"IF(Input_Output!CA73=\"\",T(Input_Output!CB73),\"\")","v":""},null,null,{"$f":"IF(Input_Output!CD73=\"\",T(Input_Output!CE73),\"\")","v":""},null,null,{"$f":"IF(Input_Output!CG73=\"\",T(Input_Output!CH73),\"\")","v":""},null,null,{"$f":"IF(Input_Output!CJ73=\"\",T(Input_Output!CK73),\"\")","v":""},null,null,{"$f":"IF(Input_Output!CM73=\"\",T(Input_Output!CN73),\"\")","v":""},null,null,{"$f":"IF(Input_Output!CP73=\"\",T(Input_Output!CQ73),\"\")","v":""},null,null,{"$f":"IF(Input_Output!CS73=\"\",T(Input_Output!CT73),\"\")","v":""},null,null,{"$f":"IF(Input_Output!CV73=\"\",T(Input_Output!CW73),\"\")","v":""},null,null,{"$f":"IF(Input_Output!CY73=\"\",T(Input_Output!CZ73),\"\")","v":""},null,null,{"$f":"IF(Input_Output!DB73=\"\",T(Input_Output!DC73),\"\")","v":""},null,null,{"$f":"IF(Input_Output!DE73=\"\",T(Input_Output!DF73),\"\")","v":""},null,null,{"$f":"IF(Input_Output!DH73=\"\",T(Input_Output!DI73),\"\")","v":""},null,null,{"$f":"IF(Input_Output!DK73=\"\",T(Input_Output!DL73),\"\")","v":""},null,null,{"$f":"IF(Input_Output!DN73=\"\",T(Input_Output!DO73),\"\")","v":""},null,null,{"$f":"IF(Input_Output!DQ73=\"\",T(Input_Output!DR73),\"\")","v":""},null,null,{"$f":"IF(Input_Output!DT73=\"\",T(Input_Output!DU73),\"\")","v":""},null,null,{"$f":"IF(Input_Output!DW73=\"\",T(Input_Output!DX73),\"\")","v":""},null,null,{"$f":"IF(Input_Output!DZ73=\"\",T(Input_Output!EA73),\"\")","v":""},null,null,{"$f":"IF(Input_Output!EC73=\"\",T(Input_Output!ED73),\"\")","v":""},null,null,{"$f":"IF(Input_Output!EF73=\"\",T(Input_Output!EG73),\"\")","v":""},null,null,{"$f":"IF(Input_Output!EI73=\"\",T(Input_Output!EJ73),\"\")","v":""},null,null,{"$f":"IF(Input_Output!EL73=\"\",T(Input_Output!EM73),\"\")","v":""},null,null,{"$f":"IF(Input_Output!EO73=\"\",T(Input_Output!EP73),\"\")","v":""},null,null,{"$f":"IF(Input_Output!ER73=\"\",T(Input_Output!ES73),\"\")","v":""},null,null,{"$f":"IF(Input_Output!EU73=\"\",T(Input_Output!EV73),\"\")","v":""},null,null,{"$f":"IF(Input_Output!EX73=\"\",T(Input_Output!EY73),\"\")","v":""},null,null,{"$f":"IF(Input_Output!FA73=\"\",T(Input_Output!FB73),\"\")","v":""},null,null,{"$f":"IF(Input_Output!FD73=\"\",T(Input_Output!FE73),\"\")","v":""},null,null,{"$f":"IF(Input_Output!FG73=\"\",T(Input_Output!FH73),\"\")","v":""},null,null,{"$f":"IF(Input_Output!FJ73=\"\",T(Input_Output!FK73),\"\")","v":""},null,null,{"$f":"IF(Input_Output!FM73=\"\",T(Input_Output!FN73),\"\")","v":""},null,null,{"$f":"IF(Input_Output!FP73=\"\",T(Input_Output!FQ73),\"\")","v":""},null,null,{"$f":"IF(Input_Output!FS73=\"\",T(Input_Output!FT73),\"\")","v":""},null,null,{"$f":"IF(Input_Output!FV73=\"\",T(Input_Output!FW73),\"\")","v":""},null,null,{"$f":"IF(Input_Output!FY73=\"\",T(Input_Output!FZ73),\"\")","v":""},null,null,{"$f":"IF(Input_Output!GB73=\"\",T(Input_Output!GC73),\"\")","v":""},null,null,{"$f":"IF(Input_Output!GE73=\"\",T(Input_Output!GF73),\"\")","v":""},null,null,{"$f":"IF(Input_Output!GH73=\"\",T(Input_Output!GI73),\"\")","v":""},null,null,{"$f":"IF(Input_Output!GK73=\"\",T(Input_Output!GL73),\"\")","v":""},null,null,{"$f":"IF(Input_Output!GN73=\"\",T(Input_Output!GO73),\"\")","v":""},null,null,{"$f":"IF(Input_Output!GQ73=\"\",T(Input_Output!GR73),\"\")","v":""},null,null,{"$f":"IF(Input_Output!GT73=\"\",T(Input_Output!GU73),\"\")","v":""},null,null,{"$f":"IF(Input_Output!GW73=\"\",T(Input_Output!GX73),\"\")","v":""},null,null,{"$f":"IF(Input_Output!GZ73=\"\",T(Input_Output!HA73),\"\")","v":""},null,null,{"$f":"IF(Input_Output!HC73=\"\",T(Input_Output!HD73),\"\")","v":""},null,null,{"$f":"IF(Input_Output!HF73=\"\",T(Input_Output!HG73),\"\")","v":""},null,null,{"$f":"IF(Input_Output!HI73=\"\",T(Input_Output!HJ73),\"\")","v":""},null,null,{"$f":"IF(Input_Output!HL73=\"\",T(Input_Output!HM73),\"\")","v":""},null,null,{"$f":"IF(Input_Output!HO73=\"\",T(Input_Output!HP73),\"\")","v":""},null,null,{"$f":"IF(Input_Output!HR73=\"\",T(Input_Output!HS73),\"\")","v":""},null,null,{"$f":"IF(Input_Output!HU73=\"\",T(Input_Output!HV73),\"\")","v":""},null,null,{"$f":"IF(Input_Output!HX73=\"\",T(Input_Output!HY73),\"\")","v":""},null,null,{"$f":"IF(Input_Output!IA73=\"\",T(Input_Output!IB73),\"\")","v":""},null,null,{"$f":"IF(Input_Output!ID73=\"\",T(Input_Output!IE73),\"\")","v":""},null,null,{"$f":"IF(Input_Output!IG73=\"\",T(Input_Output!IH73),\"\")","v":""},null,null,{"$f":"IF(Input_Output!IJ73=\"\",T(Input_Output!IK73),\"\")","v":""},null,null,{"$f":"IF(Input_Output!IM73=\"\",T(Input_Output!IN73),\"\")","v":""},null,null,{"$f":"IF(Input_Output!IP73=\"\",T(Input_Output!IQ73),\"\")","v":""},null,null,{"$f":"IF(Input_Output!IS73=\"\",T(Input_Output!IT73),\"\")","v":""}]
[null,null,null,null,{"$f":"IF(Input_Output!D74=\"\",T(Input_Output!E74),\"\")","v":""},null,null,{"$f":"IF(Input_Output!G74=\"\",T(Input_Output!H74),\"\")","v":""},null,null,{"$f":"IF(Input_Output!J74=\"\",T(Input_Output!K74),\"\")","v":""},null,null,{"$f":"IF(Input_Output!M74=\"\",T(Input_Output!N74),\"\")","v":""},null,null,{"$f":"IF(Input_Output!P74=\"\",T(Input_Output!Q74),\"\")","v":""},null,null,{"$f":"IF(Input_Output!S74=\"\",T(Input_Output!T74),\"\")","v":""},null,null,{"$f":"IF(Input_Output!V74=\"\",T(Input_Output!W74),\"\")","v":""},null,null,{"$f":"IF(Input_Output!Y74=\"\",T(Input_Output!Z74),\"\")","v":""},null,null,{"$f":"IF(Input_Output!AB74=\"\",T(Input_Output!AC74),\"\")","v":""},null,null,{"$f":"IF(Input_Output!AE74=\"\",T(Input_Output!AF74),\"\")","v":""},null,null,{"$f":"IF(Input_Output!AH74=\"\",T(Input_Output!AI74),\"\")","v":""},null,null,{"$f":"IF(Input_Output!AK74=\"\",T(Input_Output!AL74),\"\")","v":""},null,null,{"$f":"IF(Input_Output!AN74=\"\",T(Input_Output!AO74),\"\")","v":""},null,null,{"$f":"IF(Input_Output!AQ74=\"\",T(Input_Output!AR74),\"\")","v":""},null,null,{"$f":"IF(Input_Output!AT74=\"\",T(Input_Output!AU74),\"\")","v":""},null,null,{"$f":"IF(Input_Output!AW74=\"\",T(Input_Output!AX74),\"\")","v":""},null,null,{"$f":"IF(Input_Output!AZ74=\"\",T(Input_Output!BA74),\"\")","v":""},null,null,{"$f":"IF(Input_Output!BC74=\"\",T(Input_Output!BD74),\"\")","v":""},null,null,{"$f":"IF(Input_Output!BF74=\"\",T(Input_Output!BG74),\"\")","v":""},null,null,{"$f":"IF(Input_Output!BI74=\"\",T(Input_Output!BJ74),\"\")","v":""},null,null,{"$f":"IF(Input_Output!BL74=\"\",T(Input_Output!BM74),\"\")","v":""},null,null,{"$f":"IF(Input_Output!BO74=\"\",T(Input_Output!BP74),\"\")","v":""},null,null,{"$f":"IF(Input_Output!BR74=\"\",T(Input_Output!BS74),\"\")","v":""},null,null,{"$f":"IF(Input_Output!BU74=\"\",T(Input_Output!BV74),\"\")","v":""},null,null,{"$f":"IF(Input_Output!BX74=\"\",T(Input_Output!BY74),\"\")","v":""},null,null,{"$f":"IF(Input_Output!CA74=\"\",T(Input_Output!CB74),\"\")","v":""},null,null,{"$f":"IF(Input_Output!CD74=\"\",T(Input_Output!CE74),\"\")","v":""},null,null,{"$f":"IF(Input_Output!CG74=\"\",T(Input_Output!CH74),\"\")","v":""},null,null,{"$f":"IF(Input_Output!CJ74=\"\",T(Input_Output!CK74),\"\")","v":""},null,null,{"$f":"IF(Input_Output!CM74=\"\",T(Input_Output!CN74),\"\")","v":""},null,null,{"$f":"IF(Input_Output!CP74=\"\",T(Input_Output!CQ74),\"\")","v":""},null,null,{"$f":"IF(Input_Output!CS74=\"\",T(Input_Output!CT74),\"\")","v":""},null,null,{"$f":"IF(Input_Output!CV74=\"\",T(Input_Output!CW74),\"\")","v":""},null,null,{"$f":"IF(Input_Output!CY74=\"\",T(Input_Output!CZ74),\"\")","v":""},null,null,{"$f":"IF(Input_Output!DB74=\"\",T(Input_Output!DC74),\"\")","v":""},null,null,{"$f":"IF(Input_Output!DE74=\"\",T(Input_Output!DF74),\"\")","v":""},null,null,{"$f":"IF(Input_Output!DH74=\"\",T(Input_Output!DI74),\"\")","v":""},null,null,{"$f":"IF(Input_Output!DK74=\"\",T(Input_Output!DL74),\"\")","v":""},null,null,{"$f":"IF(Input_Output!DN74=\"\",T(Input_Output!DO74),\"\")","v":""},null,null,{"$f":"IF(Input_Output!DQ74=\"\",T(Input_Output!DR74),\"\")","v":""},null,null,{"$f":"IF(Input_Output!DT74=\"\",T(Input_Output!DU74),\"\")","v":""},null,null,{"$f":"IF(Input_Output!DW74=\"\",T(Input_Output!DX74),\"\")","v":""},null,null,{"$f":"IF(Input_Output!DZ74=\"\",T(Input_Output!EA74),\"\")","v":""},null,null,{"$f":"IF(Input_Output!EC74=\"\",T(Input_Output!ED74),\"\")","v":""},null,null,{"$f":"IF(Input_Output!EF74=\"\",T(Input_Output!EG74),\"\")","v":""},null,null,{"$f":"IF(Input_Output!EI74=\"\",T(Input_Output!EJ74),\"\")","v":""},null,null,{"$f":"IF(Input_Output!EL74=\"\",T(Input_Output!EM74),\"\")","v":""},null,null,{"$f":"IF(Input_Output!EO74=\"\",T(Input_Output!EP74),\"\")","v":""},null,null,{"$f":"IF(Input_Output!ER74=\"\",T(Input_Output!ES74),\"\")","v":""},null,null,{"$f":"IF(Input_Output!EU74=\"\",T(Input_Output!EV74),\"\")","v":""},null,null,{"$f":"IF(Input_Output!EX74=\"\",T(Input_Output!EY74),\"\")","v":""},null,null,{"$f":"IF(Input_Output!FA74=\"\",T(Input_Output!FB74),\"\")","v":""},null,null,{"$f":"IF(Input_Output!FD74=\"\",T(Input_Output!FE74),\"\")","v":""},null,null,{"$f":"IF(Input_Output!FG74=\"\",T(Input_Output!FH74),\"\")","v":""},null,null,{"$f":"IF(Input_Output!FJ74=\"\",T(Input_Output!FK74),\"\")","v":""},null,null,{"$f":"IF(Input_Output!FM74=\"\",T(Input_Output!FN74),\"\")","v":""},null,null,{"$f":"IF(Input_Output!FP74=\"\",T(Input_Output!FQ74),\"\")","v":""},null,null,{"$f":"IF(Input_Output!FS74=\"\",T(Input_Output!FT74),\"\")","v":""},null,null,{"$f":"IF(Input_Output!FV74=\"\",T(Input_Output!FW74),\"\")","v":""},null,null,{"$f":"IF(Input_Output!FY74=\"\",T(Input_Output!FZ74),\"\")","v":""},null,null,{"$f":"IF(Input_Output!GB74=\"\",T(Input_Output!GC74),\"\")","v":""},null,null,{"$f":"IF(Input_Output!GE74=\"\",T(Input_Output!GF74),\"\")","v":""},null,null,{"$f":"IF(Input_Output!GH74=\"\",T(Input_Output!GI74),\"\")","v":""},null,null,{"$f":"IF(Input_Output!GK74=\"\",T(Input_Output!GL74),\"\")","v":""},null,null,{"$f":"IF(Input_Output!GN74=\"\",T(Input_Output!GO74),\"\")","v":""},null,null,{"$f":"IF(Input_Output!GQ74=\"\",T(Input_Output!GR74),\"\")","v":""},null,null,{"$f":"IF(Input_Output!GT74=\"\",T(Input_Output!GU74),\"\")","v":""},null,null,{"$f":"IF(Input_Output!GW74=\"\",T(Input_Output!GX74),\"\")","v":""},null,null,{"$f":"IF(Input_Output!GZ74=\"\",T(Input_Output!HA74),\"\")","v":""},null,null,{"$f":"IF(Input_Output!HC74=\"\",T(Input_Output!HD74),\"\")","v":""},null,null,{"$f":"IF(Input_Output!HF74=\"\",T(Input_Output!HG74),\"\")","v":""},null,null,{"$f":"IF(Input_Output!HI74=\"\",T(Input_Output!HJ74),\"\")","v":""},null,null,{"$f":"IF(Input_Output!HL74=\"\",T(Input_Output!HM74),\"\")","v":""},null,null,{"$f":"IF(Input_Output!HO74=\"\",T(Input_Output!HP74),\"\")","v":""},null,null,{"$f":"IF(Input_Output!HR74=\"\",T(Input_Output!HS74),\"\")","v":""},null,null,{"$f":"IF(Input_Output!HU74=\"\",T(Input_Output!HV74),\"\")","v":""},null,null,{"$f":"IF(Input_Output!HX74=\"\",T(Input_Output!HY74),\"\")","v":""},null,null,{"$f":"IF(Input_Output!IA74=\"\",T(Input_Output!IB74),\"\")","v":""},null,null,{"$f":"IF(Input_Output!ID74=\"\",T(Input_Output!IE74),\"\")","v":""},null,null,{"$f":"IF(Input_Output!IG74=\"\",T(Input_Output!IH74),\"\")","v":""},null,null,{"$f":"IF(Input_Output!IJ74=\"\",T(Input_Output!IK74),\"\")","v":""},null,null,{"$f":"IF(Input_Output!IM74=\"\",T(Input_Output!IN74),\"\")","v":""},null,null,{"$f":"IF(Input_Output!IP74=\"\",T(Input_Output!IQ74),\"\")","v":""},null,null,{"$f":"IF(Input_Output!IS74=\"\",T(Input_Output!IT74),\"\")","v":""}]
[null,null,null,null,{"$f":"IF(Input_Output!D75=\"\",T(Input_Output!E75),\"\")","v":""},null,null,{"$f":"IF(Input_Output!G75=\"\",T(Input_Output!H75),\"\")","v":""},null,null,{"$f":"IF(Input_Output!J75=\"\",T(Input_Output!K75),\"\")","v":""},null,null,{"$f":"IF(Input_Output!M75=\"\",T(Input_Output!N75),\"\")","v":""},null,null,{"$f":"IF(Input_Output!P75=\"\",T(Input_Output!Q75),\"\")","v":""},null,null,{"$f":"IF(Input_Output!S75=\"\",T(Input_Output!T75),\"\")","v":""},null,null,{"$f":"IF(Input_Output!V75=\"\",T(Input_Output!W75),\"\")","v":""},null,null,{"$f":"IF(Input_Output!Y75=\"\",T(Input_Output!Z75),\"\")","v":""},null,null,{"$f":"IF(Input_Output!AB75=\"\",T(Input_Output!AC75),\"\")","v":""},null,null,{"$f":"IF(Input_Output!AE75=\"\",T(Input_Output!AF75),\"\")","v":""},null,null,{"$f":"IF(Input_Output!AH75=\"\",T(Input_Output!AI75),\"\")","v":""},null,null,{"$f":"IF(Input_Output!AK75=\"\",T(Input_Output!AL75),\"\")","v":""},null,null,{"$f":"IF(Input_Output!AN75=\"\",T(Input_Output!AO75),\"\")","v":""},null,null,{"$f":"IF(Input_Output!AQ75=\"\",T(Input_Output!AR75),\"\")","v":""},null,null,{"$f":"IF(Input_Output!AT75=\"\",T(Input_Output!AU75),\"\")","v":""},null,null,{"$f":"IF(Input_Output!AW75=\"\",T(Input_Output!AX75),\"\")","v":""},null,null,{"$f":"IF(Input_Output!AZ75=\"\",T(Input_Output!BA75),\"\")","v":""},null,null,{"$f":"IF(Input_Output!BC75=\"\",T(Input_Output!BD75),\"\")","v":""},null,null,{"$f":"IF(Input_Output!BF75=\"\",T(Input_Output!BG75),\"\")","v":""},null,null,{"$f":"IF(Input_Output!BI75=\"\",T(Input_Output!BJ75),\"\")","v":""},null,null,{"$f":"IF(Input_Output!BL75=\"\",T(Input_Output!BM75),\"\")","v":""},null,null,{"$f":"IF(Input_Output!BO75=\"\",T(Input_Output!BP75),\"\")","v":""},null,null,{"$f":"IF(Input_Output!BR75=\"\",T(Input_Output!BS75),\"\")","v":""},null,null,{"$f":"IF(Input_Output!BU75=\"\",T(Input_Output!BV75),\"\")","v":""},null,null,{"$f":"IF(Input_Output!BX75=\"\",T(Input_Output!BY75),\"\")","v":""},null,null,{"$f":"IF(Input_Output!CA75=\"\",T(Input_Output!CB75),\"\")","v":""},null,null,{"$f":"IF(Input_Output!CD75=\"\",T(Input_Output!CE75),\"\")","v":""},null,null,{"$f":"IF(Input_Output!CG75=\"\",T(Input_Output!CH75),\"\")","v":""},null,null,{"$f":"IF(Input_Output!CJ75=\"\",T(Input_Output!CK75),\"\")","v":""},null,null,{"$f":"IF(Input_Output!CM75=\"\",T(Input_Output!CN75),\"\")","v":""},null,null,{"$f":"IF(Input_Output!CP75=\"\",T(Input_Output!CQ75),\"\")","v":""},null,null,{"$f":"IF(Input_Output!CS75=\"\",T(Input_Output!CT75),\"\")","v":""},null,null,{"$f":"IF(Input_Output!CV75=\"\",T(Input_Output!CW75),\"\")","v":""},null,null,{"$f":"IF(Input_Output!CY75=\"\",T(Input_Output!CZ75),\"\")","v":""},null,null,{"$f":"IF(Input_Output!DB75=\"\",T(Input_Output!DC75),\"\")","v":""},null,null,{"$f":"IF(Input_Output!DE75=\"\",T(Input_Output!DF75),\"\")","v":""},null,null,{"$f":"IF(Input_Output!DH75=\"\",T(Input_Output!DI75),\"\")","v":""},null,null,{"$f":"IF(Input_Output!DK75=\"\",T(Input_Output!DL75),\"\")","v":""},null,null,{"$f":"IF(Input_Output!DN75=\"\",T(Input_Output!DO75),\"\")","v":""},null,null,{"$f":"IF(Input_Output!DQ75=\"\",T(Input_Output!DR75),\"\")","v":""},null,null,{"$f":"IF(Input_Output!DT75=\"\",T(Input_Output!DU75),\"\")","v":""},null,null,{"$f":"IF(Input_Output!DW75=\"\",T(Input_Output!DX75),\"\")","v":""},null,null,{"$f":"IF(Input_Output!DZ75=\"\",T(Input_Output!EA75),\"\")","v":""},null,null,{"$f":"IF(Input_Output!EC75=\"\",T(Input_Output!ED75),\"\")","v":""},null,null,{"$f":"IF(Input_Output!EF75=\"\",T(Input_Output!EG75),\"\")","v":""},null,null,{"$f":"IF(Input_Output!EI75=\"\",T(Input_Output!EJ75),\"\")","v":""},null,null,{"$f":"IF(Input_Output!EL75=\"\",T(Input_Output!EM75),\"\")","v":""},null,null,{"$f":"IF(Input_Output!EO75=\"\",T(Input_Output!EP75),\"\")","v":""},null,null,{"$f":"IF(Input_Output!ER75=\"\",T(Input_Output!ES75),\"\")","v":""},null,null,{"$f":"IF(Input_Output!EU75=\"\",T(Input_Output!EV75),\"\")","v":""},null,null,{"$f":"IF(Input_Output!EX75=\"\",T(Input_Output!EY75),\"\")","v":""},null,null,{"$f":"IF(Input_Output!FA75=\"\",T(Input_Output!FB75),\"\")","v":""},null,null,{"$f":"IF(Input_Output!FD75=\"\",T(Input_Output!FE75),\"\")","v":""},null,null,{"$f":"IF(Input_Output!FG75=\"\",T(Input_Output!FH75),\"\")","v":""},null,null,{"$f":"IF(Input_Output!FJ75=\"\",T(Input_Output!FK75),\"\")","v":""},null,null,{"$f":"IF(Input_Output!FM75=\"\",T(Input_Output!FN75),\"\")","v":""},null,null,{"$f":"IF(Input_Output!FP75=\"\",T(Input_Output!FQ75),\"\")","v":""},null,null,{"$f":"IF(Input_Output!FS75=\"\",T(Input_Output!FT75),\"\")","v":""},null,null,{"$f":"IF(Input_Output!FV75=\"\",T(Input_Output!FW75),\"\")","v":""},null,null,{"$f":"IF(Input_Output!FY75=\"\",T(Input_Output!FZ75),\"\")","v":""},null,null,{"$f":"IF(Input_Output!GB75=\"\",T(Input_Output!GC75),\"\")","v":""},null,null,{"$f":"IF(Input_Output!GE75=\"\",T(Input_Output!GF75),\"\")","v":""},null,null,{"$f":"IF(Input_Output!GH75=\"\",T(Input_Output!GI75),\"\")","v":""},null,null,{"$f":"IF(Input_Output!GK75=\"\",T(Input_Output!GL75),\"\")","v":""},null,null,{"$f":"IF(Input_Output!GN75=\"\",T(Input_Output!GO75),\"\")","v":""},null,null,{"$f":"IF(Input_Output!GQ75=\"\",T(Input_Output!GR75),\"\")","v":""},null,null,{"$f":"IF(Input_Output!GT75=\"\",T(Input_Output!GU75),\"\")","v":""},null,null,{"$f":"IF(Input_Output!GW75=\"\",T(Input_Output!GX75),\"\")","v":""},null,null,{"$f":"IF(Input_Output!GZ75=\"\",T(Input_Output!HA75),\"\")","v":""},null,null,{"$f":"IF(Input_Output!HC75=\"\",T(Input_Output!HD75),\"\")","v":""},null,null,{"$f":"IF(Input_Output!HF75=\"\",T(Input_Output!HG75),\"\")","v":""},null,null,{"$f":"IF(Input_Output!HI75=\"\",T(Input_Output!HJ75),\"\")","v":""},null,null,{"$f":"IF(Input_Output!HL75=\"\",T(Input_Output!HM75),\"\")","v":""},null,null,{"$f":"IF(Input_Output!HO75=\"\",T(Input_Output!HP75),\"\")","v":""},null,null,{"$f":"IF(Input_Output!HR75=\"\",T(Input_Output!HS75),\"\")","v":""},null,null,{"$f":"IF(Input_Output!HU75=\"\",T(Input_Output!HV75),\"\")","v":""},null,null,{"$f":"IF(Input_Output!HX75=\"\",T(Input_Output!HY75),\"\")","v":""},null,null,{"$f":"IF(Input_Output!IA75=\"\",T(Input_Output!IB75),\"\")","v":""},null,null,{"$f":"IF(Input_Output!ID75=\"\",T(Input_Output!IE75),\"\")","v":""},null,null,{"$f":"IF(Input_Output!IG75=\"\",T(Input_Output!IH75),\"\")","v":""},null,null,{"$f":"IF(Input_Output!IJ75=\"\",T(Input_Output!IK75),\"\")","v":""},null,null,{"$f":"IF(Input_Output!IM75=\"\",T(Input_Output!IN75),\"\")","v":""},null,null,{"$f":"IF(Input_Output!IP75=\"\",T(Input_Output!IQ75),\"\")","v":""},null,null,{"$f":"IF(Input_Output!IS75=\"\",T(Input_Output!IT75),\"\")","v":""}]
[null,null,null,null,{"$f":"IF(Input_Output!D76=\"\",T(Input_Output!E76),\"\")","v":""},null,null,{"$f":"IF(Input_Output!G76=\"\",T(Input_Output!H76),\"\")","v":""},null,null,{"$f":"IF(Input_Output!J76=\"\",T(Input_Output!K76),\"\")","v":""},null,null,{"$f":"IF(Input_Output!M76=\"\",T(Input_Output!N76),\"\")","v":""},null,null,{"$f":"IF(Input_Output!P76=\"\",T(Input_Output!Q76),\"\")","v":""},null,null,{"$f":"IF(Input_Output!S76=\"\",T(Input_Output!T76),\"\")","v":""},null,null,{"$f":"IF(Input_Output!V76=\"\",T(Input_Output!W76),\"\")","v":""},null,null,{"$f":"IF(Input_Output!Y76=\"\",T(Input_Output!Z76),\"\")","v":""},null,null,{"$f":"IF(Input_Output!AB76=\"\",T(Input_Output!AC76),\"\")","v":""},null,null,{"$f":"IF(Input_Output!AE76=\"\",T(Input_Output!AF76),\"\")","v":""},null,null,{"$f":"IF(Input_Output!AH76=\"\",T(Input_Output!AI76),\"\")","v":""},null,null,{"$f":"IF(Input_Output!AK76=\"\",T(Input_Output!AL76),\"\")","v":""},null,null,{"$f":"IF(Input_Output!AN76=\"\",T(Input_Output!AO76),\"\")","v":""},null,null,{"$f":"IF(Input_Output!AQ76=\"\",T(Input_Output!AR76),\"\")","v":""},null,null,{"$f":"IF(Input_Output!AT76=\"\",T(Input_Output!AU76),\"\")","v":""},null,null,{"$f":"IF(Input_Output!AW76=\"\",T(Input_Output!AX76),\"\")","v":""},null,null,{"$f":"IF(Input_Output!AZ76=\"\",T(Input_Output!BA76),\"\")","v":""},null,null,{"$f":"IF(Input_Output!BC76=\"\",T(Input_Output!BD76),\"\")","v":""},null,null,{"$f":"IF(Input_Output!BF76=\"\",T(Input_Output!BG76),\"\")","v":""},null,null,{"$f":"IF(Input_Output!BI76=\"\",T(Input_Output!BJ76),\"\")","v":""},null,null,{"$f":"IF(Input_Output!BL76=\"\",T(Input_Output!BM76),\"\")","v":""},null,null,{"$f":"IF(Input_Output!BO76=\"\",T(Input_Output!BP76),\"\")","v":""},null,null,{"$f":"IF(Input_Output!BR76=\"\",T(Input_Output!BS76),\"\")","v":""},null,null,{"$f":"IF(Input_Output!BU76=\"\",T(Input_Output!BV76),\"\")","v":""},null,null,{"$f":"IF(Input_Output!BX76=\"\",T(Input_Output!BY76),\"\")","v":""},null,null,{"$f":"IF(Input_Output!CA76=\"\",T(Input_Output!CB76),\"\")","v":""},null,null,{"$f":"IF(Input_Output!CD76=\"\",T(Input_Output!CE76),\"\")","v":""},null,null,{"$f":"IF(Input_Output!CG76=\"\",T(Input_Output!CH76),\"\")","v":""},null,null,{"$f":"IF(Input_Output!CJ76=\"\",T(Input_Output!CK76),\"\")","v":""},null,null,{"$f":"IF(Input_Output!CM76=\"\",T(Input_Output!CN76),\"\")","v":""},null,null,{"$f":"IF(Input_Output!CP76=\"\",T(Input_Output!CQ76),\"\")","v":""},null,null,{"$f":"IF(Input_Output!CS76=\"\",T(Input_Output!CT76),\"\")","v":""},null,null,{"$f":"IF(Input_Output!CV76=\"\",T(Input_Output!CW76),\"\")","v":""},null,null,{"$f":"IF(Input_Output!CY76=\"\",T(Input_Output!CZ76),\"\")","v":""},null,null,{"$f":"IF(Input_Output!DB76=\"\",T(Input_Output!DC76),\"\")","v":""},null,null,{"$f":"IF(Input_Output!DE76=\"\",T(Input_Output!DF76),\"\")","v":""},null,null,{"$f":"IF(Input_Output!DH76=\"\",T(Input_Output!DI76),\"\")","v":""},null,null,{"$f":"IF(Input_Output!DK76=\"\",T(Input_Output!DL76),\"\")","v":""},null,null,{"$f":"IF(Input_Output!DN76=\"\",T(Input_Output!DO76),\"\")","v":""},null,null,{"$f":"IF(Input_Output!DQ76=\"\",T(Input_Output!DR76),\"\")","v":""},null,null,{"$f":"IF(Input_Output!DT76=\"\",T(Input_Output!DU76),\"\")","v":""},null,null,{"$f":"IF(Input_Output!DW76=\"\",T(Input_Output!DX76),\"\")","v":""},null,null,{"$f":"IF(Input_Output!DZ76=\"\",T(Input_Output!EA76),\"\")","v":""},null,null,{"$f":"IF(Input_Output!EC76=\"\",T(Input_Output!ED76),\"\")","v":""},null,null,{"$f":"IF(Input_Output!EF76=\"\",T(Input_Output!EG76),\"\")","v":""},null,null,{"$f":"IF(Input_Output!EI76=\"\",T(Input_Output!EJ76),\"\")","v":""},null,null,{"$f":"IF(Input_Output!EL76=\"\",T(Input_Output!EM76),\"\")","v":""},null,null,{"$f":"IF(Input_Output!EO76=\"\",T(Input_Output!EP76),\"\")","v":""},null,null,{"$f":"IF(Input_Output!ER76=\"\",T(Input_Output!ES76),\"\")","v":""},null,null,{"$f":"IF(Input_Output!EU76=\"\",T(Input_Output!EV76),\"\")","v":""},null,null,{"$f":"IF(Input_Output!EX76=\"\",T(Input_Output!EY76),\"\")","v":""},null,null,{"$f":"IF(Input_Output!FA76=\"\",T(Input_Output!FB76),\"\")","v":""},null,null,{"$f":"IF(Input_Output!FD76=\"\",T(Input_Output!FE76),\"\")","v":""},null,null,{"$f":"IF(Input_Output!FG76=\"\",T(Input_Output!FH76),\"\")","v":""},null,null,{"$f":"IF(Input_Output!FJ76=\"\",T(Input_Output!FK76),\"\")","v":""},null,null,{"$f":"IF(Input_Output!FM76=\"\",T(Input_Output!FN76),\"\")","v":""},null,null,{"$f":"IF(Input_Output!FP76=\"\",T(Input_Output!FQ76),\"\")","v":""},null,null,{"$f":"IF(Input_Output!FS76=\"\",T(Input_Output!FT76),\"\")","v":""},null,null,{"$f":"IF(Input_Output!FV76=\"\",T(Input_Output!FW76),\"\")","v":""},null,null,{"$f":"IF(Input_Output!FY76=\"\",T(Input_Output!FZ76),\"\")","v":""},null,null,{"$f":"IF(Input_Output!GB76=\"\",T(Input_Output!GC76),\"\")","v":""},null,null,{"$f":"IF(Input_Output!GE76=\"\",T(Input_Output!GF76),\"\")","v":""},null,null,{"$f":"IF(Input_Output!GH76=\"\",T(Input_Output!GI76),\"\")","v":""},null,null,{"$f":"IF(Input_Output!GK76=\"\",T(Input_Output!GL76),\"\")","v":""},null,null,{"$f":"IF(Input_Output!GN76=\"\",T(Input_Output!GO76),\"\")","v":""},null,null,{"$f":"IF(Input_Output!GQ76=\"\",T(Input_Output!GR76),\"\")","v":""},null,null,{"$f":"IF(Input_Output!GT76=\"\",T(Input_Output!GU76),\"\")","v":""},null,null,{"$f":"IF(Input_Output!GW76=\"\",T(Input_Output!GX76),\"\")","v":""},null,null,{"$f":"IF(Input_Output!GZ76=\"\",T(Input_Output!HA76),\"\")","v":""},null,null,{"$f":"IF(Input_Output!HC76=\"\",T(Input_Output!HD76),\"\")","v":""},null,null,{"$f":"IF(Input_Output!HF76=\"\",T(Input_Output!HG76),\"\")","v":""},null,null,{"$f":"IF(Input_Output!HI76=\"\",T(Input_Output!HJ76),\"\")","v":""},null,null,{"$f":"IF(Input_Output!HL76=\"\",T(Input_Output!HM76),\"\")","v":""},null,null,{"$f":"IF(Input_Output!HO76=\"\",T(Input_Output!HP76),\"\")","v":""},null,null,{"$f":"IF(Input_Output!HR76=\"\",T(Input_Output!HS76),\"\")","v":""},null,null,{"$f":"IF(Input_Output!HU76=\"\",T(Input_Output!HV76),\"\")","v":""},null,null,{"$f":"IF(Input_Output!HX76=\"\",T(Input_Output!HY76),\"\")","v":""},null,null,{"$f":"IF(Input_Output!IA76=\"\",T(Input_Output!IB76),\"\")","v":""},null,null,{"$f":"IF(Input_Output!ID76=\"\",T(Input_Output!IE76),\"\")","v":""},null,null,{"$f":"IF(Input_Output!IG76=\"\",T(Input_Output!IH76),\"\")","v":""},null,null,{"$f":"IF(Input_Output!IJ76=\"\",T(Input_Output!IK76),\"\")","v":""},null,null,{"$f":"IF(Input_Output!IM76=\"\",T(Input_Output!IN76),\"\")","v":""},null,null,{"$f":"IF(Input_Output!IP76=\"\",T(Input_Output!IQ76),\"\")","v":""},null,null,{"$f":"IF(Input_Output!IS76=\"\",T(Input_Output!IT76),\"\")","v":""}]
[null,null,null,null,{"$f":"IF(Input_Output!D77=\"\",T(Input_Output!E77),\"\")","v":""},null,null,{"$f":"IF(Input_Output!G77=\"\",T(Input_Output!H77),\"\")","v":""},null,null,{"$f":"IF(Input_Output!J77=\"\",T(Input_Output!K77),\"\")","v":""},null,null,{"$f":"IF(Input_Output!M77=\"\",T(Input_Output!N77),\"\")","v":""},null,null,{"$f":"IF(Input_Output!P77=\"\",T(Input_Output!Q77),\"\")","v":""},null,null,{"$f":"IF(Input_Output!S77=\"\",T(Input_Output!T77),\"\")","v":""},null,null,{"$f":"IF(Input_Output!V77=\"\",T(Input_Output!W77),\"\")","v":""},null,null,{"$f":"IF(Input_Output!Y77=\"\",T(Input_Output!Z77),\"\")","v":""},null,null,{"$f":"IF(Input_Output!AB77=\"\",T(Input_Output!AC77),\"\")","v":""},null,null,{"$f":"IF(Input_Output!AE77=\"\",T(Input_Output!AF77),\"\")","v":""},null,null,{"$f":"IF(Input_Output!AH77=\"\",T(Input_Output!AI77),\"\")","v":""},null,null,{"$f":"IF(Input_Output!AK77=\"\",T(Input_Output!AL77),\"\")","v":""},null,null,{"$f":"IF(Input_Output!AN77=\"\",T(Input_Output!AO77),\"\")","v":""},null,null,{"$f":"IF(Input_Output!AQ77=\"\",T(Input_Output!AR77),\"\")","v":""},null,null,{"$f":"IF(Input_Output!AT77=\"\",T(Input_Output!AU77),\"\")","v":""},null,null,{"$f":"IF(Input_Output!AW77=\"\",T(Input_Output!AX77),\"\")","v":""},null,null,{"$f":"IF(Input_Output!AZ77=\"\",T(Input_Output!BA77),\"\")","v":""},null,null,{"$f":"IF(Input_Output!BC77=\"\",T(Input_Output!BD77),\"\")","v":""},null,null,{"$f":"IF(Input_Output!BF77=\"\",T(Input_Output!BG77),\"\")","v":""},null,null,{"$f":"IF(Input_Output!BI77=\"\",T(Input_Output!BJ77),\"\")","v":""},null,null,{"$f":"IF(Input_Output!BL77=\"\",T(Input_Output!BM77),\"\")","v":""},null,null,{"$f":"IF(Input_Output!BO77=\"\",T(Input_Output!BP77),\"\")","v":""},null,null,{"$f":"IF(Input_Output!BR77=\"\",T(Input_Output!BS77),\"\")","v":""},null,null,{"$f":"IF(Input_Output!BU77=\"\",T(Input_Output!BV77),\"\")","v":""},null,null,{"$f":"IF(Input_Output!BX77=\"\",T(Input_Output!BY77),\"\")","v":""},null,null,{"$f":"IF(Input_Output!CA77=\"\",T(Input_Output!CB77),\"\")","v":""},null,null,{"$f":"IF(Input_Output!CD77=\"\",T(Input_Output!CE77),\"\")","v":""},null,null,{"$f":"IF(Input_Output!CG77=\"\",T(Input_Output!CH77),\"\")","v":""},null,null,{"$f":"IF(Input_Output!CJ77=\"\",T(Input_Output!CK77),\"\")","v":""},null,null,{"$f":"IF(Input_Output!CM77=\"\",T(Input_Output!CN77),\"\")","v":""},null,null,{"$f":"IF(Input_Output!CP77=\"\",T(Input_Output!CQ77),\"\")","v":""},null,null,{"$f":"IF(Input_Output!CS77=\"\",T(Input_Output!CT77),\"\")","v":""},null,null,{"$f":"IF(Input_Output!CV77=\"\",T(Input_Output!CW77),\"\")","v":""},null,null,{"$f":"IF(Input_Output!CY77=\"\",T(Input_Output!CZ77),\"\")","v":""},null,null,{"$f":"IF(Input_Output!DB77=\"\",T(Input_Output!DC77),\"\")","v":""},null,null,{"$f":"IF(Input_Output!DE77=\"\",T(Input_Output!DF77),\"\")","v":""},null,null,{"$f":"IF(Input_Output!DH77=\"\",T(Input_Output!DI77),\"\")","v":""},null,null,{"$f":"IF(Input_Output!DK77=\"\",T(Input_Output!DL77),\"\")","v":""},null,null,{"$f":"IF(Input_Output!DN77=\"\",T(Input_Output!DO77),\"\")","v":""},null,null,{"$f":"IF(Input_Output!DQ77=\"\",T(Input_Output!DR77),\"\")","v":""},null,null,{"$f":"IF(Input_Output!DT77=\"\",T(Input_Output!DU77),\"\")","v":""},null,null,{"$f":"IF(Input_Output!DW77=\"\",T(Input_Output!DX77),\"\")","v":""},null,null,{"$f":"IF(Input_Output!DZ77=\"\",T(Input_Output!EA77),\"\")","v":""},null,null,{"$f":"IF(Input_Output!EC77=\"\",T(Input_Output!ED77),\"\")","v":""},null,null,{"$f":"IF(Input_Output!EF77=\"\",T(Input_Output!EG77),\"\")","v":""},null,null,{"$f":"IF(Input_Output!EI77=\"\",T(Input_Output!EJ77),\"\")","v":""},null,null,{"$f":"IF(Input_Output!EL77=\"\",T(Input_Output!EM77),\"\")","v":""},null,null,{"$f":"IF(Input_Output!EO77=\"\",T(Input_Output!EP77),\"\")","v":""},null,null,{"$f":"IF(Input_Output!ER77=\"\",T(Input_Output!ES77),\"\")","v":""},null,null,{"$f":"IF(Input_Output!EU77=\"\",T(Input_Output!EV77),\"\")","v":""},null,null,{"$f":"IF(Input_Output!EX77=\"\",T(Input_Output!EY77),\"\")","v":""},null,null,{"$f":"IF(Input_Output!FA77=\"\",T(Input_Output!FB77),\"\")","v":""},null,null,{"$f":"IF(Input_Output!FD77=\"\",T(Input_Output!FE77),\"\")","v":""},null,null,{"$f":"IF(Input_Output!FG77=\"\",T(Input_Output!FH77),\"\")","v":""},null,null,{"$f":"IF(Input_Output!FJ77=\"\",T(Input_Output!FK77),\"\")","v":""},null,null,{"$f":"IF(Input_Output!FM77=\"\",T(Input_Output!FN77),\"\")","v":""},null,null,{"$f":"IF(Input_Output!FP77=\"\",T(Input_Output!FQ77),\"\")","v":""},null,null,{"$f":"IF(Input_Output!FS77=\"\",T(Input_Output!FT77),\"\")","v":""},null,null,{"$f":"IF(Input_Output!FV77=\"\",T(Input_Output!FW77),\"\")","v":""},null,null,{"$f":"IF(Input_Output!FY77=\"\",T(Input_Output!FZ77),\"\")","v":""},null,null,{"$f":"IF(Input_Output!GB77=\"\",T(Input_Output!GC77),\"\")","v":""},null,null,{"$f":"IF(Input_Output!GE77=\"\",T(Input_Output!GF77),\"\")","v":""},null,null,{"$f":"IF(Input_Output!GH77=\"\",T(Input_Output!GI77),\"\")","v":""},null,null,{"$f":"IF(Input_Output!GK77=\"\",T(Input_Output!GL77),\"\")","v":""},null,null,{"$f":"IF(Input_Output!GN77=\"\",T(Input_Output!GO77),\"\")","v":""},null,null,{"$f":"IF(Input_Output!GQ77=\"\",T(Input_Output!GR77),\"\")","v":""},null,null,{"$f":"IF(Input_Output!GT77=\"\",T(Input_Output!GU77),\"\")","v":""},null,null,{"$f":"IF(Input_Output!GW77=\"\",T(Input_Output!GX77),\"\")","v":""},null,null,{"$f":"IF(Input_Output!GZ77=\"\",T(Input_Output!HA77),\"\")","v":""},null,null,{"$f":"IF(Input_Output!HC77=\"\",T(Input_Output!HD77),\"\")","v":""},null,null,{"$f":"IF(Input_Output!HF77=\"\",T(Input_Output!HG77),\"\")","v":""},null,null,{"$f":"IF(Input_Output!HI77=\"\",T(Input_Output!HJ77),\"\")","v":""},null,null,{"$f":"IF(Input_Output!HL77=\"\",T(Input_Output!HM77),\"\")","v":""},null,null,{"$f":"IF(Input_Output!HO77=\"\",T(Input_Output!HP77),\"\")","v":""},null,null,{"$f":"IF(Input_Output!HR77=\"\",T(Input_Output!HS77),\"\")","v":""},null,null,{"$f":"IF(Input_Output!HU77=\"\",T(Input_Output!HV77),\"\")","v":""},null,null,{"$f":"IF(Input_Output!HX77=\"\",T(Input_Output!HY77),\"\")","v":""},null,null,{"$f":"IF(Input_Output!IA77=\"\",T(Input_Output!IB77),\"\")","v":""},null,null,{"$f":"IF(Input_Output!ID77=\"\",T(Input_Output!IE77),\"\")","v":""},null,null,{"$f":"IF(Input_Output!IG77=\"\",T(Input_Output!IH77),\"\")","v":""},null,null,{"$f":"IF(Input_Output!IJ77=\"\",T(Input_Output!IK77),\"\")","v":""},null,null,{"$f":"IF(Input_Output!IM77=\"\",T(Input_Output!IN77),\"\")","v":""},null,null,{"$f":"IF(Input_Output!IP77=\"\",T(Input_Output!IQ77),\"\")","v":""},null,null,{"$f":"IF(Input_Output!IS77=\"\",T(Input_Output!IT77),\"\")","v":""}]
[null,null,null,null,{"$f":"IF(Input_Output!D78=\"\",T(Input_Output!E78),\"\")","v":""},null,null,{"$f":"IF(Input_Output!G78=\"\",T(Input_Output!H78),\"\")","v":""},null,null,{"$f":"IF(Input_Output!J78=\"\",T(Input_Output!K78),\"\")","v":""},null,null,{"$f":"IF(Input_Output!M78=\"\",T(Input_Output!N78),\"\")","v":""},null,null,{"$f":"IF(Input_Output!P78=\"\",T(Input_Output!Q78),\"\")","v":""},null,null,{"$f":"IF(Input_Output!S78=\"\",T(Input_Output!T78),\"\")","v":""},null,null,{"$f":"IF(Input_Output!V78=\"\",T(Input_Output!W78),\"\")","v":""},null,null,{"$f":"IF(Input_Output!Y78=\"\",T(Input_Output!Z78),\"\")","v":""},null,null,{"$f":"IF(Input_Output!AB78=\"\",T(Input_Output!AC78),\"\")","v":""},null,null,{"$f":"IF(Input_Output!AE78=\"\",T(Input_Output!AF78),\"\")","v":""},null,null,{"$f":"IF(Input_Output!AH78=\"\",T(Input_Output!AI78),\"\")","v":""},null,null,{"$f":"IF(Input_Output!AK78=\"\",T(Input_Output!AL78),\"\")","v":""},null,null,{"$f":"IF(Input_Output!AN78=\"\",T(Input_Output!AO78),\"\")","v":""},null,null,{"$f":"IF(Input_Output!AQ78=\"\",T(Input_Output!AR78),\"\")","v":""},null,null,{"$f":"IF(Input_Output!AT78=\"\",T(Input_Output!AU78),\"\")","v":""},null,null,{"$f":"IF(Input_Output!AW78=\"\",T(Input_Output!AX78),\"\")","v":""},null,null,{"$f":"IF(Input_Output!AZ78=\"\",T(Input_Output!BA78),\"\")","v":""},null,null,{"$f":"IF(Input_Output!BC78=\"\",T(Input_Output!BD78),\"\")","v":""},null,null,{"$f":"IF(Input_Output!BF78=\"\",T(Input_Output!BG78),\"\")","v":""},null,null,{"$f":"IF(Input_Output!BI78=\"\",T(Input_Output!BJ78),\"\")","v":""},null,null,{"$f":"IF(Input_Output!BL78=\"\",T(Input_Output!BM78),\"\")","v":""},null,null,{"$f":"IF(Input_Output!BO78=\"\",T(Input_Output!BP78),\"\")","v":""},null,null,{"$f":"IF(Input_Output!BR78=\"\",T(Input_Output!BS78),\"\")","v":""},null,null,{"$f":"IF(Input_Output!BU78=\"\",T(Input_Output!BV78),\"\")","v":""},null,null,{"$f":"IF(Input_Output!BX78=\"\",T(Input_Output!BY78),\"\")","v":""},null,null,{"$f":"IF(Input_Output!CA78=\"\",T(Input_Output!CB78),\"\")","v":""},null,null,{"$f":"IF(Input_Output!CD78=\"\",T(Input_Output!CE78),\"\")","v":""},null,null,{"$f":"IF(Input_Output!CG78=\"\",T(Input_Output!CH78),\"\")","v":""},null,null,{"$f":"IF(Input_Output!CJ78=\"\",T(Input_Output!CK78),\"\")","v":""},null,null,{"$f":"IF(Input_Output!CM78=\"\",T(Input_Output!CN78),\"\")","v":""},null,null,{"$f":"IF(Input_Output!CP78=\"\",T(Input_Output!CQ78),\"\")","v":""},null,null,{"$f":"IF(Input_Output!CS78=\"\",T(Input_Output!CT78),\"\")","v":""},null,null,{"$f":"IF(Input_Output!CV78=\"\",T(Input_Output!CW78),\"\")","v":""},null,null,{"$f":"IF(Input_Output!CY78=\"\",T(Input_Output!CZ78),\"\")","v":""},null,null,{"$f":"IF(Input_Output!DB78=\"\",T(Input_Output!DC78),\"\")","v":""},null,null,{"$f":"IF(Input_Output!DE78=\"\",T(Input_Output!DF78),\"\")","v":""},null,null,{"$f":"IF(Input_Output!DH78=\"\",T(Input_Output!DI78),\"\")","v":""},null,null,{"$f":"IF(Input_Output!DK78=\"\",T(Input_Output!DL78),\"\")","v":""},null,null,{"$f":"IF(Input_Output!DN78=\"\",T(Input_Output!DO78),\"\")","v":""},null,null,{"$f":"IF(Input_Output!DQ78=\"\",T(Input_Output!DR78),\"\")","v":""},null,null,{"$f":"IF(Input_Output!DT78=\"\",T(Input_Output!DU78),\"\")","v":""},null,null,{"$f":"IF(Input_Output!DW78=\"\",T(Input_Output!DX78),\"\")","v":""},null,null,{"$f":"IF(Input_Output!DZ78=\"\",T(Input_Output!EA78),\"\")","v":""},null,null,{"$f":"IF(Input_Output!EC78=\"\",T(Input_Output!ED78),\"\")","v":""},null,null,{"$f":"IF(Input_Output!EF78=\"\",T(Input_Output!EG78),\"\")","v":""},null,null,{"$f":"IF(Input_Output!EI78=\"\",T(Input_Output!EJ78),\"\")","v":""},null,null,{"$f":"IF(Input_Output!EL78=\"\",T(Input_Output!EM78),\"\")","v":""},null,null,{"$f":"IF(Input_Output!EO78=\"\",T(Input_Output!EP78),\"\")","v":""},null,null,{"$f":"IF(Input_Output!ER78=\"\",T(Input_Output!ES78),\"\")","v":""},null,null,{"$f":"IF(Input_Output!EU78=\"\",T(Input_Output!EV78),\"\")","v":""},null,null,{"$f":"IF(Input_Output!EX78=\"\",T(Input_Output!EY78),\"\")","v":""},null,null,{"$f":"IF(Input_Output!FA78=\"\",T(Input_Output!FB78),\"\")","v":""},null,null,{"$f":"IF(Input_Output!FD78=\"\",T(Input_Output!FE78),\"\")","v":""},null,null,{"$f":"IF(Input_Output!FG78=\"\",T(Input_Output!FH78),\"\")","v":""},null,null,{"$f":"IF(Input_Output!FJ78=\"\",T(Input_Output!FK78),\"\")","v":""},null,null,{"$f":"IF(Input_Output!FM78=\"\",T(Input_Output!FN78),\"\")","v":""},null,null,{"$f":"IF(Input_Output!FP78=\"\",T(Input_Output!FQ78),\"\")","v":""},null,null,{"$f":"IF(Input_Output!FS78=\"\",T(Input_Output!FT78),\"\")","v":""},null,null,{"$f":"IF(Input_Output!FV78=\"\",T(Input_Output!FW78),\"\")","v":""},null,null,{"$f":"IF(Input_Output!FY78=\"\",T(Input_Output!FZ78),\"\")","v":""},null,null,{"$f":"IF(Input_Output!GB78=\"\",T(Input_Output!GC78),\"\")","v":""},null,null,{"$f":"IF(Input_Output!GE78=\"\",T(Input_Output!GF78),\"\")","v":""},null,null,{"$f":"IF(Input_Output!GH78=\"\",T(Input_Output!GI78),\"\")","v":""},null,null,{"$f":"IF(Input_Output!GK78=\"\",T(Input_Output!GL78),\"\")","v":""},null,null,{"$f":"IF(Input_Output!GN78=\"\",T(Input_Output!GO78),\"\")","v":""},null,null,{"$f":"IF(Input_Output!GQ78=\"\",T(Input_Output!GR78),\"\")","v":""},null,null,{"$f":"IF(Input_Output!GT78=\"\",T(Input_Output!GU78),\"\")","v":""},null,null,{"$f":"IF(Input_Output!GW78=\"\",T(Input_Output!GX78),\"\")","v":""},null,null,{"$f":"IF(Input_Output!GZ78=\"\",T(Input_Output!HA78),\"\")","v":""},null,null,{"$f":"IF(Input_Output!HC78=\"\",T(Input_Output!HD78),\"\")","v":""},null,null,{"$f":"IF(Input_Output!HF78=\"\",T(Input_Output!HG78),\"\")","v":""},null,null,{"$f":"IF(Input_Output!HI78=\"\",T(Input_Output!HJ78),\"\")","v":""},null,null,{"$f":"IF(Input_Output!HL78=\"\",T(Input_Output!HM78),\"\")","v":""},null,null,{"$f":"IF(Input_Output!HO78=\"\",T(Input_Output!HP78),\"\")","v":""},null,null,{"$f":"IF(Input_Output!HR78=\"\",T(Input_Output!HS78),\"\")","v":""},null,null,{"$f":"IF(Input_Output!HU78=\"\",T(Input_Output!HV78),\"\")","v":""},null,null,{"$f":"IF(Input_Output!HX78=\"\",T(Input_Output!HY78),\"\")","v":""},null,null,{"$f":"IF(Input_Output!IA78=\"\",T(Input_Output!IB78),\"\")","v":""},null,null,{"$f":"IF(Input_Output!ID78=\"\",T(Input_Output!IE78),\"\")","v":""},null,null,{"$f":"IF(Input_Output!IG78=\"\",T(Input_Output!IH78),\"\")","v":""},null,null,{"$f":"IF(Input_Output!IJ78=\"\",T(Input_Output!IK78),\"\")","v":""},null,null,{"$f":"IF(Input_Output!IM78=\"\",T(Input_Output!IN78),\"\")","v":""},null,null,{"$f":"IF(Input_Output!IP78=\"\",T(Input_Output!IQ78),\"\")","v":""},null,null,{"$f":"IF(Input_Output!IS78=\"\",T(Input_Output!IT78),\"\")","v":""}]
[null,null,null,null,{"$f":"IF(Input_Output!D79=\"\",T(Input_Output!E79),\"\")","v":""},null,null,{"$f":"IF(Input_Output!G79=\"\",T(Input_Output!H79),\"\")","v":""},null,null,{"$f":"IF(Input_Output!J79=\"\",T(Input_Output!K79),\"\")","v":""},null,null,{"$f":"IF(Input_Output!M79=\"\",T(Input_Output!N79),\"\")","v":""},null,null,{"$f":"IF(Input_Output!P79=\"\",T(Input_Output!Q79),\"\")","v":""},null,null,{"$f":"IF(Input_Output!S79=\"\",T(Input_Output!T79),\"\")","v":""},null,null,{"$f":"IF(Input_Output!V79=\"\",T(Input_Output!W79),\"\")","v":""},null,null,{"$f":"IF(Input_Output!Y79=\"\",T(Input_Output!Z79),\"\")","v":""},null,null,{"$f":"IF(Input_Output!AB79=\"\",T(Input_Output!AC79),\"\")","v":""},null,null,{"$f":"IF(Input_Output!AE79=\"\",T(Input_Output!AF79),\"\")","v":""},null,null,{"$f":"IF(Input_Output!AH79=\"\",T(Input_Output!AI79),\"\")","v":""},null,null,{"$f":"IF(Input_Output!AK79=\"\",T(Input_Output!AL79),\"\")","v":""},null,null,{"$f":"IF(Input_Output!AN79=\"\",T(Input_Output!AO79),\"\")","v":""},null,null,{"$f":"IF(Input_Output!AQ79=\"\",T(Input_Output!AR79),\"\")","v":""},null,null,{"$f":"IF(Input_Output!AT79=\"\",T(Input_Output!AU79),\"\")","v":""},null,null,{"$f":"IF(Input_Output!AW79=\"\",T(Input_Output!AX79),\"\")","v":""},null,null,{"$f":"IF(Input_Output!AZ79=\"\",T(Input_Output!BA79),\"\")","v":""},null,null,{"$f":"IF(Input_Output!BC79=\"\",T(Input_Output!BD79),\"\")","v":""},null,null,{"$f":"IF(Input_Output!BF79=\"\",T(Input_Output!BG79),\"\")","v":""},null,null,{"$f":"IF(Input_Output!BI79=\"\",T(Input_Output!BJ79),\"\")","v":""},null,null,{"$f":"IF(Input_Output!BL79=\"\",T(Input_Output!BM79),\"\")","v":""},null,null,{"$f":"IF(Input_Output!BO79=\"\",T(Input_Output!BP79),\"\")","v":""},null,null,{"$f":"IF(Input_Output!BR79=\"\",T(Input_Output!BS79),\"\")","v":""},null,null,{"$f":"IF(Input_Output!BU79=\"\",T(Input_Output!BV79),\"\")","v":""},null,null,{"$f":"IF(Input_Output!BX79=\"\",T(Input_Output!BY79),\"\")","v":""},null,null,{"$f":"IF(Input_Output!CA79=\"\",T(Input_Output!CB79),\"\")","v":""},null,null,{"$f":"IF(Input_Output!CD79=\"\",T(Input_Output!CE79),\"\")","v":""},null,null,{"$f":"IF(Input_Output!CG79=\"\",T(Input_Output!CH79),\"\")","v":""},null,null,{"$f":"IF(Input_Output!CJ79=\"\",T(Input_Output!CK79),\"\")","v":""},null,null,{"$f":"IF(Input_Output!CM79=\"\",T(Input_Output!CN79),\"\")","v":""},null,null,{"$f":"IF(Input_Output!CP79=\"\",T(Input_Output!CQ79),\"\")","v":""},null,null,{"$f":"IF(Input_Output!CS79=\"\",T(Input_Output!CT79),\"\")","v":""},null,null,{"$f":"IF(Input_Output!CV79=\"\",T(Input_Output!CW79),\"\")","v":""},null,null,{"$f":"IF(Input_Output!CY79=\"\",T(Input_Output!CZ79),\"\")","v":""},null,null,{"$f":"IF(Input_Output!DB79=\"\",T(Input_Output!DC79),\"\")","v":""},null,null,{"$f":"IF(Input_Output!DE79=\"\",T(Input_Output!DF79),\"\")","v":""},null,null,{"$f":"IF(Input_Output!DH79=\"\",T(Input_Output!DI79),\"\")","v":""},null,null,{"$f":"IF(Input_Output!DK79=\"\",T(Input_Output!DL79),\"\")","v":""},null,null,{"$f":"IF(Input_Output!DN79=\"\",T(Input_Output!DO79),\"\")","v":""},null,null,{"$f":"IF(Input_Output!DQ79=\"\",T(Input_Output!DR79),\"\")","v":""},null,null,{"$f":"IF(Input_Output!DT79=\"\",T(Input_Output!DU79),\"\")","v":""},null,null,{"$f":"IF(Input_Output!DW79=\"\",T(Input_Output!DX79),\"\")","v":""},null,null,{"$f":"IF(Input_Output!DZ79=\"\",T(Input_Output!EA79),\"\")","v":""},null,null,{"$f":"IF(Input_Output!EC79=\"\",T(Input_Output!ED79),\"\")","v":""},null,null,{"$f":"IF(Input_Output!EF79=\"\",T(Input_Output!EG79),\"\")","v":""},null,null,{"$f":"IF(Input_Output!EI79=\"\",T(Input_Output!EJ79),\"\")","v":""},null,null,{"$f":"IF(Input_Output!EL79=\"\",T(Input_Output!EM79),\"\")","v":""},null,null,{"$f":"IF(Input_Output!EO79=\"\",T(Input_Output!EP79),\"\")","v":""},null,null,{"$f":"IF(Input_Output!ER79=\"\",T(Input_Output!ES79),\"\")","v":""},null,null,{"$f":"IF(Input_Output!EU79=\"\",T(Input_Output!EV79),\"\")","v":""},null,null,{"$f":"IF(Input_Output!EX79=\"\",T(Input_Output!EY79),\"\")","v":""},null,null,{"$f":"IF(Input_Output!FA79=\"\",T(Input_Output!FB79),\"\")","v":""},null,null,{"$f":"IF(Input_Output!FD79=\"\",T(Input_Output!FE79),\"\")","v":""},null,null,{"$f":"IF(Input_Output!FG79=\"\",T(Input_Output!FH79),\"\")","v":""},null,null,{"$f":"IF(Input_Output!FJ79=\"\",T(Input_Output!FK79),\"\")","v":""},null,null,{"$f":"IF(Input_Output!FM79=\"\",T(Input_Output!FN79),\"\")","v":""},null,null,{"$f":"IF(Input_Output!FP79=\"\",T(Input_Output!FQ79),\"\")","v":""},null,null,{"$f":"IF(Input_Output!FS79=\"\",T(Input_Output!FT79),\"\")","v":""},null,null,{"$f":"IF(Input_Output!FV79=\"\",T(Input_Output!FW79),\"\")","v":""},null,null,{"$f":"IF(Input_Output!FY79=\"\",T(Input_Output!FZ79),\"\")","v":""},null,null,{"$f":"IF(Input_Output!GB79=\"\",T(Input_Output!GC79),\"\")","v":""},null,null,{"$f":"IF(Input_Output!GE79=\"\",T(Input_Output!GF79),\"\")","v":""},null,null,{"$f":"IF(Input_Output!GH79=\"\",T(Input_Output!GI79),\"\")","v":""},null,null,{"$f":"IF(Input_Output!GK79=\"\",T(Input_Output!GL79),\"\")","v":""},null,null,{"$f":"IF(Input_Output!GN79=\"\",T(Input_Output!GO79),\"\")","v":""},null,null,{"$f":"IF(Input_Output!GQ79=\"\",T(Input_Output!GR79),\"\")","v":""},null,null,{"$f":"IF(Input_Output!GT79=\"\",T(Input_Output!GU79),\"\")","v":""},null,null,{"$f":"IF(Input_Output!GW79=\"\",T(Input_Output!GX79),\"\")","v":""},null,null,{"$f":"IF(Input_Output!GZ79=\"\",T(Input_Output!HA79),\"\")","v":""},null,null,{"$f":"IF(Input_Output!HC79=\"\",T(Input_Output!HD79),\"\")","v":""},null,null,{"$f":"IF(Input_Output!HF79=\"\",T(Input_Output!HG79),\"\")","v":""},null,null,{"$f":"IF(Input_Output!HI79=\"\",T(Input_Output!HJ79),\"\")","v":""},null,null,{"$f":"IF(Input_Output!HL79=\"\",T(Input_Output!HM79),\"\")","v":""},null,null,{"$f":"IF(Input_Output!HO79=\"\",T(Input_Output!HP79),\"\")","v":""},null,null,{"$f":"IF(Input_Output!HR79=\"\",T(Input_Output!HS79),\"\")","v":""},null,null,{"$f":"IF(Input_Output!HU79=\"\",T(Input_Output!HV79),\"\")","v":""},null,null,{"$f":"IF(Input_Output!HX79=\"\",T(Input_Output!HY79),\"\")","v":""},null,null,{"$f":"IF(Input_Output!IA79=\"\",T(Input_Output!IB79),\"\")","v":""},null,null,{"$f":"IF(Input_Output!ID79=\"\",T(Input_Output!IE79),\"\")","v":""},null,null,{"$f":"IF(Input_Output!IG79=\"\",T(Input_Output!IH79),\"\")","v":""},null,null,{"$f":"IF(Input_Output!IJ79=\"\",T(Input_Output!IK79),\"\")","v":""},null,null,{"$f":"IF(Input_Output!IM79=\"\",T(Input_Output!IN79),\"\")","v":""},null,null,{"$f":"IF(Input_Output!IP79=\"\",T(Input_Output!IQ79),\"\")","v":""},null,null,{"$f":"IF(Input_Output!IS79=\"\",T(Input_Output!IT79),\"\")","v":""}]
[null,null,null,null,{"$f":"IF(Input_Output!D80=\"\",T(Input_Output!E80),\"\")","v":""},null,null,{"$f":"IF(Input_Output!G80=\"\",T(Input_Output!H80),\"\")","v":""},null,null,{"$f":"IF(Input_Output!J80=\"\",T(Input_Output!K80),\"\")","v":""},null,null,{"$f":"IF(Input_Output!M80=\"\",T(Input_Output!N80),\"\")","v":""},null,null,{"$f":"IF(Input_Output!P80=\"\",T(Input_Output!Q80),\"\")","v":""},null,null,{"$f":"IF(Input_Output!S80=\"\",T(Input_Output!T80),\"\")","v":""},null,null,{"$f":"IF(Input_Output!V80=\"\",T(Input_Output!W80),\"\")","v":""},null,null,{"$f":"IF(Input_Output!Y80=\"\",T(Input_Output!Z80),\"\")","v":""},null,null,{"$f":"IF(Input_Output!AB80=\"\",T(Input_Output!AC80),\"\")","v":""},null,null,{"$f":"IF(Input_Output!AE80=\"\",T(Input_Output!AF80),\"\")","v":""},null,null,{"$f":"IF(Input_Output!AH80=\"\",T(Input_Output!AI80),\"\")","v":""},null,null,{"$f":"IF(Input_Output!AK80=\"\",T(Input_Output!AL80),\"\")","v":""},null,null,{"$f":"IF(Input_Output!AN80=\"\",T(Input_Output!AO80),\"\")","v":""},null,null,{"$f":"IF(Input_Output!AQ80=\"\",T(Input_Output!AR80),\"\")","v":""},null,null,{"$f":"IF(Input_Output!AT80=\"\",T(Input_Output!AU80),\"\")","v":""},null,null,{"$f":"IF(Input_Output!AW80=\"\",T(Input_Output!AX80),\"\")","v":""},null,null,{"$f":"IF(Input_Output!AZ80=\"\",T(Input_Output!BA80),\"\")","v":""},null,null,{"$f":"IF(Input_Output!BC80=\"\",T(Input_Output!BD80),\"\")","v":""},null,null,{"$f":"IF(Input_Output!BF80=\"\",T(Input_Output!BG80),\"\")","v":""},null,null,{"$f":"IF(Input_Output!BI80=\"\",T(Input_Output!BJ80),\"\")","v":""},null,null,{"$f":"IF(Input_Output!BL80=\"\",T(Input_Output!BM80),\"\")","v":""},null,null,{"$f":"IF(Input_Output!BO80=\"\",T(Input_Output!BP80),\"\")","v":""},null,null,{"$f":"IF(Input_Output!BR80=\"\",T(Input_Output!BS80),\"\")","v":""},null,null,{"$f":"IF(Input_Output!BU80=\"\",T(Input_Output!BV80),\"\")","v":""},null,null,{"$f":"IF(Input_Output!BX80=\"\",T(Input_Output!BY80),\"\")","v":""},null,null,{"$f":"IF(Input_Output!CA80=\"\",T(Input_Output!CB80),\"\")","v":""},null,null,{"$f":"IF(Input_Output!CD80=\"\",T(Input_Output!CE80),\"\")","v":""},null,null,{"$f":"IF(Input_Output!CG80=\"\",T(Input_Output!CH80),\"\")","v":""},null,null,{"$f":"IF(Input_Output!CJ80=\"\",T(Input_Output!CK80),\"\")","v":""},null,null,{"$f":"IF(Input_Output!CM80=\"\",T(Input_Output!CN80),\"\")","v":""},null,null,{"$f":"IF(Input_Output!CP80=\"\",T(Input_Output!CQ80),\"\")","v":""},null,null,{"$f":"IF(Input_Output!CS80=\"\",T(Input_Output!CT80),\"\")","v":""},null,null,{"$f":"IF(Input_Output!CV80=\"\",T(Input_Output!CW80),\"\")","v":""},null,null,{"$f":"IF(Input_Output!CY80=\"\",T(Input_Output!CZ80),\"\")","v":""},null,null,{"$f":"IF(Input_Output!DB80=\"\",T(Input_Output!DC80),\"\")","v":""},null,null,{"$f":"IF(Input_Output!DE80=\"\",T(Input_Output!DF80),\"\")","v":""},null,null,{"$f":"IF(Input_Output!DH80=\"\",T(Input_Output!DI80),\"\")","v":""},null,null,{"$f":"IF(Input_Output!DK80=\"\",T(Input_Output!DL80),\"\")","v":""},null,null,{"$f":"IF(Input_Output!DN80=\"\",T(Input_Output!DO80),\"\")","v":""},null,null,{"$f":"IF(Input_Output!DQ80=\"\",T(Input_Output!DR80),\"\")","v":""},null,null,{"$f":"IF(Input_Output!DT80=\"\",T(Input_Output!DU80),\"\")","v":""},null,null,{"$f":"IF(Input_Output!DW80=\"\",T(Input_Output!DX80),\"\")","v":""},null,null,{"$f":"IF(Input_Output!DZ80=\"\",T(Input_Output!EA80),\"\")","v":""},null,null,{"$f":"IF(Input_Output!EC80=\"\",T(Input_Output!ED80),\"\")","v":""},null,null,{"$f":"IF(Input_Output!EF80=\"\",T(Input_Output!EG80),\"\")","v":""},null,null,{"$f":"IF(Input_Output!EI80=\"\",T(Input_Output!EJ80),\"\")","v":""},null,null,{"$f":"IF(Input_Output!EL80=\"\",T(Input_Output!EM80),\"\")","v":""},null,null,{"$f":"IF(Input_Output!EO80=\"\",T(Input_Output!EP80),\"\")","v":""},null,null,{"$f":"IF(Input_Output!ER80=\"\",T(Input_Output!ES80),\"\")","v":""},null,null,{"$f":"IF(Input_Output!EU80=\"\",T(Input_Output!EV80),\"\")","v":""},null,null,{"$f":"IF(Input_Output!EX80=\"\",T(Input_Output!EY80),\"\")","v":""},null,null,{"$f":"IF(Input_Output!FA80=\"\",T(Input_Output!FB80),\"\")","v":""},null,null,{"$f":"IF(Input_Output!FD80=\"\",T(Input_Output!FE80),\"\")","v":""},null,null,{"$f":"IF(Input_Output!FG80=\"\",T(Input_Output!FH80),\"\")","v":""},null,null,{"$f":"IF(Input_Output!FJ80=\"\",T(Input_Output!FK80),\"\")","v":""},null,null,{"$f":"IF(Input_Output!FM80=\"\",T(Input_Output!FN80),\"\")","v":""},null,null,{"$f":"IF(Input_Output!FP80=\"\",T(Input_Output!FQ80),\"\")","v":""},null,null,{"$f":"IF(Input_Output!FS80=\"\",T(Input_Output!FT80),\"\")","v":""},null,null,{"$f":"IF(Input_Output!FV80=\"\",T(Input_Output!FW80),\"\")","v":""},null,null,{"$f":"IF(Input_Output!FY80=\"\",T(Input_Output!FZ80),\"\")","v":""},null,null,{"$f":"IF(Input_Output!GB80=\"\",T(Input_Output!GC80),\"\")","v":""},null,null,{"$f":"IF(Input_Output!GE80=\"\",T(Input_Output!GF80),\"\")","v":""},null,null,{"$f":"IF(Input_Output!GH80=\"\",T(Input_Output!GI80),\"\")","v":""},null,null,{"$f":"IF(Input_Output!GK80=\"\",T(Input_Output!GL80),\"\")","v":""},null,null,{"$f":"IF(Input_Output!GN80=\"\",T(Input_Output!GO80),\"\")","v":""},null,null,{"$f":"IF(Input_Output!GQ80=\"\",T(Input_Output!GR80),\"\")","v":""},null,null,{"$f":"IF(Input_Output!GT80=\"\",T(Input_Output!GU80),\"\")","v":""},null,null,{"$f":"IF(Input_Output!GW80=\"\",T(Input_Output!GX80),\"\")","v":""},null,null,{"$f":"IF(Input_Output!GZ80=\"\",T(Input_Output!HA80),\"\")","v":""},null,null,{"$f":"IF(Input_Output!HC80=\"\",T(Input_Output!HD80),\"\")","v":""},null,null,{"$f":"IF(Input_Output!HF80=\"\",T(Input_Output!HG80),\"\")","v":""},null,null,{"$f":"IF(Input_Output!HI80=\"\",T(Input_Output!HJ80),\"\")","v":""},null,null,{"$f":"IF(Input_Output!HL80=\"\",T(Input_Output!HM80),\"\")","v":""},null,null,{"$f":"IF(Input_Output!HO80=\"\",T(Input_Output!HP80),\"\")","v":""},null,null,{"$f":"IF(Input_Output!HR80=\"\",T(Input_Output!HS80),\"\")","v":""},null,null,{"$f":"IF(Input_Output!HU80=\"\",T(Input_Output!HV80),\"\")","v":""},null,null,{"$f":"IF(Input_Output!HX80=\"\",T(Input_Output!HY80),\"\")","v":""},null,null,{"$f":"IF(Input_Output!IA80=\"\",T(Input_Output!IB80),\"\")","v":""},null,null,{"$f":"IF(Input_Output!ID80=\"\",T(Input_Output!IE80),\"\")","v":""},null,null,{"$f":"IF(Input_Output!IG80=\"\",T(Input_Output!IH80),\"\")","v":""},null,null,{"$f":"IF(Input_Output!IJ80=\"\",T(Input_Output!IK80),\"\")","v":""},null,null,{"$f":"IF(Input_Output!IM80=\"\",T(Input_Output!IN80),\"\")","v":""},null,null,{"$f":"IF(Input_Output!IP80=\"\",T(Input_Output!IQ80),\"\")","v":""},null,null,{"$f":"IF(Input_Output!IS80=\"\",T(Input_Output!IT80),\"\")","v":""}]
[null,null,null,null,{"$f":"IF(Input_Output!D81=\"\",T(Input_Output!E81),\"\")","v":""},null,null,{"$f":"IF(Input_Output!G81=\"\",T(Input_Output!H81),\"\")","v":""},null,null,{"$f":"IF(Input_Output!J81=\"\",T(Input_Output!K81),\"\")","v":""},null,null,{"$f":"IF(Input_Output!M81=\"\",T(Input_Output!N81),\"\")","v":""},null,null,{"$f":"IF(Input_Output!P81=\"\",T(Input_Output!Q81),\"\")","v":""},null,null,{"$f":"IF(Input_Output!S81=\"\",T(Input_Output!T81),\"\")","v":""},null,null,{"$f":"IF(Input_Output!V81=\"\",T(Input_Output!W81),\"\")","v":""},null,null,{"$f":"IF(Input_Output!Y81=\"\",T(Input_Output!Z81),\"\")","v":""},null,null,{"$f":"IF(Input_Output!AB81=\"\",T(Input_Output!AC81),\"\")","v":""},null,null,{"$f":"IF(Input_Output!AE81=\"\",T(Input_Output!AF81),\"\")","v":""},null,null,{"$f":"IF(Input_Output!AH81=\"\",T(Input_Output!AI81),\"\")","v":""},null,null,{"$f":"IF(Input_Output!AK81=\"\",T(Input_Output!AL81),\"\")","v":""},null,null,{"$f":"IF(Input_Output!AN81=\"\",T(Input_Output!AO81),\"\")","v":""},null,null,{"$f":"IF(Input_Output!AQ81=\"\",T(Input_Output!AR81),\"\")","v":""},null,null,{"$f":"IF(Input_Output!AT81=\"\",T(Input_Output!AU81),\"\")","v":""},null,null,{"$f":"IF(Input_Output!AW81=\"\",T(Input_Output!AX81),\"\")","v":""},null,null,{"$f":"IF(Input_Output!AZ81=\"\",T(Input_Output!BA81),\"\")","v":""},null,null,{"$f":"IF(Input_Output!BC81=\"\",T(Input_Output!BD81),\"\")","v":""},null,null,{"$f":"IF(Input_Output!BF81=\"\",T(Input_Output!BG81),\"\")","v":""},null,null,{"$f":"IF(Input_Output!BI81=\"\",T(Input_Output!BJ81),\"\")","v":""},null,null,{"$f":"IF(Input_Output!BL81=\"\",T(Input_Output!BM81),\"\")","v":""},null,null,{"$f":"IF(Input_Output!BO81=\"\",T(Input_Output!BP81),\"\")","v":""},null,null,{"$f":"IF(Input_Output!BR81=\"\",T(Input_Output!BS81),\"\")","v":""},null,null,{"$f":"IF(Input_Output!BU81=\"\",T(Input_Output!BV81),\"\")","v":""},null,null,{"$f":"IF(Input_Output!BX81=\"\",T(Input_Output!BY81),\"\")","v":""},null,null,{"$f":"IF(Input_Output!CA81=\"\",T(Input_Output!CB81),\"\")","v":""},null,null,{"$f":"IF(Input_Output!CD81=\"\",T(Input_Output!CE81),\"\")","v":""},null,null,{"$f":"IF(Input_Output!CG81=\"\",T(Input_Output!CH81),\"\")","v":""},null,null,{"$f":"IF(Input_Output!CJ81=\"\",T(Input_Output!CK81),\"\")","v":""},null,null,{"$f":"IF(Input_Output!CM81=\"\",T(Input_Output!CN81),\"\")","v":""},null,null,{"$f":"IF(Input_Output!CP81=\"\",T(Input_Output!CQ81),\"\")","v":""},null,null,{"$f":"IF(Input_Output!CS81=\"\",T(Input_Output!CT81),\"\")","v":""},null,null,{"$f":"IF(Input_Output!CV81=\"\",T(Input_Output!CW81),\"\")","v":""},null,null,{"$f":"IF(Input_Output!CY81=\"\",T(Input_Output!CZ81),\"\")","v":""},null,null,{"$f":"IF(Input_Output!DB81=\"\",T(Input_Output!DC81),\"\")","v":""},null,null,{"$f":"IF(Input_Output!DE81=\"\",T(Input_Output!DF81),\"\")","v":""},null,null,{"$f":"IF(Input_Output!DH81=\"\",T(Input_Output!DI81),\"\")","v":""},null,null,{"$f":"IF(Input_Output!DK81=\"\",T(Input_Output!DL81),\"\")","v":""},null,null,{"$f":"IF(Input_Output!DN81=\"\",T(Input_Output!DO81),\"\")","v":""},null,null,{"$f":"IF(Input_Output!DQ81=\"\",T(Input_Output!DR81),\"\")","v":""},null,null,{"$f":"IF(Input_Output!DT81=\"\",T(Input_Output!DU81),\"\")","v":""},null,null,{"$f":"IF(Input_Output!DW81=\"\",T(Input_Output!DX81),\"\")","v":""},null,null,{"$f":"IF(Input_Output!DZ81=\"\",T(Input_Output!EA81),\"\")","v":""},null,null,{"$f":"IF(Input_Output!EC81=\"\",T(Input_Output!ED81),\"\")","v":""},null,null,{"$f":"IF(Input_Output!EF81=\"\",T(Input_Output!EG81),\"\")","v":""},null,null,{"$f":"IF(Input_Output!EI81=\"\",T(Input_Output!EJ81),\"\")","v":""},null,null,{"$f":"IF(Input_Output!EL81=\"\",T(Input_Output!EM81),\"\")","v":""},null,null,{"$f":"IF(Input_Output!EO81=\"\",T(Input_Output!EP81),\"\")","v":""},null,null,{"$f":"IF(Input_Output!ER81=\"\",T(Input_Output!ES81),\"\")","v":""},null,null,{"$f":"IF(Input_Output!EU81=\"\",T(Input_Output!EV81),\"\")","v":""},null,null,{"$f":"IF(Input_Output!EX81=\"\",T(Input_Output!EY81),\"\")","v":""},null,null,{"$f":"IF(Input_Output!FA81=\"\",T(Input_Output!FB81),\"\")","v":""},null,null,{"$f":"IF(Input_Output!FD81=\"\",T(Input_Output!FE81),\"\")","v":""},null,null,{"$f":"IF(Input_Output!FG81=\"\",T(Input_Output!FH81),\"\")","v":""},null,null,{"$f":"IF(Input_Output!FJ81=\"\",T(Input_Output!FK81),\"\")","v":""},null,null,{"$f":"IF(Input_Output!FM81=\"\",T(Input_Output!FN81),\"\")","v":""},null,null,{"$f":"IF(Input_Output!FP81=\"\",T(Input_Output!FQ81),\"\")","v":""},null,null,{"$f":"IF(Input_Output!FS81=\"\",T(Input_Output!FT81),\"\")","v":""},null,null,{"$f":"IF(Input_Output!FV81=\"\",T(Input_Output!FW81),\"\")","v":""},null,null,{"$f":"IF(Input_Output!FY81=\"\",T(Input_Output!FZ81),\"\")","v":""},null,null,{"$f":"IF(Input_Output!GB81=\"\",T(Input_Output!GC81),\"\")","v":""},null,null,{"$f":"IF(Input_Output!GE81=\"\",T(Input_Output!GF81),\"\")","v":""},null,null,{"$f":"IF(Input_Output!GH81=\"\",T(Input_Output!GI81),\"\")","v":""},null,null,{"$f":"IF(Input_Output!GK81=\"\",T(Input_Output!GL81),\"\")","v":""},null,null,{"$f":"IF(Input_Output!GN81=\"\",T(Input_Output!GO81),\"\")","v":""},null,null,{"$f":"IF(Input_Output!GQ81=\"\",T(Input_Output!GR81),\"\")","v":""},null,null,{"$f":"IF(Input_Output!GT81=\"\",T(Input_Output!GU81),\"\")","v":""},null,null,{"$f":"IF(Input_Output!GW81=\"\",T(Input_Output!GX81),\"\")","v":""},null,null,{"$f":"IF(Input_Output!GZ81=\"\",T(Input_Output!HA81),\"\")","v":""},null,null,{"$f":"IF(Input_Output!HC81=\"\",T(Input_Output!HD81),\"\")","v":""},null,null,{"$f":"IF(Input_Output!HF81=\"\",T(Input_Output!HG81),\"\")","v":""},null,null,{"$f":"IF(Input_Output!HI81=\"\",T(Input_Output!HJ81),\"\")","v":""},null,null,{"$f":"IF(Input_Output!HL81=\"\",T(Input_Output!HM81),\"\")","v":""},null,null,{"$f":"IF(Input_Output!HO81=\"\",T(Input_Output!HP81),\"\")","v":""},null,null,{"$f":"IF(Input_Output!HR81=\"\",T(Input_Output!HS81),\"\")","v":""},null,null,{"$f":"IF(Input_Output!HU81=\"\",T(Input_Output!HV81),\"\")","v":""},null,null,{"$f":"IF(Input_Output!HX81=\"\",T(Input_Output!HY81),\"\")","v":""},null,null,{"$f":"IF(Input_Output!IA81=\"\",T(Input_Output!IB81),\"\")","v":""},null,null,{"$f":"IF(Input_Output!ID81=\"\",T(Input_Output!IE81),\"\")","v":""},null,null,{"$f":"IF(Input_Output!IG81=\"\",T(Input_Output!IH81),\"\")","v":""},null,null,{"$f":"IF(Input_Output!IJ81=\"\",T(Input_Output!IK81),\"\")","v":""},null,null,{"$f":"IF(Input_Output!IM81=\"\",T(Input_Output!IN81),\"\")","v":""},null,null,{"$f":"IF(Input_Output!IP81=\"\",T(Input_Output!IQ81),\"\")","v":""},null,null,{"$f":"IF(Input_Output!IS81=\"\",T(Input_Output!IT81),\"\")","v":""}]
[null,null,null,null,{"$f":"IF(Input_Output!D82=\"\",T(Input_Output!E82),\"\")","v":""},null,null,{"$f":"IF(Input_Output!G82=\"\",T(Input_Output!H82),\"\")","v":""},null,null,{"$f":"IF(Input_Output!J82=\"\",T(Input_Output!K82),\"\")","v":""},null,null,{"$f":"IF(Input_Output!M82=\"\",T(Input_Output!N82),\"\")","v":""},null,null,{"$f":"IF(Input_Output!P82=\"\",T(Input_Output!Q82),\"\")","v":""},null,null,{"$f":"IF(Input_Output!S82=\"\",T(Input_Output!T82),\"\")","v":""},null,null,{"$f":"IF(Input_Output!V82=\"\",T(Input_Output!W82),\"\")","v":""},null,null,{"$f":"IF(Input_Output!Y82=\"\",T(Input_Output!Z82),\"\")","v":""},null,null,{"$f":"IF(Input_Output!AB82=\"\",T(Input_Output!AC82),\"\")","v":""},null,null,{"$f":"IF(Input_Output!AE82=\"\",T(Input_Output!AF82),\"\")","v":""},null,null,{"$f":"IF(Input_Output!AH82=\"\",T(Input_Output!AI82),\"\")","v":""},null,null,{"$f":"IF(Input_Output!AK82=\"\",T(Input_Output!AL82),\"\")","v":""},null,null,{"$f":"IF(Input_Output!AN82=\"\",T(Input_Output!AO82),\"\")","v":""},null,null,{"$f":"IF(Input_Output!AQ82=\"\",T(Input_Output!AR82),\"\")","v":""},null,null,{"$f":"IF(Input_Output!AT82=\"\",T(Input_Output!AU82),\"\")","v":""},null,null,{"$f":"IF(Input_Output!AW82=\"\",T(Input_Output!AX82),\"\")","v":""},null,null,{"$f":"IF(Input_Output!AZ82=\"\",T(Input_Output!BA82),\"\")","v":""},null,null,{"$f":"IF(Input_Output!BC82=\"\",T(Input_Output!BD82),\"\")","v":""},null,null,{"$f":"IF(Input_Output!BF82=\"\",T(Input_Output!BG82),\"\")","v":""},null,null,{"$f":"IF(Input_Output!BI82=\"\",T(Input_Output!BJ82),\"\")","v":""},null,null,{"$f":"IF(Input_Output!BL82=\"\",T(Input_Output!BM82),\"\")","v":""},null,null,{"$f":"IF(Input_Output!BO82=\"\",T(Input_Output!BP82),\"\")","v":""},null,null,{"$f":"IF(Input_Output!BR82=\"\",T(Input_Output!BS82),\"\")","v":""},null,null,{"$f":"IF(Input_Output!BU82=\"\",T(Input_Output!BV82),\"\")","v":""},null,null,{"$f":"IF(Input_Output!BX82=\"\",T(Input_Output!BY82),\"\")","v":""},null,null,{"$f":"IF(Input_Output!CA82=\"\",T(Input_Output!CB82),\"\")","v":""},null,null,{"$f":"IF(Input_Output!CD82=\"\",T(Input_Output!CE82),\"\")","v":""},null,null,{"$f":"IF(Input_Output!CG82=\"\",T(Input_Output!CH82),\"\")","v":""},null,null,{"$f":"IF(Input_Output!CJ82=\"\",T(Input_Output!CK82),\"\")","v":""},null,null,{"$f":"IF(Input_Output!CM82=\"\",T(Input_Output!CN82),\"\")","v":""},null,null,{"$f":"IF(Input_Output!CP82=\"\",T(Input_Output!CQ82),\"\")","v":""},null,null,{"$f":"IF(Input_Output!CS82=\"\",T(Input_Output!CT82),\"\")","v":""},null,null,{"$f":"IF(Input_Output!CV82=\"\",T(Input_Output!CW82),\"\")","v":""},null,null,{"$f":"IF(Input_Output!CY82=\"\",T(Input_Output!CZ82),\"\")","v":""},null,null,{"$f":"IF(Input_Output!DB82=\"\",T(Input_Output!DC82),\"\")","v":""},null,null,{"$f":"IF(Input_Output!DE82=\"\",T(Input_Output!DF82),\"\")","v":""},null,null,{"$f":"IF(Input_Output!DH82=\"\",T(Input_Output!DI82),\"\")","v":""},null,null,{"$f":"IF(Input_Output!DK82=\"\",T(Input_Output!DL82),\"\")","v":""},null,null,{"$f":"IF(Input_Output!DN82=\"\",T(Input_Output!DO82),\"\")","v":""},null,null,{"$f":"IF(Input_Output!DQ82=\"\",T(Input_Output!DR82),\"\")","v":""},null,null,{"$f":"IF(Input_Output!DT82=\"\",T(Input_Output!DU82),\"\")","v":""},null,null,{"$f":"IF(Input_Output!DW82=\"\",T(Input_Output!DX82),\"\")","v":""},null,null,{"$f":"IF(Input_Output!DZ82=\"\",T(Input_Output!EA82),\"\")","v":""},null,null,{"$f":"IF(Input_Output!EC82=\"\",T(Input_Output!ED82),\"\")","v":""},null,null,{"$f":"IF(Input_Output!EF82=\"\",T(Input_Output!EG82),\"\")","v":""},null,null,{"$f":"IF(Input_Output!EI82=\"\",T(Input_Output!EJ82),\"\")","v":""},null,null,{"$f":"IF(Input_Output!EL82=\"\",T(Input_Output!EM82),\"\")","v":""},null,null,{"$f":"IF(Input_Output!EO82=\"\",T(Input_Output!EP82),\"\")","v":""},null,null,{"$f":"IF(Input_Output!ER82=\"\",T(Input_Output!ES82),\"\")","v":""},null,null,{"$f":"IF(Input_Output!EU82=\"\",T(Input_Output!EV82),\"\")","v":""},null,null,{"$f":"IF(Input_Output!EX82=\"\",T(Input_Output!EY82),\"\")","v":""},null,null,{"$f":"IF(Input_Output!FA82=\"\",T(Input_Output!FB82),\"\")","v":""},null,null,{"$f":"IF(Input_Output!FD82=\"\",T(Input_Output!FE82),\"\")","v":""},null,null,{"$f":"IF(Input_Output!FG82=\"\",T(Input_Output!FH82),\"\")","v":""},null,null,{"$f":"IF(Input_Output!FJ82=\"\",T(Input_Output!FK82),\"\")","v":""},null,null,{"$f":"IF(Input_Output!FM82=\"\",T(Input_Output!FN82),\"\")","v":""},null,null,{"$f":"IF(Input_Output!FP82=\"\",T(Input_Output!FQ82),\"\")","v":""},null,null,{"$f":"IF(Input_Output!FS82=\"\",T(Input_Output!FT82),\"\")","v":""},null,null,{"$f":"IF(Input_Output!FV82=\"\",T(Input_Output!FW82),\"\")","v":""},null,null,{"$f":"IF(Input_Output!FY82=\"\",T(Input_Output!FZ82),\"\")","v":""},null,null,{"$f":"IF(Input_Output!GB82=\"\",T(Input_Output!GC82),\"\")","v":""},null,null,{"$f":"IF(Input_Output!GE82=\"\",T(Input_Output!GF82),\"\")","v":""},null,null,{"$f":"IF(Input_Output!GH82=\"\",T(Input_Output!GI82),\"\")","v":""},null,null,{"$f":"IF(Input_Output!GK82=\"\",T(Input_Output!GL82),\"\")","v":""},null,null,{"$f":"IF(Input_Output!GN82=\"\",T(Input_Output!GO82),\"\")","v":""},null,null,{"$f":"IF(Input_Output!GQ82=\"\",T(Input_Output!GR82),\"\")","v":""},null,null,{"$f":"IF(Input_Output!GT82=\"\",T(Input_Output!GU82),\"\")","v":""},null,null,{"$f":"IF(Input_Output!GW82=\"\",T(Input_Output!GX82),\"\")","v":""},null,null,{"$f":"IF(Input_Output!GZ82=\"\",T(Input_Output!HA82),\"\")","v":""},null,null,{"$f":"IF(Input_Output!HC82=\"\",T(Input_Output!HD82),\"\")","v":""},null,null,{"$f":"IF(Input_Output!HF82=\"\",T(Input_Output!HG82),\"\")","v":""},null,null,{"$f":"IF(Input_Output!HI82=\"\",T(Input_Output!HJ82),\"\")","v":""},null,null,{"$f":"IF(Input_Output!HL82=\"\",T(Input_Output!HM82),\"\")","v":""},null,null,{"$f":"IF(Input_Output!HO82=\"\",T(Input_Output!HP82),\"\")","v":""},null,null,{"$f":"IF(Input_Output!HR82=\"\",T(Input_Output!HS82),\"\")","v":""},null,null,{"$f":"IF(Input_Output!HU82=\"\",T(Input_Output!HV82),\"\")","v":""},null,null,{"$f":"IF(Input_Output!HX82=\"\",T(Input_Output!HY82),\"\")","v":""},null,null,{"$f":"IF(Input_Output!IA82=\"\",T(Input_Output!IB82),\"\")","v":""},null,null,{"$f":"IF(Input_Output!ID82=\"\",T(Input_Output!IE82),\"\")","v":""},null,null,{"$f":"IF(Input_Output!IG82=\"\",T(Input_Output!IH82),\"\")","v":""},null,null,{"$f":"IF(Input_Output!IJ82=\"\",T(Input_Output!IK82),\"\")","v":""},null,null,{"$f":"IF(Input_Output!IM82=\"\",T(Input_Output!IN82),\"\")","v":""},null,null,{"$f":"IF(Input_Output!IP82=\"\",T(Input_Output!IQ82),\"\")","v":""},null,null,{"$f":"IF(Input_Output!IS82=\"\",T(Input_Output!IT82),\"\")","v":""}]
[null,null,null,null,{"$f":"IF(Input_Output!D83=\"\",T(Input_Output!E83),\"\")","v":""},null,null,{"$f":"IF(Input_Output!G83=\"\",T(Input_Output!H83),\"\")","v":""},null,null,{"$f":"IF(Input_Output!J83=\"\",T(Input_Output!K83),\"\")","v":""},null,null,{"$f":"IF(Input_Output!M83=\"\",T(Input_Output!N83),\"\")","v":""},null,null,{"$f":"IF(Input_Output!P83=\"\",T(Input_Output!Q83),\"\")","v":""},null,null,{"$f":"IF(Input_Output!S83=\"\",T(Input_Output!T83),\"\")","v":""},null,null,{"$f":"IF(Input_Output!V83=\"\",T(Input_Output!W83),\"\")","v":""},null,null,{"$f":"IF(Input_Output!Y83=\"\",T(Input_Output!Z83),\"\")","v":""},null,null,{"$f":"IF(Input_Output!AB83=\"\",T(Input_Output!AC83),\"\")","v":""},null,null,{"$f":"IF(Input_Output!AE83=\"\",T(Input_Output!AF83),\"\")","v":""},null,null,{"$f":"IF(Input_Output!AH83=\"\",T(Input_Output!AI83),\"\")","v":""},null,null,{"$f":"IF(Input_Output!AK83=\"\",T(Input_Output!AL83),\"\")","v":""},null,null,{"$f":"IF(Input_Output!AN83=\"\",T(Input_Output!AO83),\"\")","v":""},null,null,{"$f":"IF(Input_Output!AQ83=\"\",T(Input_Output!AR83),\"\")","v":""},null,null,{"$f":"IF(Input_Output!AT83=\"\",T(Input_Output!AU83),\"\")","v":""},null,null,{"$f":"IF(Input_Output!AW83=\"\",T(Input_Output!AX83),\"\")","v":""},null,null,{"$f":"IF(Input_Output!AZ83=\"\",T(Input_Output!BA83),\"\")","v":""},null,null,{"$f":"IF(Input_Output!BC83=\"\",T(Input_Output!BD83),\"\")","v":""},null,null,{"$f":"IF(Input_Output!BF83=\"\",T(Input_Output!BG83),\"\")","v":""},null,null,{"$f":"IF(Input_Output!BI83=\"\",T(Input_Output!BJ83),\"\")","v":""},null,null,{"$f":"IF(Input_Output!BL83=\"\",T(Input_Output!BM83),\"\")","v":""},null,null,{"$f":"IF(Input_Output!BO83=\"\",T(Input_Output!BP83),\"\")","v":""},null,null,{"$f":"IF(Input_Output!BR83=\"\",T(Input_Output!BS83),\"\")","v":""},null,null,{"$f":"IF(Input_Output!BU83=\"\",T(Input_Output!BV83),\"\")","v":""},null,null,{"$f":"IF(Input_Output!BX83=\"\",T(Input_Output!BY83),\"\")","v":""},null,null,{"$f":"IF(Input_Output!CA83=\"\",T(Input_Output!CB83),\"\")","v":""},null,null,{"$f":"IF(Input_Output!CD83=\"\",T(Input_Output!CE83),\"\")","v":""},null,null,{"$f":"IF(Input_Output!CG83=\"\",T(Input_Output!CH83),\"\")","v":""},null,null,{"$f":"IF(Input_Output!CJ83=\"\",T(Input_Output!CK83),\"\")","v":""},null,null,{"$f":"IF(Input_Output!CM83=\"\",T(Input_Output!CN83),\"\")","v":""},null,null,{"$f":"IF(Input_Output!CP83=\"\",T(Input_Output!CQ83),\"\")","v":""},null,null,{"$f":"IF(Input_Output!CS83=\"\",T(Input_Output!CT83),\"\")","v":""},null,null,{"$f":"IF(Input_Output!CV83=\"\",T(Input_Output!CW83),\"\")","v":""},null,null,{"$f":"IF(Input_Output!CY83=\"\",T(Input_Output!CZ83),\"\")","v":""},null,null,{"$f":"IF(Input_Output!DB83=\"\",T(Input_Output!DC83),\"\")","v":""},null,null,{"$f":"IF(Input_Output!DE83=\"\",T(Input_Output!DF83),\"\")","v":""},null,null,{"$f":"IF(Input_Output!DH83=\"\",T(Input_Output!DI83),\"\")","v":""},null,null,{"$f":"IF(Input_Output!DK83=\"\",T(Input_Output!DL83),\"\")","v":""},null,null,{"$f":"IF(Input_Output!DN83=\"\",T(Input_Output!DO83),\"\")","v":""},null,null,{"$f":"IF(Input_Output!DQ83=\"\",T(Input_Output!DR83),\"\")","v":""},null,null,{"$f":"IF(Input_Output!DT83=\"\",T(Input_Output!DU83),\"\")","v":""},null,null,{"$f":"IF(Input_Output!DW83=\"\",T(Input_Output!DX83),\"\")","v":""},null,null,{"$f":"IF(Input_Output!DZ83=\"\",T(Input_Output!EA83),\"\")","v":""},null,null,{"$f":"IF(Input_Output!EC83=\"\",T(Input_Output!ED83),\"\")","v":""},null,null,{"$f":"IF(Input_Output!EF83=\"\",T(Input_Output!EG83),\"\")","v":""},null,null,{"$f":"IF(Input_Output!EI83=\"\",T(Input_Output!EJ83),\"\")","v":""},null,null,{"$f":"IF(Input_Output!EL83=\"\",T(Input_Output!EM83),\"\")","v":""},null,null,{"$f":"IF(Input_Output!EO83=\"\",T(Input_Output!EP83),\"\")","v":""},null,null,{"$f":"IF(Input_Output!ER83=\"\",T(Input_Output!ES83),\"\")","v":""},null,null,{"$f":"IF(Input_Output!EU83=\"\",T(Input_Output!EV83),\"\")","v":""},null,null,{"$f":"IF(Input_Output!EX83=\"\",T(Input_Output!EY83),\"\")","v":""},null,null,{"$f":"IF(Input_Output!FA83=\"\",T(Input_Output!FB83),\"\")","v":""},null,null,{"$f":"IF(Input_Output!FD83=\"\",T(Input_Output!FE83),\"\")","v":""},null,null,{"$f":"IF(Input_Output!FG83=\"\",T(Input_Output!FH83),\"\")","v":""},null,null,{"$f":"IF(Input_Output!FJ83=\"\",T(Input_Output!FK83),\"\")","v":""},null,null,{"$f":"IF(Input_Output!FM83=\"\",T(Input_Output!FN83),\"\")","v":""},null,null,{"$f":"IF(Input_Output!FP83=\"\",T(Input_Output!FQ83),\"\")","v":""},null,null,{"$f":"IF(Input_Output!FS83=\"\",T(Input_Output!FT83),\"\")","v":""},null,null,{"$f":"IF(Input_Output!FV83=\"\",T(Input_Output!FW83),\"\")","v":""},null,null,{"$f":"IF(Input_Output!FY83=\"\",T(Input_Output!FZ83),\"\")","v":""},null,null,{"$f":"IF(Input_Output!GB83=\"\",T(Input_Output!GC83),\"\")","v":""},null,null,{"$f":"IF(Input_Output!GE83=\"\",T(Input_Output!GF83),\"\")","v":""},null,null,{"$f":"IF(Input_Output!GH83=\"\",T(Input_Output!GI83),\"\")","v":""},null,null,{"$f":"IF(Input_Output!GK83=\"\",T(Input_Output!GL83),\"\")","v":""},null,null,{"$f":"IF(Input_Output!GN83=\"\",T(Input_Output!GO83),\"\")","v":""},null,null,{"$f":"IF(Input_Output!GQ83=\"\",T(Input_Output!GR83),\"\")","v":""},null,null,{"$f":"IF(Input_Output!GT83=\"\",T(Input_Output!GU83),\"\")","v":""},null,null,{"$f":"IF(Input_Output!GW83=\"\",T(Input_Output!GX83),\"\")","v":""},null,null,{"$f":"IF(Input_Output!GZ83=\"\",T(Input_Output!HA83),\"\")","v":""},null,null,{"$f":"IF(Input_Output!HC83=\"\",T(Input_Output!HD83),\"\")","v":""},null,null,{"$f":"IF(Input_Output!HF83=\"\",T(Input_Output!HG83),\"\")","v":""},null,null,{"$f":"IF(Input_Output!HI83=\"\",T(Input_Output!HJ83),\"\")","v":""},null,null,{"$f":"IF(Input_Output!HL83=\"\",T(Input_Output!HM83),\"\")","v":""},null,null,{"$f":"IF(Input_Output!HO83=\"\",T(Input_Output!HP83),\"\")","v":""},null,null,{"$f":"IF(Input_Output!HR83=\"\",T(Input_Output!HS83),\"\")","v":""},null,null,{"$f":"IF(Input_Output!HU83=\"\",T(Input_Output!HV83),\"\")","v":""},null,null,{"$f":"IF(Input_Output!HX83=\"\",T(Input_Output!HY83),\"\")","v":""},null,null,{"$f":"IF(Input_Output!IA83=\"\",T(Input_Output!IB83),\"\")","v":""},null,null,{"$f":"IF(Input_Output!ID83=\"\",T(Input_Output!IE83),\"\")","v":""},null,null,{"$f":"IF(Input_Output!IG83=\"\",T(Input_Output!IH83),\"\")","v":""},null,null,{"$f":"IF(Input_Output!IJ83=\"\",T(Input_Output!IK83),\"\")","v":""},null,null,{"$f":"IF(Input_Output!IM83=\"\",T(Input_Output!IN83),\"\")","v":""},null,null,{"$f":"IF(Input_Output!IP83=\"\",T(Input_Output!IQ83),\"\")","v":""},null,null,{"$f":"IF(Input_Output!IS83=\"\",T(Input_Output!IT83),\"\")","v":""}]
[null,null,null,null,{"$f":"IF(Input_Output!D84=\"\",T(Input_Output!E84),\"\")","v":""},null,null,{"$f":"IF(Input_Output!G84=\"\",T(Input_Output!H84),\"\")","v":""},null,null,{"$f":"IF(Input_Output!J84=\"\",T(Input_Output!K84),\"\")","v":""},null,null,{"$f":"IF(Input_Output!M84=\"\",T(Input_Output!N84),\"\")","v":""},null,null,{"$f":"IF(Input_Output!P84=\"\",T(Input_Output!Q84),\"\")","v":""},null,null,{"$f":"IF(Input_Output!S84=\"\",T(Input_Output!T84),\"\")","v":""},null,null,{"$f":"IF(Input_Output!V84=\"\",T(Input_Output!W84),\"\")","v":""},null,null,{"$f":"IF(Input_Output!Y84=\"\",T(Input_Output!Z84),\"\")","v":""},null,null,{"$f":"IF(Input_Output!AB84=\"\",T(Input_Output!AC84),\"\")","v":""},null,null,{"$f":"IF(Input_Output!AE84=\"\",T(Input_Output!AF84),\"\")","v":""},null,null,{"$f":"IF(Input_Output!AH84=\"\",T(Input_Output!AI84),\"\")","v":""},null,null,{"$f":"IF(Input_Output!AK84=\"\",T(Input_Output!AL84),\"\")","v":""},null,null,{"$f":"IF(Input_Output!AN84=\"\",T(Input_Output!AO84),\"\")","v":""},null,null,{"$f":"IF(Input_Output!AQ84=\"\",T(Input_Output!AR84),\"\")","v":""},null,null,{"$f":"IF(Input_Output!AT84=\"\",T(Input_Output!AU84),\"\")","v":""},null,null,{"$f":"IF(Input_Output!AW84=\"\",T(Input_Output!AX84),\"\")","v":""},null,null,{"$f":"IF(Input_Output!AZ84=\"\",T(Input_Output!BA84),\"\")","v":""},null,null,{"$f":"IF(Input_Output!BC84=\"\",T(Input_Output!BD84),\"\")","v":""},null,null,{"$f":"IF(Input_Output!BF84=\"\",T(Input_Output!BG84),\"\")","v":""},null,null,{"$f":"IF(Input_Output!BI84=\"\",T(Input_Output!BJ84),\"\")","v":""},null,null,{"$f":"IF(Input_Output!BL84=\"\",T(Input_Output!BM84),\"\")","v":""},null,null,{"$f":"IF(Input_Output!BO84=\"\",T(Input_Output!BP84),\"\")","v":""},null,null,{"$f":"IF(Input_Output!BR84=\"\",T(Input_Output!BS84),\"\")","v":""},null,null,{"$f":"IF(Input_Output!BU84=\"\",T(Input_Output!BV84),\"\")","v":""},null,null,{"$f":"IF(Input_Output!BX84=\"\",T(Input_Output!BY84),\"\")","v":""},null,null,{"$f":"IF(Input_Output!CA84=\"\",T(Input_Output!CB84),\"\")","v":""},null,null,{"$f":"IF(Input_Output!CD84=\"\",T(Input_Output!CE84),\"\")","v":""},null,null,{"$f":"IF(Input_Output!CG84=\"\",T(Input_Output!CH84),\"\")","v":""},null,null,{"$f":"IF(Input_Output!CJ84=\"\",T(Input_Output!CK84),\"\")","v":""},null,null,{"$f":"IF(Input_Output!CM84=\"\",T(Input_Output!CN84),\"\")","v":""},null,null,{"$f":"IF(Input_Output!CP84=\"\",T(Input_Output!CQ84),\"\")","v":""},null,null,{"$f":"IF(Input_Output!CS84=\"\",T(Input_Output!CT84),\"\")","v":""},null,null,{"$f":"IF(Input_Output!CV84=\"\",T(Input_Output!CW84),\"\")","v":""},null,null,{"$f":"IF(Input_Output!CY84=\"\",T(Input_Output!CZ84),\"\")","v":""},null,null,{"$f":"IF(Input_Output!DB84=\"\",T(Input_Output!DC84),\"\")","v":""},null,null,{"$f":"IF(Input_Output!DE84=\"\",T(Input_Output!DF84),\"\")","v":""},null,null,{"$f":"IF(Input_Output!DH84=\"\",T(Input_Output!DI84),\"\")","v":""},null,null,{"$f":"IF(Input_Output!DK84=\"\",T(Input_Output!DL84),\"\")","v":""},null,null,{"$f":"IF(Input_Output!DN84=\"\",T(Input_Output!DO84),\"\")","v":""},null,null,{"$f":"IF(Input_Output!DQ84=\"\",T(Input_Output!DR84),\"\")","v":""},null,null,{"$f":"IF(Input_Output!DT84=\"\",T(Input_Output!DU84),\"\")","v":""},null,null,{"$f":"IF(Input_Output!DW84=\"\",T(Input_Output!DX84),\"\")","v":""},null,null,{"$f":"IF(Input_Output!DZ84=\"\",T(Input_Output!EA84),\"\")","v":""},null,null,{"$f":"IF(Input_Output!EC84=\"\",T(Input_Output!ED84),\"\")","v":""},null,null,{"$f":"IF(Input_Output!EF84=\"\",T(Input_Output!EG84),\"\")","v":""},null,null,{"$f":"IF(Input_Output!EI84=\"\",T(Input_Output!EJ84),\"\")","v":""},null,null,{"$f":"IF(Input_Output!EL84=\"\",T(Input_Output!EM84),\"\")","v":""},null,null,{"$f":"IF(Input_Output!EO84=\"\",T(Input_Output!EP84),\"\")","v":""},null,null,{"$f":"IF(Input_Output!ER84=\"\",T(Input_Output!ES84),\"\")","v":""},null,null,{"$f":"IF(Input_Output!EU84=\"\",T(Input_Output!EV84),\"\")","v":""},null,null,{"$f":"IF(Input_Output!EX84=\"\",T(Input_Output!EY84),\"\")","v":""},null,null,{"$f":"IF(Input_Output!FA84=\"\",T(Input_Output!FB84),\"\")","v":""},null,null,{"$f":"IF(Input_Output!FD84=\"\",T(Input_Output!FE84),\"\")","v":""},null,null,{"$f":"IF(Input_Output!FG84=\"\",T(Input_Output!FH84),\"\")","v":""},null,null,{"$f":"IF(Input_Output!FJ84=\"\",T(Input_Output!FK84),\"\")","v":""},null,null,{"$f":"IF(Input_Output!FM84=\"\",T(Input_Output!FN84),\"\")","v":""},null,null,{"$f":"IF(Input_Output!FP84=\"\",T(Input_Output!FQ84),\"\")","v":""},null,null,{"$f":"IF(Input_Output!FS84=\"\",T(Input_Output!FT84),\"\")","v":""},null,null,{"$f":"IF(Input_Output!FV84=\"\",T(Input_Output!FW84),\"\")","v":""},null,null,{"$f":"IF(Input_Output!FY84=\"\",T(Input_Output!FZ84),\"\")","v":""},null,null,{"$f":"IF(Input_Output!GB84=\"\",T(Input_Output!GC84),\"\")","v":""},null,null,{"$f":"IF(Input_Output!GE84=\"\",T(Input_Output!GF84),\"\")","v":""},null,null,{"$f":"IF(Input_Output!GH84=\"\",T(Input_Output!GI84),\"\")","v":""},null,null,{"$f":"IF(Input_Output!GK84=\"\",T(Input_Output!GL84),\"\")","v":""},null,null,{"$f":"IF(Input_Output!GN84=\"\",T(Input_Output!GO84),\"\")","v":""},null,null,{"$f":"IF(Input_Output!GQ84=\"\",T(Input_Output!GR84),\"\")","v":""},null,null,{"$f":"IF(Input_Output!GT84=\"\",T(Input_Output!GU84),\"\")","v":""},null,null,{"$f":"IF(Input_Output!GW84=\"\",T(Input_Output!GX84),\"\")","v":""},null,null,{"$f":"IF(Input_Output!GZ84=\"\",T(Input_Output!HA84),\"\")","v":""},null,null,{"$f":"IF(Input_Output!HC84=\"\",T(Input_Output!HD84),\"\")","v":""},null,null,{"$f":"IF(Input_Output!HF84=\"\",T(Input_Output!HG84),\"\")","v":""},null,null,{"$f":"IF(Input_Output!HI84=\"\",T(Input_Output!HJ84),\"\")","v":""},null,null,{"$f":"IF(Input_Output!HL84=\"\",T(Input_Output!HM84),\"\")","v":""},null,null,{"$f":"IF(Input_Output!HO84=\"\",T(Input_Output!HP84),\"\")","v":""},null,null,{"$f":"IF(Input_Output!HR84=\"\",T(Input_Output!HS84),\"\")","v":""},null,null,{"$f":"IF(Input_Output!HU84=\"\",T(Input_Output!HV84),\"\")","v":""},null,null,{"$f":"IF(Input_Output!HX84=\"\",T(Input_Output!HY84),\"\")","v":""},null,null,{"$f":"IF(Input_Output!IA84=\"\",T(Input_Output!IB84),\"\")","v":""},null,null,{"$f":"IF(Input_Output!ID84=\"\",T(Input_Output!IE84),\"\")","v":""},null,null,{"$f":"IF(Input_Output!IG84=\"\",T(Input_Output!IH84),\"\")","v":""},null,null,{"$f":"IF(Input_Output!IJ84=\"\",T(Input_Output!IK84),\"\")","v":""},null,null,{"$f":"IF(Input_Output!IM84=\"\",T(Input_Output!IN84),\"\")","v":""},null,null,{"$f":"IF(Input_Output!IP84=\"\",T(Input_Output!IQ84),\"\")","v":""},null,null,{"$f":"IF(Input_Output!IS84=\"\",T(Input_Output!IT84),\"\")","v":""}]
[null,null,null,null,{"$f":"IF(Input_Output!D85=\"\",T(Input_Output!E85),\"\")","v":""},null,null,{"$f":"IF(Input_Output!G85=\"\",T(Input_Output!H85),\"\")","v":""},null,null,{"$f":"IF(Input_Output!J85=\"\",T(Input_Output!K85),\"\")","v":""},null,null,{"$f":"IF(Input_Output!M85=\"\",T(Input_Output!N85),\"\")","v":""},null,null,{"$f":"IF(Input_Output!P85=\"\",T(Input_Output!Q85),\"\")","v":""},null,null,{"$f":"IF(Input_Output!S85=\"\",T(Input_Output!T85),\"\")","v":""},null,null,{"$f":"IF(Input_Output!V85=\"\",T(Input_Output!W85),\"\")","v":""},null,null,{"$f":"IF(Input_Output!Y85=\"\",T(Input_Output!Z85),\"\")","v":""},null,null,{"$f":"IF(Input_Output!AB85=\"\",T(Input_Output!AC85),\"\")","v":""},null,null,{"$f":"IF(Input_Output!AE85=\"\",T(Input_Output!AF85),\"\")","v":""},null,null,{"$f":"IF(Input_Output!AH85=\"\",T(Input_Output!AI85),\"\")","v":""},null,null,{"$f":"IF(Input_Output!AK85=\"\",T(Input_Output!AL85),\"\")","v":""},null,null,{"$f":"IF(Input_Output!AN85=\"\",T(Input_Output!AO85),\"\")","v":""},null,null,{"$f":"IF(Input_Output!AQ85=\"\",T(Input_Output!AR85),\"\")","v":""},null,null,{"$f":"IF(Input_Output!AT85=\"\",T(Input_Output!AU85),\"\")","v":""},null,null,{"$f":"IF(Input_Output!AW85=\"\",T(Input_Output!AX85),\"\")","v":""},null,null,{"$f":"IF(Input_Output!AZ85=\"\",T(Input_Output!BA85),\"\")","v":""},null,null,{"$f":"IF(Input_Output!BC85=\"\",T(Input_Output!BD85),\"\")","v":""},null,null,{"$f":"IF(Input_Output!BF85=\"\",T(Input_Output!BG85),\"\")","v":""},null,null,{"$f":"IF(Input_Output!BI85=\"\",T(Input_Output!BJ85),\"\")","v":""},null,null,{"$f":"IF(Input_Output!BL85=\"\",T(Input_Output!BM85),\"\")","v":""},null,null,{"$f":"IF(Input_Output!BO85=\"\",T(Input_Output!BP85),\"\")","v":""},null,null,{"$f":"IF(Input_Output!BR85=\"\",T(Input_Output!BS85),\"\")","v":""},null,null,{"$f":"IF(Input_Output!BU85=\"\",T(Input_Output!BV85),\"\")","v":""},null,null,{"$f":"IF(Input_Output!BX85=\"\",T(Input_Output!BY85),\"\")","v":""},null,null,{"$f":"IF(Input_Output!CA85=\"\",T(Input_Output!CB85),\"\")","v":""},null,null,{"$f":"IF(Input_Output!CD85=\"\",T(Input_Output!CE85),\"\")","v":""},null,null,{"$f":"IF(Input_Output!CG85=\"\",T(Input_Output!CH85),\"\")","v":""},null,null,{"$f":"IF(Input_Output!CJ85=\"\",T(Input_Output!CK85),\"\")","v":""},null,null,{"$f":"IF(Input_Output!CM85=\"\",T(Input_Output!CN85),\"\")","v":""},null,null,{"$f":"IF(Input_Output!CP85=\"\",T(Input_Output!CQ85),\"\")","v":""},null,null,{"$f":"IF(Input_Output!CS85=\"\",T(Input_Output!CT85),\"\")","v":""},null,null,{"$f":"IF(Input_Output!CV85=\"\",T(Input_Output!CW85),\"\")","v":""},null,null,{"$f":"IF(Input_Output!CY85=\"\",T(Input_Output!CZ85),\"\")","v":""},null,null,{"$f":"IF(Input_Output!DB85=\"\",T(Input_Output!DC85),\"\")","v":""},null,null,{"$f":"IF(Input_Output!DE85=\"\",T(Input_Output!DF85),\"\")","v":""},null,null,{"$f":"IF(Input_Output!DH85=\"\",T(Input_Output!DI85),\"\")","v":""},null,null,{"$f":"IF(Input_Output!DK85=\"\",T(Input_Output!DL85),\"\")","v":""},null,null,{"$f":"IF(Input_Output!DN85=\"\",T(Input_Output!DO85),\"\")","v":""},null,null,{"$f":"IF(Input_Output!DQ85=\"\",T(Input_Output!DR85),\"\")","v":""},null,null,{"$f":"IF(Input_Output!DT85=\"\",T(Input_Output!DU85),\"\")","v":""},null,null,{"$f":"IF(Input_Output!DW85=\"\",T(Input_Output!DX85),\"\")","v":""},null,null,{"$f":"IF(Input_Output!DZ85=\"\",T(Input_Output!EA85),\"\")","v":""},null,null,{"$f":"IF(Input_Output!EC85=\"\",T(Input_Output!ED85),\"\")","v":""},null,null,{"$f":"IF(Input_Output!EF85=\"\",T(Input_Output!EG85),\"\")","v":""},null,null,{"$f":"IF(Input_Output!EI85=\"\",T(Input_Output!EJ85),\"\")","v":""},null,null,{"$f":"IF(Input_Output!EL85=\"\",T(Input_Output!EM85),\"\")","v":""},null,null,{"$f":"IF(Input_Output!EO85=\"\",T(Input_Output!EP85),\"\")","v":""},null,null,{"$f":"IF(Input_Output!ER85=\"\",T(Input_Output!ES85),\"\")","v":""},null,null,{"$f":"IF(Input_Output!EU85=\"\",T(Input_Output!EV85),\"\")","v":""},null,null,{"$f":"IF(Input_Output!EX85=\"\",T(Input_Output!EY85),\"\")","v":""},null,null,{"$f":"IF(Input_Output!FA85=\"\",T(Input_Output!FB85),\"\")","v":""},null,null,{"$f":"IF(Input_Output!FD85=\"\",T(Input_Output!FE85),\"\")","v":""},null,null,{"$f":"IF(Input_Output!FG85=\"\",T(Input_Output!FH85),\"\")","v":""},null,null,{"$f":"IF(Input_Output!FJ85=\"\",T(Input_Output!FK85),\"\")","v":""},null,null,{"$f":"IF(Input_Output!FM85=\"\",T(Input_Output!FN85),\"\")","v":""},null,null,{"$f":"IF(Input_Output!FP85=\"\",T(Input_Output!FQ85),\"\")","v":""},null,null,{"$f":"IF(Input_Output!FS85=\"\",T(Input_Output!FT85),\"\")","v":""},null,null,{"$f":"IF(Input_Output!FV85=\"\",T(Input_Output!FW85),\"\")","v":""},null,null,{"$f":"IF(Input_Output!FY85=\"\",T(Input_Output!FZ85),\"\")","v":""},null,null,{"$f":"IF(Input_Output!GB85=\"\",T(Input_Output!GC85),\"\")","v":""},null,null,{"$f":"IF(Input_Output!GE85=\"\",T(Input_Output!GF85),\"\")","v":""},null,null,{"$f":"IF(Input_Output!GH85=\"\",T(Input_Output!GI85),\"\")","v":""},null,null,{"$f":"IF(Input_Output!GK85=\"\",T(Input_Output!GL85),\"\")","v":""},null,null,{"$f":"IF(Input_Output!GN85=\"\",T(Input_Output!GO85),\"\")","v":""},null,null,{"$f":"IF(Input_Output!GQ85=\"\",T(Input_Output!GR85),\"\")","v":""},null,null,{"$f":"IF(Input_Output!GT85=\"\",T(Input_Output!GU85),\"\")","v":""},null,null,{"$f":"IF(Input_Output!GW85=\"\",T(Input_Output!GX85),\"\")","v":""},null,null,{"$f":"IF(Input_Output!GZ85=\"\",T(Input_Output!HA85),\"\")","v":""},null,null,{"$f":"IF(Input_Output!HC85=\"\",T(Input_Output!HD85),\"\")","v":""},null,null,{"$f":"IF(Input_Output!HF85=\"\",T(Input_Output!HG85),\"\")","v":""},null,null,{"$f":"IF(Input_Output!HI85=\"\",T(Input_Output!HJ85),\"\")","v":""},null,null,{"$f":"IF(Input_Output!HL85=\"\",T(Input_Output!HM85),\"\")","v":""},null,null,{"$f":"IF(Input_Output!HO85=\"\",T(Input_Output!HP85),\"\")","v":""},null,null,{"$f":"IF(Input_Output!HR85=\"\",T(Input_Output!HS85),\"\")","v":""},null,null,{"$f":"IF(Input_Output!HU85=\"\",T(Input_Output!HV85),\"\")","v":""},null,null,{"$f":"IF(Input_Output!HX85=\"\",T(Input_Output!HY85),\"\")","v":""},null,null,{"$f":"IF(Input_Output!IA85=\"\",T(Input_Output!IB85),\"\")","v":""},null,null,{"$f":"IF(Input_Output!ID85=\"\",T(Input_Output!IE85),\"\")","v":""},null,null,{"$f":"IF(Input_Output!IG85=\"\",T(Input_Output!IH85),\"\")","v":""},null,null,{"$f":"IF(Input_Output!IJ85=\"\",T(Input_Output!IK85),\"\")","v":""},null,null,{"$f":"IF(Input_Output!IM85=\"\",T(Input_Output!IN85),\"\")","v":""},null,null,{"$f":"IF(Input_Output!IP85=\"\",T(Input_Output!IQ85),\"\")","v":""},null,null,{"$f":"IF(Input_Output!IS85=\"\",T(Input_Output!IT85),\"\")","v":""}]
[null,null,null,null,{"$f":"IF(Input_Output!D86=\"\",T(Input_Output!E86),\"\")","v":""},null,null,{"$f":"IF(Input_Output!G86=\"\",T(Input_Output!H86),\"\")","v":""},null,null,{"$f":"IF(Input_Output!J86=\"\",T(Input_Output!K86),\"\")","v":""},null,null,{"$f":"IF(Input_Output!M86=\"\",T(Input_Output!N86),\"\")","v":""},null,null,{"$f":"IF(Input_Output!P86=\"\",T(Input_Output!Q86),\"\")","v":""},null,null,{"$f":"IF(Input_Output!S86=\"\",T(Input_Output!T86),\"\")","v":""},null,null,{"$f":"IF(Input_Output!V86=\"\",T(Input_Output!W86),\"\")","v":""},null,null,{"$f":"IF(Input_Output!Y86=\"\",T(Input_Output!Z86),\"\")","v":""},null,null,{"$f":"IF(Input_Output!AB86=\"\",T(Input_Output!AC86),\"\")","v":""},null,null,{"$f":"IF(Input_Output!AE86=\"\",T(Input_Output!AF86),\"\")","v":""},null,null,{"$f":"IF(Input_Output!AH86=\"\",T(Input_Output!AI86),\"\")","v":""},null,null,{"$f":"IF(Input_Output!AK86=\"\",T(Input_Output!AL86),\"\")","v":""},null,null,{"$f":"IF(Input_Output!AN86=\"\",T(Input_Output!AO86),\"\")","v":""},null,null,{"$f":"IF(Input_Output!AQ86=\"\",T(Input_Output!AR86),\"\")","v":""},null,null,{"$f":"IF(Input_Output!AT86=\"\",T(Input_Output!AU86),\"\")","v":""},null,null,{"$f":"IF(Input_Output!AW86=\"\",T(Input_Output!AX86),\"\")","v":""},null,null,{"$f":"IF(Input_Output!AZ86=\"\",T(Input_Output!BA86),\"\")","v":""},null,null,{"$f":"IF(Input_Output!BC86=\"\",T(Input_Output!BD86),\"\")","v":""},null,null,{"$f":"IF(Input_Output!BF86=\"\",T(Input_Output!BG86),\"\")","v":""},null,null,{"$f":"IF(Input_Output!BI86=\"\",T(Input_Output!BJ86),\"\")","v":""},null,null,{"$f":"IF(Input_Output!BL86=\"\",T(Input_Output!BM86),\"\")","v":""},null,null,{"$f":"IF(Input_Output!BO86=\"\",T(Input_Output!BP86),\"\")","v":""},null,null,{"$f":"IF(Input_Output!BR86=\"\",T(Input_Output!BS86),\"\")","v":""},null,null,{"$f":"IF(Input_Output!BU86=\"\",T(Input_Output!BV86),\"\")","v":""},null,null,{"$f":"IF(Input_Output!BX86=\"\",T(Input_Output!BY86),\"\")","v":""},null,null,{"$f":"IF(Input_Output!CA86=\"\",T(Input_Output!CB86),\"\")","v":""},null,null,{"$f":"IF(Input_Output!CD86=\"\",T(Input_Output!CE86),\"\")","v":""},null,null,{"$f":"IF(Input_Output!CG86=\"\",T(Input_Output!CH86),\"\")","v":""},null,null,{"$f":"IF(Input_Output!CJ86=\"\",T(Input_Output!CK86),\"\")","v":""},null,null,{"$f":"IF(Input_Output!CM86=\"\",T(Input_Output!CN86),\"\")","v":""},null,null,{"$f":"IF(Input_Output!CP86=\"\",T(Input_Output!CQ86),\"\")","v":""},null,null,{"$f":"IF(Input_Output!CS86=\"\",T(Input_Output!CT86),\"\")","v":""},null,null,{"$f":"IF(Input_Output!CV86=\"\",T(Input_Output!CW86),\"\")","v":""},null,null,{"$f":"IF(Input_Output!CY86=\"\",T(Input_Output!CZ86),\"\")","v":""},null,null,{"$f":"IF(Input_Output!DB86=\"\",T(Input_Output!DC86),\"\")","v":""},null,null,{"$f":"IF(Input_Output!DE86=\"\",T(Input_Output!DF86),\"\")","v":""},null,null,{"$f":"IF(Input_Output!DH86=\"\",T(Input_Output!DI86),\"\")","v":""},null,null,{"$f":"IF(Input_Output!DK86=\"\",T(Input_Output!DL86),\"\")","v":""},null,null,{"$f":"IF(Input_Output!DN86=\"\",T(Input_Output!DO86),\"\")","v":""},null,null,{"$f":"IF(Input_Output!DQ86=\"\",T(Input_Output!DR86),\"\")","v":""},null,null,{"$f":"IF(Input_Output!DT86=\"\",T(Input_Output!DU86),\"\")","v":""},null,null,{"$f":"IF(Input_Output!DW86=\"\",T(Input_Output!DX86),\"\")","v":""},null,null,{"$f":"IF(Input_Output!DZ86=\"\",T(Input_Output!EA86),\"\")","v":""},null,null,{"$f":"IF(Input_Output!EC86=\"\",T(Input_Output!ED86),\"\")","v":""},null,null,{"$f":"IF(Input_Output!EF86=\"\",T(Input_Output!EG86),\"\")","v":""},null,null,{"$f":"IF(Input_Output!EI86=\"\",T(Input_Output!EJ86),\"\")","v":""},null,null,{"$f":"IF(Input_Output!EL86=\"\",T(Input_Output!EM86),\"\")","v":""},null,null,{"$f":"IF(Input_Output!EO86=\"\",T(Input_Output!EP86),\"\")","v":""},null,null,{"$f":"IF(Input_Output!ER86=\"\",T(Input_Output!ES86),\"\")","v":""},null,null,{"$f":"IF(Input_Output!EU86=\"\",T(Input_Output!EV86),\"\")","v":""},null,null,{"$f":"IF(Input_Output!EX86=\"\",T(Input_Output!EY86),\"\")","v":""},null,null,{"$f":"IF(Input_Output!FA86=\"\",T(Input_Output!FB86),\"\")","v":""},null,null,{"$f":"IF(Input_Output!FD86=\"\",T(Input_Output!FE86),\"\")","v":""},null,null,{"$f":"IF(Input_Output!FG86=\"\",T(Input_Output!FH86),\"\")","v":""},null,null,{"$f":"IF(Input_Output!FJ86=\"\",T(Input_Output!FK86),\"\")","v":""},null,null,{"$f":"IF(Input_Output!FM86=\"\",T(Input_Output!FN86),\"\")","v":""},null,null,{"$f":"IF(Input_Output!FP86=\"\",T(Input_Output!FQ86),\"\")","v":""},null,null,{"$f":"IF(Input_Output!FS86=\"\",T(Input_Output!FT86),\"\")","v":""},null,null,{"$f":"IF(Input_Output!FV86=\"\",T(Input_Output!FW86),\"\")","v":""},null,null,{"$f":"IF(Input_Output!FY86=\"\",T(Input_Output!FZ86),\"\")","v":""},null,null,{"$f":"IF(Input_Output!GB86=\"\",T(Input_Output!GC86),\"\")","v":""},null,null,{"$f":"IF(Input_Output!GE86=\"\",T(Input_Output!GF86),\"\")","v":""},null,null,{"$f":"IF(Input_Output!GH86=\"\",T(Input_Output!GI86),\"\")","v":""},null,null,{"$f":"IF(Input_Output!GK86=\"\",T(Input_Output!GL86),\"\")","v":""},null,null,{"$f":"IF(Input_Output!GN86=\"\",T(Input_Output!GO86),\"\")","v":""},null,null,{"$f":"IF(Input_Output!GQ86=\"\",T(Input_Output!GR86),\"\")","v":""},null,null,{"$f":"IF(Input_Output!GT86=\"\",T(Input_Output!GU86),\"\")","v":""},null,null,{"$f":"IF(Input_Output!GW86=\"\",T(Input_Output!GX86),\"\")","v":""},null,null,{"$f":"IF(Input_Output!GZ86=\"\",T(Input_Output!HA86),\"\")","v":""},null,null,{"$f":"IF(Input_Output!HC86=\"\",T(Input_Output!HD86),\"\")","v":""},null,null,{"$f":"IF(Input_Output!HF86=\"\",T(Input_Output!HG86),\"\")","v":""},null,null,{"$f":"IF(Input_Output!HI86=\"\",T(Input_Output!HJ86),\"\")","v":""},null,null,{"$f":"IF(Input_Output!HL86=\"\",T(Input_Output!HM86),\"\")","v":""},null,null,{"$f":"IF(Input_Output!HO86=\"\",T(Input_Output!HP86),\"\")","v":""},null,null,{"$f":"IF(Input_Output!HR86=\"\",T(Input_Output!HS86),\"\")","v":""},null,null,{"$f":"IF(Input_Output!HU86=\"\",T(Input_Output!HV86),\"\")","v":""},null,null,{"$f":"IF(Input_Output!HX86=\"\",T(Input_Output!HY86),\"\")","v":""},null,null,{"$f":"IF(Input_Output!IA86=\"\",T(Input_Output!IB86),\"\")","v":""},null,null,{"$f":"IF(Input_Output!ID86=\"\",T(Input_Output!IE86),\"\")","v":""},null,null,{"$f":"IF(Input_Output!IG86=\"\",T(Input_Output!IH86),\"\")","v":""},null,null,{"$f":"IF(Input_Output!IJ86=\"\",T(Input_Output!IK86),\"\")","v":""},null,null,{"$f":"IF(Input_Output!IM86=\"\",T(Input_Output!IN86),\"\")","v":""},null,null,{"$f":"IF(Input_Output!IP86=\"\",T(Input_Output!IQ86),\"\")","v":""},null,null,{"$f":"IF(Input_Output!IS86=\"\",T(Input_Output!IT86),\"\")","v":""}]
[null,null,null,null,{"$f":"IF(Input_Output!D87=\"\",T(Input_Output!E87),\"\")","v":""},null,null,{"$f":"IF(Input_Output!G87=\"\",T(Input_Output!H87),\"\")","v":""},null,null,{"$f":"IF(Input_Output!J87=\"\",T(Input_Output!K87),\"\")","v":""},null,null,{"$f":"IF(Input_Output!M87=\"\",T(Input_Output!N87),\"\")","v":""},null,null,{"$f":"IF(Input_Output!P87=\"\",T(Input_Output!Q87),\"\")","v":""},null,null,{"$f":"IF(Input_Output!S87=\"\",T(Input_Output!T87),\"\")","v":""},null,null,{"$f":"IF(Input_Output!V87=\"\",T(Input_Output!W87),\"\")","v":""},null,null,{"$f":"IF(Input_Output!Y87=\"\",T(Input_Output!Z87),\"\")","v":""},null,null,{"$f":"IF(Input_Output!AB87=\"\",T(Input_Output!AC87),\"\")","v":""},null,null,{"$f":"IF(Input_Output!AE87=\"\",T(Input_Output!AF87),\"\")","v":""},null,null,{"$f":"IF(Input_Output!AH87=\"\",T(Input_Output!AI87),\"\")","v":""},null,null,{"$f":"IF(Input_Output!AK87=\"\",T(Input_Output!AL87),\"\")","v":""},null,null,{"$f":"IF(Input_Output!AN87=\"\",T(Input_Output!AO87),\"\")","v":""},null,null,{"$f":"IF(Input_Output!AQ87=\"\",T(Input_Output!AR87),\"\")","v":""},null,null,{"$f":"IF(Input_Output!AT87=\"\",T(Input_Output!AU87),\"\")","v":""},null,null,{"$f":"IF(Input_Output!AW87=\"\",T(Input_Output!AX87),\"\")","v":""},null,null,{"$f":"IF(Input_Output!AZ87=\"\",T(Input_Output!BA87),\"\")","v":""},null,null,{"$f":"IF(Input_Output!BC87=\"\",T(Input_Output!BD87),\"\")","v":""},null,null,{"$f":"IF(Input_Output!BF87=\"\",T(Input_Output!BG87),\"\")","v":""},null,null,{"$f":"IF(Input_Output!BI87=\"\",T(Input_Output!BJ87),\"\")","v":""},null,null,{"$f":"IF(Input_Output!BL87=\"\",T(Input_Output!BM87),\"\")","v":""},null,null,{"$f":"IF(Input_Output!BO87=\"\",T(Input_Output!BP87),\"\")","v":""},null,null,{"$f":"IF(Input_Output!BR87=\"\",T(Input_Output!BS87),\"\")","v":""},null,null,{"$f":"IF(Input_Output!BU87=\"\",T(Input_Output!BV87),\"\")","v":""},null,null,{"$f":"IF(Input_Output!BX87=\"\",T(Input_Output!BY87),\"\")","v":""},null,null,{"$f":"IF(Input_Output!CA87=\"\",T(Input_Output!CB87),\"\")","v":""},null,null,{"$f":"IF(Input_Output!CD87=\"\",T(Input_Output!CE87),\"\")","v":""},null,null,{"$f":"IF(Input_Output!CG87=\"\",T(Input_Output!CH87),\"\")","v":""},null,null,{"$f":"IF(Input_Output!CJ87=\"\",T(Input_Output!CK87),\"\")","v":""},null,null,{"$f":"IF(Input_Output!CM87=\"\",T(Input_Output!CN87),\"\")","v":""},null,null,{"$f":"IF(Input_Output!CP87=\"\",T(Input_Output!CQ87),\"\")","v":""},null,null,{"$f":"IF(Input_Output!CS87=\"\",T(Input_Output!CT87),\"\")","v":""},null,null,{"$f":"IF(Input_Output!CV87=\"\",T(Input_Output!CW87),\"\")","v":""},null,null,{"$f":"IF(Input_Output!CY87=\"\",T(Input_Output!CZ87),\"\")","v":""},null,null,{"$f":"IF(Input_Output!DB87=\"\",T(Input_Output!DC87),\"\")","v":""},null,null,{"$f":"IF(Input_Output!DE87=\"\",T(Input_Output!DF87),\"\")","v":""},null,null,{"$f":"IF(Input_Output!DH87=\"\",T(Input_Output!DI87),\"\")","v":""},null,null,{"$f":"IF(Input_Output!DK87=\"\",T(Input_Output!DL87),\"\")","v":""},null,null,{"$f":"IF(Input_Output!DN87=\"\",T(Input_Output!DO87),\"\")","v":""},null,null,{"$f":"IF(Input_Output!DQ87=\"\",T(Input_Output!DR87),\"\")","v":""},null,null,{"$f":"IF(Input_Output!DT87=\"\",T(Input_Output!DU87),\"\")","v":""},null,null,{"$f":"IF(Input_Output!DW87=\"\",T(Input_Output!DX87),\"\")","v":""},null,null,{"$f":"IF(Input_Output!DZ87=\"\",T(Input_Output!EA87),\"\")","v":""},null,null,{"$f":"IF(Input_Output!EC87=\"\",T(Input_Output!ED87),\"\")","v":""},null,null,{"$f":"IF(Input_Output!EF87=\"\",T(Input_Output!EG87),\"\")","v":""},null,null,{"$f":"IF(Input_Output!EI87=\"\",T(Input_Output!EJ87),\"\")","v":""},null,null,{"$f":"IF(Input_Output!EL87=\"\",T(Input_Output!EM87),\"\")","v":""},null,null,{"$f":"IF(Input_Output!EO87=\"\",T(Input_Output!EP87),\"\")","v":""},null,null,{"$f":"IF(Input_Output!ER87=\"\",T(Input_Output!ES87),\"\")","v":""},null,null,{"$f":"IF(Input_Output!EU87=\"\",T(Input_Output!EV87),\"\")","v":""},null,null,{"$f":"IF(Input_Output!EX87=\"\",T(Input_Output!EY87),\"\")","v":""},null,null,{"$f":"IF(Input_Output!FA87=\"\",T(Input_Output!FB87),\"\")","v":""},null,null,{"$f":"IF(Input_Output!FD87=\"\",T(Input_Output!FE87),\"\")","v":""},null,null,{"$f":"IF(Input_Output!FG87=\"\",T(Input_Output!FH87),\"\")","v":""},null,null,{"$f":"IF(Input_Output!FJ87=\"\",T(Input_Output!FK87),\"\")","v":""},null,null,{"$f":"IF(Input_Output!FM87=\"\",T(Input_Output!FN87),\"\")","v":""},null,null,{"$f":"IF(Input_Output!FP87=\"\",T(Input_Output!FQ87),\"\")","v":""},null,null,{"$f":"IF(Input_Output!FS87=\"\",T(Input_Output!FT87),\"\")","v":""},null,null,{"$f":"IF(Input_Output!FV87=\"\",T(Input_Output!FW87),\"\")","v":""},null,null,{"$f":"IF(Input_Output!FY87=\"\",T(Input_Output!FZ87),\"\")","v":""},null,null,{"$f":"IF(Input_Output!GB87=\"\",T(Input_Output!GC87),\"\")","v":""},null,null,{"$f":"IF(Input_Output!GE87=\"\",T(Input_Output!GF87),\"\")","v":""},null,null,{"$f":"IF(Input_Output!GH87=\"\",T(Input_Output!GI87),\"\")","v":""},null,null,{"$f":"IF(Input_Output!GK87=\"\",T(Input_Output!GL87),\"\")","v":""},null,null,{"$f":"IF(Input_Output!GN87=\"\",T(Input_Output!GO87),\"\")","v":""},null,null,{"$f":"IF(Input_Output!GQ87=\"\",T(Input_Output!GR87),\"\")","v":""},null,null,{"$f":"IF(Input_Output!GT87=\"\",T(Input_Output!GU87),\"\")","v":""},null,null,{"$f":"IF(Input_Output!GW87=\"\",T(Input_Output!GX87),\"\")","v":""},null,null,{"$f":"IF(Input_Output!GZ87=\"\",T(Input_Output!HA87),\"\")","v":""},null,null,{"$f":"IF(Input_Output!HC87=\"\",T(Input_Output!HD87),\"\")","v":""},null,null,{"$f":"IF(Input_Output!HF87=\"\",T(Input_Output!HG87),\"\")","v":""},null,null,{"$f":"IF(Input_Output!HI87=\"\",T(Input_Output!HJ87),\"\")","v":""},null,null,{"$f":"IF(Input_Output!HL87=\"\",T(Input_Output!HM87),\"\")","v":""},null,null,{"$f":"IF(Input_Output!HO87=\"\",T(Input_Output!HP87),\"\")","v":""},null,null,{"$f":"IF(Input_Output!HR87=\"\",T(Input_Output!HS87),\"\")","v":""},null,null,{"$f":"IF(Input_Output!HU87=\"\",T(Input_Output!HV87),\"\")","v":""},null,null,{"$f":"IF(Input_Output!HX87=\"\",T(Input_Output!HY87),\"\")","v":""},null,null,{"$f":"IF(Input_Output!IA87=\"\",T(Input_Output!IB87),\"\")","v":""},null,null,{"$f":"IF(Input_Output!ID87=\"\",T(Input_Output!IE87),\"\")","v":""},null,null,{"$f":"IF(Input_Output!IG87=\"\",T(Input_Output!IH87),\"\")","v":""},null,null,{"$f":"IF(Input_Output!IJ87=\"\",T(Input_Output!IK87),\"\")","v":""},null,null,{"$f":"IF(Input_Output!IM87=\"\",T(Input_Output!IN87),\"\")","v":""},null,null,{"$f":"IF(Input_Output!IP87=\"\",T(Input_Output!IQ87),\"\")","v":""},null,null,{"$f":"IF(Input_Output!IS87=\"\",T(Input_Output!IT87),\"\")","v":""}]
[null,null,null,null,{"$f":"IF(Input_Output!D88=\"\",T(Input_Output!E88),\"\")","v":""},null,null,{"$f":"IF(Input_Output!G88=\"\",T(Input_Output!H88),\"\")","v":""},null,null,{"$f":"IF(Input_Output!J88=\"\",T(Input_Output!K88),\"\")","v":""},null,null,{"$f":"IF(Input_Output!M88=\"\",T(Input_Output!N88),\"\")","v":""},null,null,{"$f":"IF(Input_Output!P88=\"\",T(Input_Output!Q88),\"\")","v":""},null,null,{"$f":"IF(Input_Output!S88=\"\",T(Input_Output!T88),\"\")","v":""},null,null,{"$f":"IF(Input_Output!V88=\"\",T(Input_Output!W88),\"\")","v":""},null,null,{"$f":"IF(Input_Output!Y88=\"\",T(Input_Output!Z88),\"\")","v":""},null,null,{"$f":"IF(Input_Output!AB88=\"\",T(Input_Output!AC88),\"\")","v":""},null,null,{"$f":"IF(Input_Output!AE88=\"\",T(Input_Output!AF88),\"\")","v":""},null,null,{"$f":"IF(Input_Output!AH88=\"\",T(Input_Output!AI88),\"\")","v":""},null,null,{"$f":"IF(Input_Output!AK88=\"\",T(Input_Output!AL88),\"\")","v":""},null,null,{"$f":"IF(Input_Output!AN88=\"\",T(Input_Output!AO88),\"\")","v":""},null,null,{"$f":"IF(Input_Output!AQ88=\"\",T(Input_Output!AR88),\"\")","v":""},null,null,{"$f":"IF(Input_Output!AT88=\"\",T(Input_Output!AU88),\"\")","v":""},null,null,{"$f":"IF(Input_Output!AW88=\"\",T(Input_Output!AX88),\"\")","v":""},null,null,{"$f":"IF(Input_Output!AZ88=\"\",T(Input_Output!BA88),\"\")","v":""},null,null,{"$f":"IF(Input_Output!BC88=\"\",T(Input_Output!BD88),\"\")","v":""},null,null,{"$f":"IF(Input_Output!BF88=\"\",T(Input_Output!BG88),\"\")","v":""},null,null,{"$f":"IF(Input_Output!BI88=\"\",T(Input_Output!BJ88),\"\")","v":""},null,null,{"$f":"IF(Input_Output!BL88=\"\",T(Input_Output!BM88),\"\")","v":""},null,null,{"$f":"IF(Input_Output!BO88=\"\",T(Input_Output!BP88),\"\")","v":""},null,null,{"$f":"IF(Input_Output!BR88=\"\",T(Input_Output!BS88),\"\")","v":""},null,null,{"$f":"IF(Input_Output!BU88=\"\",T(Input_Output!BV88),\"\")","v":""},null,null,{"$f":"IF(Input_Output!BX88=\"\",T(Input_Output!BY88),\"\")","v":""},null,null,{"$f":"IF(Input_Output!CA88=\"\",T(Input_Output!CB88),\"\")","v":""},null,null,{"$f":"IF(Input_Output!CD88=\"\",T(Input_Output!CE88),\"\")","v":""},null,null,{"$f":"IF(Input_Output!CG88=\"\",T(Input_Output!CH88),\"\")","v":""},null,null,{"$f":"IF(Input_Output!CJ88=\"\",T(Input_Output!CK88),\"\")","v":""},null,null,{"$f":"IF(Input_Output!CM88=\"\",T(Input_Output!CN88),\"\")","v":""},null,null,{"$f":"IF(Input_Output!CP88=\"\",T(Input_Output!CQ88),\"\")","v":""},null,null,{"$f":"IF(Input_Output!CS88=\"\",T(Input_Output!CT88),\"\")","v":""},null,null,{"$f":"IF(Input_Output!CV88=\"\",T(Input_Output!CW88),\"\")","v":""},null,null,{"$f":"IF(Input_Output!CY88=\"\",T(Input_Output!CZ88),\"\")","v":""},null,null,{"$f":"IF(Input_Output!DB88=\"\",T(Input_Output!DC88),\"\")","v":""},null,null,{"$f":"IF(Input_Output!DE88=\"\",T(Input_Output!DF88),\"\")","v":""},null,null,{"$f":"IF(Input_Output!DH88=\"\",T(Input_Output!DI88),\"\")","v":""},null,null,{"$f":"IF(Input_Output!DK88=\"\",T(Input_Output!DL88),\"\")","v":""},null,null,{"$f":"IF(Input_Output!DN88=\"\",T(Input_Output!DO88),\"\")","v":""},null,null,{"$f":"IF(Input_Output!DQ88=\"\",T(Input_Output!DR88),\"\")","v":""},null,null,{"$f":"IF(Input_Output!DT88=\"\",T(Input_Output!DU88),\"\")","v":""},null,null,{"$f":"IF(Input_Output!DW88=\"\",T(Input_Output!DX88),\"\")","v":""},null,null,{"$f":"IF(Input_Output!DZ88=\"\",T(Input_Output!EA88),\"\")","v":""},null,null,{"$f":"IF(Input_Output!EC88=\"\",T(Input_Output!ED88),\"\")","v":""},null,null,{"$f":"IF(Input_Output!EF88=\"\",T(Input_Output!EG88),\"\")","v":""},null,null,{"$f":"IF(Input_Output!EI88=\"\",T(Input_Output!EJ88),\"\")","v":""},null,null,{"$f":"IF(Input_Output!EL88=\"\",T(Input_Output!EM88),\"\")","v":""},null,null,{"$f":"IF(Input_Output!EO88=\"\",T(Input_Output!EP88),\"\")","v":""},null,null,{"$f":"IF(Input_Output!ER88=\"\",T(Input_Output!ES88),\"\")","v":""},null,null,{"$f":"IF(Input_Output!EU88=\"\",T(Input_Output!EV88),\"\")","v":""},null,null,{"$f":"IF(Input_Output!EX88=\"\",T(Input_Output!EY88),\"\")","v":""},null,null,{"$f":"IF(Input_Output!FA88=\"\",T(Input_Output!FB88),\"\")","v":""},null,null,{"$f":"IF(Input_Output!FD88=\"\",T(Input_Output!FE88),\"\")","v":""},null,null,{"$f":"IF(Input_Output!FG88=\"\",T(Input_Output!FH88),\"\")","v":""},null,null,{"$f":"IF(Input_Output!FJ88=\"\",T(Input_Output!FK88),\"\")","v":""},null,null,{"$f":"IF(Input_Output!FM88=\"\",T(Input_Output!FN88),\"\")","v":""},null,null,{"$f":"IF(Input_Output!FP88=\"\",T(Input_Output!FQ88),\"\")","v":""},null,null,{"$f":"IF(Input_Output!FS88=\"\",T(Input_Output!FT88),\"\")","v":""},null,null,{"$f":"IF(Input_Output!FV88=\"\",T(Input_Output!FW88),\"\")","v":""},null,null,{"$f":"IF(Input_Output!FY88=\"\",T(Input_Output!FZ88),\"\")","v":""},null,null,{"$f":"IF(Input_Output!GB88=\"\",T(Input_Output!GC88),\"\")","v":""},null,null,{"$f":"IF(Input_Output!GE88=\"\",T(Input_Output!GF88),\"\")","v":""},null,null,{"$f":"IF(Input_Output!GH88=\"\",T(Input_Output!GI88),\"\")","v":""},null,null,{"$f":"IF(Input_Output!GK88=\"\",T(Input_Output!GL88),\"\")","v":""},null,null,{"$f":"IF(Input_Output!GN88=\"\",T(Input_Output!GO88),\"\")","v":""},null,null,{"$f":"IF(Input_Output!GQ88=\"\",T(Input_Output!GR88),\"\")","v":""},null,null,{"$f":"IF(Input_Output!GT88=\"\",T(Input_Output!GU88),\"\")","v":""},null,null,{"$f":"IF(Input_Output!GW88=\"\",T(Input_Output!GX88),\"\")","v":""},null,null,{"$f":"IF(Input_Output!GZ88=\"\",T(Input_Output!HA88),\"\")","v":""},null,null,{"$f":"IF(Input_Output!HC88=\"\",T(Input_Output!HD88),\"\")","v":""},null,null,{"$f":"IF(Input_Output!HF88=\"\",T(Input_Output!HG88),\"\")","v":""},null,null,{"$f":"IF(Input_Output!HI88=\"\",T(Input_Output!HJ88),\"\")","v":""},null,null,{"$f":"IF(Input_Output!HL88=\"\",T(Input_Output!HM88),\"\")","v":""},null,null,{"$f":"IF(Input_Output!HO88=\"\",T(Input_Output!HP88),\"\")","v":""},null,null,{"$f":"IF(Input_Output!HR88=\"\",T(Input_Output!HS88),\"\")","v":""},null,null,{"$f":"IF(Input_Output!HU88=\"\",T(Input_Output!HV88),\"\")","v":""},null,null,{"$f":"IF(Input_Output!HX88=\"\",T(Input_Output!HY88),\"\")","v":""},null,null,{"$f":"IF(Input_Output!IA88=\"\",T(Input_Output!IB88),\"\")","v":""},null,null,{"$f":"IF(Input_Output!ID88=\"\",T(Input_Output!IE88),\"\")","v":""},null,null,{"$f":"IF(Input_Output!IG88=\"\",T(Input_Output!IH88),\"\")","v":""},null,null,{"$f":"IF(Input_Output!IJ88=\"\",T(Input_Output!IK88),\"\")","v":""},null,null,{"$f":"IF(Input_Output!IM88=\"\",T(Input_Output!IN88),\"\")","v":""},null,null,{"$f":"IF(Input_Output!IP88=\"\",T(Input_Output!IQ88),\"\")","v":""},null,null,{"$f":"IF(Input_Output!IS88=\"\",T(Input_Output!IT88),\"\")","v":""}]
[null,null,null,null,{"$f":"IF(Input_Output!D89=\"\",T(Input_Output!E89),\"\")","v":""},null,null,{"$f":"IF(Input_Output!G89=\"\",T(Input_Output!H89),\"\")","v":""},null,null,{"$f":"IF(Input_Output!J89=\"\",T(Input_Output!K89),\"\")","v":""},null,null,{"$f":"IF(Input_Output!M89=\"\",T(Input_Output!N89),\"\")","v":""},null,null,{"$f":"IF(Input_Output!P89=\"\",T(Input_Output!Q89),\"\")","v":""},null,null,{"$f":"IF(Input_Output!S89=\"\",T(Input_Output!T89),\"\")","v":""},null,null,{"$f":"IF(Input_Output!V89=\"\",T(Input_Output!W89),\"\")","v":""},null,null,{"$f":"IF(Input_Output!Y89=\"\",T(Input_Output!Z89),\"\")","v":""},null,null,{"$f":"IF(Input_Output!AB89=\"\",T(Input_Output!AC89),\"\")","v":""},null,null,{"$f":"IF(Input_Output!AE89=\"\",T(Input_Output!AF89),\"\")","v":""},null,null,{"$f":"IF(Input_Output!AH89=\"\",T(Input_Output!AI89),\"\")","v":""},null,null,{"$f":"IF(Input_Output!AK89=\"\",T(Input_Output!AL89),\"\")","v":""},null,null,{"$f":"IF(Input_Output!AN89=\"\",T(Input_Output!AO89),\"\")","v":""},null,null,{"$f":"IF(Input_Output!AQ89=\"\",T(Input_Output!AR89),\"\")","v":""},null,null,{"$f":"IF(Input_Output!AT89=\"\",T(Input_Output!AU89),\"\")","v":""},null,null,{"$f":"IF(Input_Output!AW89=\"\",T(Input_Output!AX89),\"\")","v":""},null,null,{"$f":"IF(Input_Output!AZ89=\"\",T(Input_Output!BA89),\"\")","v":""},null,null,{"$f":"IF(Input_Output!BC89=\"\",T(Input_Output!BD89),\"\")","v":""},null,null,{"$f":"IF(Input_Output!BF89=\"\",T(Input_Output!BG89),\"\")","v":""},null,null,{"$f":"IF(Input_Output!BI89=\"\",T(Input_Output!BJ89),\"\")","v":""},null,null,{"$f":"IF(Input_Output!BL89=\"\",T(Input_Output!BM89),\"\")","v":""},null,null,{"$f":"IF(Input_Output!BO89=\"\",T(Input_Output!BP89),\"\")","v":""},null,null,{"$f":"IF(Input_Output!BR89=\"\",T(Input_Output!BS89),\"\")","v":""},null,null,{"$f":"IF(Input_Output!BU89=\"\",T(Input_Output!BV89),\"\")","v":""},null,null,{"$f":"IF(Input_Output!BX89=\"\",T(Input_Output!BY89),\"\")","v":""},null,null,{"$f":"IF(Input_Output!CA89=\"\",T(Input_Output!CB89),\"\")","v":""},null,null,{"$f":"IF(Input_Output!CD89=\"\",T(Input_Output!CE89),\"\")","v":""},null,null,{"$f":"IF(Input_Output!CG89=\"\",T(Input_Output!CH89),\"\")","v":""},null,null,{"$f":"IF(Input_Output!CJ89=\"\",T(Input_Output!CK89),\"\")","v":""},null,null,{"$f":"IF(Input_Output!CM89=\"\",T(Input_Output!CN89),\"\")","v":""},null,null,{"$f":"IF(Input_Output!CP89=\"\",T(Input_Output!CQ89),\"\")","v":""},null,null,{"$f":"IF(Input_Output!CS89=\"\",T(Input_Output!CT89),\"\")","v":""},null,null,{"$f":"IF(Input_Output!CV89=\"\",T(Input_Output!CW89),\"\")","v":""},null,null,{"$f":"IF(Input_Output!CY89=\"\",T(Input_Output!CZ89),\"\")","v":""},null,null,{"$f":"IF(Input_Output!DB89=\"\",T(Input_Output!DC89),\"\")","v":""},null,null,{"$f":"IF(Input_Output!DE89=\"\",T(Input_Output!DF89),\"\")","v":""},null,null,{"$f":"IF(Input_Output!DH89=\"\",T(Input_Output!DI89),\"\")","v":""},null,null,{"$f":"IF(Input_Output!DK89=\"\",T(Input_Output!DL89),\"\")","v":""},null,null,{"$f":"IF(Input_Output!DN89=\"\",T(Input_Output!DO89),\"\")","v":""},null,null,{"$f":"IF(Input_Output!DQ89=\"\",T(Input_Output!DR89),\"\")","v":""},null,null,{"$f":"IF(Input_Output!DT89=\"\",T(Input_Output!DU89),\"\")","v":""},null,null,{"$f":"IF(Input_Output!DW89=\"\",T(Input_Output!DX89),\"\")","v":""},null,null,{"$f":"IF(Input_Output!DZ89=\"\",T(Input_Output!EA89),\"\")","v":""},null,null,{"$f":"IF(Input_Output!EC89=\"\",T(Input_Output!ED89),\"\")","v":""},null,null,{"$f":"IF(Input_Output!EF89=\"\",T(Input_Output!EG89),\"\")","v":""},null,null,{"$f":"IF(Input_Output!EI89=\"\",T(Input_Output!EJ89),\"\")","v":""},null,null,{"$f":"IF(Input_Output!EL89=\"\",T(Input_Output!EM89),\"\")","v":""},null,null,{"$f":"IF(Input_Output!EO89=\"\",T(Input_Output!EP89),\"\")","v":""},null,null,{"$f":"IF(Input_Output!ER89=\"\",T(Input_Output!ES89),\"\")","v":""},null,null,{"$f":"IF(Input_Output!EU89=\"\",T(Input_Output!EV89),\"\")","v":""},null,null,{"$f":"IF(Input_Output!EX89=\"\",T(Input_Output!EY89),\"\")","v":""},null,null,{"$f":"IF(Input_Output!FA89=\"\",T(Input_Output!FB89),\"\")","v":""},null,null,{"$f":"IF(Input_Output!FD89=\"\",T(Input_Output!FE89),\"\")","v":""},null,null,{"$f":"IF(Input_Output!FG89=\"\",T(Input_Output!FH89),\"\")","v":""},null,null,{"$f":"IF(Input_Output!FJ89=\"\",T(Input_Output!FK89),\"\")","v":""},null,null,{"$f":"IF(Input_Output!FM89=\"\",T(Input_Output!FN89),\"\")","v":""},null,null,{"$f":"IF(Input_Output!FP89=\"\",T(Input_Output!FQ89),\"\")","v":""},null,null,{"$f":"IF(Input_Output!FS89=\"\",T(Input_Output!FT89),\"\")","v":""},null,null,{"$f":"IF(Input_Output!FV89=\"\",T(Input_Output!FW89),\"\")","v":""},null,null,{"$f":"IF(Input_Output!FY89=\"\",T(Input_Output!FZ89),\"\")","v":""},null,null,{"$f":"IF(Input_Output!GB89=\"\",T(Input_Output!GC89),\"\")","v":""},null,null,{"$f":"IF(Input_Output!GE89=\"\",T(Input_Output!GF89),\"\")","v":""},null,null,{"$f":"IF(Input_Output!GH89=\"\",T(Input_Output!GI89),\"\")","v":""},null,null,{"$f":"IF(Input_Output!GK89=\"\",T(Input_Output!GL89),\"\")","v":""},null,null,{"$f":"IF(Input_Output!GN89=\"\",T(Input_Output!GO89),\"\")","v":""},null,null,{"$f":"IF(Input_Output!GQ89=\"\",T(Input_Output!GR89),\"\")","v":""},null,null,{"$f":"IF(Input_Output!GT89=\"\",T(Input_Output!GU89),\"\")","v":""},null,null,{"$f":"IF(Input_Output!GW89=\"\",T(Input_Output!GX89),\"\")","v":""},null,null,{"$f":"IF(Input_Output!GZ89=\"\",T(Input_Output!HA89),\"\")","v":""},null,null,{"$f":"IF(Input_Output!HC89=\"\",T(Input_Output!HD89),\"\")","v":""},null,null,{"$f":"IF(Input_Output!HF89=\"\",T(Input_Output!HG89),\"\")","v":""},null,null,{"$f":"IF(Input_Output!HI89=\"\",T(Input_Output!HJ89),\"\")","v":""},null,null,{"$f":"IF(Input_Output!HL89=\"\",T(Input_Output!HM89),\"\")","v":""},null,null,{"$f":"IF(Input_Output!HO89=\"\",T(Input_Output!HP89),\"\")","v":""},null,null,{"$f":"IF(Input_Output!HR89=\"\",T(Input_Output!HS89),\"\")","v":""},null,null,{"$f":"IF(Input_Output!HU89=\"\",T(Input_Output!HV89),\"\")","v":""},null,null,{"$f":"IF(Input_Output!HX89=\"\",T(Input_Output!HY89),\"\")","v":""},null,null,{"$f":"IF(Input_Output!IA89=\"\",T(Input_Output!IB89),\"\")","v":""},null,null,{"$f":"IF(Input_Output!ID89=\"\",T(Input_Output!IE89),\"\")","v":""},null,null,{"$f":"IF(Input_Output!IG89=\"\",T(Input_Output!IH89),\"\")","v":""},null,null,{"$f":"IF(Input_Output!IJ89=\"\",T(Input_Output!IK89),\"\")","v":""},null,null,{"$f":"IF(Input_Output!IM89=\"\",T(Input_Output!IN89),\"\")","v":""},null,null,{"$f":"IF(Input_Output!IP89=\"\",T(Input_Output!IQ89),\"\")","v":""},null,null,{"$f":"IF(Input_Output!IS89=\"\",T(Input_Output!IT89),\"\")","v":""}]
[null,null,null,null,{"$f":"IF(Input_Output!D90=\"\",T(Input_Output!E90),\"\")","v":""},null,null,{"$f":"IF(Input_Output!G90=\"\",T(Input_Output!H90),\"\")","v":""},null,null,{"$f":"IF(Input_Output!J90=\"\",T(Input_Output!K90),\"\")","v":""},null,null,{"$f":"IF(Input_Output!M90=\"\",T(Input_Output!N90),\"\")","v":""},null,null,{"$f":"IF(Input_Output!P90=\"\",T(Input_Output!Q90),\"\")","v":""},null,null,{"$f":"IF(Input_Output!S90=\"\",T(Input_Output!T90),\"\")","v":""},null,null,{"$f":"IF(Input_Output!V90=\"\",T(Input_Output!W90),\"\")","v":""},null,null,{"$f":"IF(Input_Output!Y90=\"\",T(Input_Output!Z90),\"\")","v":""},null,null,{"$f":"IF(Input_Output!AB90=\"\",T(Input_Output!AC90),\"\")","v":""},null,null,{"$f":"IF(Input_Output!AE90=\"\",T(Input_Output!AF90),\"\")","v":""},null,null,{"$f":"IF(Input_Output!AH90=\"\",T(Input_Output!AI90),\"\")","v":""},null,null,{"$f":"IF(Input_Output!AK90=\"\",T(Input_Output!AL90),\"\")","v":""},null,null,{"$f":"IF(Input_Output!AN90=\"\",T(Input_Output!AO90),\"\")","v":""},null,null,{"$f":"IF(Input_Output!AQ90=\"\",T(Input_Output!AR90),\"\")","v":""},null,null,{"$f":"IF(Input_Output!AT90=\"\",T(Input_Output!AU90),\"\")","v":""},null,null,{"$f":"IF(Input_Output!AW90=\"\",T(Input_Output!AX90),\"\")","v":""},null,null,{"$f":"IF(Input_Output!AZ90=\"\",T(Input_Output!BA90),\"\")","v":""},null,null,{"$f":"IF(Input_Output!BC90=\"\",T(Input_Output!BD90),\"\")","v":""},null,null,{"$f":"IF(Input_Output!BF90=\"\",T(Input_Output!BG90),\"\")","v":""},null,null,{"$f":"IF(Input_Output!BI90=\"\",T(Input_Output!BJ90),\"\")","v":""},null,null,{"$f":"IF(Input_Output!BL90=\"\",T(Input_Output!BM90),\"\")","v":""},null,null,{"$f":"IF(Input_Output!BO90=\"\",T(Input_Output!BP90),\"\")","v":""},null,null,{"$f":"IF(Input_Output!BR90=\"\",T(Input_Output!BS90),\"\")","v":""},null,null,{"$f":"IF(Input_Output!BU90=\"\",T(Input_Output!BV90),\"\")","v":""},null,null,{"$f":"IF(Input_Output!BX90=\"\",T(Input_Output!BY90),\"\")","v":""},null,null,{"$f":"IF(Input_Output!CA90=\"\",T(Input_Output!CB90),\"\")","v":""},null,null,{"$f":"IF(Input_Output!CD90=\"\",T(Input_Output!CE90),\"\")","v":""},null,null,{"$f":"IF(Input_Output!CG90=\"\",T(Input_Output!CH90),\"\")","v":""},null,null,{"$f":"IF(Input_Output!CJ90=\"\",T(Input_Output!CK90),\"\")","v":""},null,null,{"$f":"IF(Input_Output!CM90=\"\",T(Input_Output!CN90),\"\")","v":""},null,null,{"$f":"IF(Input_Output!CP90=\"\",T(Input_Output!CQ90),\"\")","v":""},null,null,{"$f":"IF(Input_Output!CS90=\"\",T(Input_Output!CT90),\"\")","v":""},null,null,{"$f":"IF(Input_Output!CV90=\"\",T(Input_Output!CW90),\"\")","v":""},null,null,{"$f":"IF(Input_Output!CY90=\"\",T(Input_Output!CZ90),\"\")","v":""},null,null,{"$f":"IF(Input_Output!DB90=\"\",T(Input_Output!DC90),\"\")","v":""},null,null,{"$f":"IF(Input_Output!DE90=\"\",T(Input_Output!DF90),\"\")","v":""},null,null,{"$f":"IF(Input_Output!DH90=\"\",T(Input_Output!DI90),\"\")","v":""},null,null,{"$f":"IF(Input_Output!DK90=\"\",T(Input_Output!DL90),\"\")","v":""},null,null,{"$f":"IF(Input_Output!DN90=\"\",T(Input_Output!DO90),\"\")","v":""},null,null,{"$f":"IF(Input_Output!DQ90=\"\",T(Input_Output!DR90),\"\")","v":""},null,null,{"$f":"IF(Input_Output!DT90=\"\",T(Input_Output!DU90),\"\")","v":""},null,null,{"$f":"IF(Input_Output!DW90=\"\",T(Input_Output!DX90),\"\")","v":""},null,null,{"$f":"IF(Input_Output!DZ90=\"\",T(Input_Output!EA90),\"\")","v":""},null,null,{"$f":"IF(Input_Output!EC90=\"\",T(Input_Output!ED90),\"\")","v":""},null,null,{"$f":"IF(Input_Output!EF90=\"\",T(Input_Output!EG90),\"\")","v":""},null,null,{"$f":"IF(Input_Output!EI90=\"\",T(Input_Output!EJ90),\"\")","v":""},null,null,{"$f":"IF(Input_Output!EL90=\"\",T(Input_Output!EM90),\"\")","v":""},null,null,{"$f":"IF(Input_Output!EO90=\"\",T(Input_Output!EP90),\"\")","v":""},null,null,{"$f":"IF(Input_Output!ER90=\"\",T(Input_Output!ES90),\"\")","v":""},null,null,{"$f":"IF(Input_Output!EU90=\"\",T(Input_Output!EV90),\"\")","v":""},null,null,{"$f":"IF(Input_Output!EX90=\"\",T(Input_Output!EY90),\"\")","v":""},null,null,{"$f":"IF(Input_Output!FA90=\"\",T(Input_Output!FB90),\"\")","v":""},null,null,{"$f":"IF(Input_Output!FD90=\"\",T(Input_Output!FE90),\"\")","v":""},null,null,{"$f":"IF(Input_Output!FG90=\"\",T(Input_Output!FH90),\"\")","v":""},null,null,{"$f":"IF(Input_Output!FJ90=\"\",T(Input_Output!FK90),\"\")","v":""},null,null,{"$f":"IF(Input_Output!FM90=\"\",T(Input_Output!FN90),\"\")","v":""},null,null,{"$f":"IF(Input_Output!FP90=\"\",T(Input_Output!FQ90),\"\")","v":""},null,null,{"$f":"IF(Input_Output!FS90=\"\",T(Input_Output!FT90),\"\")","v":""},null,null,{"$f":"IF(Input_Output!FV90=\"\",T(Input_Output!FW90),\"\")","v":""},null,null,{"$f":"IF(Input_Output!FY90=\"\",T(Input_Output!FZ90),\"\")","v":""},null,null,{"$f":"IF(Input_Output!GB90=\"\",T(Input_Output!GC90),\"\")","v":""},null,null,{"$f":"IF(Input_Output!GE90=\"\",T(Input_Output!GF90),\"\")","v":""},null,null,{"$f":"IF(Input_Output!GH90=\"\",T(Input_Output!GI90),\"\")","v":""},null,null,{"$f":"IF(Input_Output!GK90=\"\",T(Input_Output!GL90),\"\")","v":""},null,null,{"$f":"IF(Input_Output!GN90=\"\",T(Input_Output!GO90),\"\")","v":""},null,null,{"$f":"IF(Input_Output!GQ90=\"\",T(Input_Output!GR90),\"\")","v":""},null,null,{"$f":"IF(Input_Output!GT90=\"\",T(Input_Output!GU90),\"\")","v":""},null,null,{"$f":"IF(Input_Output!GW90=\"\",T(Input_Output!GX90),\"\")","v":""},null,null,{"$f":"IF(Input_Output!GZ90=\"\",T(Input_Output!HA90),\"\")","v":""},null,null,{"$f":"IF(Input_Output!HC90=\"\",T(Input_Output!HD90),\"\")","v":""},null,null,{"$f":"IF(Input_Output!HF90=\"\",T(Input_Output!HG90),\"\")","v":""},null,null,{"$f":"IF(Input_Output!HI90=\"\",T(Input_Output!HJ90),\"\")","v":""},null,null,{"$f":"IF(Input_Output!HL90=\"\",T(Input_Output!HM90),\"\")","v":""},null,null,{"$f":"IF(Input_Output!HO90=\"\",T(Input_Output!HP90),\"\")","v":""},null,null,{"$f":"IF(Input_Output!HR90=\"\",T(Input_Output!HS90),\"\")","v":""},null,null,{"$f":"IF(Input_Output!HU90=\"\",T(Input_Output!HV90),\"\")","v":""},null,null,{"$f":"IF(Input_Output!HX90=\"\",T(Input_Output!HY90),\"\")","v":""},null,null,{"$f":"IF(Input_Output!IA90=\"\",T(Input_Output!IB90),\"\")","v":""},null,null,{"$f":"IF(Input_Output!ID90=\"\",T(Input_Output!IE90),\"\")","v":""},null,null,{"$f":"IF(Input_Output!IG90=\"\",T(Input_Output!IH90),\"\")","v":""},null,null,{"$f":"IF(Input_Output!IJ90=\"\",T(Input_Output!IK90),\"\")","v":""},null,null,{"$f":"IF(Input_Output!IM90=\"\",T(Input_Output!IN90),\"\")","v":""},null,null,{"$f":"IF(Input_Output!IP90=\"\",T(Input_Output!IQ90),\"\")","v":""},null,null,{"$f":"IF(Input_Output!IS90=\"\",T(Input_Output!IT90),\"\")","v":""}]
[null,null,null,null,{"$f":"IF(Input_Output!D91=\"\",T(Input_Output!E91),\"\")","v":""},null,null,{"$f":"IF(Input_Output!G91=\"\",T(Input_Output!H91),\"\")","v":""},null,null,{"$f":"IF(Input_Output!J91=\"\",T(Input_Output!K91),\"\")","v":""},null,null,{"$f":"IF(Input_Output!M91=\"\",T(Input_Output!N91),\"\")","v":""},null,null,{"$f":"IF(Input_Output!P91=\"\",T(Input_Output!Q91),\"\")","v":""},null,null,{"$f":"IF(Input_Output!S91=\"\",T(Input_Output!T91),\"\")","v":""},null,null,{"$f":"IF(Input_Output!V91=\"\",T(Input_Output!W91),\"\")","v":""},null,null,{"$f":"IF(Input_Output!Y91=\"\",T(Input_Output!Z91),\"\")","v":""},null,null,{"$f":"IF(Input_Output!AB91=\"\",T(Input_Output!AC91),\"\")","v":""},null,null,{"$f":"IF(Input_Output!AE91=\"\",T(Input_Output!AF91),\"\")","v":""},null,null,{"$f":"IF(Input_Output!AH91=\"\",T(Input_Output!AI91),\"\")","v":""},null,null,{"$f":"IF(Input_Output!AK91=\"\",T(Input_Output!AL91),\"\")","v":""},null,null,{"$f":"IF(Input_Output!AN91=\"\",T(Input_Output!AO91),\"\")","v":""},null,null,{"$f":"IF(Input_Output!AQ91=\"\",T(Input_Output!AR91),\"\")","v":""},null,null,{"$f":"IF(Input_Output!AT91=\"\",T(Input_Output!AU91),\"\")","v":""},null,null,{"$f":"IF(Input_Output!AW91=\"\",T(Input_Output!AX91),\"\")","v":""},null,null,{"$f":"IF(Input_Output!AZ91=\"\",T(Input_Output!BA91),\"\")","v":""},null,null,{"$f":"IF(Input_Output!BC91=\"\",T(Input_Output!BD91),\"\")","v":""},null,null,{"$f":"IF(Input_Output!BF91=\"\",T(Input_Output!BG91),\"\")","v":""},null,null,{"$f":"IF(Input_Output!BI91=\"\",T(Input_Output!BJ91),\"\")","v":""},null,null,{"$f":"IF(Input_Output!BL91=\"\",T(Input_Output!BM91),\"\")","v":""},null,null,{"$f":"IF(Input_Output!BO91=\"\",T(Input_Output!BP91),\"\")","v":""},null,null,{"$f":"IF(Input_Output!BR91=\"\",T(Input_Output!BS91),\"\")","v":""},null,null,{"$f":"IF(Input_Output!BU91=\"\",T(Input_Output!BV91),\"\")","v":""},null,null,{"$f":"IF(Input_Output!BX91=\"\",T(Input_Output!BY91),\"\")","v":""},null,null,{"$f":"IF(Input_Output!CA91=\"\",T(Input_Output!CB91),\"\")","v":""},null,null,{"$f":"IF(Input_Output!CD91=\"\",T(Input_Output!CE91),\"\")","v":""},null,null,{"$f":"IF(Input_Output!CG91=\"\",T(Input_Output!CH91),\"\")","v":""},null,null,{"$f":"IF(Input_Output!CJ91=\"\",T(Input_Output!CK91),\"\")","v":""},null,null,{"$f":"IF(Input_Output!CM91=\"\",T(Input_Output!CN91),\"\")","v":""},null,null,{"$f":"IF(Input_Output!CP91=\"\",T(Input_Output!CQ91),\"\")","v":""},null,null,{"$f":"IF(Input_Output!CS91=\"\",T(Input_Output!CT91),\"\")","v":""},null,null,{"$f":"IF(Input_Output!CV91=\"\",T(Input_Output!CW91),\"\")","v":""},null,null,{"$f":"IF(Input_Output!CY91=\"\",T(Input_Output!CZ91),\"\")","v":""},null,null,{"$f":"IF(Input_Output!DB91=\"\",T(Input_Output!DC91),\"\")","v":""},null,null,{"$f":"IF(Input_Output!DE91=\"\",T(Input_Output!DF91),\"\")","v":""},null,null,{"$f":"IF(Input_Output!DH91=\"\",T(Input_Output!DI91),\"\")","v":""},null,null,{"$f":"IF(Input_Output!DK91=\"\",T(Input_Output!DL91),\"\")","v":""},null,null,{"$f":"IF(Input_Output!DN91=\"\",T(Input_Output!DO91),\"\")","v":""},null,null,{"$f":"IF(Input_Output!DQ91=\"\",T(Input_Output!DR91),\"\")","v":""},null,null,{"$f":"IF(Input_Output!DT91=\"\",T(Input_Output!DU91),\"\")","v":""},null,null,{"$f":"IF(Input_Output!DW91=\"\",T(Input_Output!DX91),\"\")","v":""},null,null,{"$f":"IF(Input_Output!DZ91=\"\",T(Input_Output!EA91),\"\")","v":""},null,null,{"$f":"IF(Input_Output!EC91=\"\",T(Input_Output!ED91),\"\")","v":""},null,null,{"$f":"IF(Input_Output!EF91=\"\",T(Input_Output!EG91),\"\")","v":""},null,null,{"$f":"IF(Input_Output!EI91=\"\",T(Input_Output!EJ91),\"\")","v":""},null,null,{"$f":"IF(Input_Output!EL91=\"\",T(Input_Output!EM91),\"\")","v":""},null,null,{"$f":"IF(Input_Output!EO91=\"\",T(Input_Output!EP91),\"\")","v":""},null,null,{"$f":"IF(Input_Output!ER91=\"\",T(Input_Output!ES91),\"\")","v":""},null,null,{"$f":"IF(Input_Output!EU91=\"\",T(Input_Output!EV91),\"\")","v":""},null,null,{"$f":"IF(Input_Output!EX91=\"\",T(Input_Output!EY91),\"\")","v":""},null,null,{"$f":"IF(Input_Output!FA91=\"\",T(Input_Output!FB91),\"\")","v":""},null,null,{"$f":"IF(Input_Output!FD91=\"\",T(Input_Output!FE91),\"\")","v":""},null,null,{"$f":"IF(Input_Output!FG91=\"\",T(Input_Output!FH91),\"\")","v":""},null,null,{"$f":"IF(Input_Output!FJ91=\"\",T(Input_Output!FK91),\"\")","v":""},null,null,{"$f":"IF(Input_Output!FM91=\"\",T(Input_Output!FN91),\"\")","v":""},null,null,{"$f":"IF(Input_Output!FP91=\"\",T(Input_Output!FQ91),\"\")","v":""},null,null,{"$f":"IF(Input_Output!FS91=\"\",T(Input_Output!FT91),\"\")","v":""},null,null,{"$f":"IF(Input_Output!FV91=\"\",T(Input_Output!FW91),\"\")","v":""},null,null,{"$f":"IF(Input_Output!FY91=\"\",T(Input_Output!FZ91),\"\")","v":""},null,null,{"$f":"IF(Input_Output!GB91=\"\",T(Input_Output!GC91),\"\")","v":""},null,null,{"$f":"IF(Input_Output!GE91=\"\",T(Input_Output!GF91),\"\")","v":""},null,null,{"$f":"IF(Input_Output!GH91=\"\",T(Input_Output!GI91),\"\")","v":""},null,null,{"$f":"IF(Input_Output!GK91=\"\",T(Input_Output!GL91),\"\")","v":""},null,null,{"$f":"IF(Input_Output!GN91=\"\",T(Input_Output!GO91),\"\")","v":""},null,null,{"$f":"IF(Input_Output!GQ91=\"\",T(Input_Output!GR91),\"\")","v":""},null,null,{"$f":"IF(Input_Output!GT91=\"\",T(Input_Output!GU91),\"\")","v":""},null,null,{"$f":"IF(Input_Output!GW91=\"\",T(Input_Output!GX91),\"\")","v":""},null,null,{"$f":"IF(Input_Output!GZ91=\"\",T(Input_Output!HA91),\"\")","v":""},null,null,{"$f":"IF(Input_Output!HC91=\"\",T(Input_Output!HD91),\"\")","v":""},null,null,{"$f":"IF(Input_Output!HF91=\"\",T(Input_Output!HG91),\"\")","v":""},null,null,{"$f":"IF(Input_Output!HI91=\"\",T(Input_Output!HJ91),\"\")","v":""},null,null,{"$f":"IF(Input_Output!HL91=\"\",T(Input_Output!HM91),\"\")","v":""},null,null,{"$f":"IF(Input_Output!HO91=\"\",T(Input_Output!HP91),\"\")","v":""},null,null,{"$f":"IF(Input_Output!HR91=\"\",T(Input_Output!HS91),\"\")","v":""},null,null,{"$f":"IF(Input_Output!HU91=\"\",T(Input_Output!HV91),\"\")","v":""},null,null,{"$f":"IF(Input_Output!HX91=\"\",T(Input_Output!HY91),\"\")","v":""},null,null,{"$f":"IF(Input_Output!IA91=\"\",T(Input_Output!IB91),\"\")","v":""},null,null,{"$f":"IF(Input_Output!ID91=\"\",T(Input_Output!IE91),\"\")","v":""},null,null,{"$f":"IF(Input_Output!IG91=\"\",T(Input_Output!IH91),\"\")","v":""},null,null,{"$f":"IF(Input_Output!IJ91=\"\",T(Input_Output!IK91),\"\")","v":""},null,null,{"$f":"IF(Input_Output!IM91=\"\",T(Input_Output!IN91),\"\")","v":""},null,null,{"$f":"IF(Input_Output!IP91=\"\",T(Input_Output!IQ91),\"\")","v":""},null,null,{"$f":"IF(Input_Output!IS91=\"\",T(Input_Output!IT91),\"\")","v":""}]
[null,null,null,null,{"$f":"IF(Input_Output!D92=\"\",T(Input_Output!E92),\"\")","v":""},null,null,{"$f":"IF(Input_Output!G92=\"\",T(Input_Output!H92),\"\")","v":""},null,null,{"$f":"IF(Input_Output!J92=\"\",T(Input_Output!K92),\"\")","v":""},null,null,{"$f":"IF(Input_Output!M92=\"\",T(Input_Output!N92),\"\")","v":""},null,null,{"$f":"IF(Input_Output!P92=\"\",T(Input_Output!Q92),\"\")","v":""},null,null,{"$f":"IF(Input_Output!S92=\"\",T(Input_Output!T92),\"\")","v":""},null,null,{"$f":"IF(Input_Output!V92=\"\",T(Input_Output!W92),\"\")","v":""},null,null,{"$f":"IF(Input_Output!Y92=\"\",T(Input_Output!Z92),\"\")","v":""},null,null,{"$f":"IF(Input_Output!AB92=\"\",T(Input_Output!AC92),\"\")","v":""},null,null,{"$f":"IF(Input_Output!AE92=\"\",T(Input_Output!AF92),\"\")","v":""},null,null,{"$f":"IF(Input_Output!AH92=\"\",T(Input_Output!AI92),\"\")","v":""},null,null,{"$f":"IF(Input_Output!AK92=\"\",T(Input_Output!AL92),\"\")","v":""},null,null,{"$f":"IF(Input_Output!AN92=\"\",T(Input_Output!AO92),\"\")","v":""},null,null,{"$f":"IF(Input_Output!AQ92=\"\",T(Input_Output!AR92),\"\")","v":""},null,null,{"$f":"IF(Input_Output!AT92=\"\",T(Input_Output!AU92),\"\")","v":""},null,null,{"$f":"IF(Input_Output!AW92=\"\",T(Input_Output!AX92),\"\")","v":""},null,null,{"$f":"IF(Input_Output!AZ92=\"\",T(Input_Output!BA92),\"\")","v":""},null,null,{"$f":"IF(Input_Output!BC92=\"\",T(Input_Output!BD92),\"\")","v":""},null,null,{"$f":"IF(Input_Output!BF92=\"\",T(Input_Output!BG92),\"\")","v":""},null,null,{"$f":"IF(Input_Output!BI92=\"\",T(Input_Output!BJ92),\"\")","v":""},null,null,{"$f":"IF(Input_Output!BL92=\"\",T(Input_Output!BM92),\"\")","v":""},null,null,{"$f":"IF(Input_Output!BO92=\"\",T(Input_Output!BP92),\"\")","v":""},null,null,{"$f":"IF(Input_Output!BR92=\"\",T(Input_Output!BS92),\"\")","v":""},null,null,{"$f":"IF(Input_Output!BU92=\"\",T(Input_Output!BV92),\"\")","v":""},null,null,{"$f":"IF(Input_Output!BX92=\"\",T(Input_Output!BY92),\"\")","v":""},null,null,{"$f":"IF(Input_Output!CA92=\"\",T(Input_Output!CB92),\"\")","v":""},null,null,{"$f":"IF(Input_Output!CD92=\"\",T(Input_Output!CE92),\"\")","v":""},null,null,{"$f":"IF(Input_Output!CG92=\"\",T(Input_Output!CH92),\"\")","v":""},null,null,{"$f":"IF(Input_Output!CJ92=\"\",T(Input_Output!CK92),\"\")","v":""},null,null,{"$f":"IF(Input_Output!CM92=\"\",T(Input_Output!CN92),\"\")","v":""},null,null,{"$f":"IF(Input_Output!CP92=\"\",T(Input_Output!CQ92),\"\")","v":""},null,null,{"$f":"IF(Input_Output!CS92=\"\",T(Input_Output!CT92),\"\")","v":""},null,null,{"$f":"IF(Input_Output!CV92=\"\",T(Input_Output!CW92),\"\")","v":""},null,null,{"$f":"IF(Input_Output!CY92=\"\",T(Input_Output!CZ92),\"\")","v":""},null,null,{"$f":"IF(Input_Output!DB92=\"\",T(Input_Output!DC92),\"\")","v":""},null,null,{"$f":"IF(Input_Output!DE92=\"\",T(Input_Output!DF92),\"\")","v":""},null,null,{"$f":"IF(Input_Output!DH92=\"\",T(Input_Output!DI92),\"\")","v":""},null,null,{"$f":"IF(Input_Output!DK92=\"\",T(Input_Output!DL92),\"\")","v":""},null,null,{"$f":"IF(Input_Output!DN92=\"\",T(Input_Output!DO92),\"\")","v":""},null,null,{"$f":"IF(Input_Output!DQ92=\"\",T(Input_Output!DR92),\"\")","v":""},null,null,{"$f":"IF(Input_Output!DT92=\"\",T(Input_Output!DU92),\"\")","v":""},null,null,{"$f":"IF(Input_Output!DW92=\"\",T(Input_Output!DX92),\"\")","v":""},null,null,{"$f":"IF(Input_Output!DZ92=\"\",T(Input_Output!EA92),\"\")","v":""},null,null,{"$f":"IF(Input_Output!EC92=\"\",T(Input_Output!ED92),\"\")","v":""},null,null,{"$f":"IF(Input_Output!EF92=\"\",T(Input_Output!EG92),\"\")","v":""},null,null,{"$f":"IF(Input_Output!EI92=\"\",T(Input_Output!EJ92),\"\")","v":""},null,null,{"$f":"IF(Input_Output!EL92=\"\",T(Input_Output!EM92),\"\")","v":""},null,null,{"$f":"IF(Input_Output!EO92=\"\",T(Input_Output!EP92),\"\")","v":""},null,null,{"$f":"IF(Input_Output!ER92=\"\",T(Input_Output!ES92),\"\")","v":""},null,null,{"$f":"IF(Input_Output!EU92=\"\",T(Input_Output!EV92),\"\")","v":""},null,null,{"$f":"IF(Input_Output!EX92=\"\",T(Input_Output!EY92),\"\")","v":""},null,null,{"$f":"IF(Input_Output!FA92=\"\",T(Input_Output!FB92),\"\")","v":""},null,null,{"$f":"IF(Input_Output!FD92=\"\",T(Input_Output!FE92),\"\")","v":""},null,null,{"$f":"IF(Input_Output!FG92=\"\",T(Input_Output!FH92),\"\")","v":""},null,null,{"$f":"IF(Input_Output!FJ92=\"\",T(Input_Output!FK92),\"\")","v":""},null,null,{"$f":"IF(Input_Output!FM92=\"\",T(Input_Output!FN92),\"\")","v":""},null,null,{"$f":"IF(Input_Output!FP92=\"\",T(Input_Output!FQ92),\"\")","v":""},null,null,{"$f":"IF(Input_Output!FS92=\"\",T(Input_Output!FT92),\"\")","v":""},null,null,{"$f":"IF(Input_Output!FV92=\"\",T(Input_Output!FW92),\"\")","v":""},null,null,{"$f":"IF(Input_Output!FY92=\"\",T(Input_Output!FZ92),\"\")","v":""},null,null,{"$f":"IF(Input_Output!GB92=\"\",T(Input_Output!GC92),\"\")","v":""},null,null,{"$f":"IF(Input_Output!GE92=\"\",T(Input_Output!GF92),\"\")","v":""},null,null,{"$f":"IF(Input_Output!GH92=\"\",T(Input_Output!GI92),\"\")","v":""},null,null,{"$f":"IF(Input_Output!GK92=\"\",T(Input_Output!GL92),\"\")","v":""},null,null,{"$f":"IF(Input_Output!GN92=\"\",T(Input_Output!GO92),\"\")","v":""},null,null,{"$f":"IF(Input_Output!GQ92=\"\",T(Input_Output!GR92),\"\")","v":""},null,null,{"$f":"IF(Input_Output!GT92=\"\",T(Input_Output!GU92),\"\")","v":""},null,null,{"$f":"IF(Input_Output!GW92=\"\",T(Input_Output!GX92),\"\")","v":""},null,null,{"$f":"IF(Input_Output!GZ92=\"\",T(Input_Output!HA92),\"\")","v":""},null,null,{"$f":"IF(Input_Output!HC92=\"\",T(Input_Output!HD92),\"\")","v":""},null,null,{"$f":"IF(Input_Output!HF92=\"\",T(Input_Output!HG92),\"\")","v":""},null,null,{"$f":"IF(Input_Output!HI92=\"\",T(Input_Output!HJ92),\"\")","v":""},null,null,{"$f":"IF(Input_Output!HL92=\"\",T(Input_Output!HM92),\"\")","v":""},null,null,{"$f":"IF(Input_Output!HO92=\"\",T(Input_Output!HP92),\"\")","v":""},null,null,{"$f":"IF(Input_Output!HR92=\"\",T(Input_Output!HS92),\"\")","v":""},null,null,{"$f":"IF(Input_Output!HU92=\"\",T(Input_Output!HV92),\"\")","v":""},null,null,{"$f":"IF(Input_Output!HX92=\"\",T(Input_Output!HY92),\"\")","v":""},null,null,{"$f":"IF(Input_Output!IA92=\"\",T(Input_Output!IB92),\"\")","v":""},null,null,{"$f":"IF(Input_Output!ID92=\"\",T(Input_Output!IE92),\"\")","v":""},null,null,{"$f":"IF(Input_Output!IG92=\"\",T(Input_Output!IH92),\"\")","v":""},null,null,{"$f":"IF(Input_Output!IJ92=\"\",T(Input_Output!IK92),\"\")","v":""},null,null,{"$f":"IF(Input_Output!IM92=\"\",T(Input_Output!IN92),\"\")","v":""},null,null,{"$f":"IF(Input_Output!IP92=\"\",T(Input_Output!IQ92),\"\")","v":""},null,null,{"$f":"IF(Input_Output!IS92=\"\",T(Input_Output!IT92),\"\")","v":""}]
[null,null,null,null,{"$f":"IF(Input_Output!D93=\"\",T(Input_Output!E93),\"\")","v":""},null,null,{"$f":"IF(Input_Output!G93=\"\",T(Input_Output!H93),\"\")","v":""},null,null,{"$f":"IF(Input_Output!J93=\"\",T(Input_Output!K93),\"\")","v":""},null,null,{"$f":"IF(Input_Output!M93=\"\",T(Input_Output!N93),\"\")","v":""},null,null,{"$f":"IF(Input_Output!P93=\"\",T(Input_Output!Q93),\"\")","v":""},null,null,{"$f":"IF(Input_Output!S93=\"\",T(Input_Output!T93),\"\")","v":""},null,null,{"$f":"IF(Input_Output!V93=\"\",T(Input_Output!W93),\"\")","v":""},null,null,{"$f":"IF(Input_Output!Y93=\"\",T(Input_Output!Z93),\"\")","v":""},null,null,{"$f":"IF(Input_Output!AB93=\"\",T(Input_Output!AC93),\"\")","v":""},null,null,{"$f":"IF(Input_Output!AE93=\"\",T(Input_Output!AF93),\"\")","v":""},null,null,{"$f":"IF(Input_Output!AH93=\"\",T(Input_Output!AI93),\"\")","v":""},null,null,{"$f":"IF(Input_Output!AK93=\"\",T(Input_Output!AL93),\"\")","v":""},null,null,{"$f":"IF(Input_Output!AN93=\"\",T(Input_Output!AO93),\"\")","v":""},null,null,{"$f":"IF(Input_Output!AQ93=\"\",T(Input_Output!AR93),\"\")","v":""},null,null,{"$f":"IF(Input_Output!AT93=\"\",T(Input_Output!AU93),\"\")","v":""},null,null,{"$f":"IF(Input_Output!AW93=\"\",T(Input_Output!AX93),\"\")","v":""},null,null,{"$f":"IF(Input_Output!AZ93=\"\",T(Input_Output!BA93),\"\")","v":""},null,null,{"$f":"IF(Input_Output!BC93=\"\",T(Input_Output!BD93),\"\")","v":""},null,null,{"$f":"IF(Input_Output!BF93=\"\",T(Input_Output!BG93),\"\")","v":""},null,null,{"$f":"IF(Input_Output!BI93=\"\",T(Input_Output!BJ93),\"\")","v":""},null,null,{"$f":"IF(Input_Output!BL93=\"\",T(Input_Output!BM93),\"\")","v":""},null,null,{"$f":"IF(Input_Output!BO93=\"\",T(Input_Output!BP93),\"\")","v":""},null,null,{"$f":"IF(Input_Output!BR93=\"\",T(Input_Output!BS93),\"\")","v":""},null,null,{"$f":"IF(Input_Output!BU93=\"\",T(Input_Output!BV93),\"\")","v":""},null,null,{"$f":"IF(Input_Output!BX93=\"\",T(Input_Output!BY93),\"\")","v":""},null,null,{"$f":"IF(Input_Output!CA93=\"\",T(Input_Output!CB93),\"\")","v":""},null,null,{"$f":"IF(Input_Output!CD93=\"\",T(Input_Output!CE93),\"\")","v":""},null,null,{"$f":"IF(Input_Output!CG93=\"\",T(Input_Output!CH93),\"\")","v":""},null,null,{"$f":"IF(Input_Output!CJ93=\"\",T(Input_Output!CK93),\"\")","v":""},null,null,{"$f":"IF(Input_Output!CM93=\"\",T(Input_Output!CN93),\"\")","v":""},null,null,{"$f":"IF(Input_Output!CP93=\"\",T(Input_Output!CQ93),\"\")","v":""},null,null,{"$f":"IF(Input_Output!CS93=\"\",T(Input_Output!CT93),\"\")","v":""},null,null,{"$f":"IF(Input_Output!CV93=\"\",T(Input_Output!CW93),\"\")","v":""},null,null,{"$f":"IF(Input_Output!CY93=\"\",T(Input_Output!CZ93),\"\")","v":""},null,null,{"$f":"IF(Input_Output!DB93=\"\",T(Input_Output!DC93),\"\")","v":""},null,null,{"$f":"IF(Input_Output!DE93=\"\",T(Input_Output!DF93),\"\")","v":""},null,null,{"$f":"IF(Input_Output!DH93=\"\",T(Input_Output!DI93),\"\")","v":""},null,null,{"$f":"IF(Input_Output!DK93=\"\",T(Input_Output!DL93),\"\")","v":""},null,null,{"$f":"IF(Input_Output!DN93=\"\",T(Input_Output!DO93),\"\")","v":""},null,null,{"$f":"IF(Input_Output!DQ93=\"\",T(Input_Output!DR93),\"\")","v":""},null,null,{"$f":"IF(Input_Output!DT93=\"\",T(Input_Output!DU93),\"\")","v":""},null,null,{"$f":"IF(Input_Output!DW93=\"\",T(Input_Output!DX93),\"\")","v":""},null,null,{"$f":"IF(Input_Output!DZ93=\"\",T(Input_Output!EA93),\"\")","v":""},null,null,{"$f":"IF(Input_Output!EC93=\"\",T(Input_Output!ED93),\"\")","v":""},null,null,{"$f":"IF(Input_Output!EF93=\"\",T(Input_Output!EG93),\"\")","v":""},null,null,{"$f":"IF(Input_Output!EI93=\"\",T(Input_Output!EJ93),\"\")","v":""},null,null,{"$f":"IF(Input_Output!EL93=\"\",T(Input_Output!EM93),\"\")","v":""},null,null,{"$f":"IF(Input_Output!EO93=\"\",T(Input_Output!EP93),\"\")","v":""},null,null,{"$f":"IF(Input_Output!ER93=\"\",T(Input_Output!ES93),\"\")","v":""},null,null,{"$f":"IF(Input_Output!EU93=\"\",T(Input_Output!EV93),\"\")","v":""},null,null,{"$f":"IF(Input_Output!EX93=\"\",T(Input_Output!EY93),\"\")","v":""},null,null,{"$f":"IF(Input_Output!FA93=\"\",T(Input_Output!FB93),\"\")","v":""},null,null,{"$f":"IF(Input_Output!FD93=\"\",T(Input_Output!FE93),\"\")","v":""},null,null,{"$f":"IF(Input_Output!FG93=\"\",T(Input_Output!FH93),\"\")","v":""},null,null,{"$f":"IF(Input_Output!FJ93=\"\",T(Input_Output!FK93),\"\")","v":""},null,null,{"$f":"IF(Input_Output!FM93=\"\",T(Input_Output!FN93),\"\")","v":""},null,null,{"$f":"IF(Input_Output!FP93=\"\",T(Input_Output!FQ93),\"\")","v":""},null,null,{"$f":"IF(Input_Output!FS93=\"\",T(Input_Output!FT93),\"\")","v":""},null,null,{"$f":"IF(Input_Output!FV93=\"\",T(Input_Output!FW93),\"\")","v":""},null,null,{"$f":"IF(Input_Output!FY93=\"\",T(Input_Output!FZ93),\"\")","v":""},null,null,{"$f":"IF(Input_Output!GB93=\"\",T(Input_Output!GC93),\"\")","v":""},null,null,{"$f":"IF(Input_Output!GE93=\"\",T(Input_Output!GF93),\"\")","v":""},null,null,{"$f":"IF(Input_Output!GH93=\"\",T(Input_Output!GI93),\"\")","v":""},null,null,{"$f":"IF(Input_Output!GK93=\"\",T(Input_Output!GL93),\"\")","v":""},null,null,{"$f":"IF(Input_Output!GN93=\"\",T(Input_Output!GO93),\"\")","v":""},null,null,{"$f":"IF(Input_Output!GQ93=\"\",T(Input_Output!GR93),\"\")","v":""},null,null,{"$f":"IF(Input_Output!GT93=\"\",T(Input_Output!GU93),\"\")","v":""},null,null,{"$f":"IF(Input_Output!GW93=\"\",T(Input_Output!GX93),\"\")","v":""},null,null,{"$f":"IF(Input_Output!GZ93=\"\",T(Input_Output!HA93),\"\")","v":""},null,null,{"$f":"IF(Input_Output!HC93=\"\",T(Input_Output!HD93),\"\")","v":""},null,null,{"$f":"IF(Input_Output!HF93=\"\",T(Input_Output!HG93),\"\")","v":""},null,null,{"$f":"IF(Input_Output!HI93=\"\",T(Input_Output!HJ93),\"\")","v":""},null,null,{"$f":"IF(Input_Output!HL93=\"\",T(Input_Output!HM93),\"\")","v":""},null,null,{"$f":"IF(Input_Output!HO93=\"\",T(Input_Output!HP93),\"\")","v":""},null,null,{"$f":"IF(Input_Output!HR93=\"\",T(Input_Output!HS93),\"\")","v":""},null,null,{"$f":"IF(Input_Output!HU93=\"\",T(Input_Output!HV93),\"\")","v":""},null,null,{"$f":"IF(Input_Output!HX93=\"\",T(Input_Output!HY93),\"\")","v":""},null,null,{"$f":"IF(Input_Output!IA93=\"\",T(Input_Output!IB93),\"\")","v":""},null,null,{"$f":"IF(Input_Output!ID93=\"\",T(Input_Output!IE93),\"\")","v":""},null,null,{"$f":"IF(Input_Output!IG93=\"\",T(Input_Output!IH93),\"\")","v":""},null,null,{"$f":"IF(Input_Output!IJ93=\"\",T(Input_Output!IK93),\"\")","v":""},null,null,{"$f":"IF(Input_Output!IM93=\"\",T(Input_Output!IN93),\"\")","v":""},null,null,{"$f":"IF(Input_Output!IP93=\"\",T(Input_Output!IQ93),\"\")","v":""},null,null,{"$f":"IF(Input_Output!IS93=\"\",T(Input_Output!IT93),\"\")","v":""}]
[null,null,null,null,{"$f":"IF(Input_Output!D94=\"\",T(Input_Output!E94),\"\")","v":""},null,null,{"$f":"IF(Input_Output!G94=\"\",T(Input_Output!H94),\"\")","v":""},null,null,{"$f":"IF(Input_Output!J94=\"\",T(Input_Output!K94),\"\")","v":""},null,null,{"$f":"IF(Input_Output!M94=\"\",T(Input_Output!N94),\"\")","v":""},null,null,{"$f":"IF(Input_Output!P94=\"\",T(Input_Output!Q94),\"\")","v":""},null,null,{"$f":"IF(Input_Output!S94=\"\",T(Input_Output!T94),\"\")","v":""},null,null,{"$f":"IF(Input_Output!V94=\"\",T(Input_Output!W94),\"\")","v":""},null,null,{"$f":"IF(Input_Output!Y94=\"\",T(Input_Output!Z94),\"\")","v":""},null,null,{"$f":"IF(Input_Output!AB94=\"\",T(Input_Output!AC94),\"\")","v":""},null,null,{"$f":"IF(Input_Output!AE94=\"\",T(Input_Output!AF94),\"\")","v":""},null,null,{"$f":"IF(Input_Output!AH94=\"\",T(Input_Output!AI94),\"\")","v":""},null,null,{"$f":"IF(Input_Output!AK94=\"\",T(Input_Output!AL94),\"\")","v":""},null,null,{"$f":"IF(Input_Output!AN94=\"\",T(Input_Output!AO94),\"\")","v":""},null,null,{"$f":"IF(Input_Output!AQ94=\"\",T(Input_Output!AR94),\"\")","v":""},null,null,{"$f":"IF(Input_Output!AT94=\"\",T(Input_Output!AU94),\"\")","v":""},null,null,{"$f":"IF(Input_Output!AW94=\"\",T(Input_Output!AX94),\"\")","v":""},null,null,{"$f":"IF(Input_Output!AZ94=\"\",T(Input_Output!BA94),\"\")","v":""},null,null,{"$f":"IF(Input_Output!BC94=\"\",T(Input_Output!BD94),\"\")","v":""},null,null,{"$f":"IF(Input_Output!BF94=\"\",T(Input_Output!BG94),\"\")","v":""},null,null,{"$f":"IF(Input_Output!BI94=\"\",T(Input_Output!BJ94),\"\")","v":""},null,null,{"$f":"IF(Input_Output!BL94=\"\",T(Input_Output!BM94),\"\")","v":""},null,null,{"$f":"IF(Input_Output!BO94=\"\",T(Input_Output!BP94),\"\")","v":""},null,null,{"$f":"IF(Input_Output!BR94=\"\",T(Input_Output!BS94),\"\")","v":""},null,null,{"$f":"IF(Input_Output!BU94=\"\",T(Input_Output!BV94),\"\")","v":""},null,null,{"$f":"IF(Input_Output!BX94=\"\",T(Input_Output!BY94),\"\")","v":""},null,null,{"$f":"IF(Input_Output!CA94=\"\",T(Input_Output!CB94),\"\")","v":""},null,null,{"$f":"IF(Input_Output!CD94=\"\",T(Input_Output!CE94),\"\")","v":""},null,null,{"$f":"IF(Input_Output!CG94=\"\",T(Input_Output!CH94),\"\")","v":""},null,null,{"$f":"IF(Input_Output!CJ94=\"\",T(Input_Output!CK94),\"\")","v":""},null,null,{"$f":"IF(Input_Output!CM94=\"\",T(Input_Output!CN94),\"\")","v":""},null,null,{"$f":"IF(Input_Output!CP94=\"\",T(Input_Output!CQ94),\"\")","v":""},null,null,{"$f":"IF(Input_Output!CS94=\"\",T(Input_Output!CT94),\"\")","v":""},null,null,{"$f":"IF(Input_Output!CV94=\"\",T(Input_Output!CW94),\"\")","v":""},null,null,{"$f":"IF(Input_Output!CY94=\"\",T(Input_Output!CZ94),\"\")","v":""},null,null,{"$f":"IF(Input_Output!DB94=\"\",T(Input_Output!DC94),\"\")","v":""},null,null,{"$f":"IF(Input_Output!DE94=\"\",T(Input_Output!DF94),\"\")","v":""},null,null,{"$f":"IF(Input_Output!DH94=\"\",T(Input_Output!DI94),\"\")","v":""},null,null,{"$f":"IF(Input_Output!DK94=\"\",T(Input_Output!DL94),\"\")","v":""},null,null,{"$f":"IF(Input_Output!DN94=\"\",T(Input_Output!DO94),\"\")","v":""},null,null,{"$f":"IF(Input_Output!DQ94=\"\",T(Input_Output!DR94),\"\")","v":""},null,null,{"$f":"IF(Input_Output!DT94=\"\",T(Input_Output!DU94),\"\")","v":""},null,null,{"$f":"IF(Input_Output!DW94=\"\",T(Input_Output!DX94),\"\")","v":""},null,null,{"$f":"IF(Input_Output!DZ94=\"\",T(Input_Output!EA94),\"\")","v":""},null,null,{"$f":"IF(Input_Output!EC94=\"\",T(Input_Output!ED94),\"\")","v":""},null,null,{"$f":"IF(Input_Output!EF94=\"\",T(Input_Output!EG94),\"\")","v":""},null,null,{"$f":"IF(Input_Output!EI94=\"\",T(Input_Output!EJ94),\"\")","v":""},null,null,{"$f":"IF(Input_Output!EL94=\"\",T(Input_Output!EM94),\"\")","v":""},null,null,{"$f":"IF(Input_Output!EO94=\"\",T(Input_Output!EP94),\"\")","v":""},null,null,{"$f":"IF(Input_Output!ER94=\"\",T(Input_Output!ES94),\"\")","v":""},null,null,{"$f":"IF(Input_Output!EU94=\"\",T(Input_Output!EV94),\"\")","v":""},null,null,{"$f":"IF(Input_Output!EX94=\"\",T(Input_Output!EY94),\"\")","v":""},null,null,{"$f":"IF(Input_Output!FA94=\"\",T(Input_Output!FB94),\"\")","v":""},null,null,{"$f":"IF(Input_Output!FD94=\"\",T(Input_Output!FE94),\"\")","v":""},null,null,{"$f":"IF(Input_Output!FG94=\"\",T(Input_Output!FH94),\"\")","v":""},null,null,{"$f":"IF(Input_Output!FJ94=\"\",T(Input_Output!FK94),\"\")","v":""},null,null,{"$f":"IF(Input_Output!FM94=\"\",T(Input_Output!FN94),\"\")","v":""},null,null,{"$f":"IF(Input_Output!FP94=\"\",T(Input_Output!FQ94),\"\")","v":""},null,null,{"$f":"IF(Input_Output!FS94=\"\",T(Input_Output!FT94),\"\")","v":""},null,null,{"$f":"IF(Input_Output!FV94=\"\",T(Input_Output!FW94),\"\")","v":""},null,null,{"$f":"IF(Input_Output!FY94=\"\",T(Input_Output!FZ94),\"\")","v":""},null,null,{"$f":"IF(Input_Output!GB94=\"\",T(Input_Output!GC94),\"\")","v":""},null,null,{"$f":"IF(Input_Output!GE94=\"\",T(Input_Output!GF94),\"\")","v":""},null,null,{"$f":"IF(Input_Output!GH94=\"\",T(Input_Output!GI94),\"\")","v":""},null,null,{"$f":"IF(Input_Output!GK94=\"\",T(Input_Output!GL94),\"\")","v":""},null,null,{"$f":"IF(Input_Output!GN94=\"\",T(Input_Output!GO94),\"\")","v":""},null,null,{"$f":"IF(Input_Output!GQ94=\"\",T(Input_Output!GR94),\"\")","v":""},null,null,{"$f":"IF(Input_Output!GT94=\"\",T(Input_Output!GU94),\"\")","v":""},null,null,{"$f":"IF(Input_Output!GW94=\"\",T(Input_Output!GX94),\"\")","v":""},null,null,{"$f":"IF(Input_Output!GZ94=\"\",T(Input_Output!HA94),\"\")","v":""},null,null,{"$f":"IF(Input_Output!HC94=\"\",T(Input_Output!HD94),\"\")","v":""},null,null,{"$f":"IF(Input_Output!HF94=\"\",T(Input_Output!HG94),\"\")","v":""},null,null,{"$f":"IF(Input_Output!HI94=\"\",T(Input_Output!HJ94),\"\")","v":""},null,null,{"$f":"IF(Input_Output!HL94=\"\",T(Input_Output!HM94),\"\")","v":""},null,null,{"$f":"IF(Input_Output!HO94=\"\",T(Input_Output!HP94),\"\")","v":""},null,null,{"$f":"IF(Input_Output!HR94=\"\",T(Input_Output!HS94),\"\")","v":""},null,null,{"$f":"IF(Input_Output!HU94=\"\",T(Input_Output!HV94),\"\")","v":""},null,null,{"$f":"IF(Input_Output!HX94=\"\",T(Input_Output!HY94),\"\")","v":""},null,null,{"$f":"IF(Input_Output!IA94=\"\",T(Input_Output!IB94),\"\")","v":""},null,null,{"$f":"IF(Input_Output!ID94=\"\",T(Input_Output!IE94),\"\")","v":""},null,null,{"$f":"IF(Input_Output!IG94=\"\",T(Input_Output!IH94),\"\")","v":""},null,null,{"$f":"IF(Input_Output!IJ94=\"\",T(Input_Output!IK94),\"\")","v":""},null,null,{"$f":"IF(Input_Output!IM94=\"\",T(Input_Output!IN94),\"\")","v":""},null,null,{"$f":"IF(Input_Output!IP94=\"\",T(Input_Output!IQ94),\"\")","v":""},null,null,{"$f":"IF(Input_Output!IS94=\"\",T(Input_Output!IT94),\"\")","v":""}]
[null,null,null,null,{"$f":"IF(Input_Output!D95=\"\",T(Input_Output!E95),\"\")","v":""},null,null,{"$f":"IF(Input_Output!G95=\"\",T(Input_Output!H95),\"\")","v":""},null,null,{"$f":"IF(Input_Output!J95=\"\",T(Input_Output!K95),\"\")","v":""},null,null,{"$f":"IF(Input_Output!M95=\"\",T(Input_Output!N95),\"\")","v":""},null,null,{"$f":"IF(Input_Output!P95=\"\",T(Input_Output!Q95),\"\")","v":""},null,null,{"$f":"IF(Input_Output!S95=\"\",T(Input_Output!T95),\"\")","v":""},null,null,{"$f":"IF(Input_Output!V95=\"\",T(Input_Output!W95),\"\")","v":""},null,null,{"$f":"IF(Input_Output!Y95=\"\",T(Input_Output!Z95),\"\")","v":""},null,null,{"$f":"IF(Input_Output!AB95=\"\",T(Input_Output!AC95),\"\")","v":""},null,null,{"$f":"IF(Input_Output!AE95=\"\",T(Input_Output!AF95),\"\")","v":""},null,null,{"$f":"IF(Input_Output!AH95=\"\",T(Input_Output!AI95),\"\")","v":""},null,null,{"$f":"IF(Input_Output!AK95=\"\",T(Input_Output!AL95),\"\")","v":""},null,null,{"$f":"IF(Input_Output!AN95=\"\",T(Input_Output!AO95),\"\")","v":""},null,null,{"$f":"IF(Input_Output!AQ95=\"\",T(Input_Output!AR95),\"\")","v":""},null,null,{"$f":"IF(Input_Output!AT95=\"\",T(Input_Output!AU95),\"\")","v":""},null,null,{"$f":"IF(Input_Output!AW95=\"\",T(Input_Output!AX95),\"\")","v":""},null,null,{"$f":"IF(Input_Output!AZ95=\"\",T(Input_Output!BA95),\"\")","v":""},null,null,{"$f":"IF(Input_Output!BC95=\"\",T(Input_Output!BD95),\"\")","v":""},null,null,{"$f":"IF(Input_Output!BF95=\"\",T(Input_Output!BG95),\"\")","v":""},null,null,{"$f":"IF(Input_Output!BI95=\"\",T(Input_Output!BJ95),\"\")","v":""},null,null,{"$f":"IF(Input_Output!BL95=\"\",T(Input_Output!BM95),\"\")","v":""},null,null,{"$f":"IF(Input_Output!BO95=\"\",T(Input_Output!BP95),\"\")","v":""},null,null,{"$f":"IF(Input_Output!BR95=\"\",T(Input_Output!BS95),\"\")","v":""},null,null,{"$f":"IF(Input_Output!BU95=\"\",T(Input_Output!BV95),\"\")","v":""},null,null,{"$f":"IF(Input_Output!BX95=\"\",T(Input_Output!BY95),\"\")","v":""},null,null,{"$f":"IF(Input_Output!CA95=\"\",T(Input_Output!CB95),\"\")","v":""},null,null,{"$f":"IF(Input_Output!CD95=\"\",T(Input_Output!CE95),\"\")","v":""},null,null,{"$f":"IF(Input_Output!CG95=\"\",T(Input_Output!CH95),\"\")","v":""},null,null,{"$f":"IF(Input_Output!CJ95=\"\",T(Input_Output!CK95),\"\")","v":""},null,null,{"$f":"IF(Input_Output!CM95=\"\",T(Input_Output!CN95),\"\")","v":""},null,null,{"$f":"IF(Input_Output!CP95=\"\",T(Input_Output!CQ95),\"\")","v":""},null,null,{"$f":"IF(Input_Output!CS95=\"\",T(Input_Output!CT95),\"\")","v":""},null,null,{"$f":"IF(Input_Output!CV95=\"\",T(Input_Output!CW95),\"\")","v":""},null,null,{"$f":"IF(Input_Output!CY95=\"\",T(Input_Output!CZ95),\"\")","v":""},null,null,{"$f":"IF(Input_Output!DB95=\"\",T(Input_Output!DC95),\"\")","v":""},null,null,{"$f":"IF(Input_Output!DE95=\"\",T(Input_Output!DF95),\"\")","v":""},null,null,{"$f":"IF(Input_Output!DH95=\"\",T(Input_Output!DI95),\"\")","v":""},null,null,{"$f":"IF(Input_Output!DK95=\"\",T(Input_Output!DL95),\"\")","v":""},null,null,{"$f":"IF(Input_Output!DN95=\"\",T(Input_Output!DO95),\"\")","v":""},null,null,{"$f":"IF(Input_Output!DQ95=\"\",T(Input_Output!DR95),\"\")","v":""},null,null,{"$f":"IF(Input_Output!DT95=\"\",T(Input_Output!DU95),\"\")","v":""},null,null,{"$f":"IF(Input_Output!DW95=\"\",T(Input_Output!DX95),\"\")","v":""},null,null,{"$f":"IF(Input_Output!DZ95=\"\",T(Input_Output!EA95),\"\")","v":""},null,null,{"$f":"IF(Input_Output!EC95=\"\",T(Input_Output!ED95),\"\")","v":""},null,null,{"$f":"IF(Input_Output!EF95=\"\",T(Input_Output!EG95),\"\")","v":""},null,null,{"$f":"IF(Input_Output!EI95=\"\",T(Input_Output!EJ95),\"\")","v":""},null,null,{"$f":"IF(Input_Output!EL95=\"\",T(Input_Output!EM95),\"\")","v":""},null,null,{"$f":"IF(Input_Output!EO95=\"\",T(Input_Output!EP95),\"\")","v":""},null,null,{"$f":"IF(Input_Output!ER95=\"\",T(Input_Output!ES95),\"\")","v":""},null,null,{"$f":"IF(Input_Output!EU95=\"\",T(Input_Output!EV95),\"\")","v":""},null,null,{"$f":"IF(Input_Output!EX95=\"\",T(Input_Output!EY95),\"\")","v":""},null,null,{"$f":"IF(Input_Output!FA95=\"\",T(Input_Output!FB95),\"\")","v":""},null,null,{"$f":"IF(Input_Output!FD95=\"\",T(Input_Output!FE95),\"\")","v":""},null,null,{"$f":"IF(Input_Output!FG95=\"\",T(Input_Output!FH95),\"\")","v":""},null,null,{"$f":"IF(Input_Output!FJ95=\"\",T(Input_Output!FK95),\"\")","v":""},null,null,{"$f":"IF(Input_Output!FM95=\"\",T(Input_Output!FN95),\"\")","v":""},null,null,{"$f":"IF(Input_Output!FP95=\"\",T(Input_Output!FQ95),\"\")","v":""},null,null,{"$f":"IF(Input_Output!FS95=\"\",T(Input_Output!FT95),\"\")","v":""},null,null,{"$f":"IF(Input_Output!FV95=\"\",T(Input_Output!FW95),\"\")","v":""},null,null,{"$f":"IF(Input_Output!FY95=\"\",T(Input_Output!FZ95),\"\")","v":""},null,null,{"$f":"IF(Input_Output!GB95=\"\",T(Input_Output!GC95),\"\")","v":""},null,null,{"$f":"IF(Input_Output!GE95=\"\",T(Input_Output!GF95),\"\")","v":""},null,null,{"$f":"IF(Input_Output!GH95=\"\",T(Input_Output!GI95),\"\")","v":""},null,null,{"$f":"IF(Input_Output!GK95=\"\",T(Input_Output!GL95),\"\")","v":""},null,null,{"$f":"IF(Input_Output!GN95=\"\",T(Input_Output!GO95),\"\")","v":""},null,null,{"$f":"IF(Input_Output!GQ95=\"\",T(Input_Output!GR95),\"\")","v":""},null,null,{"$f":"IF(Input_Output!GT95=\"\",T(Input_Output!GU95),\"\")","v":""},null,null,{"$f":"IF(Input_Output!GW95=\"\",T(Input_Output!GX95),\"\")","v":""},null,null,{"$f":"IF(Input_Output!GZ95=\"\",T(Input_Output!HA95),\"\")","v":""},null,null,{"$f":"IF(Input_Output!HC95=\"\",T(Input_Output!HD95),\"\")","v":""},null,null,{"$f":"IF(Input_Output!HF95=\"\",T(Input_Output!HG95),\"\")","v":""},null,null,{"$f":"IF(Input_Output!HI95=\"\",T(Input_Output!HJ95),\"\")","v":""},null,null,{"$f":"IF(Input_Output!HL95=\"\",T(Input_Output!HM95),\"\")","v":""},null,null,{"$f":"IF(Input_Output!HO95=\"\",T(Input_Output!HP95),\"\")","v":""},null,null,{"$f":"IF(Input_Output!HR95=\"\",T(Input_Output!HS95),\"\")","v":""},null,null,{"$f":"IF(Input_Output!HU95=\"\",T(Input_Output!HV95),\"\")","v":""},null,null,{"$f":"IF(Input_Output!HX95=\"\",T(Input_Output!HY95),\"\")","v":""},null,null,{"$f":"IF(Input_Output!IA95=\"\",T(Input_Output!IB95),\"\")","v":""},null,null,{"$f":"IF(Input_Output!ID95=\"\",T(Input_Output!IE95),\"\")","v":""},null,null,{"$f":"IF(Input_Output!IG95=\"\",T(Input_Output!IH95),\"\")","v":""},null,null,{"$f":"IF(Input_Output!IJ95=\"\",T(Input_Output!IK95),\"\")","v":""},null,null,{"$f":"IF(Input_Output!IM95=\"\",T(Input_Output!IN95),\"\")","v":""},null,null,{"$f":"IF(Input_Output!IP95=\"\",T(Input_Output!IQ95),\"\")","v":""},null,null,{"$f":"IF(Input_Output!IS95=\"\",T(Input_Output!IT95),\"\")","v":""}]
[null,null,null,null,{"$f":"IF(Input_Output!D96=\"\",T(Input_Output!E96),\"\")","v":""},null,null,{"$f":"IF(Input_Output!G96=\"\",T(Input_Output!H96),\"\")","v":""},null,null,{"$f":"IF(Input_Output!J96=\"\",T(Input_Output!K96),\"\")","v":""},null,null,{"$f":"IF(Input_Output!M96=\"\",T(Input_Output!N96),\"\")","v":""},null,null,{"$f":"IF(Input_Output!P96=\"\",T(Input_Output!Q96),\"\")","v":""},null,null,{"$f":"IF(Input_Output!S96=\"\",T(Input_Output!T96),\"\")","v":""},null,null,{"$f":"IF(Input_Output!V96=\"\",T(Input_Output!W96),\"\")","v":""},null,null,{"$f":"IF(Input_Output!Y96=\"\",T(Input_Output!Z96),\"\")","v":""},null,null,{"$f":"IF(Input_Output!AB96=\"\",T(Input_Output!AC96),\"\")","v":""},null,null,{"$f":"IF(Input_Output!AE96=\"\",T(Input_Output!AF96),\"\")","v":""},null,null,{"$f":"IF(Input_Output!AH96=\"\",T(Input_Output!AI96),\"\")","v":""},null,null,{"$f":"IF(Input_Output!AK96=\"\",T(Input_Output!AL96),\"\")","v":""},null,null,{"$f":"IF(Input_Output!AN96=\"\",T(Input_Output!AO96),\"\")","v":""},null,null,{"$f":"IF(Input_Output!AQ96=\"\",T(Input_Output!AR96),\"\")","v":""},null,null,{"$f":"IF(Input_Output!AT96=\"\",T(Input_Output!AU96),\"\")","v":""},null,null,{"$f":"IF(Input_Output!AW96=\"\",T(Input_Output!AX96),\"\")","v":""},null,null,{"$f":"IF(Input_Output!AZ96=\"\",T(Input_Output!BA96),\"\")","v":""},null,null,{"$f":"IF(Input_Output!BC96=\"\",T(Input_Output!BD96),\"\")","v":""},null,null,{"$f":"IF(Input_Output!BF96=\"\",T(Input_Output!BG96),\"\")","v":""},null,null,{"$f":"IF(Input_Output!BI96=\"\",T(Input_Output!BJ96),\"\")","v":""},null,null,{"$f":"IF(Input_Output!BL96=\"\",T(Input_Output!BM96),\"\")","v":""},null,null,{"$f":"IF(Input_Output!BO96=\"\",T(Input_Output!BP96),\"\")","v":""},null,null,{"$f":"IF(Input_Output!BR96=\"\",T(Input_Output!BS96),\"\")","v":""},null,null,{"$f":"IF(Input_Output!BU96=\"\",T(Input_Output!BV96),\"\")","v":""},null,null,{"$f":"IF(Input_Output!BX96=\"\",T(Input_Output!BY96),\"\")","v":""},null,null,{"$f":"IF(Input_Output!CA96=\"\",T(Input_Output!CB96),\"\")","v":""},null,null,{"$f":"IF(Input_Output!CD96=\"\",T(Input_Output!CE96),\"\")","v":""},null,null,{"$f":"IF(Input_Output!CG96=\"\",T(Input_Output!CH96),\"\")","v":""},null,null,{"$f":"IF(Input_Output!CJ96=\"\",T(Input_Output!CK96),\"\")","v":""},null,null,{"$f":"IF(Input_Output!CM96=\"\",T(Input_Output!CN96),\"\")","v":""},null,null,{"$f":"IF(Input_Output!CP96=\"\",T(Input_Output!CQ96),\"\")","v":""},null,null,{"$f":"IF(Input_Output!CS96=\"\",T(Input_Output!CT96),\"\")","v":""},null,null,{"$f":"IF(Input_Output!CV96=\"\",T(Input_Output!CW96),\"\")","v":""},null,null,{"$f":"IF(Input_Output!CY96=\"\",T(Input_Output!CZ96),\"\")","v":""},null,null,{"$f":"IF(Input_Output!DB96=\"\",T(Input_Output!DC96),\"\")","v":""},null,null,{"$f":"IF(Input_Output!DE96=\"\",T(Input_Output!DF96),\"\")","v":""},null,null,{"$f":"IF(Input_Output!DH96=\"\",T(Input_Output!DI96),\"\")","v":""},null,null,{"$f":"IF(Input_Output!DK96=\"\",T(Input_Output!DL96),\"\")","v":""},null,null,{"$f":"IF(Input_Output!DN96=\"\",T(Input_Output!DO96),\"\")","v":""},null,null,{"$f":"IF(Input_Output!DQ96=\"\",T(Input_Output!DR96),\"\")","v":""},null,null,{"$f":"IF(Input_Output!DT96=\"\",T(Input_Output!DU96),\"\")","v":""},null,null,{"$f":"IF(Input_Output!DW96=\"\",T(Input_Output!DX96),\"\")","v":""},null,null,{"$f":"IF(Input_Output!DZ96=\"\",T(Input_Output!EA96),\"\")","v":""},null,null,{"$f":"IF(Input_Output!EC96=\"\",T(Input_Output!ED96),\"\")","v":""},null,null,{"$f":"IF(Input_Output!EF96=\"\",T(Input_Output!EG96),\"\")","v":""},null,null,{"$f":"IF(Input_Output!EI96=\"\",T(Input_Output!EJ96),\"\")","v":""},null,null,{"$f":"IF(Input_Output!EL96=\"\",T(Input_Output!EM96),\"\")","v":""},null,null,{"$f":"IF(Input_Output!EO96=\"\",T(Input_Output!EP96),\"\")","v":""},null,null,{"$f":"IF(Input_Output!ER96=\"\",T(Input_Output!ES96),\"\")","v":""},null,null,{"$f":"IF(Input_Output!EU96=\"\",T(Input_Output!EV96),\"\")","v":""},null,null,{"$f":"IF(Input_Output!EX96=\"\",T(Input_Output!EY96),\"\")","v":""},null,null,{"$f":"IF(Input_Output!FA96=\"\",T(Input_Output!FB96),\"\")","v":""},null,null,{"$f":"IF(Input_Output!FD96=\"\",T(Input_Output!FE96),\"\")","v":""},null,null,{"$f":"IF(Input_Output!FG96=\"\",T(Input_Output!FH96),\"\")","v":""},null,null,{"$f":"IF(Input_Output!FJ96=\"\",T(Input_Output!FK96),\"\")","v":""},null,null,{"$f":"IF(Input_Output!FM96=\"\",T(Input_Output!FN96),\"\")","v":""},null,null,{"$f":"IF(Input_Output!FP96=\"\",T(Input_Output!FQ96),\"\")","v":""},null,null,{"$f":"IF(Input_Output!FS96=\"\",T(Input_Output!FT96),\"\")","v":""},null,null,{"$f":"IF(Input_Output!FV96=\"\",T(Input_Output!FW96),\"\")","v":""},null,null,{"$f":"IF(Input_Output!FY96=\"\",T(Input_Output!FZ96),\"\")","v":""},null,null,{"$f":"IF(Input_Output!GB96=\"\",T(Input_Output!GC96),\"\")","v":""},null,null,{"$f":"IF(Input_Output!GE96=\"\",T(Input_Output!GF96),\"\")","v":""},null,null,{"$f":"IF(Input_Output!GH96=\"\",T(Input_Output!GI96),\"\")","v":""},null,null,{"$f":"IF(Input_Output!GK96=\"\",T(Input_Output!GL96),\"\")","v":""},null,null,{"$f":"IF(Input_Output!GN96=\"\",T(Input_Output!GO96),\"\")","v":""},null,null,{"$f":"IF(Input_Output!GQ96=\"\",T(Input_Output!GR96),\"\")","v":""},null,null,{"$f":"IF(Input_Output!GT96=\"\",T(Input_Output!GU96),\"\")","v":""},null,null,{"$f":"IF(Input_Output!GW96=\"\",T(Input_Output!GX96),\"\")","v":""},null,null,{"$f":"IF(Input_Output!GZ96=\"\",T(Input_Output!HA96),\"\")","v":""},null,null,{"$f":"IF(Input_Output!HC96=\"\",T(Input_Output!HD96),\"\")","v":""},null,null,{"$f":"IF(Input_Output!HF96=\"\",T(Input_Output!HG96),\"\")","v":""},null,null,{"$f":"IF(Input_Output!HI96=\"\",T(Input_Output!HJ96),\"\")","v":""},null,null,{"$f":"IF(Input_Output!HL96=\"\",T(Input_Output!HM96),\"\")","v":""},null,null,{"$f":"IF(Input_Output!HO96=\"\",T(Input_Output!HP96),\"\")","v":""},null,null,{"$f":"IF(Input_Output!HR96=\"\",T(Input_Output!HS96),\"\")","v":""},null,null,{"$f":"IF(Input_Output!HU96=\"\",T(Input_Output!HV96),\"\")","v":""},null,null,{"$f":"IF(Input_Output!HX96=\"\",T(Input_Output!HY96),\"\")","v":""},null,null,{"$f":"IF(Input_Output!IA96=\"\",T(Input_Output!IB96),\"\")","v":""},null,null,{"$f":"IF(Input_Output!ID96=\"\",T(Input_Output!IE96),\"\")","v":""},null,null,{"$f":"IF(Input_Output!IG96=\"\",T(Input_Output!IH96),\"\")","v":""},null,null,{"$f":"IF(Input_Output!IJ96=\"\",T(Input_Output!IK96),\"\")","v":""},null,null,{"$f":"IF(Input_Output!IM96=\"\",T(Input_Output!IN96),\"\")","v":""},null,null,{"$f":"IF(Input_Output!IP96=\"\",T(Input_Output!IQ96),\"\")","v":""},null,null,{"$f":"IF(Input_Output!IS96=\"\",T(Input_Output!IT96),\"\")","v":""}]
[null,null,null,null,{"$f":"IF(Input_Output!D97=\"\",T(Input_Output!E97),\"\")","v":""},null,null,{"$f":"IF(Input_Output!G97=\"\",T(Input_Output!H97),\"\")","v":""},null,null,{"$f":"IF(Input_Output!J97=\"\",T(Input_Output!K97),\"\")","v":""},null,null,{"$f":"IF(Input_Output!M97=\"\",T(Input_Output!N97),\"\")","v":""},null,null,{"$f":"IF(Input_Output!P97=\"\",T(Input_Output!Q97),\"\")","v":""},null,null,{"$f":"IF(Input_Output!S97=\"\",T(Input_Output!T97),\"\")","v":""},null,null,{"$f":"IF(Input_Output!V97=\"\",T(Input_Output!W97),\"\")","v":""},null,null,{"$f":"IF(Input_Output!Y97=\"\",T(Input_Output!Z97),\"\")","v":""},null,null,{"$f":"IF(Input_Output!AB97=\"\",T(Input_Output!AC97),\"\")","v":""},null,null,{"$f":"IF(Input_Output!AE97=\"\",T(Input_Output!AF97),\"\")","v":""},null,null,{"$f":"IF(Input_Output!AH97=\"\",T(Input_Output!AI97),\"\")","v":""},null,null,{"$f":"IF(Input_Output!AK97=\"\",T(Input_Output!AL97),\"\")","v":""},null,null,{"$f":"IF(Input_Output!AN97=\"\",T(Input_Output!AO97),\"\")","v":""},null,null,{"$f":"IF(Input_Output!AQ97=\"\",T(Input_Output!AR97),\"\")","v":""},null,null,{"$f":"IF(Input_Output!AT97=\"\",T(Input_Output!AU97),\"\")","v":""},null,null,{"$f":"IF(Input_Output!AW97=\"\",T(Input_Output!AX97),\"\")","v":""},null,null,{"$f":"IF(Input_Output!AZ97=\"\",T(Input_Output!BA97),\"\")","v":""},null,null,{"$f":"IF(Input_Output!BC97=\"\",T(Input_Output!BD97),\"\")","v":""},null,null,{"$f":"IF(Input_Output!BF97=\"\",T(Input_Output!BG97),\"\")","v":""},null,null,{"$f":"IF(Input_Output!BI97=\"\",T(Input_Output!BJ97),\"\")","v":""},null,null,{"$f":"IF(Input_Output!BL97=\"\",T(Input_Output!BM97),\"\")","v":""},null,null,{"$f":"IF(Input_Output!BO97=\"\",T(Input_Output!BP97),\"\")","v":""},null,null,{"$f":"IF(Input_Output!BR97=\"\",T(Input_Output!BS97),\"\")","v":""},null,null,{"$f":"IF(Input_Output!BU97=\"\",T(Input_Output!BV97),\"\")","v":""},null,null,{"$f":"IF(Input_Output!BX97=\"\",T(Input_Output!BY97),\"\")","v":""},null,null,{"$f":"IF(Input_Output!CA97=\"\",T(Input_Output!CB97),\"\")","v":""},null,null,{"$f":"IF(Input_Output!CD97=\"\",T(Input_Output!CE97),\"\")","v":""},null,null,{"$f":"IF(Input_Output!CG97=\"\",T(Input_Output!CH97),\"\")","v":""},null,null,{"$f":"IF(Input_Output!CJ97=\"\",T(Input_Output!CK97),\"\")","v":""},null,null,{"$f":"IF(Input_Output!CM97=\"\",T(Input_Output!CN97),\"\")","v":""},null,null,{"$f":"IF(Input_Output!CP97=\"\",T(Input_Output!CQ97),\"\")","v":""},null,null,{"$f":"IF(Input_Output!CS97=\"\",T(Input_Output!CT97),\"\")","v":""},null,null,{"$f":"IF(Input_Output!CV97=\"\",T(Input_Output!CW97),\"\")","v":""},null,null,{"$f":"IF(Input_Output!CY97=\"\",T(Input_Output!CZ97),\"\")","v":""},null,null,{"$f":"IF(Input_Output!DB97=\"\",T(Input_Output!DC97),\"\")","v":""},null,null,{"$f":"IF(Input_Output!DE97=\"\",T(Input_Output!DF97),\"\")","v":""},null,null,{"$f":"IF(Input_Output!DH97=\"\",T(Input_Output!DI97),\"\")","v":""},null,null,{"$f":"IF(Input_Output!DK97=\"\",T(Input_Output!DL97),\"\")","v":""},null,null,{"$f":"IF(Input_Output!DN97=\"\",T(Input_Output!DO97),\"\")","v":""},null,null,{"$f":"IF(Input_Output!DQ97=\"\",T(Input_Output!DR97),\"\")","v":""},null,null,{"$f":"IF(Input_Output!DT97=\"\",T(Input_Output!DU97),\"\")","v":""},null,null,{"$f":"IF(Input_Output!DW97=\"\",T(Input_Output!DX97),\"\")","v":""},null,null,{"$f":"IF(Input_Output!DZ97=\"\",T(Input_Output!EA97),\"\")","v":""},null,null,{"$f":"IF(Input_Output!EC97=\"\",T(Input_Output!ED97),\"\")","v":""},null,null,{"$f":"IF(Input_Output!EF97=\"\",T(Input_Output!EG97),\"\")","v":""},null,null,{"$f":"IF(Input_Output!EI97=\"\",T(Input_Output!EJ97),\"\")","v":""},null,null,{"$f":"IF(Input_Output!EL97=\"\",T(Input_Output!EM97),\"\")","v":""},null,null,{"$f":"IF(Input_Output!EO97=\"\",T(Input_Output!EP97),\"\")","v":""},null,null,{"$f":"IF(Input_Output!ER97=\"\",T(Input_Output!ES97),\"\")","v":""},null,null,{"$f":"IF(Input_Output!EU97=\"\",T(Input_Output!EV97),\"\")","v":""},null,null,{"$f":"IF(Input_Output!EX97=\"\",T(Input_Output!EY97),\"\")","v":""},null,null,{"$f":"IF(Input_Output!FA97=\"\",T(Input_Output!FB97),\"\")","v":""},null,null,{"$f":"IF(Input_Output!FD97=\"\",T(Input_Output!FE97),\"\")","v":""},null,null,{"$f":"IF(Input_Output!FG97=\"\",T(Input_Output!FH97),\"\")","v":""},null,null,{"$f":"IF(Input_Output!FJ97=\"\",T(Input_Output!FK97),\"\")","v":""},null,null,{"$f":"IF(Input_Output!FM97=\"\",T(Input_Output!FN97),\"\")","v":""},null,null,{"$f":"IF(Input_Output!FP97=\"\",T(Input_Output!FQ97),\"\")","v":""},null,null,{"$f":"IF(Input_Output!FS97=\"\",T(Input_Output!FT97),\"\")","v":""},null,null,{"$f":"IF(Input_Output!FV97=\"\",T(Input_Output!FW97),\"\")","v":""},null,null,{"$f":"IF(Input_Output!FY97=\"\",T(Input_Output!FZ97),\"\")","v":""},null,null,{"$f":"IF(Input_Output!GB97=\"\",T(Input_Output!GC97),\"\")","v":""},null,null,{"$f":"IF(Input_Output!GE97=\"\",T(Input_Output!GF97),\"\")","v":""},null,null,{"$f":"IF(Input_Output!GH97=\"\",T(Input_Output!GI97),\"\")","v":""},null,null,{"$f":"IF(Input_Output!GK97=\"\",T(Input_Output!GL97),\"\")","v":""},null,null,{"$f":"IF(Input_Output!GN97=\"\",T(Input_Output!GO97),\"\")","v":""},null,null,{"$f":"IF(Input_Output!GQ97=\"\",T(Input_Output!GR97),\"\")","v":""},null,null,{"$f":"IF(Input_Output!GT97=\"\",T(Input_Output!GU97),\"\")","v":""},null,null,{"$f":"IF(Input_Output!GW97=\"\",T(Input_Output!GX97),\"\")","v":""},null,null,{"$f":"IF(Input_Output!GZ97=\"\",T(Input_Output!HA97),\"\")","v":""},null,null,{"$f":"IF(Input_Output!HC97=\"\",T(Input_Output!HD97),\"\")","v":""},null,null,{"$f":"IF(Input_Output!HF97=\"\",T(Input_Output!HG97),\"\")","v":""},null,null,{"$f":"IF(Input_Output!HI97=\"\",T(Input_Output!HJ97),\"\")","v":""},null,null,{"$f":"IF(Input_Output!HL97=\"\",T(Input_Output!HM97),\"\")","v":""},null,null,{"$f":"IF(Input_Output!HO97=\"\",T(Input_Output!HP97),\"\")","v":""},null,null,{"$f":"IF(Input_Output!HR97=\"\",T(Input_Output!HS97),\"\")","v":""},null,null,{"$f":"IF(Input_Output!HU97=\"\",T(Input_Output!HV97),\"\")","v":""},null,null,{"$f":"IF(Input_Output!HX97=\"\",T(Input_Output!HY97),\"\")","v":""},null,null,{"$f":"IF(Input_Output!IA97=\"\",T(Input_Output!IB97),\"\")","v":""},null,null,{"$f":"IF(Input_Output!ID97=\"\",T(Input_Output!IE97),\"\")","v":""},null,null,{"$f":"IF(Input_Output!IG97=\"\",T(Input_Output!IH97),\"\")","v":""},null,null,{"$f":"IF(Input_Output!IJ97=\"\",T(Input_Output!IK97),\"\")","v":""},null,null,{"$f":"IF(Input_Output!IM97=\"\",T(Input_Output!IN97),\"\")","v":""},null,null,{"$f":"IF(Input_Output!IP97=\"\",T(Input_Output!IQ97),\"\")","v":""},null,null,{"$f":"IF(Input_Output!IS97=\"\",T(Input_Output!IT97),\"\")","v":""}]
[null,null,null,null,{"$f":"IF(Input_Output!D98=\"\",T(Input_Output!E98),\"\")","v":""},null,null,{"$f":"IF(Input_Output!G98=\"\",T(Input_Output!H98),\"\")","v":""},null,null,{"$f":"IF(Input_Output!J98=\"\",T(Input_Output!K98),\"\")","v":""},null,null,{"$f":"IF(Input_Output!M98=\"\",T(Input_Output!N98),\"\")","v":""},null,null,{"$f":"IF(Input_Output!P98=\"\",T(Input_Output!Q98),\"\")","v":""},null,null,{"$f":"IF(Input_Output!S98=\"\",T(Input_Output!T98),\"\")","v":""},null,null,{"$f":"IF(Input_Output!V98=\"\",T(Input_Output!W98),\"\")","v":""},null,null,{"$f":"IF(Input_Output!Y98=\"\",T(Input_Output!Z98),\"\")","v":""},null,null,{"$f":"IF(Input_Output!AB98=\"\",T(Input_Output!AC98),\"\")","v":""},null,null,{"$f":"IF(Input_Output!AE98=\"\",T(Input_Output!AF98),\"\")","v":""},null,null,{"$f":"IF(Input_Output!AH98=\"\",T(Input_Output!AI98),\"\")","v":""},null,null,{"$f":"IF(Input_Output!AK98=\"\",T(Input_Output!AL98),\"\")","v":""},null,null,{"$f":"IF(Input_Output!AN98=\"\",T(Input_Output!AO98),\"\")","v":""},null,null,{"$f":"IF(Input_Output!AQ98=\"\",T(Input_Output!AR98),\"\")","v":""},null,null,{"$f":"IF(Input_Output!AT98=\"\",T(Input_Output!AU98),\"\")","v":""},null,null,{"$f":"IF(Input_Output!AW98=\"\",T(Input_Output!AX98),\"\")","v":""},null,null,{"$f":"IF(Input_Output!AZ98=\"\",T(Input_Output!BA98),\"\")","v":""},null,null,{"$f":"IF(Input_Output!BC98=\"\",T(Input_Output!BD98),\"\")","v":""},null,null,{"$f":"IF(Input_Output!BF98=\"\",T(Input_Output!BG98),\"\")","v":""},null,null,{"$f":"IF(Input_Output!BI98=\"\",T(Input_Output!BJ98),\"\")","v":""},null,null,{"$f":"IF(Input_Output!BL98=\"\",T(Input_Output!BM98),\"\")","v":""},null,null,{"$f":"IF(Input_Output!BO98=\"\",T(Input_Output!BP98),\"\")","v":""},null,null,{"$f":"IF(Input_Output!BR98=\"\",T(Input_Output!BS98),\"\")","v":""},null,null,{"$f":"IF(Input_Output!BU98=\"\",T(Input_Output!BV98),\"\")","v":""},null,null,{"$f":"IF(Input_Output!BX98=\"\",T(Input_Output!BY98),\"\")","v":""},null,null,{"$f":"IF(Input_Output!CA98=\"\",T(Input_Output!CB98),\"\")","v":""},null,null,{"$f":"IF(Input_Output!CD98=\"\",T(Input_Output!CE98),\"\")","v":""},null,null,{"$f":"IF(Input_Output!CG98=\"\",T(Input_Output!CH98),\"\")","v":""},null,null,{"$f":"IF(Input_Output!CJ98=\"\",T(Input_Output!CK98),\"\")","v":""},null,null,{"$f":"IF(Input_Output!CM98=\"\",T(Input_Output!CN98),\"\")","v":""},null,null,{"$f":"IF(Input_Output!CP98=\"\",T(Input_Output!CQ98),\"\")","v":""},null,null,{"$f":"IF(Input_Output!CS98=\"\",T(Input_Output!CT98),\"\")","v":""},null,null,{"$f":"IF(Input_Output!CV98=\"\",T(Input_Output!CW98),\"\")","v":""},null,null,{"$f":"IF(Input_Output!CY98=\"\",T(Input_Output!CZ98),\"\")","v":""},null,null,{"$f":"IF(Input_Output!DB98=\"\",T(Input_Output!DC98),\"\")","v":""},null,null,{"$f":"IF(Input_Output!DE98=\"\",T(Input_Output!DF98),\"\")","v":""},null,null,{"$f":"IF(Input_Output!DH98=\"\",T(Input_Output!DI98),\"\")","v":""},null,null,{"$f":"IF(Input_Output!DK98=\"\",T(Input_Output!DL98),\"\")","v":""},null,null,{"$f":"IF(Input_Output!DN98=\"\",T(Input_Output!DO98),\"\")","v":""},null,null,{"$f":"IF(Input_Output!DQ98=\"\",T(Input_Output!DR98),\"\")","v":""},null,null,{"$f":"IF(Input_Output!DT98=\"\",T(Input_Output!DU98),\"\")","v":""},null,null,{"$f":"IF(Input_Output!DW98=\"\",T(Input_Output!DX98),\"\")","v":""},null,null,{"$f":"IF(Input_Output!DZ98=\"\",T(Input_Output!EA98),\"\")","v":""},null,null,{"$f":"IF(Input_Output!EC98=\"\",T(Input_Output!ED98),\"\")","v":""},null,null,{"$f":"IF(Input_Output!EF98=\"\",T(Input_Output!EG98),\"\")","v":""},null,null,{"$f":"IF(Input_Output!EI98=\"\",T(Input_Output!EJ98),\"\")","v":""},null,null,{"$f":"IF(Input_Output!EL98=\"\",T(Input_Output!EM98),\"\")","v":""},null,null,{"$f":"IF(Input_Output!EO98=\"\",T(Input_Output!EP98),\"\")","v":""},null,null,{"$f":"IF(Input_Output!ER98=\"\",T(Input_Output!ES98),\"\")","v":""},null,null,{"$f":"IF(Input_Output!EU98=\"\",T(Input_Output!EV98),\"\")","v":""},null,null,{"$f":"IF(Input_Output!EX98=\"\",T(Input_Output!EY98),\"\")","v":""},null,null,{"$f":"IF(Input_Output!FA98=\"\",T(Input_Output!FB98),\"\")","v":""},null,null,{"$f":"IF(Input_Output!FD98=\"\",T(Input_Output!FE98),\"\")","v":""},null,null,{"$f":"IF(Input_Output!FG98=\"\",T(Input_Output!FH98),\"\")","v":""},null,null,{"$f":"IF(Input_Output!FJ98=\"\",T(Input_Output!FK98),\"\")","v":""},null,null,{"$f":"IF(Input_Output!FM98=\"\",T(Input_Output!FN98),\"\")","v":""},null,null,{"$f":"IF(Input_Output!FP98=\"\",T(Input_Output!FQ98),\"\")","v":""},null,null,{"$f":"IF(Input_Output!FS98=\"\",T(Input_Output!FT98),\"\")","v":""},null,null,{"$f":"IF(Input_Output!FV98=\"\",T(Input_Output!FW98),\"\")","v":""},null,null,{"$f":"IF(Input_Output!FY98=\"\",T(Input_Output!FZ98),\"\")","v":""},null,null,{"$f":"IF(Input_Output!GB98=\"\",T(Input_Output!GC98),\"\")","v":""},null,null,{"$f":"IF(Input_Output!GE98=\"\",T(Input_Output!GF98),\"\")","v":""},null,null,{"$f":"IF(Input_Output!GH98=\"\",T(Input_Output!GI98),\"\")","v":""},null,null,{"$f":"IF(Input_Output!GK98=\"\",T(Input_Output!GL98),\"\")","v":""},null,null,{"$f":"IF(Input_Output!GN98=\"\",T(Input_Output!GO98),\"\")","v":""},null,null,{"$f":"IF(Input_Output!GQ98=\"\",T(Input_Output!GR98),\"\")","v":""},null,null,{"$f":"IF(Input_Output!GT98=\"\",T(Input_Output!GU98),\"\")","v":""},null,null,{"$f":"IF(Input_Output!GW98=\"\",T(Input_Output!GX98),\"\")","v":""},null,null,{"$f":"IF(Input_Output!GZ98=\"\",T(Input_Output!HA98),\"\")","v":""},null,null,{"$f":"IF(Input_Output!HC98=\"\",T(Input_Output!HD98),\"\")","v":""},null,null,{"$f":"IF(Input_Output!HF98=\"\",T(Input_Output!HG98),\"\")","v":""},null,null,{"$f":"IF(Input_Output!HI98=\"\",T(Input_Output!HJ98),\"\")","v":""},null,null,{"$f":"IF(Input_Output!HL98=\"\",T(Input_Output!HM98),\"\")","v":""},null,null,{"$f":"IF(Input_Output!HO98=\"\",T(Input_Output!HP98),\"\")","v":""},null,null,{"$f":"IF(Input_Output!HR98=\"\",T(Input_Output!HS98),\"\")","v":""},null,null,{"$f":"IF(Input_Output!HU98=\"\",T(Input_Output!HV98),\"\")","v":""},null,null,{"$f":"IF(Input_Output!HX98=\"\",T(Input_Output!HY98),\"\")","v":""},null,null,{"$f":"IF(Input_Output!IA98=\"\",T(Input_Output!IB98),\"\")","v":""},null,null,{"$f":"IF(Input_Output!ID98=\"\",T(Input_Output!IE98),\"\")","v":""},null,null,{"$f":"IF(Input_Output!IG98=\"\",T(Input_Output!IH98),\"\")","v":""},null,null,{"$f":"IF(Input_Output!IJ98=\"\",T(Input_Output!IK98),\"\")","v":""},null,null,{"$f":"IF(Input_Output!IM98=\"\",T(Input_Output!IN98),\"\")","v":""},null,null,{"$f":"IF(Input_Output!IP98=\"\",T(Input_Output!IQ98),\"\")","v":""},null,null,{"$f":"IF(Input_Output!IS98=\"\",T(Input_Output!IT98),\"\")","v":""}]
[null,null,null,null,{"$f":"IF(Input_Output!D99=\"\",T(Input_Output!E99),\"\")","v":""},null,null,{"$f":"IF(Input_Output!G99=\"\",T(Input_Output!H99),\"\")","v":""},null,null,{"$f":"IF(Input_Output!J99=\"\",T(Input_Output!K99),\"\")","v":""},null,null,{"$f":"IF(Input_Output!M99=\"\",T(Input_Output!N99),\"\")","v":""},null,null,{"$f":"IF(Input_Output!P99=\"\",T(Input_Output!Q99),\"\")","v":""},null,null,{"$f":"IF(Input_Output!S99=\"\",T(Input_Output!T99),\"\")","v":""},null,null,{"$f":"IF(Input_Output!V99=\"\",T(Input_Output!W99),\"\")","v":""},null,null,{"$f":"IF(Input_Output!Y99=\"\",T(Input_Output!Z99),\"\")","v":""},null,null,{"$f":"IF(Input_Output!AB99=\"\",T(Input_Output!AC99),\"\")","v":""},null,null,{"$f":"IF(Input_Output!AE99=\"\",T(Input_Output!AF99),\"\")","v":""},null,null,{"$f":"IF(Input_Output!AH99=\"\",T(Input_Output!AI99),\"\")","v":""},null,null,{"$f":"IF(Input_Output!AK99=\"\",T(Input_Output!AL99),\"\")","v":""},null,null,{"$f":"IF(Input_Output!AN99=\"\",T(Input_Output!AO99),\"\")","v":""},null,null,{"$f":"IF(Input_Output!AQ99=\"\",T(Input_Output!AR99),\"\")","v":""},null,null,{"$f":"IF(Input_Output!AT99=\"\",T(Input_Output!AU99),\"\")","v":""},null,null,{"$f":"IF(Input_Output!AW99=\"\",T(Input_Output!AX99),\"\")","v":""},null,null,{"$f":"IF(Input_Output!AZ99=\"\",T(Input_Output!BA99),\"\")","v":""},null,null,{"$f":"IF(Input_Output!BC99=\"\",T(Input_Output!BD99),\"\")","v":""},null,null,{"$f":"IF(Input_Output!BF99=\"\",T(Input_Output!BG99),\"\")","v":""},null,null,{"$f":"IF(Input_Output!BI99=\"\",T(Input_Output!BJ99),\"\")","v":""},null,null,{"$f":"IF(Input_Output!BL99=\"\",T(Input_Output!BM99),\"\")","v":""},null,null,{"$f":"IF(Input_Output!BO99=\"\",T(Input_Output!BP99),\"\")","v":""},null,null,{"$f":"IF(Input_Output!BR99=\"\",T(Input_Output!BS99),\"\")","v":""},null,null,{"$f":"IF(Input_Output!BU99=\"\",T(Input_Output!BV99),\"\")","v":""},null,null,{"$f":"IF(Input_Output!BX99=\"\",T(Input_Output!BY99),\"\")","v":""},null,null,{"$f":"IF(Input_Output!CA99=\"\",T(Input_Output!CB99),\"\")","v":""},null,null,{"$f":"IF(Input_Output!CD99=\"\",T(Input_Output!CE99),\"\")","v":""},null,null,{"$f":"IF(Input_Output!CG99=\"\",T(Input_Output!CH99),\"\")","v":""},null,null,{"$f":"IF(Input_Output!CJ99=\"\",T(Input_Output!CK99),\"\")","v":""},null,null,{"$f":"IF(Input_Output!CM99=\"\",T(Input_Output!CN99),\"\")","v":""},null,null,{"$f":"IF(Input_Output!CP99=\"\",T(Input_Output!CQ99),\"\")","v":""},null,null,{"$f":"IF(Input_Output!CS99=\"\",T(Input_Output!CT99),\"\")","v":""},null,null,{"$f":"IF(Input_Output!CV99=\"\",T(Input_Output!CW99),\"\")","v":""},null,null,{"$f":"IF(Input_Output!CY99=\"\",T(Input_Output!CZ99),\"\")","v":""},null,null,{"$f":"IF(Input_Output!DB99=\"\",T(Input_Output!DC99),\"\")","v":""},null,null,{"$f":"IF(Input_Output!DE99=\"\",T(Input_Output!DF99),\"\")","v":""},null,null,{"$f":"IF(Input_Output!DH99=\"\",T(Input_Output!DI99),\"\")","v":""},null,null,{"$f":"IF(Input_Output!DK99=\"\",T(Input_Output!DL99),\"\")","v":""},null,null,{"$f":"IF(Input_Output!DN99=\"\",T(Input_Output!DO99),\"\")","v":""},null,null,{"$f":"IF(Input_Output!DQ99=\"\",T(Input_Output!DR99),\"\")","v":""},null,null,{"$f":"IF(Input_Output!DT99=\"\",T(Input_Output!DU99),\"\")","v":""},null,null,{"$f":"IF(Input_Output!DW99=\"\",T(Input_Output!DX99),\"\")","v":""},null,null,{"$f":"IF(Input_Output!DZ99=\"\",T(Input_Output!EA99),\"\")","v":""},null,null,{"$f":"IF(Input_Output!EC99=\"\",T(Input_Output!ED99),\"\")","v":""},null,null,{"$f":"IF(Input_Output!EF99=\"\",T(Input_Output!EG99),\"\")","v":""},null,null,{"$f":"IF(Input_Output!EI99=\"\",T(Input_Output!EJ99),\"\")","v":""},null,null,{"$f":"IF(Input_Output!EL99=\"\",T(Input_Output!EM99),\"\")","v":""},null,null,{"$f":"IF(Input_Output!EO99=\"\",T(Input_Output!EP99),\"\")","v":""},null,null,{"$f":"IF(Input_Output!ER99=\"\",T(Input_Output!ES99),\"\")","v":""},null,null,{"$f":"IF(Input_Output!EU99=\"\",T(Input_Output!EV99),\"\")","v":""},null,null,{"$f":"IF(Input_Output!EX99=\"\",T(Input_Output!EY99),\"\")","v":""},null,null,{"$f":"IF(Input_Output!FA99=\"\",T(Input_Output!FB99),\"\")","v":""},null,null,{"$f":"IF(Input_Output!FD99=\"\",T(Input_Output!FE99),\"\")","v":""},null,null,{"$f":"IF(Input_Output!FG99=\"\",T(Input_Output!FH99),\"\")","v":""},null,null,{"$f":"IF(Input_Output!FJ99=\"\",T(Input_Output!FK99),\"\")","v":""},null,null,{"$f":"IF(Input_Output!FM99=\"\",T(Input_Output!FN99),\"\")","v":""},null,null,{"$f":"IF(Input_Output!FP99=\"\",T(Input_Output!FQ99),\"\")","v":""},null,null,{"$f":"IF(Input_Output!FS99=\"\",T(Input_Output!FT99),\"\")","v":""},null,null,{"$f":"IF(Input_Output!FV99=\"\",T(Input_Output!FW99),\"\")","v":""},null,null,{"$f":"IF(Input_Output!FY99=\"\",T(Input_Output!FZ99),\"\")","v":""},null,null,{"$f":"IF(Input_Output!GB99=\"\",T(Input_Output!GC99),\"\")","v":""},null,null,{"$f":"IF(Input_Output!GE99=\"\",T(Input_Output!GF99),\"\")","v":""},null,null,{"$f":"IF(Input_Output!GH99=\"\",T(Input_Output!GI99),\"\")","v":""},null,null,{"$f":"IF(Input_Output!GK99=\"\",T(Input_Output!GL99),\"\")","v":""},null,null,{"$f":"IF(Input_Output!GN99=\"\",T(Input_Output!GO99),\"\")","v":""},null,null,{"$f":"IF(Input_Output!GQ99=\"\",T(Input_Output!GR99),\"\")","v":""},null,null,{"$f":"IF(Input_Output!GT99=\"\",T(Input_Output!GU99),\"\")","v":""},null,null,{"$f":"IF(Input_Output!GW99=\"\",T(Input_Output!GX99),\"\")","v":""},null,null,{"$f":"IF(Input_Output!GZ99=\"\",T(Input_Output!HA99),\"\")","v":""},null,null,{"$f":"IF(Input_Output!HC99=\"\",T(Input_Output!HD99),\"\")","v":""},null,null,{"$f":"IF(Input_Output!HF99=\"\",T(Input_Output!HG99),\"\")","v":""},null,null,{"$f":"IF(Input_Output!HI99=\"\",T(Input_Output!HJ99),\"\")","v":""},null,null,{"$f":"IF(Input_Output!HL99=\"\",T(Input_Output!HM99),\"\")","v":""},null,null,{"$f":"IF(Input_Output!HO99=\"\",T(Input_Output!HP99),\"\")","v":""},null,null,{"$f":"IF(Input_Output!HR99=\"\",T(Input_Output!HS99),\"\")","v":""},null,null,{"$f":"IF(Input_Output!HU99=\"\",T(Input_Output!HV99),\"\")","v":""},null,null,{"$f":"IF(Input_Output!HX99=\"\",T(Input_Output!HY99),\"\")","v":""},null,null,{"$f":"IF(Input_Output!IA99=\"\",T(Input_Output!IB99),\"\")","v":""},null,null,{"$f":"IF(Input_Output!ID99=\"\",T(Input_Output!IE99),\"\")","v":""},null,null,{"$f":"IF(Input_Output!IG99=\"\",T(Input_Output!IH99),\"\")","v":""},null,null,{"$f":"IF(Input_Output!IJ99=\"\",T(Input_Output!IK99),\"\")","v":""},null,null,{"$f":"IF(Input_Output!IM99=\"\",T(Input_Output!IN99),\"\")","v":""},null,null,{"$f":"IF(Input_Output!IP99=\"\",T(Input_Output!IQ99),\"\")","v":""},null,null,{"$f":"IF(Input_Output!IS99=\"\",T(Input_Output!IT99),\"\")","v":""}]
[null,null,null,null,{"$f":"IF(Input_Output!D100=\"\",T(Input_Output!E100),\"\")","v":""},null,null,{"$f":"IF(Input_Output!G100=\"\",T(Input_Output!H100),\"\")","v":""},null,null,{"$f":"IF(Input_Output!J100=\"\",T(Input_Output!K100),\"\")","v":""},null,null,{"$f":"IF(Input_Output!M100=\"\",T(Input_Output!N100),\"\")","v":""},null,null,{"$f":"IF(Input_Output!P100=\"\",T(Input_Output!Q100),\"\")","v":""},null,null,{"$f":"IF(Input_Output!S100=\"\",T(Input_Output!T100),\"\")","v":""},null,null,{"$f":"IF(Input_Output!V100=\"\",T(Input_Output!W100),\"\")","v":""},null,null,{"$f":"IF(Input_Output!Y100=\"\",T(Input_Output!Z100),\"\")","v":""},null,null,{"$f":"IF(Input_Output!AB100=\"\",T(Input_Output!AC100),\"\")","v":""},null,null,{"$f":"IF(Input_Output!AE100=\"\",T(Input_Output!AF100),\"\")","v":""},null,null,{"$f":"IF(Input_Output!AH100=\"\",T(Input_Output!AI100),\"\")","v":""},null,null,{"$f":"IF(Input_Output!AK100=\"\",T(Input_Output!AL100),\"\")","v":""},null,null,{"$f":"IF(Input_Output!AN100=\"\",T(Input_Output!AO100),\"\")","v":""},null,null,{"$f":"IF(Input_Output!AQ100=\"\",T(Input_Output!AR100),\"\")","v":""},null,null,{"$f":"IF(Input_Output!AT100=\"\",T(Input_Output!AU100),\"\")","v":""},null,null,{"$f":"IF(Input_Output!AW100=\"\",T(Input_Output!AX100),\"\")","v":""},null,null,{"$f":"IF(Input_Output!AZ100=\"\",T(Input_Output!BA100),\"\")","v":""},null,null,{"$f":"IF(Input_Output!BC100=\"\",T(Input_Output!BD100),\"\")","v":""},null,null,{"$f":"IF(Input_Output!BF100=\"\",T(Input_Output!BG100),\"\")","v":""},null,null,{"$f":"IF(Input_Output!BI100=\"\",T(Input_Output!BJ100),\"\")","v":""},null,null,{"$f":"IF(Input_Output!BL100=\"\",T(Input_Output!BM100),\"\")","v":""},null,null,{"$f":"IF(Input_Output!BO100=\"\",T(Input_Output!BP100),\"\")","v":""},null,null,{"$f":"IF(Input_Output!BR100=\"\",T(Input_Output!BS100),\"\")","v":""},null,null,{"$f":"IF(Input_Output!BU100=\"\",T(Input_Output!BV100),\"\")","v":""},null,null,{"$f":"IF(Input_Output!BX100=\"\",T(Input_Output!BY100),\"\")","v":""},null,null,{"$f":"IF(Input_Output!CA100=\"\",T(Input_Output!CB100),\"\")","v":""},null,null,{"$f":"IF(Input_Output!CD100=\"\",T(Input_Output!CE100),\"\")","v":""},null,null,{"$f":"IF(Input_Output!CG100=\"\",T(Input_Output!CH100),\"\")","v":""},null,null,{"$f":"IF(Input_Output!CJ100=\"\",T(Input_Output!CK100),\"\")","v":""},null,null,{"$f":"IF(Input_Output!CM100=\"\",T(Input_Output!CN100),\"\")","v":""},null,null,{"$f":"IF(Input_Output!CP100=\"\",T(Input_Output!CQ100),\"\")","v":""},null,null,{"$f":"IF(Input_Output!CS100=\"\",T(Input_Output!CT100),\"\")","v":""},null,null,{"$f":"IF(Input_Output!CV100=\"\",T(Input_Output!CW100),\"\")","v":""},null,null,{"$f":"IF(Input_Output!CY100=\"\",T(Input_Output!CZ100),\"\")","v":""},null,null,{"$f":"IF(Input_Output!DB100=\"\",T(Input_Output!DC100),\"\")","v":""},null,null,{"$f":"IF(Input_Output!DE100=\"\",T(Input_Output!DF100),\"\")","v":""},null,null,{"$f":"IF(Input_Output!DH100=\"\",T(Input_Output!DI100),\"\")","v":""},null,null,{"$f":"IF(Input_Output!DK100=\"\",T(Input_Output!DL100),\"\")","v":""},null,null,{"$f":"IF(Input_Output!DN100=\"\",T(Input_Output!DO100),\"\")","v":""},null,null,{"$f":"IF(Input_Output!DQ100=\"\",T(Input_Output!DR100),\"\")","v":""},null,null,{"$f":"IF(Input_Output!DT100=\"\",T(Input_Output!DU100),\"\")","v":""},null,null,{"$f":"IF(Input_Output!DW100=\"\",T(Input_Output!DX100),\"\")","v":""},null,null,{"$f":"IF(Input_Output!DZ100=\"\",T(Input_Output!EA100),\"\")","v":""},null,null,{"$f":"IF(Input_Output!EC100=\"\",T(Input_Output!ED100),\"\")","v":""},null,null,{"$f":"IF(Input_Output!EF100=\"\",T(Input_Output!EG100),\"\")","v":""},null,null,{"$f":"IF(Input_Output!EI100=\"\",T(Input_Output!EJ100),\"\")","v":""},null,null,{"$f":"IF(Input_Output!EL100=\"\",T(Input_Output!EM100),\"\")","v":""},null,null,{"$f":"IF(Input_Output!EO100=\"\",T(Input_Output!EP100),\"\")","v":""},null,null,{"$f":"IF(Input_Output!ER100=\"\",T(Input_Output!ES100),\"\")","v":""},null,null,{"$f":"IF(Input_Output!EU100=\"\",T(Input_Output!EV100),\"\")","v":""},null,null,{"$f":"IF(Input_Output!EX100=\"\",T(Input_Output!EY100),\"\")","v":""},null,null,{"$f":"IF(Input_Output!FA100=\"\",T(Input_Output!FB100),\"\")","v":""},null,null,{"$f":"IF(Input_Output!FD100=\"\",T(Input_Output!FE100),\"\")","v":""},null,null,{"$f":"IF(Input_Output!FG100=\"\",T(Input_Output!FH100),\"\")","v":""},null,null,{"$f":"IF(Input_Output!FJ100=\"\",T(Input_Output!FK100),\"\")","v":""},null,null,{"$f":"IF(Input_Output!FM100=\"\",T(Input_Output!FN100),\"\")","v":""},null,null,{"$f":"IF(Input_Output!FP100=\"\",T(Input_Output!FQ100),\"\")","v":""},null,null,{"$f":"IF(Input_Output!FS100=\"\",T(Input_Output!FT100),\"\")","v":""},null,null,{"$f":"IF(Input_Output!FV100=\"\",T(Input_Output!FW100),\"\")","v":""},null,null,{"$f":"IF(Input_Output!FY100=\"\",T(Input_Output!FZ100),\"\")","v":""},null,null,{"$f":"IF(Input_Output!GB100=\"\",T(Input_Output!GC100),\"\")","v":""},null,null,{"$f":"IF(Input_Output!GE100=\"\",T(Input_Output!GF100),\"\")","v":""},null,null,{"$f":"IF(Input_Output!GH100=\"\",T(Input_Output!GI100),\"\")","v":""},null,null,{"$f":"IF(Input_Output!GK100=\"\",T(Input_Output!GL100),\"\")","v":""},null,null,{"$f":"IF(Input_Output!GN100=\"\",T(Input_Output!GO100),\"\")","v":""},null,null,{"$f":"IF(Input_Output!GQ100=\"\",T(Input_Output!GR100),\"\")","v":""},null,null,{"$f":"IF(Input_Output!GT100=\"\",T(Input_Output!GU100),\"\")","v":""},null,null,{"$f":"IF(Input_Output!GW100=\"\",T(Input_Output!GX100),\"\")","v":""},null,null,{"$f":"IF(Input_Output!GZ100=\"\",T(Input_Output!HA100),\"\")","v":""},null,null,{"$f":"IF(Input_Output!HC100=\"\",T(Input_Output!HD100),\"\")","v":""},null,null,{"$f":"IF(Input_Output!HF100=\"\",T(Input_Output!HG100),\"\")","v":""},null,null,{"$f":"IF(Input_Output!HI100=\"\",T(Input_Output!HJ100),\"\")","v":""},null,null,{"$f":"IF(Input_Output!HL100=\"\",T(Input_Output!HM100),\"\")","v":""},null,null,{"$f":"IF(Input_Output!HO100=\"\",T(Input_Output!HP100),\"\")","v":""},null,null,{"$f":"IF(Input_Output!HR100=\"\",T(Input_Output!HS100),\"\")","v":""},null,null,{"$f":"IF(Input_Output!HU100=\"\",T(Input_Output!HV100),\"\")","v":""},null,null,{"$f":"IF(Input_Output!HX100=\"\",T(Input_Output!HY100),\"\")","v":""},null,null,{"$f":"IF(Input_Output!IA100=\"\",T(Input_Output!IB100),\"\")","v":""},null,null,{"$f":"IF(Input_Output!ID100=\"\",T(Input_Output!IE100),\"\")","v":""},null,null,{"$f":"IF(Input_Output!IG100=\"\",T(Input_Output!IH100),\"\")","v":""},null,null,{"$f":"IF(Input_Output!IJ100=\"\",T(Input_Output!IK100),\"\")","v":""},null,null,{"$f":"IF(Input_Output!IM100=\"\",T(Input_Output!IN100),\"\")","v":""},null,null,{"$f":"IF(Input_Output!IP100=\"\",T(Input_Output!IQ100),\"\")","v":""},null,null,{"$f":"IF(Input_Output!IS100=\"\",T(Input_Output!IT100),\"\")","v":""}]
[null,null,null,null,{"$f":"IF(Input_Output!D101=\"\",T(Input_Output!E101),\"\")","v":""},null,null,{"$f":"IF(Input_Output!G101=\"\",T(Input_Output!H101),\"\")","v":""},null,null,{"$f":"IF(Input_Output!J101=\"\",T(Input_Output!K101),\"\")","v":""},null,null,{"$f":"IF(Input_Output!M101=\"\",T(Input_Output!N101),\"\")","v":""},null,null,{"$f":"IF(Input_Output!P101=\"\",T(Input_Output!Q101),\"\")","v":""},null,null,{"$f":"IF(Input_Output!S101=\"\",T(Input_Output!T101),\"\")","v":""},null,null,{"$f":"IF(Input_Output!V101=\"\",T(Input_Output!W101),\"\")","v":""},null,null,{"$f":"IF(Input_Output!Y101=\"\",T(Input_Output!Z101),\"\")","v":""},null,null,{"$f":"IF(Input_Output!AB101=\"\",T(Input_Output!AC101),\"\")","v":""},null,null,{"$f":"IF(Input_Output!AE101=\"\",T(Input_Output!AF101),\"\")","v":""},null,null,{"$f":"IF(Input_Output!AH101=\"\",T(Input_Output!AI101),\"\")","v":""},null,null,{"$f":"IF(Input_Output!AK101=\"\",T(Input_Output!AL101),\"\")","v":""},null,null,{"$f":"IF(Input_Output!AN101=\"\",T(Input_Output!AO101),\"\")","v":""},null,null,{"$f":"IF(Input_Output!AQ101=\"\",T(Input_Output!AR101),\"\")","v":""},null,null,{"$f":"IF(Input_Output!AT101=\"\",T(Input_Output!AU101),\"\")","v":""},null,null,{"$f":"IF(Input_Output!AW101=\"\",T(Input_Output!AX101),\"\")","v":""},null,null,{"$f":"IF(Input_Output!AZ101=\"\",T(Input_Output!BA101),\"\")","v":""},null,null,{"$f":"IF(Input_Output!BC101=\"\",T(Input_Output!BD101),\"\")","v":""},null,null,{"$f":"IF(Input_Output!BF101=\"\",T(Input_Output!BG101),\"\")","v":""},null,null,{"$f":"IF(Input_Output!BI101=\"\",T(Input_Output!BJ101),\"\")","v":""},null,null,{"$f":"IF(Input_Output!BL101=\"\",T(Input_Output!BM101),\"\")","v":""},null,null,{"$f":"IF(Input_Output!BO101=\"\",T(Input_Output!BP101),\"\")","v":""},null,null,{"$f":"IF(Input_Output!BR101=\"\",T(Input_Output!BS101),\"\")","v":""},null,null,{"$f":"IF(Input_Output!BU101=\"\",T(Input_Output!BV101),\"\")","v":""},null,null,{"$f":"IF(Input_Output!BX101=\"\",T(Input_Output!BY101),\"\")","v":""},null,null,{"$f":"IF(Input_Output!CA101=\"\",T(Input_Output!CB101),\"\")","v":""},null,null,{"$f":"IF(Input_Output!CD101=\"\",T(Input_Output!CE101),\"\")","v":""},null,null,{"$f":"IF(Input_Output!CG101=\"\",T(Input_Output!CH101),\"\")","v":""},null,null,{"$f":"IF(Input_Output!CJ101=\"\",T(Input_Output!CK101),\"\")","v":""},null,null,{"$f":"IF(Input_Output!CM101=\"\",T(Input_Output!CN101),\"\")","v":""},null,null,{"$f":"IF(Input_Output!CP101=\"\",T(Input_Output!CQ101),\"\")","v":""},null,null,{"$f":"IF(Input_Output!CS101=\"\",T(Input_Output!CT101),\"\")","v":""},null,null,{"$f":"IF(Input_Output!CV101=\"\",T(Input_Output!CW101),\"\")","v":""},null,null,{"$f":"IF(Input_Output!CY101=\"\",T(Input_Output!CZ101),\"\")","v":""},null,null,{"$f":"IF(Input_Output!DB101=\"\",T(Input_Output!DC101),\"\")","v":""},null,null,{"$f":"IF(Input_Output!DE101=\"\",T(Input_Output!DF101),\"\")","v":""},null,null,{"$f":"IF(Input_Output!DH101=\"\",T(Input_Output!DI101),\"\")","v":""},null,null,{"$f":"IF(Input_Output!DK101=\"\",T(Input_Output!DL101),\"\")","v":""},null,null,{"$f":"IF(Input_Output!DN101=\"\",T(Input_Output!DO101),\"\")","v":""},null,null,{"$f":"IF(Input_Output!DQ101=\"\",T(Input_Output!DR101),\"\")","v":""},null,null,{"$f":"IF(Input_Output!DT101=\"\",T(Input_Output!DU101),\"\")","v":""},null,null,{"$f":"IF(Input_Output!DW101=\"\",T(Input_Output!DX101),\"\")","v":""},null,null,{"$f":"IF(Input_Output!DZ101=\"\",T(Input_Output!EA101),\"\")","v":""},null,null,{"$f":"IF(Input_Output!EC101=\"\",T(Input_Output!ED101),\"\")","v":""},null,null,{"$f":"IF(Input_Output!EF101=\"\",T(Input_Output!EG101),\"\")","v":""},null,null,{"$f":"IF(Input_Output!EI101=\"\",T(Input_Output!EJ101),\"\")","v":""},null,null,{"$f":"IF(Input_Output!EL101=\"\",T(Input_Output!EM101),\"\")","v":""},null,null,{"$f":"IF(Input_Output!EO101=\"\",T(Input_Output!EP101),\"\")","v":""},null,null,{"$f":"IF(Input_Output!ER101=\"\",T(Input_Output!ES101),\"\")","v":""},null,null,{"$f":"IF(Input_Output!EU101=\"\",T(Input_Output!EV101),\"\")","v":""},null,null,{"$f":"IF(Input_Output!EX101=\"\",T(Input_Output!EY101),\"\")","v":""},null,null,{"$f":"IF(Input_Output!FA101=\"\",T(Input_Output!FB101),\"\")","v":""},null,null,{"$f":"IF(Input_Output!FD101=\"\",T(Input_Output!FE101),\"\")","v":""},null,null,{"$f":"IF(Input_Output!FG101=\"\",T(Input_Output!FH101),\"\")","v":""},null,null,{"$f":"IF(Input_Output!FJ101=\"\",T(Input_Output!FK101),\"\")","v":""},null,null,{"$f":"IF(Input_Output!FM101=\"\",T(Input_Output!FN101),\"\")","v":""},null,null,{"$f":"IF(Input_Output!FP101=\"\",T(Input_Output!FQ101),\"\")","v":""},null,null,{"$f":"IF(Input_Output!FS101=\"\",T(Input_Output!FT101),\"\")","v":""},null,null,{"$f":"IF(Input_Output!FV101=\"\",T(Input_Output!FW101),\"\")","v":""},null,null,{"$f":"IF(Input_Output!FY101=\"\",T(Input_Output!FZ101),\"\")","v":""},null,null,{"$f":"IF(Input_Output!GB101=\"\",T(Input_Output!GC101),\"\")","v":""},null,null,{"$f":"IF(Input_Output!GE101=\"\",T(Input_Output!GF101),\"\")","v":""},null,null,{"$f":"IF(Input_Output!GH101=\"\",T(Input_Output!GI101),\"\")","v":""},null,null,{"$f":"IF(Input_Output!GK101=\"\",T(Input_Output!GL101),\"\")","v":""},null,null,{"$f":"IF(Input_Output!GN101=\"\",T(Input_Output!GO101),\"\")","v":""},null,null,{"$f":"IF(Input_Output!GQ101=\"\",T(Input_Output!GR101),\"\")","v":""},null,null,{"$f":"IF(Input_Output!GT101=\"\",T(Input_Output!GU101),\"\")","v":""},null,null,{"$f":"IF(Input_Output!GW101=\"\",T(Input_Output!GX101),\"\")","v":""},null,null,{"$f":"IF(Input_Output!GZ101=\"\",T(Input_Output!HA101),\"\")","v":""},null,null,{"$f":"IF(Input_Output!HC101=\"\",T(Input_Output!HD101),\"\")","v":""},null,null,{"$f":"IF(Input_Output!HF101=\"\",T(Input_Output!HG101),\"\")","v":""},null,null,{"$f":"IF(Input_Output!HI101=\"\",T(Input_Output!HJ101),\"\")","v":""},null,null,{"$f":"IF(Input_Output!HL101=\"\",T(Input_Output!HM101),\"\")","v":""},null,null,{"$f":"IF(Input_Output!HO101=\"\",T(Input_Output!HP101),\"\")","v":""},null,null,{"$f":"IF(Input_Output!HR101=\"\",T(Input_Output!HS101),\"\")","v":""},null,null,{"$f":"IF(Input_Output!HU101=\"\",T(Input_Output!HV101),\"\")","v":""},null,null,{"$f":"IF(Input_Output!HX101=\"\",T(Input_Output!HY101),\"\")","v":""},null,null,{"$f":"IF(Input_Output!IA101=\"\",T(Input_Output!IB101),\"\")","v":""},null,null,{"$f":"IF(Input_Output!ID101=\"\",T(Input_Output!IE101),\"\")","v":""},null,null,{"$f":"IF(Input_Output!IG101=\"\",T(Input_Output!IH101),\"\")","v":""},null,null,{"$f":"IF(Input_Output!IJ101=\"\",T(Input_Output!IK101),\"\")","v":""},null,null,{"$f":"IF(Input_Output!IM101=\"\",T(Input_Output!IN101),\"\")","v":""},null,null,{"$f":"IF(Input_Output!IP101=\"\",T(Input_Output!IQ101),\"\")","v":""},null,null,{"$f":"IF(Input_Output!IS101=\"\",T(Input_Output!IT101),\"\")","v":""}]
[null,null,null,null,{"$f":"IF(Input_Output!D102=\"\",T(Input_Output!E102),\"\")","v":""},null,null,{"$f":"IF(Input_Output!G102=\"\",T(Input_Output!H102),\"\")","v":""},null,null,{"$f":"IF(Input_Output!J102=\"\",T(Input_Output!K102),\"\")","v":""},null,null,{"$f":"IF(Input_Output!M102=\"\",T(Input_Output!N102),\"\")","v":""},null,null,{"$f":"IF(Input_Output!P102=\"\",T(Input_Output!Q102),\"\")","v":""},null,null,{"$f":"IF(Input_Output!S102=\"\",T(Input_Output!T102),\"\")","v":""},null,null,{"$f":"IF(Input_Output!V102=\"\",T(Input_Output!W102),\"\")","v":""},null,null,{"$f":"IF(Input_Output!Y102=\"\",T(Input_Output!Z102),\"\")","v":""},null,null,{"$f":"IF(Input_Output!AB102=\"\",T(Input_Output!AC102),\"\")","v":""},null,null,{"$f":"IF(Input_Output!AE102=\"\",T(Input_Output!AF102),\"\")","v":""},null,null,{"$f":"IF(Input_Output!AH102=\"\",T(Input_Output!AI102),\"\")","v":""},null,null,{"$f":"IF(Input_Output!AK102=\"\",T(Input_Output!AL102),\"\")","v":""},null,null,{"$f":"IF(Input_Output!AN102=\"\",T(Input_Output!AO102),\"\")","v":""},null,null,{"$f":"IF(Input_Output!AQ102=\"\",T(Input_Output!AR102),\"\")","v":""},null,null,{"$f":"IF(Input_Output!AT102=\"\",T(Input_Output!AU102),\"\")","v":""},null,null,{"$f":"IF(Input_Output!AW102=\"\",T(Input_Output!AX102),\"\")","v":""},null,null,{"$f":"IF(Input_Output!AZ102=\"\",T(Input_Output!BA102),\"\")","v":""},null,null,{"$f":"IF(Input_Output!BC102=\"\",T(Input_Output!BD102),\"\")","v":""},null,null,{"$f":"IF(Input_Output!BF102=\"\",T(Input_Output!BG102),\"\")","v":""},null,null,{"$f":"IF(Input_Output!BI102=\"\",T(Input_Output!BJ102),\"\")","v":""},null,null,{"$f":"IF(Input_Output!BL102=\"\",T(Input_Output!BM102),\"\")","v":""},null,null,{"$f":"IF(Input_Output!BO102=\"\",T(Input_Output!BP102),\"\")","v":""},null,null,{"$f":"IF(Input_Output!BR102=\"\",T(Input_Output!BS102),\"\")","v":""},null,null,{"$f":"IF(Input_Output!BU102=\"\",T(Input_Output!BV102),\"\")","v":""},null,null,{"$f":"IF(Input_Output!BX102=\"\",T(Input_Output!BY102),\"\")","v":""},null,null,{"$f":"IF(Input_Output!CA102=\"\",T(Input_Output!CB102),\"\")","v":""},null,null,{"$f":"IF(Input_Output!CD102=\"\",T(Input_Output!CE102),\"\")","v":""},null,null,{"$f":"IF(Input_Output!CG102=\"\",T(Input_Output!CH102),\"\")","v":""},null,null,{"$f":"IF(Input_Output!CJ102=\"\",T(Input_Output!CK102),\"\")","v":""},null,null,{"$f":"IF(Input_Output!CM102=\"\",T(Input_Output!CN102),\"\")","v":""},null,null,{"$f":"IF(Input_Output!CP102=\"\",T(Input_Output!CQ102),\"\")","v":""},null,null,{"$f":"IF(Input_Output!CS102=\"\",T(Input_Output!CT102),\"\")","v":""},null,null,{"$f":"IF(Input_Output!CV102=\"\",T(Input_Output!CW102),\"\")","v":""},null,null,{"$f":"IF(Input_Output!CY102=\"\",T(Input_Output!CZ102),\"\")","v":""},null,null,{"$f":"IF(Input_Output!DB102=\"\",T(Input_Output!DC102),\"\")","v":""},null,null,{"$f":"IF(Input_Output!DE102=\"\",T(Input_Output!DF102),\"\")","v":""},null,null,{"$f":"IF(Input_Output!DH102=\"\",T(Input_Output!DI102),\"\")","v":""},null,null,{"$f":"IF(Input_Output!DK102=\"\",T(Input_Output!DL102),\"\")","v":""},null,null,{"$f":"IF(Input_Output!DN102=\"\",T(Input_Output!DO102),\"\")","v":""},null,null,{"$f":"IF(Input_Output!DQ102=\"\",T(Input_Output!DR102),\"\")","v":""},null,null,{"$f":"IF(Input_Output!DT102=\"\",T(Input_Output!DU102),\"\")","v":""},null,null,{"$f":"IF(Input_Output!DW102=\"\",T(Input_Output!DX102),\"\")","v":""},null,null,{"$f":"IF(Input_Output!DZ102=\"\",T(Input_Output!EA102),\"\")","v":""},null,null,{"$f":"IF(Input_Output!EC102=\"\",T(Input_Output!ED102),\"\")","v":""},null,null,{"$f":"IF(Input_Output!EF102=\"\",T(Input_Output!EG102),\"\")","v":""},null,null,{"$f":"IF(Input_Output!EI102=\"\",T(Input_Output!EJ102),\"\")","v":""},null,null,{"$f":"IF(Input_Output!EL102=\"\",T(Input_Output!EM102),\"\")","v":""},null,null,{"$f":"IF(Input_Output!EO102=\"\",T(Input_Output!EP102),\"\")","v":""},null,null,{"$f":"IF(Input_Output!ER102=\"\",T(Input_Output!ES102),\"\")","v":""},null,null,{"$f":"IF(Input_Output!EU102=\"\",T(Input_Output!EV102),\"\")","v":""},null,null,{"$f":"IF(Input_Output!EX102=\"\",T(Input_Output!EY102),\"\")","v":""},null,null,{"$f":"IF(Input_Output!FA102=\"\",T(Input_Output!FB102),\"\")","v":""},null,null,{"$f":"IF(Input_Output!FD102=\"\",T(Input_Output!FE102),\"\")","v":""},null,null,{"$f":"IF(Input_Output!FG102=\"\",T(Input_Output!FH102),\"\")","v":""},null,null,{"$f":"IF(Input_Output!FJ102=\"\",T(Input_Output!FK102),\"\")","v":""},null,null,{"$f":"IF(Input_Output!FM102=\"\",T(Input_Output!FN102),\"\")","v":""},null,null,{"$f":"IF(Input_Output!FP102=\"\",T(Input_Output!FQ102),\"\")","v":""},null,null,{"$f":"IF(Input_Output!FS102=\"\",T(Input_Output!FT102),\"\")","v":""},null,null,{"$f":"IF(Input_Output!FV102=\"\",T(Input_Output!FW102),\"\")","v":""},null,null,{"$f":"IF(Input_Output!FY102=\"\",T(Input_Output!FZ102),\"\")","v":""},null,null,{"$f":"IF(Input_Output!GB102=\"\",T(Input_Output!GC102),\"\")","v":""},null,null,{"$f":"IF(Input_Output!GE102=\"\",T(Input_Output!GF102),\"\")","v":""},null,null,{"$f":"IF(Input_Output!GH102=\"\",T(Input_Output!GI102),\"\")","v":""},null,null,{"$f":"IF(Input_Output!GK102=\"\",T(Input_Output!GL102),\"\")","v":""},null,null,{"$f":"IF(Input_Output!GN102=\"\",T(Input_Output!GO102),\"\")","v":""},null,null,{"$f":"IF(Input_Output!GQ102=\"\",T(Input_Output!GR102),\"\")","v":""},null,null,{"$f":"IF(Input_Output!GT102=\"\",T(Input_Output!GU102),\"\")","v":""},null,null,{"$f":"IF(Input_Output!GW102=\"\",T(Input_Output!GX102),\"\")","v":""},null,null,{"$f":"IF(Input_Output!GZ102=\"\",T(Input_Output!HA102),\"\")","v":""},null,null,{"$f":"IF(Input_Output!HC102=\"\",T(Input_Output!HD102),\"\")","v":""},null,null,{"$f":"IF(Input_Output!HF102=\"\",T(Input_Output!HG102),\"\")","v":""},null,null,{"$f":"IF(Input_Output!HI102=\"\",T(Input_Output!HJ102),\"\")","v":""},null,null,{"$f":"IF(Input_Output!HL102=\"\",T(Input_Output!HM102),\"\")","v":""},null,null,{"$f":"IF(Input_Output!HO102=\"\",T(Input_Output!HP102),\"\")","v":""},null,null,{"$f":"IF(Input_Output!HR102=\"\",T(Input_Output!HS102),\"\")","v":""},null,null,{"$f":"IF(Input_Output!HU102=\"\",T(Input_Output!HV102),\"\")","v":""},null,null,{"$f":"IF(Input_Output!HX102=\"\",T(Input_Output!HY102),\"\")","v":""},null,null,{"$f":"IF(Input_Output!IA102=\"\",T(Input_Output!IB102),\"\")","v":""},null,null,{"$f":"IF(Input_Output!ID102=\"\",T(Input_Output!IE102),\"\")","v":""},null,null,{"$f":"IF(Input_Output!IG102=\"\",T(Input_Output!IH102),\"\")","v":""},null,null,{"$f":"IF(Input_Output!IJ102=\"\",T(Input_Output!IK102),\"\")","v":""},null,null,{"$f":"IF(Input_Output!IM102=\"\",T(Input_Output!IN102),\"\")","v":""},null,null,{"$f":"IF(Input_Output!IP102=\"\",T(Input_Output!IQ102),\"\")","v":""},null,null,{"$f":"IF(Input_Output!IS102=\"\",T(Input_Output!IT102),\"\")","v":""}]
[null,null,null,null,{"$f":"IF(Input_Output!D103=\"\",T(Input_Output!E103),\"\")","v":""},null,null,{"$f":"IF(Input_Output!G103=\"\",T(Input_Output!H103),\"\")","v":""},null,null,{"$f":"IF(Input_Output!J103=\"\",T(Input_Output!K103),\"\")","v":""},null,null,{"$f":"IF(Input_Output!M103=\"\",T(Input_Output!N103),\"\")","v":""},null,null,{"$f":"IF(Input_Output!P103=\"\",T(Input_Output!Q103),\"\")","v":""},null,null,{"$f":"IF(Input_Output!S103=\"\",T(Input_Output!T103),\"\")","v":""},null,null,{"$f":"IF(Input_Output!V103=\"\",T(Input_Output!W103),\"\")","v":""},null,null,{"$f":"IF(Input_Output!Y103=\"\",T(Input_Output!Z103),\"\")","v":""},null,null,{"$f":"IF(Input_Output!AB103=\"\",T(Input_Output!AC103),\"\")","v":""},null,null,{"$f":"IF(Input_Output!AE103=\"\",T(Input_Output!AF103),\"\")","v":""},null,null,{"$f":"IF(Input_Output!AH103=\"\",T(Input_Output!AI103),\"\")","v":""},null,null,{"$f":"IF(Input_Output!AK103=\"\",T(Input_Output!AL103),\"\")","v":""},null,null,{"$f":"IF(Input_Output!AN103=\"\",T(Input_Output!AO103),\"\")","v":""},null,null,{"$f":"IF(Input_Output!AQ103=\"\",T(Input_Output!AR103),\"\")","v":""},null,null,{"$f":"IF(Input_Output!AT103=\"\",T(Input_Output!AU103),\"\")","v":""},null,null,{"$f":"IF(Input_Output!AW103=\"\",T(Input_Output!AX103),\"\")","v":""},null,null,{"$f":"IF(Input_Output!AZ103=\"\",T(Input_Output!BA103),\"\")","v":""},null,null,{"$f":"IF(Input_Output!BC103=\"\",T(Input_Output!BD103),\"\")","v":""},null,null,{"$f":"IF(Input_Output!BF103=\"\",T(Input_Output!BG103),\"\")","v":""},null,null,{"$f":"IF(Input_Output!BI103=\"\",T(Input_Output!BJ103),\"\")","v":""},null,null,{"$f":"IF(Input_Output!BL103=\"\",T(Input_Output!BM103),\"\")","v":""},null,null,{"$f":"IF(Input_Output!BO103=\"\",T(Input_Output!BP103),\"\")","v":""},null,null,{"$f":"IF(Input_Output!BR103=\"\",T(Input_Output!BS103),\"\")","v":""},null,null,{"$f":"IF(Input_Output!BU103=\"\",T(Input_Output!BV103),\"\")","v":""},null,null,{"$f":"IF(Input_Output!BX103=\"\",T(Input_Output!BY103),\"\")","v":""},null,null,{"$f":"IF(Input_Output!CA103=\"\",T(Input_Output!CB103),\"\")","v":""},null,null,{"$f":"IF(Input_Output!CD103=\"\",T(Input_Output!CE103),\"\")","v":""},null,null,{"$f":"IF(Input_Output!CG103=\"\",T(Input_Output!CH103),\"\")","v":""},null,null,{"$f":"IF(Input_Output!CJ103=\"\",T(Input_Output!CK103),\"\")","v":""},null,null,{"$f":"IF(Input_Output!CM103=\"\",T(Input_Output!CN103),\"\")","v":""},null,null,{"$f":"IF(Input_Output!CP103=\"\",T(Input_Output!CQ103),\"\")","v":""},null,null,{"$f":"IF(Input_Output!CS103=\"\",T(Input_Output!CT103),\"\")","v":""},null,null,{"$f":"IF(Input_Output!CV103=\"\",T(Input_Output!CW103),\"\")","v":""},null,null,{"$f":"IF(Input_Output!CY103=\"\",T(Input_Output!CZ103),\"\")","v":""},null,null,{"$f":"IF(Input_Output!DB103=\"\",T(Input_Output!DC103),\"\")","v":""},null,null,{"$f":"IF(Input_Output!DE103=\"\",T(Input_Output!DF103),\"\")","v":""},null,null,{"$f":"IF(Input_Output!DH103=\"\",T(Input_Output!DI103),\"\")","v":""},null,null,{"$f":"IF(Input_Output!DK103=\"\",T(Input_Output!DL103),\"\")","v":""},null,null,{"$f":"IF(Input_Output!DN103=\"\",T(Input_Output!DO103),\"\")","v":""},null,null,{"$f":"IF(Input_Output!DQ103=\"\",T(Input_Output!DR103),\"\")","v":""},null,null,{"$f":"IF(Input_Output!DT103=\"\",T(Input_Output!DU103),\"\")","v":""},null,null,{"$f":"IF(Input_Output!DW103=\"\",T(Input_Output!DX103),\"\")","v":""},null,null,{"$f":"IF(Input_Output!DZ103=\"\",T(Input_Output!EA103),\"\")","v":""},null,null,{"$f":"IF(Input_Output!EC103=\"\",T(Input_Output!ED103),\"\")","v":""},null,null,{"$f":"IF(Input_Output!EF103=\"\",T(Input_Output!EG103),\"\")","v":""},null,null,{"$f":"IF(Input_Output!EI103=\"\",T(Input_Output!EJ103),\"\")","v":""},null,null,{"$f":"IF(Input_Output!EL103=\"\",T(Input_Output!EM103),\"\")","v":""},null,null,{"$f":"IF(Input_Output!EO103=\"\",T(Input_Output!EP103),\"\")","v":""},null,null,{"$f":"IF(Input_Output!ER103=\"\",T(Input_Output!ES103),\"\")","v":""},null,null,{"$f":"IF(Input_Output!EU103=\"\",T(Input_Output!EV103),\"\")","v":""},null,null,{"$f":"IF(Input_Output!EX103=\"\",T(Input_Output!EY103),\"\")","v":""},null,null,{"$f":"IF(Input_Output!FA103=\"\",T(Input_Output!FB103),\"\")","v":""},null,null,{"$f":"IF(Input_Output!FD103=\"\",T(Input_Output!FE103),\"\")","v":""},null,null,{"$f":"IF(Input_Output!FG103=\"\",T(Input_Output!FH103),\"\")","v":""},null,null,{"$f":"IF(Input_Output!FJ103=\"\",T(Input_Output!FK103),\"\")","v":""},null,null,{"$f":"IF(Input_Output!FM103=\"\",T(Input_Output!FN103),\"\")","v":""},null,null,{"$f":"IF(Input_Output!FP103=\"\",T(Input_Output!FQ103),\"\")","v":""},null,null,{"$f":"IF(Input_Output!FS103=\"\",T(Input_Output!FT103),\"\")","v":""},null,null,{"$f":"IF(Input_Output!FV103=\"\",T(Input_Output!FW103),\"\")","v":""},null,null,{"$f":"IF(Input_Output!FY103=\"\",T(Input_Output!FZ103),\"\")","v":""},null,null,{"$f":"IF(Input_Output!GB103=\"\",T(Input_Output!GC103),\"\")","v":""},null,null,{"$f":"IF(Input_Output!GE103=\"\",T(Input_Output!GF103),\"\")","v":""},null,null,{"$f":"IF(Input_Output!GH103=\"\",T(Input_Output!GI103),\"\")","v":""},null,null,{"$f":"IF(Input_Output!GK103=\"\",T(Input_Output!GL103),\"\")","v":""},null,null,{"$f":"IF(Input_Output!GN103=\"\",T(Input_Output!GO103),\"\")","v":""},null,null,{"$f":"IF(Input_Output!GQ103=\"\",T(Input_Output!GR103),\"\")","v":""},null,null,{"$f":"IF(Input_Output!GT103=\"\",T(Input_Output!GU103),\"\")","v":""},null,null,{"$f":"IF(Input_Output!GW103=\"\",T(Input_Output!GX103),\"\")","v":""},null,null,{"$f":"IF(Input_Output!GZ103=\"\",T(Input_Output!HA103),\"\")","v":""},null,null,{"$f":"IF(Input_Output!HC103=\"\",T(Input_Output!HD103),\"\")","v":""},null,null,{"$f":"IF(Input_Output!HF103=\"\",T(Input_Output!HG103),\"\")","v":""},null,null,{"$f":"IF(Input_Output!HI103=\"\",T(Input_Output!HJ103),\"\")","v":""},null,null,{"$f":"IF(Input_Output!HL103=\"\",T(Input_Output!HM103),\"\")","v":""},null,null,{"$f":"IF(Input_Output!HO103=\"\",T(Input_Output!HP103),\"\")","v":""},null,null,{"$f":"IF(Input_Output!HR103=\"\",T(Input_Output!HS103),\"\")","v":""},null,null,{"$f":"IF(Input_Output!HU103=\"\",T(Input_Output!HV103),\"\")","v":""},null,null,{"$f":"IF(Input_Output!HX103=\"\",T(Input_Output!HY103),\"\")","v":""},null,null,{"$f":"IF(Input_Output!IA103=\"\",T(Input_Output!IB103),\"\")","v":""},null,null,{"$f":"IF(Input_Output!ID103=\"\",T(Input_Output!IE103),\"\")","v":""},null,null,{"$f":"IF(Input_Output!IG103=\"\",T(Input_Output!IH103),\"\")","v":""},null,null,{"$f":"IF(Input_Output!IJ103=\"\",T(Input_Output!IK103),\"\")","v":""},null,null,{"$f":"IF(Input_Output!IM103=\"\",T(Input_Output!IN103),\"\")","v":""},null,null,{"$f":"IF(Input_Output!IP103=\"\",T(Input_Output!IQ103),\"\")","v":""},null,null,{"$f":"IF(Input_Output!IS103=\"\",T(Input_Output!IT103),\"\")","v":""}]
[null,null,null,null,{"$f":"IF(Input_Output!D104=\"\",T(Input_Output!E104),\"\")","v":""},null,null,{"$f":"IF(Input_Output!G104=\"\",T(Input_Output!H104),\"\")","v":""},null,null,{"$f":"IF(Input_Output!J104=\"\",T(Input_Output!K104),\"\")","v":""},null,null,{"$f":"IF(Input_Output!M104=\"\",T(Input_Output!N104),\"\")","v":""},null,null,{"$f":"IF(Input_Output!P104=\"\",T(Input_Output!Q104),\"\")","v":""},null,null,{"$f":"IF(Input_Output!S104=\"\",T(Input_Output!T104),\"\")","v":""},null,null,{"$f":"IF(Input_Output!V104=\"\",T(Input_Output!W104),\"\")","v":""},null,null,{"$f":"IF(Input_Output!Y104=\"\",T(Input_Output!Z104),\"\")","v":""},null,null,{"$f":"IF(Input_Output!AB104=\"\",T(Input_Output!AC104),\"\")","v":""},null,null,{"$f":"IF(Input_Output!AE104=\"\",T(Input_Output!AF104),\"\")","v":""},null,null,{"$f":"IF(Input_Output!AH104=\"\",T(Input_Output!AI104),\"\")","v":""},null,null,{"$f":"IF(Input_Output!AK104=\"\",T(Input_Output!AL104),\"\")","v":""},null,null,{"$f":"IF(Input_Output!AN104=\"\",T(Input_Output!AO104),\"\")","v":""},null,null,{"$f":"IF(Input_Output!AQ104=\"\",T(Input_Output!AR104),\"\")","v":""},null,null,{"$f":"IF(Input_Output!AT104=\"\",T(Input_Output!AU104),\"\")","v":""},null,null,{"$f":"IF(Input_Output!AW104=\"\",T(Input_Output!AX104),\"\")","v":""},null,null,{"$f":"IF(Input_Output!AZ104=\"\",T(Input_Output!BA104),\"\")","v":""},null,null,{"$f":"IF(Input_Output!BC104=\"\",T(Input_Output!BD104),\"\")","v":""},null,null,{"$f":"IF(Input_Output!BF104=\"\",T(Input_Output!BG104),\"\")","v":""},null,null,{"$f":"IF(Input_Output!BI104=\"\",T(Input_Output!BJ104),\"\")","v":""},null,null,{"$f":"IF(Input_Output!BL104=\"\",T(Input_Output!BM104),\"\")","v":""},null,null,{"$f":"IF(Input_Output!BO104=\"\",T(Input_Output!BP104),\"\")","v":""},null,null,{"$f":"IF(Input_Output!BR104=\"\",T(Input_Output!BS104),\"\")","v":""},null,null,{"$f":"IF(Input_Output!BU104=\"\",T(Input_Output!BV104),\"\")","v":""},null,null,{"$f":"IF(Input_Output!BX104=\"\",T(Input_Output!BY104),\"\")","v":""},null,null,{"$f":"IF(Input_Output!CA104=\"\",T(Input_Output!CB104),\"\")","v":""},null,null,{"$f":"IF(Input_Output!CD104=\"\",T(Input_Output!CE104),\"\")","v":""},null,null,{"$f":"IF(Input_Output!CG104=\"\",T(Input_Output!CH104),\"\")","v":""},null,null,{"$f":"IF(Input_Output!CJ104=\"\",T(Input_Output!CK104),\"\")","v":""},null,null,{"$f":"IF(Input_Output!CM104=\"\",T(Input_Output!CN104),\"\")","v":""},null,null,{"$f":"IF(Input_Output!CP104=\"\",T(Input_Output!CQ104),\"\")","v":""},null,null,{"$f":"IF(Input_Output!CS104=\"\",T(Input_Output!CT104),\"\")","v":""},null,null,{"$f":"IF(Input_Output!CV104=\"\",T(Input_Output!CW104),\"\")","v":""},null,null,{"$f":"IF(Input_Output!CY104=\"\",T(Input_Output!CZ104),\"\")","v":""},null,null,{"$f":"IF(Input_Output!DB104=\"\",T(Input_Output!DC104),\"\")","v":""},null,null,{"$f":"IF(Input_Output!DE104=\"\",T(Input_Output!DF104),\"\")","v":""},null,null,{"$f":"IF(Input_Output!DH104=\"\",T(Input_Output!DI104),\"\")","v":""},null,null,{"$f":"IF(Input_Output!DK104=\"\",T(Input_Output!DL104),\"\")","v":""},null,null,{"$f":"IF(Input_Output!DN104=\"\",T(Input_Output!DO104),\"\")","v":""},null,null,{"$f":"IF(Input_Output!DQ104=\"\",T(Input_Output!DR104),\"\")","v":""},null,null,{"$f":"IF(Input_Output!DT104=\"\",T(Input_Output!DU104),\"\")","v":""},null,null,{"$f":"IF(Input_Output!DW104=\"\",T(Input_Output!DX104),\"\")","v":""},null,null,{"$f":"IF(Input_Output!DZ104=\"\",T(Input_Output!EA104),\"\")","v":""},null,null,{"$f":"IF(Input_Output!EC104=\"\",T(Input_Output!ED104),\"\")","v":""},null,null,{"$f":"IF(Input_Output!EF104=\"\",T(Input_Output!EG104),\"\")","v":""},null,null,{"$f":"IF(Input_Output!EI104=\"\",T(Input_Output!EJ104),\"\")","v":""},null,null,{"$f":"IF(Input_Output!EL104=\"\",T(Input_Output!EM104),\"\")","v":""},null,null,{"$f":"IF(Input_Output!EO104=\"\",T(Input_Output!EP104),\"\")","v":""},null,null,{"$f":"IF(Input_Output!ER104=\"\",T(Input_Output!ES104),\"\")","v":""},null,null,{"$f":"IF(Input_Output!EU104=\"\",T(Input_Output!EV104),\"\")","v":""},null,null,{"$f":"IF(Input_Output!EX104=\"\",T(Input_Output!EY104),\"\")","v":""},null,null,{"$f":"IF(Input_Output!FA104=\"\",T(Input_Output!FB104),\"\")","v":""},null,null,{"$f":"IF(Input_Output!FD104=\"\",T(Input_Output!FE104),\"\")","v":""},null,null,{"$f":"IF(Input_Output!FG104=\"\",T(Input_Output!FH104),\"\")","v":""},null,null,{"$f":"IF(Input_Output!FJ104=\"\",T(Input_Output!FK104),\"\")","v":""},null,null,{"$f":"IF(Input_Output!FM104=\"\",T(Input_Output!FN104),\"\")","v":""},null,null,{"$f":"IF(Input_Output!FP104=\"\",T(Input_Output!FQ104),\"\")","v":""},null,null,{"$f":"IF(Input_Output!FS104=\"\",T(Input_Output!FT104),\"\")","v":""},null,null,{"$f":"IF(Input_Output!FV104=\"\",T(Input_Output!FW104),\"\")","v":""},null,null,{"$f":"IF(Input_Output!FY104=\"\",T(Input_Output!FZ104),\"\")","v":""},null,null,{"$f":"IF(Input_Output!GB104=\"\",T(Input_Output!GC104),\"\")","v":""},null,null,{"$f":"IF(Input_Output!GE104=\"\",T(Input_Output!GF104),\"\")","v":""},null,null,{"$f":"IF(Input_Output!GH104=\"\",T(Input_Output!GI104),\"\")","v":""},null,null,{"$f":"IF(Input_Output!GK104=\"\",T(Input_Output!GL104),\"\")","v":""},null,null,{"$f":"IF(Input_Output!GN104=\"\",T(Input_Output!GO104),\"\")","v":""},null,null,{"$f":"IF(Input_Output!GQ104=\"\",T(Input_Output!GR104),\"\")","v":""},null,null,{"$f":"IF(Input_Output!GT104=\"\",T(Input_Output!GU104),\"\")","v":""},null,null,{"$f":"IF(Input_Output!GW104=\"\",T(Input_Output!GX104),\"\")","v":""},null,null,{"$f":"IF(Input_Output!GZ104=\"\",T(Input_Output!HA104),\"\")","v":""},null,null,{"$f":"IF(Input_Output!HC104=\"\",T(Input_Output!HD104),\"\")","v":""},null,null,{"$f":"IF(Input_Output!HF104=\"\",T(Input_Output!HG104),\"\")","v":""},null,null,{"$f":"IF(Input_Output!HI104=\"\",T(Input_Output!HJ104),\"\")","v":""},null,null,{"$f":"IF(Input_Output!HL104=\"\",T(Input_Output!HM104),\"\")","v":""},null,null,{"$f":"IF(Input_Output!HO104=\"\",T(Input_Output!HP104),\"\")","v":""},null,null,{"$f":"IF(Input_Output!HR104=\"\",T(Input_Output!HS104),\"\")","v":""},null,null,{"$f":"IF(Input_Output!HU104=\"\",T(Input_Output!HV104),\"\")","v":""},null,null,{"$f":"IF(Input_Output!HX104=\"\",T(Input_Output!HY104),\"\")","v":""},null,null,{"$f":"IF(Input_Output!IA104=\"\",T(Input_Output!IB104),\"\")","v":""},null,null,{"$f":"IF(Input_Output!ID104=\"\",T(Input_Output!IE104),\"\")","v":""},null,null,{"$f":"IF(Input_Output!IG104=\"\",T(Input_Output!IH104),\"\")","v":""},null,null,{"$f":"IF(Input_Output!IJ104=\"\",T(Input_Output!IK104),\"\")","v":""},null,null,{"$f":"IF(Input_Output!IM104=\"\",T(Input_Output!IN104),\"\")","v":""},null,null,{"$f":"IF(Input_Output!IP104=\"\",T(Input_Output!IQ104),\"\")","v":""},null,null,{"$f":"IF(Input_Output!IS104=\"\",T(Input_Output!IT104),\"\")","v":""}]
[null,null,null,null,{"$f":"IF(Input_Output!D105=\"\",T(Input_Output!E105),\"\")","v":""},null,null,{"$f":"IF(Input_Output!G105=\"\",T(Input_Output!H105),\"\")","v":""},null,null,{"$f":"IF(Input_Output!J105=\"\",T(Input_Output!K105),\"\")","v":""},null,null,{"$f":"IF(Input_Output!M105=\"\",T(Input_Output!N105),\"\")","v":""},null,null,{"$f":"IF(Input_Output!P105=\"\",T(Input_Output!Q105),\"\")","v":""},null,null,{"$f":"IF(Input_Output!S105=\"\",T(Input_Output!T105),\"\")","v":""},null,null,{"$f":"IF(Input_Output!V105=\"\",T(Input_Output!W105),\"\")","v":""},null,null,{"$f":"IF(Input_Output!Y105=\"\",T(Input_Output!Z105),\"\")","v":""},null,null,{"$f":"IF(Input_Output!AB105=\"\",T(Input_Output!AC105),\"\")","v":""},null,null,{"$f":"IF(Input_Output!AE105=\"\",T(Input_Output!AF105),\"\")","v":""},null,null,{"$f":"IF(Input_Output!AH105=\"\",T(Input_Output!AI105),\"\")","v":""},null,null,{"$f":"IF(Input_Output!AK105=\"\",T(Input_Output!AL105),\"\")","v":""},null,null,{"$f":"IF(Input_Output!AN105=\"\",T(Input_Output!AO105),\"\")","v":""},null,null,{"$f":"IF(Input_Output!AQ105=\"\",T(Input_Output!AR105),\"\")","v":""},null,null,{"$f":"IF(Input_Output!AT105=\"\",T(Input_Output!AU105),\"\")","v":""},null,null,{"$f":"IF(Input_Output!AW105=\"\",T(Input_Output!AX105),\"\")","v":""},null,null,{"$f":"IF(Input_Output!AZ105=\"\",T(Input_Output!BA105),\"\")","v":""},null,null,{"$f":"IF(Input_Output!BC105=\"\",T(Input_Output!BD105),\"\")","v":""},null,null,{"$f":"IF(Input_Output!BF105=\"\",T(Input_Output!BG105),\"\")","v":""},null,null,{"$f":"IF(Input_Output!BI105=\"\",T(Input_Output!BJ105),\"\")","v":""},null,null,{"$f":"IF(Input_Output!BL105=\"\",T(Input_Output!BM105),\"\")","v":""},null,null,{"$f":"IF(Input_Output!BO105=\"\",T(Input_Output!BP105),\"\")","v":""},null,null,{"$f":"IF(Input_Output!BR105=\"\",T(Input_Output!BS105),\"\")","v":""},null,null,{"$f":"IF(Input_Output!BU105=\"\",T(Input_Output!BV105),\"\")","v":""},null,null,{"$f":"IF(Input_Output!BX105=\"\",T(Input_Output!BY105),\"\")","v":""},null,null,{"$f":"IF(Input_Output!CA105=\"\",T(Input_Output!CB105),\"\")","v":""},null,null,{"$f":"IF(Input_Output!CD105=\"\",T(Input_Output!CE105),\"\")","v":""},null,null,{"$f":"IF(Input_Output!CG105=\"\",T(Input_Output!CH105),\"\")","v":""},null,null,{"$f":"IF(Input_Output!CJ105=\"\",T(Input_Output!CK105),\"\")","v":""},null,null,{"$f":"IF(Input_Output!CM105=\"\",T(Input_Output!CN105),\"\")","v":""},null,null,{"$f":"IF(Input_Output!CP105=\"\",T(Input_Output!CQ105),\"\")","v":""},null,null,{"$f":"IF(Input_Output!CS105=\"\",T(Input_Output!CT105),\"\")","v":""},null,null,{"$f":"IF(Input_Output!CV105=\"\",T(Input_Output!CW105),\"\")","v":""},null,null,{"$f":"IF(Input_Output!CY105=\"\",T(Input_Output!CZ105),\"\")","v":""},null,null,{"$f":"IF(Input_Output!DB105=\"\",T(Input_Output!DC105),\"\")","v":""},null,null,{"$f":"IF(Input_Output!DE105=\"\",T(Input_Output!DF105),\"\")","v":""},null,null,{"$f":"IF(Input_Output!DH105=\"\",T(Input_Output!DI105),\"\")","v":""},null,null,{"$f":"IF(Input_Output!DK105=\"\",T(Input_Output!DL105),\"\")","v":""},null,null,{"$f":"IF(Input_Output!DN105=\"\",T(Input_Output!DO105),\"\")","v":""},null,null,{"$f":"IF(Input_Output!DQ105=\"\",T(Input_Output!DR105),\"\")","v":""},null,null,{"$f":"IF(Input_Output!DT105=\"\",T(Input_Output!DU105),\"\")","v":""},null,null,{"$f":"IF(Input_Output!DW105=\"\",T(Input_Output!DX105),\"\")","v":""},null,null,{"$f":"IF(Input_Output!DZ105=\"\",T(Input_Output!EA105),\"\")","v":""},null,null,{"$f":"IF(Input_Output!EC105=\"\",T(Input_Output!ED105),\"\")","v":""},null,null,{"$f":"IF(Input_Output!EF105=\"\",T(Input_Output!EG105),\"\")","v":""},null,null,{"$f":"IF(Input_Output!EI105=\"\",T(Input_Output!EJ105),\"\")","v":""},null,null,{"$f":"IF(Input_Output!EL105=\"\",T(Input_Output!EM105),\"\")","v":""},null,null,{"$f":"IF(Input_Output!EO105=\"\",T(Input_Output!EP105),\"\")","v":""},null,null,{"$f":"IF(Input_Output!ER105=\"\",T(Input_Output!ES105),\"\")","v":""},null,null,{"$f":"IF(Input_Output!EU105=\"\",T(Input_Output!EV105),\"\")","v":""},null,null,{"$f":"IF(Input_Output!EX105=\"\",T(Input_Output!EY105),\"\")","v":""},null,null,{"$f":"IF(Input_Output!FA105=\"\",T(Input_Output!FB105),\"\")","v":""},null,null,{"$f":"IF(Input_Output!FD105=\"\",T(Input_Output!FE105),\"\")","v":""},null,null,{"$f":"IF(Input_Output!FG105=\"\",T(Input_Output!FH105),\"\")","v":""},null,null,{"$f":"IF(Input_Output!FJ105=\"\",T(Input_Output!FK105),\"\")","v":""},null,null,{"$f":"IF(Input_Output!FM105=\"\",T(Input_Output!FN105),\"\")","v":""},null,null,{"$f":"IF(Input_Output!FP105=\"\",T(Input_Output!FQ105),\"\")","v":""},null,null,{"$f":"IF(Input_Output!FS105=\"\",T(Input_Output!FT105),\"\")","v":""},null,null,{"$f":"IF(Input_Output!FV105=\"\",T(Input_Output!FW105),\"\")","v":""},null,null,{"$f":"IF(Input_Output!FY105=\"\",T(Input_Output!FZ105),\"\")","v":""},null,null,{"$f":"IF(Input_Output!GB105=\"\",T(Input_Output!GC105),\"\")","v":""},null,null,{"$f":"IF(Input_Output!GE105=\"\",T(Input_Output!GF105),\"\")","v":""},null,null,{"$f":"IF(Input_Output!GH105=\"\",T(Input_Output!GI105),\"\")","v":""},null,null,{"$f":"IF(Input_Output!GK105=\"\",T(Input_Output!GL105),\"\")","v":""},null,null,{"$f":"IF(Input_Output!GN105=\"\",T(Input_Output!GO105),\"\")","v":""},null,null,{"$f":"IF(Input_Output!GQ105=\"\",T(Input_Output!GR105),\"\")","v":""},null,null,{"$f":"IF(Input_Output!GT105=\"\",T(Input_Output!GU105),\"\")","v":""},null,null,{"$f":"IF(Input_Output!GW105=\"\",T(Input_Output!GX105),\"\")","v":""},null,null,{"$f":"IF(Input_Output!GZ105=\"\",T(Input_Output!HA105),\"\")","v":""},null,null,{"$f":"IF(Input_Output!HC105=\"\",T(Input_Output!HD105),\"\")","v":""},null,null,{"$f":"IF(Input_Output!HF105=\"\",T(Input_Output!HG105),\"\")","v":""},null,null,{"$f":"IF(Input_Output!HI105=\"\",T(Input_Output!HJ105),\"\")","v":""},null,null,{"$f":"IF(Input_Output!HL105=\"\",T(Input_Output!HM105),\"\")","v":""},null,null,{"$f":"IF(Input_Output!HO105=\"\",T(Input_Output!HP105),\"\")","v":""},null,null,{"$f":"IF(Input_Output!HR105=\"\",T(Input_Output!HS105),\"\")","v":""},null,null,{"$f":"IF(Input_Output!HU105=\"\",T(Input_Output!HV105),\"\")","v":""},null,null,{"$f":"IF(Input_Output!HX105=\"\",T(Input_Output!HY105),\"\")","v":""},null,null,{"$f":"IF(Input_Output!IA105=\"\",T(Input_Output!IB105),\"\")","v":""},null,null,{"$f":"IF(Input_Output!ID105=\"\",T(Input_Output!IE105),\"\")","v":""},null,null,{"$f":"IF(Input_Output!IG105=\"\",T(Input_Output!IH105),\"\")","v":""},null,null,{"$f":"IF(Input_Output!IJ105=\"\",T(Input_Output!IK105),\"\")","v":""},null,null,{"$f":"IF(Input_Output!IM105=\"\",T(Input_Output!IN105),\"\")","v":""},null,null,{"$f":"IF(Input_Output!IP105=\"\",T(Input_Output!IQ105),\"\")","v":""},null,null,{"$f":"IF(Input_Output!IS105=\"\",T(Input_Output!IT105),\"\")","v":""}]
[null,null,null,null,{"$f":"IF(Input_Output!D106=\"\",T(Input_Output!E106),\"\")","v":""},null,null,{"$f":"IF(Input_Output!G106=\"\",T(Input_Output!H106),\"\")","v":""},null,null,{"$f":"IF(Input_Output!J106=\"\",T(Input_Output!K106),\"\")","v":""},null,null,{"$f":"IF(Input_Output!M106=\"\",T(Input_Output!N106),\"\")","v":""},null,null,{"$f":"IF(Input_Output!P106=\"\",T(Input_Output!Q106),\"\")","v":""},null,null,{"$f":"IF(Input_Output!S106=\"\",T(Input_Output!T106),\"\")","v":""},null,null,{"$f":"IF(Input_Output!V106=\"\",T(Input_Output!W106),\"\")","v":""},null,null,{"$f":"IF(Input_Output!Y106=\"\",T(Input_Output!Z106),\"\")","v":""},null,null,{"$f":"IF(Input_Output!AB106=\"\",T(Input_Output!AC106),\"\")","v":""},null,null,{"$f":"IF(Input_Output!AE106=\"\",T(Input_Output!AF106),\"\")","v":""},null,null,{"$f":"IF(Input_Output!AH106=\"\",T(Input_Output!AI106),\"\")","v":""},null,null,{"$f":"IF(Input_Output!AK106=\"\",T(Input_Output!AL106),\"\")","v":""},null,null,{"$f":"IF(Input_Output!AN106=\"\",T(Input_Output!AO106),\"\")","v":""},null,null,{"$f":"IF(Input_Output!AQ106=\"\",T(Input_Output!AR106),\"\")","v":""},null,null,{"$f":"IF(Input_Output!AT106=\"\",T(Input_Output!AU106),\"\")","v":""},null,null,{"$f":"IF(Input_Output!AW106=\"\",T(Input_Output!AX106),\"\")","v":""},null,null,{"$f":"IF(Input_Output!AZ106=\"\",T(Input_Output!BA106),\"\")","v":""},null,null,{"$f":"IF(Input_Output!BC106=\"\",T(Input_Output!BD106),\"\")","v":""},null,null,{"$f":"IF(Input_Output!BF106=\"\",T(Input_Output!BG106),\"\")","v":""},null,null,{"$f":"IF(Input_Output!BI106=\"\",T(Input_Output!BJ106),\"\")","v":""},null,null,{"$f":"IF(Input_Output!BL106=\"\",T(Input_Output!BM106),\"\")","v":""},null,null,{"$f":"IF(Input_Output!BO106=\"\",T(Input_Output!BP106),\"\")","v":""},null,null,{"$f":"IF(Input_Output!BR106=\"\",T(Input_Output!BS106),\"\")","v":""},null,null,{"$f":"IF(Input_Output!BU106=\"\",T(Input_Output!BV106),\"\")","v":""},null,null,{"$f":"IF(Input_Output!BX106=\"\",T(Input_Output!BY106),\"\")","v":""},null,null,{"$f":"IF(Input_Output!CA106=\"\",T(Input_Output!CB106),\"\")","v":""},null,null,{"$f":"IF(Input_Output!CD106=\"\",T(Input_Output!CE106),\"\")","v":""},null,null,{"$f":"IF(Input_Output!CG106=\"\",T(Input_Output!CH106),\"\")","v":""},null,null,{"$f":"IF(Input_Output!CJ106=\"\",T(Input_Output!CK106),\"\")","v":""},null,null,{"$f":"IF(Input_Output!CM106=\"\",T(Input_Output!CN106),\"\")","v":""},null,null,{"$f":"IF(Input_Output!CP106=\"\",T(Input_Output!CQ106),\"\")","v":""},null,null,{"$f":"IF(Input_Output!CS106=\"\",T(Input_Output!CT106),\"\")","v":""},null,null,{"$f":"IF(Input_Output!CV106=\"\",T(Input_Output!CW106),\"\")","v":""},null,null,{"$f":"IF(Input_Output!CY106=\"\",T(Input_Output!CZ106),\"\")","v":""},null,null,{"$f":"IF(Input_Output!DB106=\"\",T(Input_Output!DC106),\"\")","v":""},null,null,{"$f":"IF(Input_Output!DE106=\"\",T(Input_Output!DF106),\"\")","v":""},null,null,{"$f":"IF(Input_Output!DH106=\"\",T(Input_Output!DI106),\"\")","v":""},null,null,{"$f":"IF(Input_Output!DK106=\"\",T(Input_Output!DL106),\"\")","v":""},null,null,{"$f":"IF(Input_Output!DN106=\"\",T(Input_Output!DO106),\"\")","v":""},null,null,{"$f":"IF(Input_Output!DQ106=\"\",T(Input_Output!DR106),\"\")","v":""},null,null,{"$f":"IF(Input_Output!DT106=\"\",T(Input_Output!DU106),\"\")","v":""},null,null,{"$f":"IF(Input_Output!DW106=\"\",T(Input_Output!DX106),\"\")","v":""},null,null,{"$f":"IF(Input_Output!DZ106=\"\",T(Input_Output!EA106),\"\")","v":""},null,null,{"$f":"IF(Input_Output!EC106=\"\",T(Input_Output!ED106),\"\")","v":""},null,null,{"$f":"IF(Input_Output!EF106=\"\",T(Input_Output!EG106),\"\")","v":""},null,null,{"$f":"IF(Input_Output!EI106=\"\",T(Input_Output!EJ106),\"\")","v":""},null,null,{"$f":"IF(Input_Output!EL106=\"\",T(Input_Output!EM106),\"\")","v":""},null,null,{"$f":"IF(Input_Output!EO106=\"\",T(Input_Output!EP106),\"\")","v":""},null,null,{"$f":"IF(Input_Output!ER106=\"\",T(Input_Output!ES106),\"\")","v":""},null,null,{"$f":"IF(Input_Output!EU106=\"\",T(Input_Output!EV106),\"\")","v":""},null,null,{"$f":"IF(Input_Output!EX106=\"\",T(Input_Output!EY106),\"\")","v":""},null,null,{"$f":"IF(Input_Output!FA106=\"\",T(Input_Output!FB106),\"\")","v":""},null,null,{"$f":"IF(Input_Output!FD106=\"\",T(Input_Output!FE106),\"\")","v":""},null,null,{"$f":"IF(Input_Output!FG106=\"\",T(Input_Output!FH106),\"\")","v":""},null,null,{"$f":"IF(Input_Output!FJ106=\"\",T(Input_Output!FK106),\"\")","v":""},null,null,{"$f":"IF(Input_Output!FM106=\"\",T(Input_Output!FN106),\"\")","v":""},null,null,{"$f":"IF(Input_Output!FP106=\"\",T(Input_Output!FQ106),\"\")","v":""},null,null,{"$f":"IF(Input_Output!FS106=\"\",T(Input_Output!FT106),\"\")","v":""},null,null,{"$f":"IF(Input_Output!FV106=\"\",T(Input_Output!FW106),\"\")","v":""},null,null,{"$f":"IF(Input_Output!FY106=\"\",T(Input_Output!FZ106),\"\")","v":""},null,null,{"$f":"IF(Input_Output!GB106=\"\",T(Input_Output!GC106),\"\")","v":""},null,null,{"$f":"IF(Input_Output!GE106=\"\",T(Input_Output!GF106),\"\")","v":""},null,null,{"$f":"IF(Input_Output!GH106=\"\",T(Input_Output!GI106),\"\")","v":""},null,null,{"$f":"IF(Input_Output!GK106=\"\",T(Input_Output!GL106),\"\")","v":""},null,null,{"$f":"IF(Input_Output!GN106=\"\",T(Input_Output!GO106),\"\")","v":""},null,null,{"$f":"IF(Input_Output!GQ106=\"\",T(Input_Output!GR106),\"\")","v":""},null,null,{"$f":"IF(Input_Output!GT106=\"\",T(Input_Output!GU106),\"\")","v":""},null,null,{"$f":"IF(Input_Output!GW106=\"\",T(Input_Output!GX106),\"\")","v":""},null,null,{"$f":"IF(Input_Output!GZ106=\"\",T(Input_Output!HA106),\"\")","v":""},null,null,{"$f":"IF(Input_Output!HC106=\"\",T(Input_Output!HD106),\"\")","v":""},null,null,{"$f":"IF(Input_Output!HF106=\"\",T(Input_Output!HG106),\"\")","v":""},null,null,{"$f":"IF(Input_Output!HI106=\"\",T(Input_Output!HJ106),\"\")","v":""},null,null,{"$f":"IF(Input_Output!HL106=\"\",T(Input_Output!HM106),\"\")","v":""},null,null,{"$f":"IF(Input_Output!HO106=\"\",T(Input_Output!HP106),\"\")","v":""},null,null,{"$f":"IF(Input_Output!HR106=\"\",T(Input_Output!HS106),\"\")","v":""},null,null,{"$f":"IF(Input_Output!HU106=\"\",T(Input_Output!HV106),\"\")","v":""},null,null,{"$f":"IF(Input_Output!HX106=\"\",T(Input_Output!HY106),\"\")","v":""},null,null,{"$f":"IF(Input_Output!IA106=\"\",T(Input_Output!IB106),\"\")","v":""},null,null,{"$f":"IF(Input_Output!ID106=\"\",T(Input_Output!IE106),\"\")","v":""},null,null,{"$f":"IF(Input_Output!IG106=\"\",T(Input_Output!IH106),\"\")","v":""},null,null,{"$f":"IF(Input_Output!IJ106=\"\",T(Input_Output!IK106),\"\")","v":""},null,null,{"$f":"IF(Input_Output!IM106=\"\",T(Input_Output!IN106),\"\")","v":""},null,null,{"$f":"IF(Input_Output!IP106=\"\",T(Input_Output!IQ106),\"\")","v":""},null,null,{"$f":"IF(Input_Output!IS106=\"\",T(Input_Output!IT106),\"\")","v":""}]
[null,null,null,null,{"$f":"IF(Input_Output!D107=\"\",T(Input_Output!E107),\"\")","v":""},null,null,{"$f":"IF(Input_Output!G107=\"\",T(Input_Output!H107),\"\")","v":""},null,null,{"$f":"IF(Input_Output!J107=\"\",T(Input_Output!K107),\"\")","v":""},null,null,{"$f":"IF(Input_Output!M107=\"\",T(Input_Output!N107),\"\")","v":""},null,null,{"$f":"IF(Input_Output!P107=\"\",T(Input_Output!Q107),\"\")","v":""},null,null,{"$f":"IF(Input_Output!S107=\"\",T(Input_Output!T107),\"\")","v":""},null,null,{"$f":"IF(Input_Output!V107=\"\",T(Input_Output!W107),\"\")","v":""},null,null,{"$f":"IF(Input_Output!Y107=\"\",T(Input_Output!Z107),\"\")","v":""},null,null,{"$f":"IF(Input_Output!AB107=\"\",T(Input_Output!AC107),\"\")","v":""},null,null,{"$f":"IF(Input_Output!AE107=\"\",T(Input_Output!AF107),\"\")","v":""},null,null,{"$f":"IF(Input_Output!AH107=\"\",T(Input_Output!AI107),\"\")","v":""},null,null,{"$f":"IF(Input_Output!AK107=\"\",T(Input_Output!AL107),\"\")","v":""},null,null,{"$f":"IF(Input_Output!AN107=\"\",T(Input_Output!AO107),\"\")","v":""},null,null,{"$f":"IF(Input_Output!AQ107=\"\",T(Input_Output!AR107),\"\")","v":""},null,null,{"$f":"IF(Input_Output!AT107=\"\",T(Input_Output!AU107),\"\")","v":""},null,null,{"$f":"IF(Input_Output!AW107=\"\",T(Input_Output!AX107),\"\")","v":""},null,null,{"$f":"IF(Input_Output!AZ107=\"\",T(Input_Output!BA107),\"\")","v":""},null,null,{"$f":"IF(Input_Output!BC107=\"\",T(Input_Output!BD107),\"\")","v":""},null,null,{"$f":"IF(Input_Output!BF107=\"\",T(Input_Output!BG107),\"\")","v":""},null,null,{"$f":"IF(Input_Output!BI107=\"\",T(Input_Output!BJ107),\"\")","v":""},null,null,{"$f":"IF(Input_Output!BL107=\"\",T(Input_Output!BM107),\"\")","v":""},null,null,{"$f":"IF(Input_Output!BO107=\"\",T(Input_Output!BP107),\"\")","v":""},null,null,{"$f":"IF(Input_Output!BR107=\"\",T(Input_Output!BS107),\"\")","v":""},null,null,{"$f":"IF(Input_Output!BU107=\"\",T(Input_Output!BV107),\"\")","v":""},null,null,{"$f":"IF(Input_Output!BX107=\"\",T(Input_Output!BY107),\"\")","v":""},null,null,{"$f":"IF(Input_Output!CA107=\"\",T(Input_Output!CB107),\"\")","v":""},null,null,{"$f":"IF(Input_Output!CD107=\"\",T(Input_Output!CE107),\"\")","v":""},null,null,{"$f":"IF(Input_Output!CG107=\"\",T(Input_Output!CH107),\"\")","v":""},null,null,{"$f":"IF(Input_Output!CJ107=\"\",T(Input_Output!CK107),\"\")","v":""},null,null,{"$f":"IF(Input_Output!CM107=\"\",T(Input_Output!CN107),\"\")","v":""},null,null,{"$f":"IF(Input_Output!CP107=\"\",T(Input_Output!CQ107),\"\")","v":""},null,null,{"$f":"IF(Input_Output!CS107=\"\",T(Input_Output!CT107),\"\")","v":""},null,null,{"$f":"IF(Input_Output!CV107=\"\",T(Input_Output!CW107),\"\")","v":""},null,null,{"$f":"IF(Input_Output!CY107=\"\",T(Input_Output!CZ107),\"\")","v":""},null,null,{"$f":"IF(Input_Output!DB107=\"\",T(Input_Output!DC107),\"\")","v":""},null,null,{"$f":"IF(Input_Output!DE107=\"\",T(Input_Output!DF107),\"\")","v":""},null,null,{"$f":"IF(Input_Output!DH107=\"\",T(Input_Output!DI107),\"\")","v":""},null,null,{"$f":"IF(Input_Output!DK107=\"\",T(Input_Output!DL107),\"\")","v":""},null,null,{"$f":"IF(Input_Output!DN107=\"\",T(Input_Output!DO107),\"\")","v":""},null,null,{"$f":"IF(Input_Output!DQ107=\"\",T(Input_Output!DR107),\"\")","v":""},null,null,{"$f":"IF(Input_Output!DT107=\"\",T(Input_Output!DU107),\"\")","v":""},null,null,{"$f":"IF(Input_Output!DW107=\"\",T(Input_Output!DX107),\"\")","v":""},null,null,{"$f":"IF(Input_Output!DZ107=\"\",T(Input_Output!EA107),\"\")","v":""},null,null,{"$f":"IF(Input_Output!EC107=\"\",T(Input_Output!ED107),\"\")","v":""},null,null,{"$f":"IF(Input_Output!EF107=\"\",T(Input_Output!EG107),\"\")","v":""},null,null,{"$f":"IF(Input_Output!EI107=\"\",T(Input_Output!EJ107),\"\")","v":""},null,null,{"$f":"IF(Input_Output!EL107=\"\",T(Input_Output!EM107),\"\")","v":""},null,null,{"$f":"IF(Input_Output!EO107=\"\",T(Input_Output!EP107),\"\")","v":""},null,null,{"$f":"IF(Input_Output!ER107=\"\",T(Input_Output!ES107),\"\")","v":""},null,null,{"$f":"IF(Input_Output!EU107=\"\",T(Input_Output!EV107),\"\")","v":""},null,null,{"$f":"IF(Input_Output!EX107=\"\",T(Input_Output!EY107),\"\")","v":""},null,null,{"$f":"IF(Input_Output!FA107=\"\",T(Input_Output!FB107),\"\")","v":""},null,null,{"$f":"IF(Input_Output!FD107=\"\",T(Input_Output!FE107),\"\")","v":""},null,null,{"$f":"IF(Input_Output!FG107=\"\",T(Input_Output!FH107),\"\")","v":""},null,null,{"$f":"IF(Input_Output!FJ107=\"\",T(Input_Output!FK107),\"\")","v":""},null,null,{"$f":"IF(Input_Output!FM107=\"\",T(Input_Output!FN107),\"\")","v":""},null,null,{"$f":"IF(Input_Output!FP107=\"\",T(Input_Output!FQ107),\"\")","v":""},null,null,{"$f":"IF(Input_Output!FS107=\"\",T(Input_Output!FT107),\"\")","v":""},null,null,{"$f":"IF(Input_Output!FV107=\"\",T(Input_Output!FW107),\"\")","v":""},null,null,{"$f":"IF(Input_Output!FY107=\"\",T(Input_Output!FZ107),\"\")","v":""},null,null,{"$f":"IF(Input_Output!GB107=\"\",T(Input_Output!GC107),\"\")","v":""},null,null,{"$f":"IF(Input_Output!GE107=\"\",T(Input_Output!GF107),\"\")","v":""},null,null,{"$f":"IF(Input_Output!GH107=\"\",T(Input_Output!GI107),\"\")","v":""},null,null,{"$f":"IF(Input_Output!GK107=\"\",T(Input_Output!GL107),\"\")","v":""},null,null,{"$f":"IF(Input_Output!GN107=\"\",T(Input_Output!GO107),\"\")","v":""},null,null,{"$f":"IF(Input_Output!GQ107=\"\",T(Input_Output!GR107),\"\")","v":""},null,null,{"$f":"IF(Input_Output!GT107=\"\",T(Input_Output!GU107),\"\")","v":""},null,null,{"$f":"IF(Input_Output!GW107=\"\",T(Input_Output!GX107),\"\")","v":""},null,null,{"$f":"IF(Input_Output!GZ107=\"\",T(Input_Output!HA107),\"\")","v":""},null,null,{"$f":"IF(Input_Output!HC107=\"\",T(Input_Output!HD107),\"\")","v":""},null,null,{"$f":"IF(Input_Output!HF107=\"\",T(Input_Output!HG107),\"\")","v":""},null,null,{"$f":"IF(Input_Output!HI107=\"\",T(Input_Output!HJ107),\"\")","v":""},null,null,{"$f":"IF(Input_Output!HL107=\"\",T(Input_Output!HM107),\"\")","v":""},null,null,{"$f":"IF(Input_Output!HO107=\"\",T(Input_Output!HP107),\"\")","v":""},null,null,{"$f":"IF(Input_Output!HR107=\"\",T(Input_Output!HS107),\"\")","v":""},null,null,{"$f":"IF(Input_Output!HU107=\"\",T(Input_Output!HV107),\"\")","v":""},null,null,{"$f":"IF(Input_Output!HX107=\"\",T(Input_Output!HY107),\"\")","v":""},null,null,{"$f":"IF(Input_Output!IA107=\"\",T(Input_Output!IB107),\"\")","v":""},null,null,{"$f":"IF(Input_Output!ID107=\"\",T(Input_Output!IE107),\"\")","v":""},null,null,{"$f":"IF(Input_Output!IG107=\"\",T(Input_Output!IH107),\"\")","v":""},null,null,{"$f":"IF(Input_Output!IJ107=\"\",T(Input_Output!IK107),\"\")","v":""},null,null,{"$f":"IF(Input_Output!IM107=\"\",T(Input_Output!IN107),\"\")","v":""},null,null,{"$f":"IF(Input_Output!IP107=\"\",T(Input_Output!IQ107),\"\")","v":""},null,null,{"$f":"IF(Input_Output!IS107=\"\",T(Input_Output!IT107),\"\")","v":""}]
[null,null,null,null,{"$f":"IF(Input_Output!D108=\"\",T(Input_Output!E108),\"\")","v":""},null,null,{"$f":"IF(Input_Output!G108=\"\",T(Input_Output!H108),\"\")","v":""},null,null,{"$f":"IF(Input_Output!J108=\"\",T(Input_Output!K108),\"\")","v":""},null,null,{"$f":"IF(Input_Output!M108=\"\",T(Input_Output!N108),\"\")","v":""},null,null,{"$f":"IF(Input_Output!P108=\"\",T(Input_Output!Q108),\"\")","v":""},null,null,{"$f":"IF(Input_Output!S108=\"\",T(Input_Output!T108),\"\")","v":""},null,null,{"$f":"IF(Input_Output!V108=\"\",T(Input_Output!W108),\"\")","v":""},null,null,{"$f":"IF(Input_Output!Y108=\"\",T(Input_Output!Z108),\"\")","v":""},null,null,{"$f":"IF(Input_Output!AB108=\"\",T(Input_Output!AC108),\"\")","v":""},null,null,{"$f":"IF(Input_Output!AE108=\"\",T(Input_Output!AF108),\"\")","v":""},null,null,{"$f":"IF(Input_Output!AH108=\"\",T(Input_Output!AI108),\"\")","v":""},null,null,{"$f":"IF(Input_Output!AK108=\"\",T(Input_Output!AL108),\"\")","v":""},null,null,{"$f":"IF(Input_Output!AN108=\"\",T(Input_Output!AO108),\"\")","v":""},null,null,{"$f":"IF(Input_Output!AQ108=\"\",T(Input_Output!AR108),\"\")","v":""},null,null,{"$f":"IF(Input_Output!AT108=\"\",T(Input_Output!AU108),\"\")","v":""},null,null,{"$f":"IF(Input_Output!AW108=\"\",T(Input_Output!AX108),\"\")","v":""},null,null,{"$f":"IF(Input_Output!AZ108=\"\",T(Input_Output!BA108),\"\")","v":""},null,null,{"$f":"IF(Input_Output!BC108=\"\",T(Input_Output!BD108),\"\")","v":""},null,null,{"$f":"IF(Input_Output!BF108=\"\",T(Input_Output!BG108),\"\")","v":""},null,null,{"$f":"IF(Input_Output!BI108=\"\",T(Input_Output!BJ108),\"\")","v":""},null,null,{"$f":"IF(Input_Output!BL108=\"\",T(Input_Output!BM108),\"\")","v":""},null,null,{"$f":"IF(Input_Output!BO108=\"\",T(Input_Output!BP108),\"\")","v":""},null,null,{"$f":"IF(Input_Output!BR108=\"\",T(Input_Output!BS108),\"\")","v":""},null,null,{"$f":"IF(Input_Output!BU108=\"\",T(Input_Output!BV108),\"\")","v":""},null,null,{"$f":"IF(Input_Output!BX108=\"\",T(Input_Output!BY108),\"\")","v":""},null,null,{"$f":"IF(Input_Output!CA108=\"\",T(Input_Output!CB108),\"\")","v":""},null,null,{"$f":"IF(Input_Output!CD108=\"\",T(Input_Output!CE108),\"\")","v":""},null,null,{"$f":"IF(Input_Output!CG108=\"\",T(Input_Output!CH108),\"\")","v":""},null,null,{"$f":"IF(Input_Output!CJ108=\"\",T(Input_Output!CK108),\"\")","v":""},null,null,{"$f":"IF(Input_Output!CM108=\"\",T(Input_Output!CN108),\"\")","v":""},null,null,{"$f":"IF(Input_Output!CP108=\"\",T(Input_Output!CQ108),\"\")","v":""},null,null,{"$f":"IF(Input_Output!CS108=\"\",T(Input_Output!CT108),\"\")","v":""},null,null,{"$f":"IF(Input_Output!CV108=\"\",T(Input_Output!CW108),\"\")","v":""},null,null,{"$f":"IF(Input_Output!CY108=\"\",T(Input_Output!CZ108),\"\")","v":""},null,null,{"$f":"IF(Input_Output!DB108=\"\",T(Input_Output!DC108),\"\")","v":""},null,null,{"$f":"IF(Input_Output!DE108=\"\",T(Input_Output!DF108),\"\")","v":""},null,null,{"$f":"IF(Input_Output!DH108=\"\",T(Input_Output!DI108),\"\")","v":""},null,null,{"$f":"IF(Input_Output!DK108=\"\",T(Input_Output!DL108),\"\")","v":""},null,null,{"$f":"IF(Input_Output!DN108=\"\",T(Input_Output!DO108),\"\")","v":""},null,null,{"$f":"IF(Input_Output!DQ108=\"\",T(Input_Output!DR108),\"\")","v":""},null,null,{"$f":"IF(Input_Output!DT108=\"\",T(Input_Output!DU108),\"\")","v":""},null,null,{"$f":"IF(Input_Output!DW108=\"\",T(Input_Output!DX108),\"\")","v":""},null,null,{"$f":"IF(Input_Output!DZ108=\"\",T(Input_Output!EA108),\"\")","v":""},null,null,{"$f":"IF(Input_Output!EC108=\"\",T(Input_Output!ED108),\"\")","v":""},null,null,{"$f":"IF(Input_Output!EF108=\"\",T(Input_Output!EG108),\"\")","v":""},null,null,{"$f":"IF(Input_Output!EI108=\"\",T(Input_Output!EJ108),\"\")","v":""},null,null,{"$f":"IF(Input_Output!EL108=\"\",T(Input_Output!EM108),\"\")","v":""},null,null,{"$f":"IF(Input_Output!EO108=\"\",T(Input_Output!EP108),\"\")","v":""},null,null,{"$f":"IF(Input_Output!ER108=\"\",T(Input_Output!ES108),\"\")","v":""},null,null,{"$f":"IF(Input_Output!EU108=\"\",T(Input_Output!EV108),\"\")","v":""},null,null,{"$f":"IF(Input_Output!EX108=\"\",T(Input_Output!EY108),\"\")","v":""},null,null,{"$f":"IF(Input_Output!FA108=\"\",T(Input_Output!FB108),\"\")","v":""},null,null,{"$f":"IF(Input_Output!FD108=\"\",T(Input_Output!FE108),\"\")","v":""},null,null,{"$f":"IF(Input_Output!FG108=\"\",T(Input_Output!FH108),\"\")","v":""},null,null,{"$f":"IF(Input_Output!FJ108=\"\",T(Input_Output!FK108),\"\")","v":""},null,null,{"$f":"IF(Input_Output!FM108=\"\",T(Input_Output!FN108),\"\")","v":""},null,null,{"$f":"IF(Input_Output!FP108=\"\",T(Input_Output!FQ108),\"\")","v":""},null,null,{"$f":"IF(Input_Output!FS108=\"\",T(Input_Output!FT108),\"\")","v":""},null,null,{"$f":"IF(Input_Output!FV108=\"\",T(Input_Output!FW108),\"\")","v":""},null,null,{"$f":"IF(Input_Output!FY108=\"\",T(Input_Output!FZ108),\"\")","v":""},null,null,{"$f":"IF(Input_Output!GB108=\"\",T(Input_Output!GC108),\"\")","v":""},null,null,{"$f":"IF(Input_Output!GE108=\"\",T(Input_Output!GF108),\"\")","v":""},null,null,{"$f":"IF(Input_Output!GH108=\"\",T(Input_Output!GI108),\"\")","v":""},null,null,{"$f":"IF(Input_Output!GK108=\"\",T(Input_Output!GL108),\"\")","v":""},null,null,{"$f":"IF(Input_Output!GN108=\"\",T(Input_Output!GO108),\"\")","v":""},null,null,{"$f":"IF(Input_Output!GQ108=\"\",T(Input_Output!GR108),\"\")","v":""},null,null,{"$f":"IF(Input_Output!GT108=\"\",T(Input_Output!GU108),\"\")","v":""},null,null,{"$f":"IF(Input_Output!GW108=\"\",T(Input_Output!GX108),\"\")","v":""},null,null,{"$f":"IF(Input_Output!GZ108=\"\",T(Input_Output!HA108),\"\")","v":""},null,null,{"$f":"IF(Input_Output!HC108=\"\",T(Input_Output!HD108),\"\")","v":""},null,null,{"$f":"IF(Input_Output!HF108=\"\",T(Input_Output!HG108),\"\")","v":""},null,null,{"$f":"IF(Input_Output!HI108=\"\",T(Input_Output!HJ108),\"\")","v":""},null,null,{"$f":"IF(Input_Output!HL108=\"\",T(Input_Output!HM108),\"\")","v":""},null,null,{"$f":"IF(Input_Output!HO108=\"\",T(Input_Output!HP108),\"\")","v":""},null,null,{"$f":"IF(Input_Output!HR108=\"\",T(Input_Output!HS108),\"\")","v":""},null,null,{"$f":"IF(Input_Output!HU108=\"\",T(Input_Output!HV108),\"\")","v":""},null,null,{"$f":"IF(Input_Output!HX108=\"\",T(Input_Output!HY108),\"\")","v":""},null,null,{"$f":"IF(Input_Output!IA108=\"\",T(Input_Output!IB108),\"\")","v":""},null,null,{"$f":"IF(Input_Output!ID108=\"\",T(Input_Output!IE108),\"\")","v":""},null,null,{"$f":"IF(Input_Output!IG108=\"\",T(Input_Output!IH108),\"\")","v":""},null,null,{"$f":"IF(Input_Output!IJ108=\"\",T(Input_Output!IK108),\"\")","v":""},null,null,{"$f":"IF(Input_Output!IM108=\"\",T(Input_Output!IN108),\"\")","v":""},null,null,{"$f":"IF(Input_Output!IP108=\"\",T(Input_Output!IQ108),\"\")","v":""},null,null,{"$f":"IF(Input_Output!IS108=\"\",T(Input_Output!IT108),\"\")","v":""}]
[null,null,null,null,{"$f":"IF(Input_Output!D109=\"\",T(Input_Output!E109),\"\")","v":""},null,null,{"$f":"IF(Input_Output!G109=\"\",T(Input_Output!H109),\"\")","v":""},null,null,{"$f":"IF(Input_Output!J109=\"\",T(Input_Output!K109),\"\")","v":""},null,null,{"$f":"IF(Input_Output!M109=\"\",T(Input_Output!N109),\"\")","v":""},null,null,{"$f":"IF(Input_Output!P109=\"\",T(Input_Output!Q109),\"\")","v":""},null,null,{"$f":"IF(Input_Output!S109=\"\",T(Input_Output!T109),\"\")","v":""},null,null,{"$f":"IF(Input_Output!V109=\"\",T(Input_Output!W109),\"\")","v":""},null,null,{"$f":"IF(Input_Output!Y109=\"\",T(Input_Output!Z109),\"\")","v":""},null,null,{"$f":"IF(Input_Output!AB109=\"\",T(Input_Output!AC109),\"\")","v":""},null,null,{"$f":"IF(Input_Output!AE109=\"\",T(Input_Output!AF109),\"\")","v":""},null,null,{"$f":"IF(Input_Output!AH109=\"\",T(Input_Output!AI109),\"\")","v":""},null,null,{"$f":"IF(Input_Output!AK109=\"\",T(Input_Output!AL109),\"\")","v":""},null,null,{"$f":"IF(Input_Output!AN109=\"\",T(Input_Output!AO109),\"\")","v":""},null,null,{"$f":"IF(Input_Output!AQ109=\"\",T(Input_Output!AR109),\"\")","v":""},null,null,{"$f":"IF(Input_Output!AT109=\"\",T(Input_Output!AU109),\"\")","v":""},null,null,{"$f":"IF(Input_Output!AW109=\"\",T(Input_Output!AX109),\"\")","v":""},null,null,{"$f":"IF(Input_Output!AZ109=\"\",T(Input_Output!BA109),\"\")","v":""},null,null,{"$f":"IF(Input_Output!BC109=\"\",T(Input_Output!BD109),\"\")","v":""},null,null,{"$f":"IF(Input_Output!BF109=\"\",T(Input_Output!BG109),\"\")","v":""},null,null,{"$f":"IF(Input_Output!BI109=\"\",T(Input_Output!BJ109),\"\")","v":""},null,null,{"$f":"IF(Input_Output!BL109=\"\",T(Input_Output!BM109),\"\")","v":""},null,null,{"$f":"IF(Input_Output!BO109=\"\",T(Input_Output!BP109),\"\")","v":""},null,null,{"$f":"IF(Input_Output!BR109=\"\",T(Input_Output!BS109),\"\")","v":""},null,null,{"$f":"IF(Input_Output!BU109=\"\",T(Input_Output!BV109),\"\")","v":""},null,null,{"$f":"IF(Input_Output!BX109=\"\",T(Input_Output!BY109),\"\")","v":""},null,null,{"$f":"IF(Input_Output!CA109=\"\",T(Input_Output!CB109),\"\")","v":""},null,null,{"$f":"IF(Input_Output!CD109=\"\",T(Input_Output!CE109),\"\")","v":""},null,null,{"$f":"IF(Input_Output!CG109=\"\",T(Input_Output!CH109),\"\")","v":""},null,null,{"$f":"IF(Input_Output!CJ109=\"\",T(Input_Output!CK109),\"\")","v":""},null,null,{"$f":"IF(Input_Output!CM109=\"\",T(Input_Output!CN109),\"\")","v":""},null,null,{"$f":"IF(Input_Output!CP109=\"\",T(Input_Output!CQ109),\"\")","v":""},null,null,{"$f":"IF(Input_Output!CS109=\"\",T(Input_Output!CT109),\"\")","v":""},null,null,{"$f":"IF(Input_Output!CV109=\"\",T(Input_Output!CW109),\"\")","v":""},null,null,{"$f":"IF(Input_Output!CY109=\"\",T(Input_Output!CZ109),\"\")","v":""},null,null,{"$f":"IF(Input_Output!DB109=\"\",T(Input_Output!DC109),\"\")","v":""},null,null,{"$f":"IF(Input_Output!DE109=\"\",T(Input_Output!DF109),\"\")","v":""},null,null,{"$f":"IF(Input_Output!DH109=\"\",T(Input_Output!DI109),\"\")","v":""},null,null,{"$f":"IF(Input_Output!DK109=\"\",T(Input_Output!DL109),\"\")","v":""},null,null,{"$f":"IF(Input_Output!DN109=\"\",T(Input_Output!DO109),\"\")","v":""},null,null,{"$f":"IF(Input_Output!DQ109=\"\",T(Input_Output!DR109),\"\")","v":""},null,null,{"$f":"IF(Input_Output!DT109=\"\",T(Input_Output!DU109),\"\")","v":""},null,null,{"$f":"IF(Input_Output!DW109=\"\",T(Input_Output!DX109),\"\")","v":""},null,null,{"$f":"IF(Input_Output!DZ109=\"\",T(Input_Output!EA109),\"\")","v":""},null,null,{"$f":"IF(Input_Output!EC109=\"\",T(Input_Output!ED109),\"\")","v":""},null,null,{"$f":"IF(Input_Output!EF109=\"\",T(Input_Output!EG109),\"\")","v":""},null,null,{"$f":"IF(Input_Output!EI109=\"\",T(Input_Output!EJ109),\"\")","v":""},null,null,{"$f":"IF(Input_Output!EL109=\"\",T(Input_Output!EM109),\"\")","v":""},null,null,{"$f":"IF(Input_Output!EO109=\"\",T(Input_Output!EP109),\"\")","v":""},null,null,{"$f":"IF(Input_Output!ER109=\"\",T(Input_Output!ES109),\"\")","v":""},null,null,{"$f":"IF(Input_Output!EU109=\"\",T(Input_Output!EV109),\"\")","v":""},null,null,{"$f":"IF(Input_Output!EX109=\"\",T(Input_Output!EY109),\"\")","v":""},null,null,{"$f":"IF(Input_Output!FA109=\"\",T(Input_Output!FB109),\"\")","v":""},null,null,{"$f":"IF(Input_Output!FD109=\"\",T(Input_Output!FE109),\"\")","v":""},null,null,{"$f":"IF(Input_Output!FG109=\"\",T(Input_Output!FH109),\"\")","v":""},null,null,{"$f":"IF(Input_Output!FJ109=\"\",T(Input_Output!FK109),\"\")","v":""},null,null,{"$f":"IF(Input_Output!FM109=\"\",T(Input_Output!FN109),\"\")","v":""},null,null,{"$f":"IF(Input_Output!FP109=\"\",T(Input_Output!FQ109),\"\")","v":""},null,null,{"$f":"IF(Input_Output!FS109=\"\",T(Input_Output!FT109),\"\")","v":""},null,null,{"$f":"IF(Input_Output!FV109=\"\",T(Input_Output!FW109),\"\")","v":""},null,null,{"$f":"IF(Input_Output!FY109=\"\",T(Input_Output!FZ109),\"\")","v":""},null,null,{"$f":"IF(Input_Output!GB109=\"\",T(Input_Output!GC109),\"\")","v":""},null,null,{"$f":"IF(Input_Output!GE109=\"\",T(Input_Output!GF109),\"\")","v":""},null,null,{"$f":"IF(Input_Output!GH109=\"\",T(Input_Output!GI109),\"\")","v":""},null,null,{"$f":"IF(Input_Output!GK109=\"\",T(Input_Output!GL109),\"\")","v":""},null,null,{"$f":"IF(Input_Output!GN109=\"\",T(Input_Output!GO109),\"\")","v":""},null,null,{"$f":"IF(Input_Output!GQ109=\"\",T(Input_Output!GR109),\"\")","v":""},null,null,{"$f":"IF(Input_Output!GT109=\"\",T(Input_Output!GU109),\"\")","v":""},null,null,{"$f":"IF(Input_Output!GW109=\"\",T(Input_Output!GX109),\"\")","v":""},null,null,{"$f":"IF(Input_Output!GZ109=\"\",T(Input_Output!HA109),\"\")","v":""},null,null,{"$f":"IF(Input_Output!HC109=\"\",T(Input_Output!HD109),\"\")","v":""},null,null,{"$f":"IF(Input_Output!HF109=\"\",T(Input_Output!HG109),\"\")","v":""},null,null,{"$f":"IF(Input_Output!HI109=\"\",T(Input_Output!HJ109),\"\")","v":""},null,null,{"$f":"IF(Input_Output!HL109=\"\",T(Input_Output!HM109),\"\")","v":""},null,null,{"$f":"IF(Input_Output!HO109=\"\",T(Input_Output!HP109),\"\")","v":""},null,null,{"$f":"IF(Input_Output!HR109=\"\",T(Input_Output!HS109),\"\")","v":""},null,null,{"$f":"IF(Input_Output!HU109=\"\",T(Input_Output!HV109),\"\")","v":""},null,null,{"$f":"IF(Input_Output!HX109=\"\",T(Input_Output!HY109),\"\")","v":""},null,null,{"$f":"IF(Input_Output!IA109=\"\",T(Input_Output!IB109),\"\")","v":""},null,null,{"$f":"IF(Input_Output!ID109=\"\",T(Input_Output!IE109),\"\")","v":""},null,null,{"$f":"IF(Input_Output!IG109=\"\",T(Input_Output!IH109),\"\")","v":""},null,null,{"$f":"IF(Input_Output!IJ109=\"\",T(Input_Output!IK109),\"\")","v":""},null,null,{"$f":"IF(Input_Output!IM109=\"\",T(Input_Output!IN109),\"\")","v":""},null,null,{"$f":"IF(Input_Output!IP109=\"\",T(Input_Output!IQ109),\"\")","v":""},null,null,{"$f":"IF(Input_Output!IS109=\"\",T(Input_Output!IT109),\"\")","v":""}]
[null,null,null,null,{"$f":"IF(Input_Output!D110=\"\",T(Input_Output!E110),\"\")","v":""},null,null,{"$f":"IF(Input_Output!G110=\"\",T(Input_Output!H110),\"\")","v":""},null,null,{"$f":"IF(Input_Output!J110=\"\",T(Input_Output!K110),\"\")","v":""},null,null,{"$f":"IF(Input_Output!M110=\"\",T(Input_Output!N110),\"\")","v":""},null,null,{"$f":"IF(Input_Output!P110=\"\",T(Input_Output!Q110),\"\")","v":""},null,null,{"$f":"IF(Input_Output!S110=\"\",T(Input_Output!T110),\"\")","v":""},null,null,{"$f":"IF(Input_Output!V110=\"\",T(Input_Output!W110),\"\")","v":""},null,null,{"$f":"IF(Input_Output!Y110=\"\",T(Input_Output!Z110),\"\")","v":""},null,null,{"$f":"IF(Input_Output!AB110=\"\",T(Input_Output!AC110),\"\")","v":""},null,null,{"$f":"IF(Input_Output!AE110=\"\",T(Input_Output!AF110),\"\")","v":""},null,null,{"$f":"IF(Input_Output!AH110=\"\",T(Input_Output!AI110),\"\")","v":""},null,null,{"$f":"IF(Input_Output!AK110=\"\",T(Input_Output!AL110),\"\")","v":""},null,null,{"$f":"IF(Input_Output!AN110=\"\",T(Input_Output!AO110),\"\")","v":""},null,null,{"$f":"IF(Input_Output!AQ110=\"\",T(Input_Output!AR110),\"\")","v":""},null,null,{"$f":"IF(Input_Output!AT110=\"\",T(Input_Output!AU110),\"\")","v":""},null,null,{"$f":"IF(Input_Output!AW110=\"\",T(Input_Output!AX110),\"\")","v":""},null,null,{"$f":"IF(Input_Output!AZ110=\"\",T(Input_Output!BA110),\"\")","v":""},null,null,{"$f":"IF(Input_Output!BC110=\"\",T(Input_Output!BD110),\"\")","v":""},null,null,{"$f":"IF(Input_Output!BF110=\"\",T(Input_Output!BG110),\"\")","v":""},null,null,{"$f":"IF(Input_Output!BI110=\"\",T(Input_Output!BJ110),\"\")","v":""},null,null,{"$f":"IF(Input_Output!BL110=\"\",T(Input_Output!BM110),\"\")","v":""},null,null,{"$f":"IF(Input_Output!BO110=\"\",T(Input_Output!BP110),\"\")","v":""},null,null,{"$f":"IF(Input_Output!BR110=\"\",T(Input_Output!BS110),\"\")","v":""},null,null,{"$f":"IF(Input_Output!BU110=\"\",T(Input_Output!BV110),\"\")","v":""},null,null,{"$f":"IF(Input_Output!BX110=\"\",T(Input_Output!BY110),\"\")","v":""},null,null,{"$f":"IF(Input_Output!CA110=\"\",T(Input_Output!CB110),\"\")","v":""},null,null,{"$f":"IF(Input_Output!CD110=\"\",T(Input_Output!CE110),\"\")","v":""},null,null,{"$f":"IF(Input_Output!CG110=\"\",T(Input_Output!CH110),\"\")","v":""},null,null,{"$f":"IF(Input_Output!CJ110=\"\",T(Input_Output!CK110),\"\")","v":""},null,null,{"$f":"IF(Input_Output!CM110=\"\",T(Input_Output!CN110),\"\")","v":""},null,null,{"$f":"IF(Input_Output!CP110=\"\",T(Input_Output!CQ110),\"\")","v":""},null,null,{"$f":"IF(Input_Output!CS110=\"\",T(Input_Output!CT110),\"\")","v":""},null,null,{"$f":"IF(Input_Output!CV110=\"\",T(Input_Output!CW110),\"\")","v":""},null,null,{"$f":"IF(Input_Output!CY110=\"\",T(Input_Output!CZ110),\"\")","v":""},null,null,{"$f":"IF(Input_Output!DB110=\"\",T(Input_Output!DC110),\"\")","v":""},null,null,{"$f":"IF(Input_Output!DE110=\"\",T(Input_Output!DF110),\"\")","v":""},null,null,{"$f":"IF(Input_Output!DH110=\"\",T(Input_Output!DI110),\"\")","v":""},null,null,{"$f":"IF(Input_Output!DK110=\"\",T(Input_Output!DL110),\"\")","v":""},null,null,{"$f":"IF(Input_Output!DN110=\"\",T(Input_Output!DO110),\"\")","v":""},null,null,{"$f":"IF(Input_Output!DQ110=\"\",T(Input_Output!DR110),\"\")","v":""},null,null,{"$f":"IF(Input_Output!DT110=\"\",T(Input_Output!DU110),\"\")","v":""},null,null,{"$f":"IF(Input_Output!DW110=\"\",T(Input_Output!DX110),\"\")","v":""},null,null,{"$f":"IF(Input_Output!DZ110=\"\",T(Input_Output!EA110),\"\")","v":""},null,null,{"$f":"IF(Input_Output!EC110=\"\",T(Input_Output!ED110),\"\")","v":""},null,null,{"$f":"IF(Input_Output!EF110=\"\",T(Input_Output!EG110),\"\")","v":""},null,null,{"$f":"IF(Input_Output!EI110=\"\",T(Input_Output!EJ110),\"\")","v":""},null,null,{"$f":"IF(Input_Output!EL110=\"\",T(Input_Output!EM110),\"\")","v":""},null,null,{"$f":"IF(Input_Output!EO110=\"\",T(Input_Output!EP110),\"\")","v":""},null,null,{"$f":"IF(Input_Output!ER110=\"\",T(Input_Output!ES110),\"\")","v":""},null,null,{"$f":"IF(Input_Output!EU110=\"\",T(Input_Output!EV110),\"\")","v":""},null,null,{"$f":"IF(Input_Output!EX110=\"\",T(Input_Output!EY110),\"\")","v":""},null,null,{"$f":"IF(Input_Output!FA110=\"\",T(Input_Output!FB110),\"\")","v":""},null,null,{"$f":"IF(Input_Output!FD110=\"\",T(Input_Output!FE110),\"\")","v":""},null,null,{"$f":"IF(Input_Output!FG110=\"\",T(Input_Output!FH110),\"\")","v":""},null,null,{"$f":"IF(Input_Output!FJ110=\"\",T(Input_Output!FK110),\"\")","v":""},null,null,{"$f":"IF(Input_Output!FM110=\"\",T(Input_Output!FN110),\"\")","v":""},null,null,{"$f":"IF(Input_Output!FP110=\"\",T(Input_Output!FQ110),\"\")","v":""},null,null,{"$f":"IF(Input_Output!FS110=\"\",T(Input_Output!FT110),\"\")","v":""},null,null,{"$f":"IF(Input_Output!FV110=\"\",T(Input_Output!FW110),\"\")","v":""},null,null,{"$f":"IF(Input_Output!FY110=\"\",T(Input_Output!FZ110),\"\")","v":""},null,null,{"$f":"IF(Input_Output!GB110=\"\",T(Input_Output!GC110),\"\")","v":""},null,null,{"$f":"IF(Input_Output!GE110=\"\",T(Input_Output!GF110),\"\")","v":""},null,null,{"$f":"IF(Input_Output!GH110=\"\",T(Input_Output!GI110),\"\")","v":""},null,null,{"$f":"IF(Input_Output!GK110=\"\",T(Input_Output!GL110),\"\")","v":""},null,null,{"$f":"IF(Input_Output!GN110=\"\",T(Input_Output!GO110),\"\")","v":""},null,null,{"$f":"IF(Input_Output!GQ110=\"\",T(Input_Output!GR110),\"\")","v":""},null,null,{"$f":"IF(Input_Output!GT110=\"\",T(Input_Output!GU110),\"\")","v":""},null,null,{"$f":"IF(Input_Output!GW110=\"\",T(Input_Output!GX110),\"\")","v":""},null,null,{"$f":"IF(Input_Output!GZ110=\"\",T(Input_Output!HA110),\"\")","v":""},null,null,{"$f":"IF(Input_Output!HC110=\"\",T(Input_Output!HD110),\"\")","v":""},null,null,{"$f":"IF(Input_Output!HF110=\"\",T(Input_Output!HG110),\"\")","v":""},null,null,{"$f":"IF(Input_Output!HI110=\"\",T(Input_Output!HJ110),\"\")","v":""},null,null,{"$f":"IF(Input_Output!HL110=\"\",T(Input_Output!HM110),\"\")","v":""},null,null,{"$f":"IF(Input_Output!HO110=\"\",T(Input_Output!HP110),\"\")","v":""},null,null,{"$f":"IF(Input_Output!HR110=\"\",T(Input_Output!HS110),\"\")","v":""},null,null,{"$f":"IF(Input_Output!HU110=\"\",T(Input_Output!HV110),\"\")","v":""},null,null,{"$f":"IF(Input_Output!HX110=\"\",T(Input_Output!HY110),\"\")","v":""},null,null,{"$f":"IF(Input_Output!IA110=\"\",T(Input_Output!IB110),\"\")","v":""},null,null,{"$f":"IF(Input_Output!ID110=\"\",T(Input_Output!IE110),\"\")","v":""},null,null,{"$f":"IF(Input_Output!IG110=\"\",T(Input_Output!IH110),\"\")","v":""},null,null,{"$f":"IF(Input_Output!IJ110=\"\",T(Input_Output!IK110),\"\")","v":""},null,null,{"$f":"IF(Input_Output!IM110=\"\",T(Input_Output!IN110),\"\")","v":""},null,null,{"$f":"IF(Input_Output!IP110=\"\",T(Input_Output!IQ110),\"\")","v":""},null,null,{"$f":"IF(Input_Output!IS110=\"\",T(Input_Output!IT110),\"\")","v":""}]
[null,null,null,null,{"$f":"IF(Input_Output!D111=\"\",T(Input_Output!E111),\"\")","v":""},null,null,{"$f":"IF(Input_Output!G111=\"\",T(Input_Output!H111),\"\")","v":""},null,null,{"$f":"IF(Input_Output!J111=\"\",T(Input_Output!K111),\"\")","v":""},null,null,{"$f":"IF(Input_Output!M111=\"\",T(Input_Output!N111),\"\")","v":""},null,null,{"$f":"IF(Input_Output!P111=\"\",T(Input_Output!Q111),\"\")","v":""},null,null,{"$f":"IF(Input_Output!S111=\"\",T(Input_Output!T111),\"\")","v":""},null,null,{"$f":"IF(Input_Output!V111=\"\",T(Input_Output!W111),\"\")","v":""},null,null,{"$f":"IF(Input_Output!Y111=\"\",T(Input_Output!Z111),\"\")","v":""},null,null,{"$f":"IF(Input_Output!AB111=\"\",T(Input_Output!AC111),\"\")","v":""},null,null,{"$f":"IF(Input_Output!AE111=\"\",T(Input_Output!AF111),\"\")","v":""},null,null,{"$f":"IF(Input_Output!AH111=\"\",T(Input_Output!AI111),\"\")","v":""},null,null,{"$f":"IF(Input_Output!AK111=\"\",T(Input_Output!AL111),\"\")","v":""},null,null,{"$f":"IF(Input_Output!AN111=\"\",T(Input_Output!AO111),\"\")","v":""},null,null,{"$f":"IF(Input_Output!AQ111=\"\",T(Input_Output!AR111),\"\")","v":""},null,null,{"$f":"IF(Input_Output!AT111=\"\",T(Input_Output!AU111),\"\")","v":""},null,null,{"$f":"IF(Input_Output!AW111=\"\",T(Input_Output!AX111),\"\")","v":""},null,null,{"$f":"IF(Input_Output!AZ111=\"\",T(Input_Output!BA111),\"\")","v":""},null,null,{"$f":"IF(Input_Output!BC111=\"\",T(Input_Output!BD111),\"\")","v":""},null,null,{"$f":"IF(Input_Output!BF111=\"\",T(Input_Output!BG111),\"\")","v":""},null,null,{"$f":"IF(Input_Output!BI111=\"\",T(Input_Output!BJ111),\"\")","v":""},null,null,{"$f":"IF(Input_Output!BL111=\"\",T(Input_Output!BM111),\"\")","v":""},null,null,{"$f":"IF(Input_Output!BO111=\"\",T(Input_Output!BP111),\"\")","v":""},null,null,{"$f":"IF(Input_Output!BR111=\"\",T(Input_Output!BS111),\"\")","v":""},null,null,{"$f":"IF(Input_Output!BU111=\"\",T(Input_Output!BV111),\"\")","v":""},null,null,{"$f":"IF(Input_Output!BX111=\"\",T(Input_Output!BY111),\"\")","v":""},null,null,{"$f":"IF(Input_Output!CA111=\"\",T(Input_Output!CB111),\"\")","v":""},null,null,{"$f":"IF(Input_Output!CD111=\"\",T(Input_Output!CE111),\"\")","v":""},null,null,{"$f":"IF(Input_Output!CG111=\"\",T(Input_Output!CH111),\"\")","v":""},null,null,{"$f":"IF(Input_Output!CJ111=\"\",T(Input_Output!CK111),\"\")","v":""},null,null,{"$f":"IF(Input_Output!CM111=\"\",T(Input_Output!CN111),\"\")","v":""},null,null,{"$f":"IF(Input_Output!CP111=\"\",T(Input_Output!CQ111),\"\")","v":""},null,null,{"$f":"IF(Input_Output!CS111=\"\",T(Input_Output!CT111),\"\")","v":""},null,null,{"$f":"IF(Input_Output!CV111=\"\",T(Input_Output!CW111),\"\")","v":""},null,null,{"$f":"IF(Input_Output!CY111=\"\",T(Input_Output!CZ111),\"\")","v":""},null,null,{"$f":"IF(Input_Output!DB111=\"\",T(Input_Output!DC111),\"\")","v":""},null,null,{"$f":"IF(Input_Output!DE111=\"\",T(Input_Output!DF111),\"\")","v":""},null,null,{"$f":"IF(Input_Output!DH111=\"\",T(Input_Output!DI111),\"\")","v":""},null,null,{"$f":"IF(Input_Output!DK111=\"\",T(Input_Output!DL111),\"\")","v":""},null,null,{"$f":"IF(Input_Output!DN111=\"\",T(Input_Output!DO111),\"\")","v":""},null,null,{"$f":"IF(Input_Output!DQ111=\"\",T(Input_Output!DR111),\"\")","v":""},null,null,{"$f":"IF(Input_Output!DT111=\"\",T(Input_Output!DU111),\"\")","v":""},null,null,{"$f":"IF(Input_Output!DW111=\"\",T(Input_Output!DX111),\"\")","v":""},null,null,{"$f":"IF(Input_Output!DZ111=\"\",T(Input_Output!EA111),\"\")","v":""},null,null,{"$f":"IF(Input_Output!EC111=\"\",T(Input_Output!ED111),\"\")","v":""},null,null,{"$f":"IF(Input_Output!EF111=\"\",T(Input_Output!EG111),\"\")","v":""},null,null,{"$f":"IF(Input_Output!EI111=\"\",T(Input_Output!EJ111),\"\")","v":""},null,null,{"$f":"IF(Input_Output!EL111=\"\",T(Input_Output!EM111),\"\")","v":""},null,null,{"$f":"IF(Input_Output!EO111=\"\",T(Input_Output!EP111),\"\")","v":""},null,null,{"$f":"IF(Input_Output!ER111=\"\",T(Input_Output!ES111),\"\")","v":""},null,null,{"$f":"IF(Input_Output!EU111=\"\",T(Input_Output!EV111),\"\")","v":""},null,null,{"$f":"IF(Input_Output!EX111=\"\",T(Input_Output!EY111),\"\")","v":""},null,null,{"$f":"IF(Input_Output!FA111=\"\",T(Input_Output!FB111),\"\")","v":""},null,null,{"$f":"IF(Input_Output!FD111=\"\",T(Input_Output!FE111),\"\")","v":""},null,null,{"$f":"IF(Input_Output!FG111=\"\",T(Input_Output!FH111),\"\")","v":""},null,null,{"$f":"IF(Input_Output!FJ111=\"\",T(Input_Output!FK111),\"\")","v":""},null,null,{"$f":"IF(Input_Output!FM111=\"\",T(Input_Output!FN111),\"\")","v":""},null,null,{"$f":"IF(Input_Output!FP111=\"\",T(Input_Output!FQ111),\"\")","v":""},null,null,{"$f":"IF(Input_Output!FS111=\"\",T(Input_Output!FT111),\"\")","v":""},null,null,{"$f":"IF(Input_Output!FV111=\"\",T(Input_Output!FW111),\"\")","v":""},null,null,{"$f":"IF(Input_Output!FY111=\"\",T(Input_Output!FZ111),\"\")","v":""},null,null,{"$f":"IF(Input_Output!GB111=\"\",T(Input_Output!GC111),\"\")","v":""},null,null,{"$f":"IF(Input_Output!GE111=\"\",T(Input_Output!GF111),\"\")","v":""},null,null,{"$f":"IF(Input_Output!GH111=\"\",T(Input_Output!GI111),\"\")","v":""},null,null,{"$f":"IF(Input_Output!GK111=\"\",T(Input_Output!GL111),\"\")","v":""},null,null,{"$f":"IF(Input_Output!GN111=\"\",T(Input_Output!GO111),\"\")","v":""},null,null,{"$f":"IF(Input_Output!GQ111=\"\",T(Input_Output!GR111),\"\")","v":""},null,null,{"$f":"IF(Input_Output!GT111=\"\",T(Input_Output!GU111),\"\")","v":""},null,null,{"$f":"IF(Input_Output!GW111=\"\",T(Input_Output!GX111),\"\")","v":""},null,null,{"$f":"IF(Input_Output!GZ111=\"\",T(Input_Output!HA111),\"\")","v":""},null,null,{"$f":"IF(Input_Output!HC111=\"\",T(Input_Output!HD111),\"\")","v":""},null,null,{"$f":"IF(Input_Output!HF111=\"\",T(Input_Output!HG111),\"\")","v":""},null,null,{"$f":"IF(Input_Output!HI111=\"\",T(Input_Output!HJ111),\"\")","v":""},null,null,{"$f":"IF(Input_Output!HL111=\"\",T(Input_Output!HM111),\"\")","v":""},null,null,{"$f":"IF(Input_Output!HO111=\"\",T(Input_Output!HP111),\"\")","v":""},null,null,{"$f":"IF(Input_Output!HR111=\"\",T(Input_Output!HS111),\"\")","v":""},null,null,{"$f":"IF(Input_Output!HU111=\"\",T(Input_Output!HV111),\"\")","v":""},null,null,{"$f":"IF(Input_Output!HX111=\"\",T(Input_Output!HY111),\"\")","v":""},null,null,{"$f":"IF(Input_Output!IA111=\"\",T(Input_Output!IB111),\"\")","v":""},null,null,{"$f":"IF(Input_Output!ID111=\"\",T(Input_Output!IE111),\"\")","v":""},null,null,{"$f":"IF(Input_Output!IG111=\"\",T(Input_Output!IH111),\"\")","v":""},null,null,{"$f":"IF(Input_Output!IJ111=\"\",T(Input_Output!IK111),\"\")","v":""},null,null,{"$f":"IF(Input_Output!IM111=\"\",T(Input_Output!IN111),\"\")","v":""},null,null,{"$f":"IF(Input_Output!IP111=\"\",T(Input_Output!IQ111),\"\")","v":""},null,null,{"$f":"IF(Input_Output!IS111=\"\",T(Input_Output!IT111),\"\")","v":""}]
[null,null,null,null,{"$f":"IF(Input_Output!D112=\"\",T(Input_Output!E112),\"\")","v":""},null,null,{"$f":"IF(Input_Output!G112=\"\",T(Input_Output!H112),\"\")","v":""},null,null,{"$f":"IF(Input_Output!J112=\"\",T(Input_Output!K112),\"\")","v":""},null,null,{"$f":"IF(Input_Output!M112=\"\",T(Input_Output!N112),\"\")","v":""},null,null,{"$f":"IF(Input_Output!P112=\"\",T(Input_Output!Q112),\"\")","v":""},null,null,{"$f":"IF(Input_Output!S112=\"\",T(Input_Output!T112),\"\")","v":""},null,null,{"$f":"IF(Input_Output!V112=\"\",T(Input_Output!W112),\"\")","v":""},null,null,{"$f":"IF(Input_Output!Y112=\"\",T(Input_Output!Z112),\"\")","v":""},null,null,{"$f":"IF(Input_Output!AB112=\"\",T(Input_Output!AC112),\"\")","v":""},null,null,{"$f":"IF(Input_Output!AE112=\"\",T(Input_Output!AF112),\"\")","v":""},null,null,{"$f":"IF(Input_Output!AH112=\"\",T(Input_Output!AI112),\"\")","v":""},null,null,{"$f":"IF(Input_Output!AK112=\"\",T(Input_Output!AL112),\"\")","v":""},null,null,{"$f":"IF(Input_Output!AN112=\"\",T(Input_Output!AO112),\"\")","v":""},null,null,{"$f":"IF(Input_Output!AQ112=\"\",T(Input_Output!AR112),\"\")","v":""},null,null,{"$f":"IF(Input_Output!AT112=\"\",T(Input_Output!AU112),\"\")","v":""},null,null,{"$f":"IF(Input_Output!AW112=\"\",T(Input_Output!AX112),\"\")","v":""},null,null,{"$f":"IF(Input_Output!AZ112=\"\",T(Input_Output!BA112),\"\")","v":""},null,null,{"$f":"IF(Input_Output!BC112=\"\",T(Input_Output!BD112),\"\")","v":""},null,null,{"$f":"IF(Input_Output!BF112=\"\",T(Input_Output!BG112),\"\")","v":""},null,null,{"$f":"IF(Input_Output!BI112=\"\",T(Input_Output!BJ112),\"\")","v":""},null,null,{"$f":"IF(Input_Output!BL112=\"\",T(Input_Output!BM112),\"\")","v":""},null,null,{"$f":"IF(Input_Output!BO112=\"\",T(Input_Output!BP112),\"\")","v":""},null,null,{"$f":"IF(Input_Output!BR112=\"\",T(Input_Output!BS112),\"\")","v":""},null,null,{"$f":"IF(Input_Output!BU112=\"\",T(Input_Output!BV112),\"\")","v":""},null,null,{"$f":"IF(Input_Output!BX112=\"\",T(Input_Output!BY112),\"\")","v":""},null,null,{"$f":"IF(Input_Output!CA112=\"\",T(Input_Output!CB112),\"\")","v":""},null,null,{"$f":"IF(Input_Output!CD112=\"\",T(Input_Output!CE112),\"\")","v":""},null,null,{"$f":"IF(Input_Output!CG112=\"\",T(Input_Output!CH112),\"\")","v":""},null,null,{"$f":"IF(Input_Output!CJ112=\"\",T(Input_Output!CK112),\"\")","v":""},null,null,{"$f":"IF(Input_Output!CM112=\"\",T(Input_Output!CN112),\"\")","v":""},null,null,{"$f":"IF(Input_Output!CP112=\"\",T(Input_Output!CQ112),\"\")","v":""},null,null,{"$f":"IF(Input_Output!CS112=\"\",T(Input_Output!CT112),\"\")","v":""},null,null,{"$f":"IF(Input_Output!CV112=\"\",T(Input_Output!CW112),\"\")","v":""},null,null,{"$f":"IF(Input_Output!CY112=\"\",T(Input_Output!CZ112),\"\")","v":""},null,null,{"$f":"IF(Input_Output!DB112=\"\",T(Input_Output!DC112),\"\")","v":""},null,null,{"$f":"IF(Input_Output!DE112=\"\",T(Input_Output!DF112),\"\")","v":""},null,null,{"$f":"IF(Input_Output!DH112=\"\",T(Input_Output!DI112),\"\")","v":""},null,null,{"$f":"IF(Input_Output!DK112=\"\",T(Input_Output!DL112),\"\")","v":""},null,null,{"$f":"IF(Input_Output!DN112=\"\",T(Input_Output!DO112),\"\")","v":""},null,null,{"$f":"IF(Input_Output!DQ112=\"\",T(Input_Output!DR112),\"\")","v":""},null,null,{"$f":"IF(Input_Output!DT112=\"\",T(Input_Output!DU112),\"\")","v":""},null,null,{"$f":"IF(Input_Output!DW112=\"\",T(Input_Output!DX112),\"\")","v":""},null,null,{"$f":"IF(Input_Output!DZ112=\"\",T(Input_Output!EA112),\"\")","v":""},null,null,{"$f":"IF(Input_Output!EC112=\"\",T(Input_Output!ED112),\"\")","v":""},null,null,{"$f":"IF(Input_Output!EF112=\"\",T(Input_Output!EG112),\"\")","v":""},null,null,{"$f":"IF(Input_Output!EI112=\"\",T(Input_Output!EJ112),\"\")","v":""},null,null,{"$f":"IF(Input_Output!EL112=\"\",T(Input_Output!EM112),\"\")","v":""},null,null,{"$f":"IF(Input_Output!EO112=\"\",T(Input_Output!EP112),\"\")","v":""},null,null,{"$f":"IF(Input_Output!ER112=\"\",T(Input_Output!ES112),\"\")","v":""},null,null,{"$f":"IF(Input_Output!EU112=\"\",T(Input_Output!EV112),\"\")","v":""},null,null,{"$f":"IF(Input_Output!EX112=\"\",T(Input_Output!EY112),\"\")","v":""},null,null,{"$f":"IF(Input_Output!FA112=\"\",T(Input_Output!FB112),\"\")","v":""},null,null,{"$f":"IF(Input_Output!FD112=\"\",T(Input_Output!FE112),\"\")","v":""},null,null,{"$f":"IF(Input_Output!FG112=\"\",T(Input_Output!FH112),\"\")","v":""},null,null,{"$f":"IF(Input_Output!FJ112=\"\",T(Input_Output!FK112),\"\")","v":""},null,null,{"$f":"IF(Input_Output!FM112=\"\",T(Input_Output!FN112),\"\")","v":""},null,null,{"$f":"IF(Input_Output!FP112=\"\",T(Input_Output!FQ112),\"\")","v":""},null,null,{"$f":"IF(Input_Output!FS112=\"\",T(Input_Output!FT112),\"\")","v":""},null,null,{"$f":"IF(Input_Output!FV112=\"\",T(Input_Output!FW112),\"\")","v":""},null,null,{"$f":"IF(Input_Output!FY112=\"\",T(Input_Output!FZ112),\"\")","v":""},null,null,{"$f":"IF(Input_Output!GB112=\"\",T(Input_Output!GC112),\"\")","v":""},null,null,{"$f":"IF(Input_Output!GE112=\"\",T(Input_Output!GF112),\"\")","v":""},null,null,{"$f":"IF(Input_Output!GH112=\"\",T(Input_Output!GI112),\"\")","v":""},null,null,{"$f":"IF(Input_Output!GK112=\"\",T(Input_Output!GL112),\"\")","v":""},null,null,{"$f":"IF(Input_Output!GN112=\"\",T(Input_Output!GO112),\"\")","v":""},null,null,{"$f":"IF(Input_Output!GQ112=\"\",T(Input_Output!GR112),\"\")","v":""},null,null,{"$f":"IF(Input_Output!GT112=\"\",T(Input_Output!GU112),\"\")","v":""},null,null,{"$f":"IF(Input_Output!GW112=\"\",T(Input_Output!GX112),\"\")","v":""},null,null,{"$f":"IF(Input_Output!GZ112=\"\",T(Input_Output!HA112),\"\")","v":""},null,null,{"$f":"IF(Input_Output!HC112=\"\",T(Input_Output!HD112),\"\")","v":""},null,null,{"$f":"IF(Input_Output!HF112=\"\",T(Input_Output!HG112),\"\")","v":""},null,null,{"$f":"IF(Input_Output!HI112=\"\",T(Input_Output!HJ112),\"\")","v":""},null,null,{"$f":"IF(Input_Output!HL112=\"\",T(Input_Output!HM112),\"\")","v":""},null,null,{"$f":"IF(Input_Output!HO112=\"\",T(Input_Output!HP112),\"\")","v":""},null,null,{"$f":"IF(Input_Output!HR112=\"\",T(Input_Output!HS112),\"\")","v":""},null,null,{"$f":"IF(Input_Output!HU112=\"\",T(Input_Output!HV112),\"\")","v":""},null,null,{"$f":"IF(Input_Output!HX112=\"\",T(Input_Output!HY112),\"\")","v":""},null,null,{"$f":"IF(Input_Output!IA112=\"\",T(Input_Output!IB112),\"\")","v":""},null,null,{"$f":"IF(Input_Output!ID112=\"\",T(Input_Output!IE112),\"\")","v":""},null,null,{"$f":"IF(Input_Output!IG112=\"\",T(Input_Output!IH112),\"\")","v":""},null,null,{"$f":"IF(Input_Output!IJ112=\"\",T(Input_Output!IK112),\"\")","v":""},null,null,{"$f":"IF(Input_Output!IM112=\"\",T(Input_Output!IN112),\"\")","v":""},null,null,{"$f":"IF(Input_Output!IP112=\"\",T(Input_Output!IQ112),\"\")","v":""},null,null,{"$f":"IF(Input_Output!IS112=\"\",T(Input_Output!IT112),\"\")","v":""}]
[null,null,null,null,{"$f":"IF(Input_Output!D113=\"\",T(Input_Output!E113),\"\")","v":""},null,null,{"$f":"IF(Input_Output!G113=\"\",T(Input_Output!H113),\"\")","v":""},null,null,{"$f":"IF(Input_Output!J113=\"\",T(Input_Output!K113),\"\")","v":""},null,null,{"$f":"IF(Input_Output!M113=\"\",T(Input_Output!N113),\"\")","v":""},null,null,{"$f":"IF(Input_Output!P113=\"\",T(Input_Output!Q113),\"\")","v":""},null,null,{"$f":"IF(Input_Output!S113=\"\",T(Input_Output!T113),\"\")","v":""},null,null,{"$f":"IF(Input_Output!V113=\"\",T(Input_Output!W113),\"\")","v":""},null,null,{"$f":"IF(Input_Output!Y113=\"\",T(Input_Output!Z113),\"\")","v":""},null,null,{"$f":"IF(Input_Output!AB113=\"\",T(Input_Output!AC113),\"\")","v":""},null,null,{"$f":"IF(Input_Output!AE113=\"\",T(Input_Output!AF113),\"\")","v":""},null,null,{"$f":"IF(Input_Output!AH113=\"\",T(Input_Output!AI113),\"\")","v":""},null,null,{"$f":"IF(Input_Output!AK113=\"\",T(Input_Output!AL113),\"\")","v":""},null,null,{"$f":"IF(Input_Output!AN113=\"\",T(Input_Output!AO113),\"\")","v":""},null,null,{"$f":"IF(Input_Output!AQ113=\"\",T(Input_Output!AR113),\"\")","v":""},null,null,{"$f":"IF(Input_Output!AT113=\"\",T(Input_Output!AU113),\"\")","v":""},null,null,{"$f":"IF(Input_Output!AW113=\"\",T(Input_Output!AX113),\"\")","v":""},null,null,{"$f":"IF(Input_Output!AZ113=\"\",T(Input_Output!BA113),\"\")","v":""},null,null,{"$f":"IF(Input_Output!BC113=\"\",T(Input_Output!BD113),\"\")","v":""},null,null,{"$f":"IF(Input_Output!BF113=\"\",T(Input_Output!BG113),\"\")","v":""},null,null,{"$f":"IF(Input_Output!BI113=\"\",T(Input_Output!BJ113),\"\")","v":""},null,null,{"$f":"IF(Input_Output!BL113=\"\",T(Input_Output!BM113),\"\")","v":""},null,null,{"$f":"IF(Input_Output!BO113=\"\",T(Input_Output!BP113),\"\")","v":""},null,null,{"$f":"IF(Input_Output!BR113=\"\",T(Input_Output!BS113),\"\")","v":""},null,null,{"$f":"IF(Input_Output!BU113=\"\",T(Input_Output!BV113),\"\")","v":""},null,null,{"$f":"IF(Input_Output!BX113=\"\",T(Input_Output!BY113),\"\")","v":""},null,null,{"$f":"IF(Input_Output!CA113=\"\",T(Input_Output!CB113),\"\")","v":""},null,null,{"$f":"IF(Input_Output!CD113=\"\",T(Input_Output!CE113),\"\")","v":""},null,null,{"$f":"IF(Input_Output!CG113=\"\",T(Input_Output!CH113),\"\")","v":""},null,null,{"$f":"IF(Input_Output!CJ113=\"\",T(Input_Output!CK113),\"\")","v":""},null,null,{"$f":"IF(Input_Output!CM113=\"\",T(Input_Output!CN113),\"\")","v":""},null,null,{"$f":"IF(Input_Output!CP113=\"\",T(Input_Output!CQ113),\"\")","v":""},null,null,{"$f":"IF(Input_Output!CS113=\"\",T(Input_Output!CT113),\"\")","v":""},null,null,{"$f":"IF(Input_Output!CV113=\"\",T(Input_Output!CW113),\"\")","v":""},null,null,{"$f":"IF(Input_Output!CY113=\"\",T(Input_Output!CZ113),\"\")","v":""},null,null,{"$f":"IF(Input_Output!DB113=\"\",T(Input_Output!DC113),\"\")","v":""},null,null,{"$f":"IF(Input_Output!DE113=\"\",T(Input_Output!DF113),\"\")","v":""},null,null,{"$f":"IF(Input_Output!DH113=\"\",T(Input_Output!DI113),\"\")","v":""},null,null,{"$f":"IF(Input_Output!DK113=\"\",T(Input_Output!DL113),\"\")","v":""},null,null,{"$f":"IF(Input_Output!DN113=\"\",T(Input_Output!DO113),\"\")","v":""},null,null,{"$f":"IF(Input_Output!DQ113=\"\",T(Input_Output!DR113),\"\")","v":""},null,null,{"$f":"IF(Input_Output!DT113=\"\",T(Input_Output!DU113),\"\")","v":""},null,null,{"$f":"IF(Input_Output!DW113=\"\",T(Input_Output!DX113),\"\")","v":""},null,null,{"$f":"IF(Input_Output!DZ113=\"\",T(Input_Output!EA113),\"\")","v":""},null,null,{"$f":"IF(Input_Output!EC113=\"\",T(Input_Output!ED113),\"\")","v":""},null,null,{"$f":"IF(Input_Output!EF113=\"\",T(Input_Output!EG113),\"\")","v":""},null,null,{"$f":"IF(Input_Output!EI113=\"\",T(Input_Output!EJ113),\"\")","v":""},null,null,{"$f":"IF(Input_Output!EL113=\"\",T(Input_Output!EM113),\"\")","v":""},null,null,{"$f":"IF(Input_Output!EO113=\"\",T(Input_Output!EP113),\"\")","v":""},null,null,{"$f":"IF(Input_Output!ER113=\"\",T(Input_Output!ES113),\"\")","v":""},null,null,{"$f":"IF(Input_Output!EU113=\"\",T(Input_Output!EV113),\"\")","v":""},null,null,{"$f":"IF(Input_Output!EX113=\"\",T(Input_Output!EY113),\"\")","v":""},null,null,{"$f":"IF(Input_Output!FA113=\"\",T(Input_Output!FB113),\"\")","v":""},null,null,{"$f":"IF(Input_Output!FD113=\"\",T(Input_Output!FE113),\"\")","v":""},null,null,{"$f":"IF(Input_Output!FG113=\"\",T(Input_Output!FH113),\"\")","v":""},null,null,{"$f":"IF(Input_Output!FJ113=\"\",T(Input_Output!FK113),\"\")","v":""},null,null,{"$f":"IF(Input_Output!FM113=\"\",T(Input_Output!FN113),\"\")","v":""},null,null,{"$f":"IF(Input_Output!FP113=\"\",T(Input_Output!FQ113),\"\")","v":""},null,null,{"$f":"IF(Input_Output!FS113=\"\",T(Input_Output!FT113),\"\")","v":""},null,null,{"$f":"IF(Input_Output!FV113=\"\",T(Input_Output!FW113),\"\")","v":""},null,null,{"$f":"IF(Input_Output!FY113=\"\",T(Input_Output!FZ113),\"\")","v":""},null,null,{"$f":"IF(Input_Output!GB113=\"\",T(Input_Output!GC113),\"\")","v":""},null,null,{"$f":"IF(Input_Output!GE113=\"\",T(Input_Output!GF113),\"\")","v":""},null,null,{"$f":"IF(Input_Output!GH113=\"\",T(Input_Output!GI113),\"\")","v":""},null,null,{"$f":"IF(Input_Output!GK113=\"\",T(Input_Output!GL113),\"\")","v":""},null,null,{"$f":"IF(Input_Output!GN113=\"\",T(Input_Output!GO113),\"\")","v":""},null,null,{"$f":"IF(Input_Output!GQ113=\"\",T(Input_Output!GR113),\"\")","v":""},null,null,{"$f":"IF(Input_Output!GT113=\"\",T(Input_Output!GU113),\"\")","v":""},null,null,{"$f":"IF(Input_Output!GW113=\"\",T(Input_Output!GX113),\"\")","v":""},null,null,{"$f":"IF(Input_Output!GZ113=\"\",T(Input_Output!HA113),\"\")","v":""},null,null,{"$f":"IF(Input_Output!HC113=\"\",T(Input_Output!HD113),\"\")","v":""},null,null,{"$f":"IF(Input_Output!HF113=\"\",T(Input_Output!HG113),\"\")","v":""},null,null,{"$f":"IF(Input_Output!HI113=\"\",T(Input_Output!HJ113),\"\")","v":""},null,null,{"$f":"IF(Input_Output!HL113=\"\",T(Input_Output!HM113),\"\")","v":""},null,null,{"$f":"IF(Input_Output!HO113=\"\",T(Input_Output!HP113),\"\")","v":""},null,null,{"$f":"IF(Input_Output!HR113=\"\",T(Input_Output!HS113),\"\")","v":""},null,null,{"$f":"IF(Input_Output!HU113=\"\",T(Input_Output!HV113),\"\")","v":""},null,null,{"$f":"IF(Input_Output!HX113=\"\",T(Input_Output!HY113),\"\")","v":""},null,null,{"$f":"IF(Input_Output!IA113=\"\",T(Input_Output!IB113),\"\")","v":""},null,null,{"$f":"IF(Input_Output!ID113=\"\",T(Input_Output!IE113),\"\")","v":""},null,null,{"$f":"IF(Input_Output!IG113=\"\",T(Input_Output!IH113),\"\")","v":""},null,null,{"$f":"IF(Input_Output!IJ113=\"\",T(Input_Output!IK113),\"\")","v":""},null,null,{"$f":"IF(Input_Output!IM113=\"\",T(Input_Output!IN113),\"\")","v":""},null,null,{"$f":"IF(Input_Output!IP113=\"\",T(Input_Output!IQ113),\"\")","v":""},null,null,{"$f":"IF(Input_Output!IS113=\"\",T(Input_Output!IT113),\"\")","v":""}]
[null,null,null,null,{"$f":"IF(Input_Output!D114=\"\",T(Input_Output!E114),\"\")","v":""},null,null,{"$f":"IF(Input_Output!G114=\"\",T(Input_Output!H114),\"\")","v":""},null,null,{"$f":"IF(Input_Output!J114=\"\",T(Input_Output!K114),\"\")","v":""},null,null,{"$f":"IF(Input_Output!M114=\"\",T(Input_Output!N114),\"\")","v":""},null,null,{"$f":"IF(Input_Output!P114=\"\",T(Input_Output!Q114),\"\")","v":""},null,null,{"$f":"IF(Input_Output!S114=\"\",T(Input_Output!T114),\"\")","v":""},null,null,{"$f":"IF(Input_Output!V114=\"\",T(Input_Output!W114),\"\")","v":""},null,null,{"$f":"IF(Input_Output!Y114=\"\",T(Input_Output!Z114),\"\")","v":""},null,null,{"$f":"IF(Input_Output!AB114=\"\",T(Input_Output!AC114),\"\")","v":""},null,null,{"$f":"IF(Input_Output!AE114=\"\",T(Input_Output!AF114),\"\")","v":""},null,null,{"$f":"IF(Input_Output!AH114=\"\",T(Input_Output!AI114),\"\")","v":""},null,null,{"$f":"IF(Input_Output!AK114=\"\",T(Input_Output!AL114),\"\")","v":""},null,null,{"$f":"IF(Input_Output!AN114=\"\",T(Input_Output!AO114),\"\")","v":""},null,null,{"$f":"IF(Input_Output!AQ114=\"\",T(Input_Output!AR114),\"\")","v":""},null,null,{"$f":"IF(Input_Output!AT114=\"\",T(Input_Output!AU114),\"\")","v":""},null,null,{"$f":"IF(Input_Output!AW114=\"\",T(Input_Output!AX114),\"\")","v":""},null,null,{"$f":"IF(Input_Output!AZ114=\"\",T(Input_Output!BA114),\"\")","v":""},null,null,{"$f":"IF(Input_Output!BC114=\"\",T(Input_Output!BD114),\"\")","v":""},null,null,{"$f":"IF(Input_Output!BF114=\"\",T(Input_Output!BG114),\"\")","v":""},null,null,{"$f":"IF(Input_Output!BI114=\"\",T(Input_Output!BJ114),\"\")","v":""},null,null,{"$f":"IF(Input_Output!BL114=\"\",T(Input_Output!BM114),\"\")","v":""},null,null,{"$f":"IF(Input_Output!BO114=\"\",T(Input_Output!BP114),\"\")","v":""},null,null,{"$f":"IF(Input_Output!BR114=\"\",T(Input_Output!BS114),\"\")","v":""},null,null,{"$f":"IF(Input_Output!BU114=\"\",T(Input_Output!BV114),\"\")","v":""},null,null,{"$f":"IF(Input_Output!BX114=\"\",T(Input_Output!BY114),\"\")","v":""},null,null,{"$f":"IF(Input_Output!CA114=\"\",T(Input_Output!CB114),\"\")","v":""},null,null,{"$f":"IF(Input_Output!CD114=\"\",T(Input_Output!CE114),\"\")","v":""},null,null,{"$f":"IF(Input_Output!CG114=\"\",T(Input_Output!CH114),\"\")","v":""},null,null,{"$f":"IF(Input_Output!CJ114=\"\",T(Input_Output!CK114),\"\")","v":""},null,null,{"$f":"IF(Input_Output!CM114=\"\",T(Input_Output!CN114),\"\")","v":""},null,null,{"$f":"IF(Input_Output!CP114=\"\",T(Input_Output!CQ114),\"\")","v":""},null,null,{"$f":"IF(Input_Output!CS114=\"\",T(Input_Output!CT114),\"\")","v":""},null,null,{"$f":"IF(Input_Output!CV114=\"\",T(Input_Output!CW114),\"\")","v":""},null,null,{"$f":"IF(Input_Output!CY114=\"\",T(Input_Output!CZ114),\"\")","v":""},null,null,{"$f":"IF(Input_Output!DB114=\"\",T(Input_Output!DC114),\"\")","v":""},null,null,{"$f":"IF(Input_Output!DE114=\"\",T(Input_Output!DF114),\"\")","v":""},null,null,{"$f":"IF(Input_Output!DH114=\"\",T(Input_Output!DI114),\"\")","v":""},null,null,{"$f":"IF(Input_Output!DK114=\"\",T(Input_Output!DL114),\"\")","v":""},null,null,{"$f":"IF(Input_Output!DN114=\"\",T(Input_Output!DO114),\"\")","v":""},null,null,{"$f":"IF(Input_Output!DQ114=\"\",T(Input_Output!DR114),\"\")","v":""},null,null,{"$f":"IF(Input_Output!DT114=\"\",T(Input_Output!DU114),\"\")","v":""},null,null,{"$f":"IF(Input_Output!DW114=\"\",T(Input_Output!DX114),\"\")","v":""},null,null,{"$f":"IF(Input_Output!DZ114=\"\",T(Input_Output!EA114),\"\")","v":""},null,null,{"$f":"IF(Input_Output!EC114=\"\",T(Input_Output!ED114),\"\")","v":""},null,null,{"$f":"IF(Input_Output!EF114=\"\",T(Input_Output!EG114),\"\")","v":""},null,null,{"$f":"IF(Input_Output!EI114=\"\",T(Input_Output!EJ114),\"\")","v":""},null,null,{"$f":"IF(Input_Output!EL114=\"\",T(Input_Output!EM114),\"\")","v":""},null,null,{"$f":"IF(Input_Output!EO114=\"\",T(Input_Output!EP114),\"\")","v":""},null,null,{"$f":"IF(Input_Output!ER114=\"\",T(Input_Output!ES114),\"\")","v":""},null,null,{"$f":"IF(Input_Output!EU114=\"\",T(Input_Output!EV114),\"\")","v":""},null,null,{"$f":"IF(Input_Output!EX114=\"\",T(Input_Output!EY114),\"\")","v":""},null,null,{"$f":"IF(Input_Output!FA114=\"\",T(Input_Output!FB114),\"\")","v":""},null,null,{"$f":"IF(Input_Output!FD114=\"\",T(Input_Output!FE114),\"\")","v":""},null,null,{"$f":"IF(Input_Output!FG114=\"\",T(Input_Output!FH114),\"\")","v":""},null,null,{"$f":"IF(Input_Output!FJ114=\"\",T(Input_Output!FK114),\"\")","v":""},null,null,{"$f":"IF(Input_Output!FM114=\"\",T(Input_Output!FN114),\"\")","v":""},null,null,{"$f":"IF(Input_Output!FP114=\"\",T(Input_Output!FQ114),\"\")","v":""},null,null,{"$f":"IF(Input_Output!FS114=\"\",T(Input_Output!FT114),\"\")","v":""},null,null,{"$f":"IF(Input_Output!FV114=\"\",T(Input_Output!FW114),\"\")","v":""},null,null,{"$f":"IF(Input_Output!FY114=\"\",T(Input_Output!FZ114),\"\")","v":""},null,null,{"$f":"IF(Input_Output!GB114=\"\",T(Input_Output!GC114),\"\")","v":""},null,null,{"$f":"IF(Input_Output!GE114=\"\",T(Input_Output!GF114),\"\")","v":""},null,null,{"$f":"IF(Input_Output!GH114=\"\",T(Input_Output!GI114),\"\")","v":""},null,null,{"$f":"IF(Input_Output!GK114=\"\",T(Input_Output!GL114),\"\")","v":""},null,null,{"$f":"IF(Input_Output!GN114=\"\",T(Input_Output!GO114),\"\")","v":""},null,null,{"$f":"IF(Input_Output!GQ114=\"\",T(Input_Output!GR114),\"\")","v":""},null,null,{"$f":"IF(Input_Output!GT114=\"\",T(Input_Output!GU114),\"\")","v":""},null,null,{"$f":"IF(Input_Output!GW114=\"\",T(Input_Output!GX114),\"\")","v":""},null,null,{"$f":"IF(Input_Output!GZ114=\"\",T(Input_Output!HA114),\"\")","v":""},null,null,{"$f":"IF(Input_Output!HC114=\"\",T(Input_Output!HD114),\"\")","v":""},null,null,{"$f":"IF(Input_Output!HF114=\"\",T(Input_Output!HG114),\"\")","v":""},null,null,{"$f":"IF(Input_Output!HI114=\"\",T(Input_Output!HJ114),\"\")","v":""},null,null,{"$f":"IF(Input_Output!HL114=\"\",T(Input_Output!HM114),\"\")","v":""},null,null,{"$f":"IF(Input_Output!HO114=\"\",T(Input_Output!HP114),\"\")","v":""},null,null,{"$f":"IF(Input_Output!HR114=\"\",T(Input_Output!HS114),\"\")","v":""},null,null,{"$f":"IF(Input_Output!HU114=\"\",T(Input_Output!HV114),\"\")","v":""},null,null,{"$f":"IF(Input_Output!HX114=\"\",T(Input_Output!HY114),\"\")","v":""},null,null,{"$f":"IF(Input_Output!IA114=\"\",T(Input_Output!IB114),\"\")","v":""},null,null,{"$f":"IF(Input_Output!ID114=\"\",T(Input_Output!IE114),\"\")","v":""},null,null,{"$f":"IF(Input_Output!IG114=\"\",T(Input_Output!IH114),\"\")","v":""},null,null,{"$f":"IF(Input_Output!IJ114=\"\",T(Input_Output!IK114),\"\")","v":""},null,null,{"$f":"IF(Input_Output!IM114=\"\",T(Input_Output!IN114),\"\")","v":""},null,null,{"$f":"IF(Input_Output!IP114=\"\",T(Input_Output!IQ114),\"\")","v":""},null,null,{"$f":"IF(Input_Output!IS114=\"\",T(Input_Output!IT114),\"\")","v":""}]
[null,null,null,null,{"$f":"IF(Input_Output!D115=\"\",T(Input_Output!E115),\"\")","v":""},null,null,{"$f":"IF(Input_Output!G115=\"\",T(Input_Output!H115),\"\")","v":""},null,null,{"$f":"IF(Input_Output!J115=\"\",T(Input_Output!K115),\"\")","v":""},null,null,{"$f":"IF(Input_Output!M115=\"\",T(Input_Output!N115),\"\")","v":""},null,null,{"$f":"IF(Input_Output!P115=\"\",T(Input_Output!Q115),\"\")","v":""},null,null,{"$f":"IF(Input_Output!S115=\"\",T(Input_Output!T115),\"\")","v":""},null,null,{"$f":"IF(Input_Output!V115=\"\",T(Input_Output!W115),\"\")","v":""},null,null,{"$f":"IF(Input_Output!Y115=\"\",T(Input_Output!Z115),\"\")","v":""},null,null,{"$f":"IF(Input_Output!AB115=\"\",T(Input_Output!AC115),\"\")","v":""},null,null,{"$f":"IF(Input_Output!AE115=\"\",T(Input_Output!AF115),\"\")","v":""},null,null,{"$f":"IF(Input_Output!AH115=\"\",T(Input_Output!AI115),\"\")","v":""},null,null,{"$f":"IF(Input_Output!AK115=\"\",T(Input_Output!AL115),\"\")","v":""},null,null,{"$f":"IF(Input_Output!AN115=\"\",T(Input_Output!AO115),\"\")","v":""},null,null,{"$f":"IF(Input_Output!AQ115=\"\",T(Input_Output!AR115),\"\")","v":""},null,null,{"$f":"IF(Input_Output!AT115=\"\",T(Input_Output!AU115),\"\")","v":""},null,null,{"$f":"IF(Input_Output!AW115=\"\",T(Input_Output!AX115),\"\")","v":""},null,null,{"$f":"IF(Input_Output!AZ115=\"\",T(Input_Output!BA115),\"\")","v":""},null,null,{"$f":"IF(Input_Output!BC115=\"\",T(Input_Output!BD115),\"\")","v":""},null,null,{"$f":"IF(Input_Output!BF115=\"\",T(Input_Output!BG115),\"\")","v":""},null,null,{"$f":"IF(Input_Output!BI115=\"\",T(Input_Output!BJ115),\"\")","v":""},null,null,{"$f":"IF(Input_Output!BL115=\"\",T(Input_Output!BM115),\"\")","v":""},null,null,{"$f":"IF(Input_Output!BO115=\"\",T(Input_Output!BP115),\"\")","v":""},null,null,{"$f":"IF(Input_Output!BR115=\"\",T(Input_Output!BS115),\"\")","v":""},null,null,{"$f":"IF(Input_Output!BU115=\"\",T(Input_Output!BV115),\"\")","v":""},null,null,{"$f":"IF(Input_Output!BX115=\"\",T(Input_Output!BY115),\"\")","v":""},null,null,{"$f":"IF(Input_Output!CA115=\"\",T(Input_Output!CB115),\"\")","v":""},null,null,{"$f":"IF(Input_Output!CD115=\"\",T(Input_Output!CE115),\"\")","v":""},null,null,{"$f":"IF(Input_Output!CG115=\"\",T(Input_Output!CH115),\"\")","v":""},null,null,{"$f":"IF(Input_Output!CJ115=\"\",T(Input_Output!CK115),\"\")","v":""},null,null,{"$f":"IF(Input_Output!CM115=\"\",T(Input_Output!CN115),\"\")","v":""},null,null,{"$f":"IF(Input_Output!CP115=\"\",T(Input_Output!CQ115),\"\")","v":""},null,null,{"$f":"IF(Input_Output!CS115=\"\",T(Input_Output!CT115),\"\")","v":""},null,null,{"$f":"IF(Input_Output!CV115=\"\",T(Input_Output!CW115),\"\")","v":""},null,null,{"$f":"IF(Input_Output!CY115=\"\",T(Input_Output!CZ115),\"\")","v":""},null,null,{"$f":"IF(Input_Output!DB115=\"\",T(Input_Output!DC115),\"\")","v":""},null,null,{"$f":"IF(Input_Output!DE115=\"\",T(Input_Output!DF115),\"\")","v":""},null,null,{"$f":"IF(Input_Output!DH115=\"\",T(Input_Output!DI115),\"\")","v":""},null,null,{"$f":"IF(Input_Output!DK115=\"\",T(Input_Output!DL115),\"\")","v":""},null,null,{"$f":"IF(Input_Output!DN115=\"\",T(Input_Output!DO115),\"\")","v":""},null,null,{"$f":"IF(Input_Output!DQ115=\"\",T(Input_Output!DR115),\"\")","v":""},null,null,{"$f":"IF(Input_Output!DT115=\"\",T(Input_Output!DU115),\"\")","v":""},null,null,{"$f":"IF(Input_Output!DW115=\"\",T(Input_Output!DX115),\"\")","v":""},null,null,{"$f":"IF(Input_Output!DZ115=\"\",T(Input_Output!EA115),\"\")","v":""},null,null,{"$f":"IF(Input_Output!EC115=\"\",T(Input_Output!ED115),\"\")","v":""},null,null,{"$f":"IF(Input_Output!EF115=\"\",T(Input_Output!EG115),\"\")","v":""},null,null,{"$f":"IF(Input_Output!EI115=\"\",T(Input_Output!EJ115),\"\")","v":""},null,null,{"$f":"IF(Input_Output!EL115=\"\",T(Input_Output!EM115),\"\")","v":""},null,null,{"$f":"IF(Input_Output!EO115=\"\",T(Input_Output!EP115),\"\")","v":""},null,null,{"$f":"IF(Input_Output!ER115=\"\",T(Input_Output!ES115),\"\")","v":""},null,null,{"$f":"IF(Input_Output!EU115=\"\",T(Input_Output!EV115),\"\")","v":""},null,null,{"$f":"IF(Input_Output!EX115=\"\",T(Input_Output!EY115),\"\")","v":""},null,null,{"$f":"IF(Input_Output!FA115=\"\",T(Input_Output!FB115),\"\")","v":""},null,null,{"$f":"IF(Input_Output!FD115=\"\",T(Input_Output!FE115),\"\")","v":""},null,null,{"$f":"IF(Input_Output!FG115=\"\",T(Input_Output!FH115),\"\")","v":""},null,null,{"$f":"IF(Input_Output!FJ115=\"\",T(Input_Output!FK115),\"\")","v":""},null,null,{"$f":"IF(Input_Output!FM115=\"\",T(Input_Output!FN115),\"\")","v":""},null,null,{"$f":"IF(Input_Output!FP115=\"\",T(Input_Output!FQ115),\"\")","v":""},null,null,{"$f":"IF(Input_Output!FS115=\"\",T(Input_Output!FT115),\"\")","v":""},null,null,{"$f":"IF(Input_Output!FV115=\"\",T(Input_Output!FW115),\"\")","v":""},null,null,{"$f":"IF(Input_Output!FY115=\"\",T(Input_Output!FZ115),\"\")","v":""},null,null,{"$f":"IF(Input_Output!GB115=\"\",T(Input_Output!GC115),\"\")","v":""},null,null,{"$f":"IF(Input_Output!GE115=\"\",T(Input_Output!GF115),\"\")","v":""},null,null,{"$f":"IF(Input_Output!GH115=\"\",T(Input_Output!GI115),\"\")","v":""},null,null,{"$f":"IF(Input_Output!GK115=\"\",T(Input_Output!GL115),\"\")","v":""},null,null,{"$f":"IF(Input_Output!GN115=\"\",T(Input_Output!GO115),\"\")","v":""},null,null,{"$f":"IF(Input_Output!GQ115=\"\",T(Input_Output!GR115),\"\")","v":""},null,null,{"$f":"IF(Input_Output!GT115=\"\",T(Input_Output!GU115),\"\")","v":""},null,null,{"$f":"IF(Input_Output!GW115=\"\",T(Input_Output!GX115),\"\")","v":""},null,null,{"$f":"IF(Input_Output!GZ115=\"\",T(Input_Output!HA115),\"\")","v":""},null,null,{"$f":"IF(Input_Output!HC115=\"\",T(Input_Output!HD115),\"\")","v":""},null,null,{"$f":"IF(Input_Output!HF115=\"\",T(Input_Output!HG115),\"\")","v":""},null,null,{"$f":"IF(Input_Output!HI115=\"\",T(Input_Output!HJ115),\"\")","v":""},null,null,{"$f":"IF(Input_Output!HL115=\"\",T(Input_Output!HM115),\"\")","v":""},null,null,{"$f":"IF(Input_Output!HO115=\"\",T(Input_Output!HP115),\"\")","v":""},null,null,{"$f":"IF(Input_Output!HR115=\"\",T(Input_Output!HS115),\"\")","v":""},null,null,{"$f":"IF(Input_Output!HU115=\"\",T(Input_Output!HV115),\"\")","v":""},null,null,{"$f":"IF(Input_Output!HX115=\"\",T(Input_Output!HY115),\"\")","v":""},null,null,{"$f":"IF(Input_Output!IA115=\"\",T(Input_Output!IB115),\"\")","v":""},null,null,{"$f":"IF(Input_Output!ID115=\"\",T(Input_Output!IE115),\"\")","v":""},null,null,{"$f":"IF(Input_Output!IG115=\"\",T(Input_Output!IH115),\"\")","v":""},null,null,{"$f":"IF(Input_Output!IJ115=\"\",T(Input_Output!IK115),\"\")","v":""},null,null,{"$f":"IF(Input_Output!IM115=\"\",T(Input_Output!IN115),\"\")","v":""},null,null,{"$f":"IF(Input_Output!IP115=\"\",T(Input_Output!IQ115),\"\")","v":""},null,null,{"$f":"IF(Input_Output!IS115=\"\",T(Input_Output!IT115),\"\")","v":""}]
[null,null,null,null,{"$f":"IF(Input_Output!D116=\"\",T(Input_Output!E116),\"\")","v":""},null,null,{"$f":"IF(Input_Output!G116=\"\",T(Input_Output!H116),\"\")","v":""},null,null,{"$f":"IF(Input_Output!J116=\"\",T(Input_Output!K116),\"\")","v":""},null,null,{"$f":"IF(Input_Output!M116=\"\",T(Input_Output!N116),\"\")","v":""},null,null,{"$f":"IF(Input_Output!P116=\"\",T(Input_Output!Q116),\"\")","v":""},null,null,{"$f":"IF(Input_Output!S116=\"\",T(Input_Output!T116),\"\")","v":""},null,null,{"$f":"IF(Input_Output!V116=\"\",T(Input_Output!W116),\"\")","v":""},null,null,{"$f":"IF(Input_Output!Y116=\"\",T(Input_Output!Z116),\"\")","v":""},null,null,{"$f":"IF(Input_Output!AB116=\"\",T(Input_Output!AC116),\"\")","v":""},null,null,{"$f":"IF(Input_Output!AE116=\"\",T(Input_Output!AF116),\"\")","v":""},null,null,{"$f":"IF(Input_Output!AH116=\"\",T(Input_Output!AI116),\"\")","v":""},null,null,{"$f":"IF(Input_Output!AK116=\"\",T(Input_Output!AL116),\"\")","v":""},null,null,{"$f":"IF(Input_Output!AN116=\"\",T(Input_Output!AO116),\"\")","v":""},null,null,{"$f":"IF(Input_Output!AQ116=\"\",T(Input_Output!AR116),\"\")","v":""},null,null,{"$f":"IF(Input_Output!AT116=\"\",T(Input_Output!AU116),\"\")","v":""},null,null,{"$f":"IF(Input_Output!AW116=\"\",T(Input_Output!AX116),\"\")","v":""},null,null,{"$f":"IF(Input_Output!AZ116=\"\",T(Input_Output!BA116),\"\")","v":""},null,null,{"$f":"IF(Input_Output!BC116=\"\",T(Input_Output!BD116),\"\")","v":""},null,null,{"$f":"IF(Input_Output!BF116=\"\",T(Input_Output!BG116),\"\")","v":""},null,null,{"$f":"IF(Input_Output!BI116=\"\",T(Input_Output!BJ116),\"\")","v":""},null,null,{"$f":"IF(Input_Output!BL116=\"\",T(Input_Output!BM116),\"\")","v":""},null,null,{"$f":"IF(Input_Output!BO116=\"\",T(Input_Output!BP116),\"\")","v":""},null,null,{"$f":"IF(Input_Output!BR116=\"\",T(Input_Output!BS116),\"\")","v":""},null,null,{"$f":"IF(Input_Output!BU116=\"\",T(Input_Output!BV116),\"\")","v":""},null,null,{"$f":"IF(Input_Output!BX116=\"\",T(Input_Output!BY116),\"\")","v":""},null,null,{"$f":"IF(Input_Output!CA116=\"\",T(Input_Output!CB116),\"\")","v":""},null,null,{"$f":"IF(Input_Output!CD116=\"\",T(Input_Output!CE116),\"\")","v":""},null,null,{"$f":"IF(Input_Output!CG116=\"\",T(Input_Output!CH116),\"\")","v":""},null,null,{"$f":"IF(Input_Output!CJ116=\"\",T(Input_Output!CK116),\"\")","v":""},null,null,{"$f":"IF(Input_Output!CM116=\"\",T(Input_Output!CN116),\"\")","v":""},null,null,{"$f":"IF(Input_Output!CP116=\"\",T(Input_Output!CQ116),\"\")","v":""},null,null,{"$f":"IF(Input_Output!CS116=\"\",T(Input_Output!CT116),\"\")","v":""},null,null,{"$f":"IF(Input_Output!CV116=\"\",T(Input_Output!CW116),\"\")","v":""},null,null,{"$f":"IF(Input_Output!CY116=\"\",T(Input_Output!CZ116),\"\")","v":""},null,null,{"$f":"IF(Input_Output!DB116=\"\",T(Input_Output!DC116),\"\")","v":""},null,null,{"$f":"IF(Input_Output!DE116=\"\",T(Input_Output!DF116),\"\")","v":""},null,null,{"$f":"IF(Input_Output!DH116=\"\",T(Input_Output!DI116),\"\")","v":""},null,null,{"$f":"IF(Input_Output!DK116=\"\",T(Input_Output!DL116),\"\")","v":""},null,null,{"$f":"IF(Input_Output!DN116=\"\",T(Input_Output!DO116),\"\")","v":""},null,null,{"$f":"IF(Input_Output!DQ116=\"\",T(Input_Output!DR116),\"\")","v":""},null,null,{"$f":"IF(Input_Output!DT116=\"\",T(Input_Output!DU116),\"\")","v":""},null,null,{"$f":"IF(Input_Output!DW116=\"\",T(Input_Output!DX116),\"\")","v":""},null,null,{"$f":"IF(Input_Output!DZ116=\"\",T(Input_Output!EA116),\"\")","v":""},null,null,{"$f":"IF(Input_Output!EC116=\"\",T(Input_Output!ED116),\"\")","v":""},null,null,{"$f":"IF(Input_Output!EF116=\"\",T(Input_Output!EG116),\"\")","v":""},null,null,{"$f":"IF(Input_Output!EI116=\"\",T(Input_Output!EJ116),\"\")","v":""},null,null,{"$f":"IF(Input_Output!EL116=\"\",T(Input_Output!EM116),\"\")","v":""},null,null,{"$f":"IF(Input_Output!EO116=\"\",T(Input_Output!EP116),\"\")","v":""},null,null,{"$f":"IF(Input_Output!ER116=\"\",T(Input_Output!ES116),\"\")","v":""},null,null,{"$f":"IF(Input_Output!EU116=\"\",T(Input_Output!EV116),\"\")","v":""},null,null,{"$f":"IF(Input_Output!EX116=\"\",T(Input_Output!EY116),\"\")","v":""},null,null,{"$f":"IF(Input_Output!FA116=\"\",T(Input_Output!FB116),\"\")","v":""},null,null,{"$f":"IF(Input_Output!FD116=\"\",T(Input_Output!FE116),\"\")","v":""},null,null,{"$f":"IF(Input_Output!FG116=\"\",T(Input_Output!FH116),\"\")","v":""},null,null,{"$f":"IF(Input_Output!FJ116=\"\",T(Input_Output!FK116),\"\")","v":""},null,null,{"$f":"IF(Input_Output!FM116=\"\",T(Input_Output!FN116),\"\")","v":""},null,null,{"$f":"IF(Input_Output!FP116=\"\",T(Input_Output!FQ116),\"\")","v":""},null,null,{"$f":"IF(Input_Output!FS116=\"\",T(Input_Output!FT116),\"\")","v":""},null,null,{"$f":"IF(Input_Output!FV116=\"\",T(Input_Output!FW116),\"\")","v":""},null,null,{"$f":"IF(Input_Output!FY116=\"\",T(Input_Output!FZ116),\"\")","v":""},null,null,{"$f":"IF(Input_Output!GB116=\"\",T(Input_Output!GC116),\"\")","v":""},null,null,{"$f":"IF(Input_Output!GE116=\"\",T(Input_Output!GF116),\"\")","v":""},null,null,{"$f":"IF(Input_Output!GH116=\"\",T(Input_Output!GI116),\"\")","v":""},null,null,{"$f":"IF(Input_Output!GK116=\"\",T(Input_Output!GL116),\"\")","v":""},null,null,{"$f":"IF(Input_Output!GN116=\"\",T(Input_Output!GO116),\"\")","v":""},null,null,{"$f":"IF(Input_Output!GQ116=\"\",T(Input_Output!GR116),\"\")","v":""},null,null,{"$f":"IF(Input_Output!GT116=\"\",T(Input_Output!GU116),\"\")","v":""},null,null,{"$f":"IF(Input_Output!GW116=\"\",T(Input_Output!GX116),\"\")","v":""},null,null,{"$f":"IF(Input_Output!GZ116=\"\",T(Input_Output!HA116),\"\")","v":""},null,null,{"$f":"IF(Input_Output!HC116=\"\",T(Input_Output!HD116),\"\")","v":""},null,null,{"$f":"IF(Input_Output!HF116=\"\",T(Input_Output!HG116),\"\")","v":""},null,null,{"$f":"IF(Input_Output!HI116=\"\",T(Input_Output!HJ116),\"\")","v":""},null,null,{"$f":"IF(Input_Output!HL116=\"\",T(Input_Output!HM116),\"\")","v":""},null,null,{"$f":"IF(Input_Output!HO116=\"\",T(Input_Output!HP116),\"\")","v":""},null,null,{"$f":"IF(Input_Output!HR116=\"\",T(Input_Output!HS116),\"\")","v":""},null,null,{"$f":"IF(Input_Output!HU116=\"\",T(Input_Output!HV116),\"\")","v":""},null,null,{"$f":"IF(Input_Output!HX116=\"\",T(Input_Output!HY116),\"\")","v":""},null,null,{"$f":"IF(Input_Output!IA116=\"\",T(Input_Output!IB116),\"\")","v":""},null,null,{"$f":"IF(Input_Output!ID116=\"\",T(Input_Output!IE116),\"\")","v":""},null,null,{"$f":"IF(Input_Output!IG116=\"\",T(Input_Output!IH116),\"\")","v":""},null,null,{"$f":"IF(Input_Output!IJ116=\"\",T(Input_Output!IK116),\"\")","v":""},null,null,{"$f":"IF(Input_Output!IM116=\"\",T(Input_Output!IN116),\"\")","v":""},null,null,{"$f":"IF(Input_Output!IP116=\"\",T(Input_Output!IQ116),\"\")","v":""},null,null,{"$f":"IF(Input_Output!IS116=\"\",T(Input_Output!IT116),\"\")","v":""}]
[null,null,null,null,{"$f":"IF(Input_Output!D117=\"\",T(Input_Output!E117),\"\")","v":""},null,null,{"$f":"IF(Input_Output!G117=\"\",T(Input_Output!H117),\"\")","v":""},null,null,{"$f":"IF(Input_Output!J117=\"\",T(Input_Output!K117),\"\")","v":""},null,null,{"$f":"IF(Input_Output!M117=\"\",T(Input_Output!N117),\"\")","v":""},null,null,{"$f":"IF(Input_Output!P117=\"\",T(Input_Output!Q117),\"\")","v":""},null,null,{"$f":"IF(Input_Output!S117=\"\",T(Input_Output!T117),\"\")","v":""},null,null,{"$f":"IF(Input_Output!V117=\"\",T(Input_Output!W117),\"\")","v":""},null,null,{"$f":"IF(Input_Output!Y117=\"\",T(Input_Output!Z117),\"\")","v":""},null,null,{"$f":"IF(Input_Output!AB117=\"\",T(Input_Output!AC117),\"\")","v":""},null,null,{"$f":"IF(Input_Output!AE117=\"\",T(Input_Output!AF117),\"\")","v":""},null,null,{"$f":"IF(Input_Output!AH117=\"\",T(Input_Output!AI117),\"\")","v":""},null,null,{"$f":"IF(Input_Output!AK117=\"\",T(Input_Output!AL117),\"\")","v":""},null,null,{"$f":"IF(Input_Output!AN117=\"\",T(Input_Output!AO117),\"\")","v":""},null,null,{"$f":"IF(Input_Output!AQ117=\"\",T(Input_Output!AR117),\"\")","v":""},null,null,{"$f":"IF(Input_Output!AT117=\"\",T(Input_Output!AU117),\"\")","v":""},null,null,{"$f":"IF(Input_Output!AW117=\"\",T(Input_Output!AX117),\"\")","v":""},null,null,{"$f":"IF(Input_Output!AZ117=\"\",T(Input_Output!BA117),\"\")","v":""},null,null,{"$f":"IF(Input_Output!BC117=\"\",T(Input_Output!BD117),\"\")","v":""},null,null,{"$f":"IF(Input_Output!BF117=\"\",T(Input_Output!BG117),\"\")","v":""},null,null,{"$f":"IF(Input_Output!BI117=\"\",T(Input_Output!BJ117),\"\")","v":""},null,null,{"$f":"IF(Input_Output!BL117=\"\",T(Input_Output!BM117),\"\")","v":""},null,null,{"$f":"IF(Input_Output!BO117=\"\",T(Input_Output!BP117),\"\")","v":""},null,null,{"$f":"IF(Input_Output!BR117=\"\",T(Input_Output!BS117),\"\")","v":""},null,null,{"$f":"IF(Input_Output!BU117=\"\",T(Input_Output!BV117),\"\")","v":""},null,null,{"$f":"IF(Input_Output!BX117=\"\",T(Input_Output!BY117),\"\")","v":""},null,null,{"$f":"IF(Input_Output!CA117=\"\",T(Input_Output!CB117),\"\")","v":""},null,null,{"$f":"IF(Input_Output!CD117=\"\",T(Input_Output!CE117),\"\")","v":""},null,null,{"$f":"IF(Input_Output!CG117=\"\",T(Input_Output!CH117),\"\")","v":""},null,null,{"$f":"IF(Input_Output!CJ117=\"\",T(Input_Output!CK117),\"\")","v":""},null,null,{"$f":"IF(Input_Output!CM117=\"\",T(Input_Output!CN117),\"\")","v":""},null,null,{"$f":"IF(Input_Output!CP117=\"\",T(Input_Output!CQ117),\"\")","v":""},null,null,{"$f":"IF(Input_Output!CS117=\"\",T(Input_Output!CT117),\"\")","v":""},null,null,{"$f":"IF(Input_Output!CV117=\"\",T(Input_Output!CW117),\"\")","v":""},null,null,{"$f":"IF(Input_Output!CY117=\"\",T(Input_Output!CZ117),\"\")","v":""},null,null,{"$f":"IF(Input_Output!DB117=\"\",T(Input_Output!DC117),\"\")","v":""},null,null,{"$f":"IF(Input_Output!DE117=\"\",T(Input_Output!DF117),\"\")","v":""},null,null,{"$f":"IF(Input_Output!DH117=\"\",T(Input_Output!DI117),\"\")","v":""},null,null,{"$f":"IF(Input_Output!DK117=\"\",T(Input_Output!DL117),\"\")","v":""},null,null,{"$f":"IF(Input_Output!DN117=\"\",T(Input_Output!DO117),\"\")","v":""},null,null,{"$f":"IF(Input_Output!DQ117=\"\",T(Input_Output!DR117),\"\")","v":""},null,null,{"$f":"IF(Input_Output!DT117=\"\",T(Input_Output!DU117),\"\")","v":""},null,null,{"$f":"IF(Input_Output!DW117=\"\",T(Input_Output!DX117),\"\")","v":""},null,null,{"$f":"IF(Input_Output!DZ117=\"\",T(Input_Output!EA117),\"\")","v":""},null,null,{"$f":"IF(Input_Output!EC117=\"\",T(Input_Output!ED117),\"\")","v":""},null,null,{"$f":"IF(Input_Output!EF117=\"\",T(Input_Output!EG117),\"\")","v":""},null,null,{"$f":"IF(Input_Output!EI117=\"\",T(Input_Output!EJ117),\"\")","v":""},null,null,{"$f":"IF(Input_Output!EL117=\"\",T(Input_Output!EM117),\"\")","v":""},null,null,{"$f":"IF(Input_Output!EO117=\"\",T(Input_Output!EP117),\"\")","v":""},null,null,{"$f":"IF(Input_Output!ER117=\"\",T(Input_Output!ES117),\"\")","v":""},null,null,{"$f":"IF(Input_Output!EU117=\"\",T(Input_Output!EV117),\"\")","v":""},null,null,{"$f":"IF(Input_Output!EX117=\"\",T(Input_Output!EY117),\"\")","v":""},null,null,{"$f":"IF(Input_Output!FA117=\"\",T(Input_Output!FB117),\"\")","v":""},null,null,{"$f":"IF(Input_Output!FD117=\"\",T(Input_Output!FE117),\"\")","v":""},null,null,{"$f":"IF(Input_Output!FG117=\"\",T(Input_Output!FH117),\"\")","v":""},null,null,{"$f":"IF(Input_Output!FJ117=\"\",T(Input_Output!FK117),\"\")","v":""},null,null,{"$f":"IF(Input_Output!FM117=\"\",T(Input_Output!FN117),\"\")","v":""},null,null,{"$f":"IF(Input_Output!FP117=\"\",T(Input_Output!FQ117),\"\")","v":""},null,null,{"$f":"IF(Input_Output!FS117=\"\",T(Input_Output!FT117),\"\")","v":""},null,null,{"$f":"IF(Input_Output!FV117=\"\",T(Input_Output!FW117),\"\")","v":""},null,null,{"$f":"IF(Input_Output!FY117=\"\",T(Input_Output!FZ117),\"\")","v":""},null,null,{"$f":"IF(Input_Output!GB117=\"\",T(Input_Output!GC117),\"\")","v":""},null,null,{"$f":"IF(Input_Output!GE117=\"\",T(Input_Output!GF117),\"\")","v":""},null,null,{"$f":"IF(Input_Output!GH117=\"\",T(Input_Output!GI117),\"\")","v":""},null,null,{"$f":"IF(Input_Output!GK117=\"\",T(Input_Output!GL117),\"\")","v":""},null,null,{"$f":"IF(Input_Output!GN117=\"\",T(Input_Output!GO117),\"\")","v":""},null,null,{"$f":"IF(Input_Output!GQ117=\"\",T(Input_Output!GR117),\"\")","v":""},null,null,{"$f":"IF(Input_Output!GT117=\"\",T(Input_Output!GU117),\"\")","v":""},null,null,{"$f":"IF(Input_Output!GW117=\"\",T(Input_Output!GX117),\"\")","v":""},null,null,{"$f":"IF(Input_Output!GZ117=\"\",T(Input_Output!HA117),\"\")","v":""},null,null,{"$f":"IF(Input_Output!HC117=\"\",T(Input_Output!HD117),\"\")","v":""},null,null,{"$f":"IF(Input_Output!HF117=\"\",T(Input_Output!HG117),\"\")","v":""},null,null,{"$f":"IF(Input_Output!HI117=\"\",T(Input_Output!HJ117),\"\")","v":""},null,null,{"$f":"IF(Input_Output!HL117=\"\",T(Input_Output!HM117),\"\")","v":""},null,null,{"$f":"IF(Input_Output!HO117=\"\",T(Input_Output!HP117),\"\")","v":""},null,null,{"$f":"IF(Input_Output!HR117=\"\",T(Input_Output!HS117),\"\")","v":""},null,null,{"$f":"IF(Input_Output!HU117=\"\",T(Input_Output!HV117),\"\")","v":""},null,null,{"$f":"IF(Input_Output!HX117=\"\",T(Input_Output!HY117),\"\")","v":""},null,null,{"$f":"IF(Input_Output!IA117=\"\",T(Input_Output!IB117),\"\")","v":""},null,null,{"$f":"IF(Input_Output!ID117=\"\",T(Input_Output!IE117),\"\")","v":""},null,null,{"$f":"IF(Input_Output!IG117=\"\",T(Input_Output!IH117),\"\")","v":""},null,null,{"$f":"IF(Input_Output!IJ117=\"\",T(Input_Output!IK117),\"\")","v":""},null,null,{"$f":"IF(Input_Output!IM117=\"\",T(Input_Output!IN117),\"\")","v":""},null,null,{"$f":"IF(Input_Output!IP117=\"\",T(Input_Output!IQ117),\"\")","v":""},null,null,{"$f":"IF(Input_Output!IS117=\"\",T(Input_Output!IT117),\"\")","v":""}]
[null,null,null,null,{"$f":"IF(Input_Output!D118=\"\",T(Input_Output!E118),\"\")","v":""},null,null,{"$f":"IF(Input_Output!G118=\"\",T(Input_Output!H118),\"\")","v":""},null,null,{"$f":"IF(Input_Output!J118=\"\",T(Input_Output!K118),\"\")","v":""},null,null,{"$f":"IF(Input_Output!M118=\"\",T(Input_Output!N118),\"\")","v":""},null,null,{"$f":"IF(Input_Output!P118=\"\",T(Input_Output!Q118),\"\")","v":""},null,null,{"$f":"IF(Input_Output!S118=\"\",T(Input_Output!T118),\"\")","v":""},null,null,{"$f":"IF(Input_Output!V118=\"\",T(Input_Output!W118),\"\")","v":""},null,null,{"$f":"IF(Input_Output!Y118=\"\",T(Input_Output!Z118),\"\")","v":""},null,null,{"$f":"IF(Input_Output!AB118=\"\",T(Input_Output!AC118),\"\")","v":""},null,null,{"$f":"IF(Input_Output!AE118=\"\",T(Input_Output!AF118),\"\")","v":""},null,null,{"$f":"IF(Input_Output!AH118=\"\",T(Input_Output!AI118),\"\")","v":""},null,null,{"$f":"IF(Input_Output!AK118=\"\",T(Input_Output!AL118),\"\")","v":""},null,null,{"$f":"IF(Input_Output!AN118=\"\",T(Input_Output!AO118),\"\")","v":""},null,null,{"$f":"IF(Input_Output!AQ118=\"\",T(Input_Output!AR118),\"\")","v":""},null,null,{"$f":"IF(Input_Output!AT118=\"\",T(Input_Output!AU118),\"\")","v":""},null,null,{"$f":"IF(Input_Output!AW118=\"\",T(Input_Output!AX118),\"\")","v":""},null,null,{"$f":"IF(Input_Output!AZ118=\"\",T(Input_Output!BA118),\"\")","v":""},null,null,{"$f":"IF(Input_Output!BC118=\"\",T(Input_Output!BD118),\"\")","v":""},null,null,{"$f":"IF(Input_Output!BF118=\"\",T(Input_Output!BG118),\"\")","v":""},null,null,{"$f":"IF(Input_Output!BI118=\"\",T(Input_Output!BJ118),\"\")","v":""},null,null,{"$f":"IF(Input_Output!BL118=\"\",T(Input_Output!BM118),\"\")","v":""},null,null,{"$f":"IF(Input_Output!BO118=\"\",T(Input_Output!BP118),\"\")","v":""},null,null,{"$f":"IF(Input_Output!BR118=\"\",T(Input_Output!BS118),\"\")","v":""},null,null,{"$f":"IF(Input_Output!BU118=\"\",T(Input_Output!BV118),\"\")","v":""},null,null,{"$f":"IF(Input_Output!BX118=\"\",T(Input_Output!BY118),\"\")","v":""},null,null,{"$f":"IF(Input_Output!CA118=\"\",T(Input_Output!CB118),\"\")","v":""},null,null,{"$f":"IF(Input_Output!CD118=\"\",T(Input_Output!CE118),\"\")","v":""},null,null,{"$f":"IF(Input_Output!CG118=\"\",T(Input_Output!CH118),\"\")","v":""},null,null,{"$f":"IF(Input_Output!CJ118=\"\",T(Input_Output!CK118),\"\")","v":""},null,null,{"$f":"IF(Input_Output!CM118=\"\",T(Input_Output!CN118),\"\")","v":""},null,null,{"$f":"IF(Input_Output!CP118=\"\",T(Input_Output!CQ118),\"\")","v":""},null,null,{"$f":"IF(Input_Output!CS118=\"\",T(Input_Output!CT118),\"\")","v":""},null,null,{"$f":"IF(Input_Output!CV118=\"\",T(Input_Output!CW118),\"\")","v":""},null,null,{"$f":"IF(Input_Output!CY118=\"\",T(Input_Output!CZ118),\"\")","v":""},null,null,{"$f":"IF(Input_Output!DB118=\"\",T(Input_Output!DC118),\"\")","v":""},null,null,{"$f":"IF(Input_Output!DE118=\"\",T(Input_Output!DF118),\"\")","v":""},null,null,{"$f":"IF(Input_Output!DH118=\"\",T(Input_Output!DI118),\"\")","v":""},null,null,{"$f":"IF(Input_Output!DK118=\"\",T(Input_Output!DL118),\"\")","v":""},null,null,{"$f":"IF(Input_Output!DN118=\"\",T(Input_Output!DO118),\"\")","v":""},null,null,{"$f":"IF(Input_Output!DQ118=\"\",T(Input_Output!DR118),\"\")","v":""},null,null,{"$f":"IF(Input_Output!DT118=\"\",T(Input_Output!DU118),\"\")","v":""},null,null,{"$f":"IF(Input_Output!DW118=\"\",T(Input_Output!DX118),\"\")","v":""},null,null,{"$f":"IF(Input_Output!DZ118=\"\",T(Input_Output!EA118),\"\")","v":""},null,null,{"$f":"IF(Input_Output!EC118=\"\",T(Input_Output!ED118),\"\")","v":""},null,null,{"$f":"IF(Input_Output!EF118=\"\",T(Input_Output!EG118),\"\")","v":""},null,null,{"$f":"IF(Input_Output!EI118=\"\",T(Input_Output!EJ118),\"\")","v":""},null,null,{"$f":"IF(Input_Output!EL118=\"\",T(Input_Output!EM118),\"\")","v":""},null,null,{"$f":"IF(Input_Output!EO118=\"\",T(Input_Output!EP118),\"\")","v":""},null,null,{"$f":"IF(Input_Output!ER118=\"\",T(Input_Output!ES118),\"\")","v":""},null,null,{"$f":"IF(Input_Output!EU118=\"\",T(Input_Output!EV118),\"\")","v":""},null,null,{"$f":"IF(Input_Output!EX118=\"\",T(Input_Output!EY118),\"\")","v":""},null,null,{"$f":"IF(Input_Output!FA118=\"\",T(Input_Output!FB118),\"\")","v":""},null,null,{"$f":"IF(Input_Output!FD118=\"\",T(Input_Output!FE118),\"\")","v":""},null,null,{"$f":"IF(Input_Output!FG118=\"\",T(Input_Output!FH118),\"\")","v":""},null,null,{"$f":"IF(Input_Output!FJ118=\"\",T(Input_Output!FK118),\"\")","v":""},null,null,{"$f":"IF(Input_Output!FM118=\"\",T(Input_Output!FN118),\"\")","v":""},null,null,{"$f":"IF(Input_Output!FP118=\"\",T(Input_Output!FQ118),\"\")","v":""},null,null,{"$f":"IF(Input_Output!FS118=\"\",T(Input_Output!FT118),\"\")","v":""},null,null,{"$f":"IF(Input_Output!FV118=\"\",T(Input_Output!FW118),\"\")","v":""},null,null,{"$f":"IF(Input_Output!FY118=\"\",T(Input_Output!FZ118),\"\")","v":""},null,null,{"$f":"IF(Input_Output!GB118=\"\",T(Input_Output!GC118),\"\")","v":""},null,null,{"$f":"IF(Input_Output!GE118=\"\",T(Input_Output!GF118),\"\")","v":""},null,null,{"$f":"IF(Input_Output!GH118=\"\",T(Input_Output!GI118),\"\")","v":""},null,null,{"$f":"IF(Input_Output!GK118=\"\",T(Input_Output!GL118),\"\")","v":""},null,null,{"$f":"IF(Input_Output!GN118=\"\",T(Input_Output!GO118),\"\")","v":""},null,null,{"$f":"IF(Input_Output!GQ118=\"\",T(Input_Output!GR118),\"\")","v":""},null,null,{"$f":"IF(Input_Output!GT118=\"\",T(Input_Output!GU118),\"\")","v":""},null,null,{"$f":"IF(Input_Output!GW118=\"\",T(Input_Output!GX118),\"\")","v":""},null,null,{"$f":"IF(Input_Output!GZ118=\"\",T(Input_Output!HA118),\"\")","v":""},null,null,{"$f":"IF(Input_Output!HC118=\"\",T(Input_Output!HD118),\"\")","v":""},null,null,{"$f":"IF(Input_Output!HF118=\"\",T(Input_Output!HG118),\"\")","v":""},null,null,{"$f":"IF(Input_Output!HI118=\"\",T(Input_Output!HJ118),\"\")","v":""},null,null,{"$f":"IF(Input_Output!HL118=\"\",T(Input_Output!HM118),\"\")","v":""},null,null,{"$f":"IF(Input_Output!HO118=\"\",T(Input_Output!HP118),\"\")","v":""},null,null,{"$f":"IF(Input_Output!HR118=\"\",T(Input_Output!HS118),\"\")","v":""},null,null,{"$f":"IF(Input_Output!HU118=\"\",T(Input_Output!HV118),\"\")","v":""},null,null,{"$f":"IF(Input_Output!HX118=\"\",T(Input_Output!HY118),\"\")","v":""},null,null,{"$f":"IF(Input_Output!IA118=\"\",T(Input_Output!IB118),\"\")","v":""},null,null,{"$f":"IF(Input_Output!ID118=\"\",T(Input_Output!IE118),\"\")","v":""},null,null,{"$f":"IF(Input_Output!IG118=\"\",T(Input_Output!IH118),\"\")","v":""},null,null,{"$f":"IF(Input_Output!IJ118=\"\",T(Input_Output!IK118),\"\")","v":""},null,null,{"$f":"IF(Input_Output!IM118=\"\",T(Input_Output!IN118),\"\")","v":""},null,null,{"$f":"IF(Input_Output!IP118=\"\",T(Input_Output!IQ118),\"\")","v":""},null,null,{"$f":"IF(Input_Output!IS118=\"\",T(Input_Output!IT118),\"\")","v":""}]
[null,null,null,null,{"$f":"IF(Input_Output!D119=\"\",T(Input_Output!E119),\"\")","v":""},null,null,{"$f":"IF(Input_Output!G119=\"\",T(Input_Output!H119),\"\")","v":""},null,null,{"$f":"IF(Input_Output!J119=\"\",T(Input_Output!K119),\"\")","v":""},null,null,{"$f":"IF(Input_Output!M119=\"\",T(Input_Output!N119),\"\")","v":""},null,null,{"$f":"IF(Input_Output!P119=\"\",T(Input_Output!Q119),\"\")","v":""},null,null,{"$f":"IF(Input_Output!S119=\"\",T(Input_Output!T119),\"\")","v":""},null,null,{"$f":"IF(Input_Output!V119=\"\",T(Input_Output!W119),\"\")","v":""},null,null,{"$f":"IF(Input_Output!Y119=\"\",T(Input_Output!Z119),\"\")","v":""},null,null,{"$f":"IF(Input_Output!AB119=\"\",T(Input_Output!AC119),\"\")","v":""},null,null,{"$f":"IF(Input_Output!AE119=\"\",T(Input_Output!AF119),\"\")","v":""},null,null,{"$f":"IF(Input_Output!AH119=\"\",T(Input_Output!AI119),\"\")","v":""},null,null,{"$f":"IF(Input_Output!AK119=\"\",T(Input_Output!AL119),\"\")","v":""},null,null,{"$f":"IF(Input_Output!AN119=\"\",T(Input_Output!AO119),\"\")","v":""},null,null,{"$f":"IF(Input_Output!AQ119=\"\",T(Input_Output!AR119),\"\")","v":""},null,null,{"$f":"IF(Input_Output!AT119=\"\",T(Input_Output!AU119),\"\")","v":""},null,null,{"$f":"IF(Input_Output!AW119=\"\",T(Input_Output!AX119),\"\")","v":""},null,null,{"$f":"IF(Input_Output!AZ119=\"\",T(Input_Output!BA119),\"\")","v":""},null,null,{"$f":"IF(Input_Output!BC119=\"\",T(Input_Output!BD119),\"\")","v":""},null,null,{"$f":"IF(Input_Output!BF119=\"\",T(Input_Output!BG119),\"\")","v":""},null,null,{"$f":"IF(Input_Output!BI119=\"\",T(Input_Output!BJ119),\"\")","v":""},null,null,{"$f":"IF(Input_Output!BL119=\"\",T(Input_Output!BM119),\"\")","v":""},null,null,{"$f":"IF(Input_Output!BO119=\"\",T(Input_Output!BP119),\"\")","v":""},null,null,{"$f":"IF(Input_Output!BR119=\"\",T(Input_Output!BS119),\"\")","v":""},null,null,{"$f":"IF(Input_Output!BU119=\"\",T(Input_Output!BV119),\"\")","v":""},null,null,{"$f":"IF(Input_Output!BX119=\"\",T(Input_Output!BY119),\"\")","v":""},null,null,{"$f":"IF(Input_Output!CA119=\"\",T(Input_Output!CB119),\"\")","v":""},null,null,{"$f":"IF(Input_Output!CD119=\"\",T(Input_Output!CE119),\"\")","v":""},null,null,{"$f":"IF(Input_Output!CG119=\"\",T(Input_Output!CH119),\"\")","v":""},null,null,{"$f":"IF(Input_Output!CJ119=\"\",T(Input_Output!CK119),\"\")","v":""},null,null,{"$f":"IF(Input_Output!CM119=\"\",T(Input_Output!CN119),\"\")","v":""},null,null,{"$f":"IF(Input_Output!CP119=\"\",T(Input_Output!CQ119),\"\")","v":""},null,null,{"$f":"IF(Input_Output!CS119=\"\",T(Input_Output!CT119),\"\")","v":""},null,null,{"$f":"IF(Input_Output!CV119=\"\",T(Input_Output!CW119),\"\")","v":""},null,null,{"$f":"IF(Input_Output!CY119=\"\",T(Input_Output!CZ119),\"\")","v":""},null,null,{"$f":"IF(Input_Output!DB119=\"\",T(Input_Output!DC119),\"\")","v":""},null,null,{"$f":"IF(Input_Output!DE119=\"\",T(Input_Output!DF119),\"\")","v":""},null,null,{"$f":"IF(Input_Output!DH119=\"\",T(Input_Output!DI119),\"\")","v":""},null,null,{"$f":"IF(Input_Output!DK119=\"\",T(Input_Output!DL119),\"\")","v":""},null,null,{"$f":"IF(Input_Output!DN119=\"\",T(Input_Output!DO119),\"\")","v":""},null,null,{"$f":"IF(Input_Output!DQ119=\"\",T(Input_Output!DR119),\"\")","v":""},null,null,{"$f":"IF(Input_Output!DT119=\"\",T(Input_Output!DU119),\"\")","v":""},null,null,{"$f":"IF(Input_Output!DW119=\"\",T(Input_Output!DX119),\"\")","v":""},null,null,{"$f":"IF(Input_Output!DZ119=\"\",T(Input_Output!EA119),\"\")","v":""},null,null,{"$f":"IF(Input_Output!EC119=\"\",T(Input_Output!ED119),\"\")","v":""},null,null,{"$f":"IF(Input_Output!EF119=\"\",T(Input_Output!EG119),\"\")","v":""},null,null,{"$f":"IF(Input_Output!EI119=\"\",T(Input_Output!EJ119),\"\")","v":""},null,null,{"$f":"IF(Input_Output!EL119=\"\",T(Input_Output!EM119),\"\")","v":""},null,null,{"$f":"IF(Input_Output!EO119=\"\",T(Input_Output!EP119),\"\")","v":""},null,null,{"$f":"IF(Input_Output!ER119=\"\",T(Input_Output!ES119),\"\")","v":""},null,null,{"$f":"IF(Input_Output!EU119=\"\",T(Input_Output!EV119),\"\")","v":""},null,null,{"$f":"IF(Input_Output!EX119=\"\",T(Input_Output!EY119),\"\")","v":""},null,null,{"$f":"IF(Input_Output!FA119=\"\",T(Input_Output!FB119),\"\")","v":""},null,null,{"$f":"IF(Input_Output!FD119=\"\",T(Input_Output!FE119),\"\")","v":""},null,null,{"$f":"IF(Input_Output!FG119=\"\",T(Input_Output!FH119),\"\")","v":""},null,null,{"$f":"IF(Input_Output!FJ119=\"\",T(Input_Output!FK119),\"\")","v":""},null,null,{"$f":"IF(Input_Output!FM119=\"\",T(Input_Output!FN119),\"\")","v":""},null,null,{"$f":"IF(Input_Output!FP119=\"\",T(Input_Output!FQ119),\"\")","v":""},null,null,{"$f":"IF(Input_Output!FS119=\"\",T(Input_Output!FT119),\"\")","v":""},null,null,{"$f":"IF(Input_Output!FV119=\"\",T(Input_Output!FW119),\"\")","v":""},null,null,{"$f":"IF(Input_Output!FY119=\"\",T(Input_Output!FZ119),\"\")","v":""},null,null,{"$f":"IF(Input_Output!GB119=\"\",T(Input_Output!GC119),\"\")","v":""},null,null,{"$f":"IF(Input_Output!GE119=\"\",T(Input_Output!GF119),\"\")","v":""},null,null,{"$f":"IF(Input_Output!GH119=\"\",T(Input_Output!GI119),\"\")","v":""},null,null,{"$f":"IF(Input_Output!GK119=\"\",T(Input_Output!GL119),\"\")","v":""},null,null,{"$f":"IF(Input_Output!GN119=\"\",T(Input_Output!GO119),\"\")","v":""},null,null,{"$f":"IF(Input_Output!GQ119=\"\",T(Input_Output!GR119),\"\")","v":""},null,null,{"$f":"IF(Input_Output!GT119=\"\",T(Input_Output!GU119),\"\")","v":""},null,null,{"$f":"IF(Input_Output!GW119=\"\",T(Input_Output!GX119),\"\")","v":""},null,null,{"$f":"IF(Input_Output!GZ119=\"\",T(Input_Output!HA119),\"\")","v":""},null,null,{"$f":"IF(Input_Output!HC119=\"\",T(Input_Output!HD119),\"\")","v":""},null,null,{"$f":"IF(Input_Output!HF119=\"\",T(Input_Output!HG119),\"\")","v":""},null,null,{"$f":"IF(Input_Output!HI119=\"\",T(Input_Output!HJ119),\"\")","v":""},null,null,{"$f":"IF(Input_Output!HL119=\"\",T(Input_Output!HM119),\"\")","v":""},null,null,{"$f":"IF(Input_Output!HO119=\"\",T(Input_Output!HP119),\"\")","v":""},null,null,{"$f":"IF(Input_Output!HR119=\"\",T(Input_Output!HS119),\"\")","v":""},null,null,{"$f":"IF(Input_Output!HU119=\"\",T(Input_Output!HV119),\"\")","v":""},null,null,{"$f":"IF(Input_Output!HX119=\"\",T(Input_Output!HY119),\"\")","v":""},null,null,{"$f":"IF(Input_Output!IA119=\"\",T(Input_Output!IB119),\"\")","v":""},null,null,{"$f":"IF(Input_Output!ID119=\"\",T(Input_Output!IE119),\"\")","v":""},null,null,{"$f":"IF(Input_Output!IG119=\"\",T(Input_Output!IH119),\"\")","v":""},null,null,{"$f":"IF(Input_Output!IJ119=\"\",T(Input_Output!IK119),\"\")","v":""},null,null,{"$f":"IF(Input_Output!IM119=\"\",T(Input_Output!IN119),\"\")","v":""},null,null,{"$f":"IF(Input_Output!IP119=\"\",T(Input_Output!IQ119),\"\")","v":""},null,null,{"$f":"IF(Input_Output!IS119=\"\",T(Input_Output!IT119),\"\")","v":""}]
[null,null,null,null,{"$f":"IF(Input_Output!D120=\"\",T(Input_Output!E120),\"\")","v":""},null,null,{"$f":"IF(Input_Output!G120=\"\",T(Input_Output!H120),\"\")","v":""},null,null,{"$f":"IF(Input_Output!J120=\"\",T(Input_Output!K120),\"\")","v":""},null,null,{"$f":"IF(Input_Output!M120=\"\",T(Input_Output!N120),\"\")","v":""},null,null,{"$f":"IF(Input_Output!P120=\"\",T(Input_Output!Q120),\"\")","v":""},null,null,{"$f":"IF(Input_Output!S120=\"\",T(Input_Output!T120),\"\")","v":""},null,null,{"$f":"IF(Input_Output!V120=\"\",T(Input_Output!W120),\"\")","v":""},null,null,{"$f":"IF(Input_Output!Y120=\"\",T(Input_Output!Z120),\"\")","v":""},null,null,{"$f":"IF(Input_Output!AB120=\"\",T(Input_Output!AC120),\"\")","v":""},null,null,{"$f":"IF(Input_Output!AE120=\"\",T(Input_Output!AF120),\"\")","v":""},null,null,{"$f":"IF(Input_Output!AH120=\"\",T(Input_Output!AI120),\"\")","v":""},null,null,{"$f":"IF(Input_Output!AK120=\"\",T(Input_Output!AL120),\"\")","v":""},null,null,{"$f":"IF(Input_Output!AN120=\"\",T(Input_Output!AO120),\"\")","v":""},null,null,{"$f":"IF(Input_Output!AQ120=\"\",T(Input_Output!AR120),\"\")","v":""},null,null,{"$f":"IF(Input_Output!AT120=\"\",T(Input_Output!AU120),\"\")","v":""},null,null,{"$f":"IF(Input_Output!AW120=\"\",T(Input_Output!AX120),\"\")","v":""},null,null,{"$f":"IF(Input_Output!AZ120=\"\",T(Input_Output!BA120),\"\")","v":""},null,null,{"$f":"IF(Input_Output!BC120=\"\",T(Input_Output!BD120),\"\")","v":""},null,null,{"$f":"IF(Input_Output!BF120=\"\",T(Input_Output!BG120),\"\")","v":""},null,null,{"$f":"IF(Input_Output!BI120=\"\",T(Input_Output!BJ120),\"\")","v":""},null,null,{"$f":"IF(Input_Output!BL120=\"\",T(Input_Output!BM120),\"\")","v":""},null,null,{"$f":"IF(Input_Output!BO120=\"\",T(Input_Output!BP120),\"\")","v":""},null,null,{"$f":"IF(Input_Output!BR120=\"\",T(Input_Output!BS120),\"\")","v":""},null,null,{"$f":"IF(Input_Output!BU120=\"\",T(Input_Output!BV120),\"\")","v":""},null,null,{"$f":"IF(Input_Output!BX120=\"\",T(Input_Output!BY120),\"\")","v":""},null,null,{"$f":"IF(Input_Output!CA120=\"\",T(Input_Output!CB120),\"\")","v":""},null,null,{"$f":"IF(Input_Output!CD120=\"\",T(Input_Output!CE120),\"\")","v":""},null,null,{"$f":"IF(Input_Output!CG120=\"\",T(Input_Output!CH120),\"\")","v":""},null,null,{"$f":"IF(Input_Output!CJ120=\"\",T(Input_Output!CK120),\"\")","v":""},null,null,{"$f":"IF(Input_Output!CM120=\"\",T(Input_Output!CN120),\"\")","v":""},null,null,{"$f":"IF(Input_Output!CP120=\"\",T(Input_Output!CQ120),\"\")","v":""},null,null,{"$f":"IF(Input_Output!CS120=\"\",T(Input_Output!CT120),\"\")","v":""},null,null,{"$f":"IF(Input_Output!CV120=\"\",T(Input_Output!CW120),\"\")","v":""},null,null,{"$f":"IF(Input_Output!CY120=\"\",T(Input_Output!CZ120),\"\")","v":""},null,null,{"$f":"IF(Input_Output!DB120=\"\",T(Input_Output!DC120),\"\")","v":""},null,null,{"$f":"IF(Input_Output!DE120=\"\",T(Input_Output!DF120),\"\")","v":""},null,null,{"$f":"IF(Input_Output!DH120=\"\",T(Input_Output!DI120),\"\")","v":""},null,null,{"$f":"IF(Input_Output!DK120=\"\",T(Input_Output!DL120),\"\")","v":""},null,null,{"$f":"IF(Input_Output!DN120=\"\",T(Input_Output!DO120),\"\")","v":""},null,null,{"$f":"IF(Input_Output!DQ120=\"\",T(Input_Output!DR120),\"\")","v":""},null,null,{"$f":"IF(Input_Output!DT120=\"\",T(Input_Output!DU120),\"\")","v":""},null,null,{"$f":"IF(Input_Output!DW120=\"\",T(Input_Output!DX120),\"\")","v":""},null,null,{"$f":"IF(Input_Output!DZ120=\"\",T(Input_Output!EA120),\"\")","v":""},null,null,{"$f":"IF(Input_Output!EC120=\"\",T(Input_Output!ED120),\"\")","v":""},null,null,{"$f":"IF(Input_Output!EF120=\"\",T(Input_Output!EG120),\"\")","v":""},null,null,{"$f":"IF(Input_Output!EI120=\"\",T(Input_Output!EJ120),\"\")","v":""},null,null,{"$f":"IF(Input_Output!EL120=\"\",T(Input_Output!EM120),\"\")","v":""},null,null,{"$f":"IF(Input_Output!EO120=\"\",T(Input_Output!EP120),\"\")","v":""},null,null,{"$f":"IF(Input_Output!ER120=\"\",T(Input_Output!ES120),\"\")","v":""},null,null,{"$f":"IF(Input_Output!EU120=\"\",T(Input_Output!EV120),\"\")","v":""},null,null,{"$f":"IF(Input_Output!EX120=\"\",T(Input_Output!EY120),\"\")","v":""},null,null,{"$f":"IF(Input_Output!FA120=\"\",T(Input_Output!FB120),\"\")","v":""},null,null,{"$f":"IF(Input_Output!FD120=\"\",T(Input_Output!FE120),\"\")","v":""},null,null,{"$f":"IF(Input_Output!FG120=\"\",T(Input_Output!FH120),\"\")","v":""},null,null,{"$f":"IF(Input_Output!FJ120=\"\",T(Input_Output!FK120),\"\")","v":""},null,null,{"$f":"IF(Input_Output!FM120=\"\",T(Input_Output!FN120),\"\")","v":""},null,null,{"$f":"IF(Input_Output!FP120=\"\",T(Input_Output!FQ120),\"\")","v":""},null,null,{"$f":"IF(Input_Output!FS120=\"\",T(Input_Output!FT120),\"\")","v":""},null,null,{"$f":"IF(Input_Output!FV120=\"\",T(Input_Output!FW120),\"\")","v":""},null,null,{"$f":"IF(Input_Output!FY120=\"\",T(Input_Output!FZ120),\"\")","v":""},null,null,{"$f":"IF(Input_Output!GB120=\"\",T(Input_Output!GC120),\"\")","v":""},null,null,{"$f":"IF(Input_Output!GE120=\"\",T(Input_Output!GF120),\"\")","v":""},null,null,{"$f":"IF(Input_Output!GH120=\"\",T(Input_Output!GI120),\"\")","v":""},null,null,{"$f":"IF(Input_Output!GK120=\"\",T(Input_Output!GL120),\"\")","v":""},null,null,{"$f":"IF(Input_Output!GN120=\"\",T(Input_Output!GO120),\"\")","v":""},null,null,{"$f":"IF(Input_Output!GQ120=\"\",T(Input_Output!GR120),\"\")","v":""},null,null,{"$f":"IF(Input_Output!GT120=\"\",T(Input_Output!GU120),\"\")","v":""},null,null,{"$f":"IF(Input_Output!GW120=\"\",T(Input_Output!GX120),\"\")","v":""},null,null,{"$f":"IF(Input_Output!GZ120=\"\",T(Input_Output!HA120),\"\")","v":""},null,null,{"$f":"IF(Input_Output!HC120=\"\",T(Input_Output!HD120),\"\")","v":""},null,null,{"$f":"IF(Input_Output!HF120=\"\",T(Input_Output!HG120),\"\")","v":""},null,null,{"$f":"IF(Input_Output!HI120=\"\",T(Input_Output!HJ120),\"\")","v":""},null,null,{"$f":"IF(Input_Output!HL120=\"\",T(Input_Output!HM120),\"\")","v":""},null,null,{"$f":"IF(Input_Output!HO120=\"\",T(Input_Output!HP120),\"\")","v":""},null,null,{"$f":"IF(Input_Output!HR120=\"\",T(Input_Output!HS120),\"\")","v":""},null,null,{"$f":"IF(Input_Output!HU120=\"\",T(Input_Output!HV120),\"\")","v":""},null,null,{"$f":"IF(Input_Output!HX120=\"\",T(Input_Output!HY120),\"\")","v":""},null,null,{"$f":"IF(Input_Output!IA120=\"\",T(Input_Output!IB120),\"\")","v":""},null,null,{"$f":"IF(Input_Output!ID120=\"\",T(Input_Output!IE120),\"\")","v":""},null,null,{"$f":"IF(Input_Output!IG120=\"\",T(Input_Output!IH120),\"\")","v":""},null,null,{"$f":"IF(Input_Output!IJ120=\"\",T(Input_Output!IK120),\"\")","v":""},null,null,{"$f":"IF(Input_Output!IM120=\"\",T(Input_Output!IN120),\"\")","v":""},null,null,{"$f":"IF(Input_Output!IP120=\"\",T(Input_Output!IQ120),\"\")","v":""},null,null,{"$f":"IF(Input_Output!IS120=\"\",T(Input_Output!IT120),\"\")","v":""}]
[null,null,null,null,{"$f":"IF(Input_Output!D121=\"\",T(Input_Output!E121),\"\")","v":""},null,null,{"$f":"IF(Input_Output!G121=\"\",T(Input_Output!H121),\"\")","v":""},null,null,{"$f":"IF(Input_Output!J121=\"\",T(Input_Output!K121),\"\")","v":""},null,null,{"$f":"IF(Input_Output!M121=\"\",T(Input_Output!N121),\"\")","v":""},null,null,{"$f":"IF(Input_Output!P121=\"\",T(Input_Output!Q121),\"\")","v":""},null,null,{"$f":"IF(Input_Output!S121=\"\",T(Input_Output!T121),\"\")","v":""},null,null,{"$f":"IF(Input_Output!V121=\"\",T(Input_Output!W121),\"\")","v":""},null,null,{"$f":"IF(Input_Output!Y121=\"\",T(Input_Output!Z121),\"\")","v":""},null,null,{"$f":"IF(Input_Output!AB121=\"\",T(Input_Output!AC121),\"\")","v":""},null,null,{"$f":"IF(Input_Output!AE121=\"\",T(Input_Output!AF121),\"\")","v":""},null,null,{"$f":"IF(Input_Output!AH121=\"\",T(Input_Output!AI121),\"\")","v":""},null,null,{"$f":"IF(Input_Output!AK121=\"\",T(Input_Output!AL121),\"\")","v":""},null,null,{"$f":"IF(Input_Output!AN121=\"\",T(Input_Output!AO121),\"\")","v":""},null,null,{"$f":"IF(Input_Output!AQ121=\"\",T(Input_Output!AR121),\"\")","v":""},null,null,{"$f":"IF(Input_Output!AT121=\"\",T(Input_Output!AU121),\"\")","v":""},null,null,{"$f":"IF(Input_Output!AW121=\"\",T(Input_Output!AX121),\"\")","v":""},null,null,{"$f":"IF(Input_Output!AZ121=\"\",T(Input_Output!BA121),\"\")","v":""},null,null,{"$f":"IF(Input_Output!BC121=\"\",T(Input_Output!BD121),\"\")","v":""},null,null,{"$f":"IF(Input_Output!BF121=\"\",T(Input_Output!BG121),\"\")","v":""},null,null,{"$f":"IF(Input_Output!BI121=\"\",T(Input_Output!BJ121),\"\")","v":""},null,null,{"$f":"IF(Input_Output!BL121=\"\",T(Input_Output!BM121),\"\")","v":""},null,null,{"$f":"IF(Input_Output!BO121=\"\",T(Input_Output!BP121),\"\")","v":""},null,null,{"$f":"IF(Input_Output!BR121=\"\",T(Input_Output!BS121),\"\")","v":""},null,null,{"$f":"IF(Input_Output!BU121=\"\",T(Input_Output!BV121),\"\")","v":""},null,null,{"$f":"IF(Input_Output!BX121=\"\",T(Input_Output!BY121),\"\")","v":""},null,null,{"$f":"IF(Input_Output!CA121=\"\",T(Input_Output!CB121),\"\")","v":""},null,null,{"$f":"IF(Input_Output!CD121=\"\",T(Input_Output!CE121),\"\")","v":""},null,null,{"$f":"IF(Input_Output!CG121=\"\",T(Input_Output!CH121),\"\")","v":""},null,null,{"$f":"IF(Input_Output!CJ121=\"\",T(Input_Output!CK121),\"\")","v":""},null,null,{"$f":"IF(Input_Output!CM121=\"\",T(Input_Output!CN121),\"\")","v":""},null,null,{"$f":"IF(Input_Output!CP121=\"\",T(Input_Output!CQ121),\"\")","v":""},null,null,{"$f":"IF(Input_Output!CS121=\"\",T(Input_Output!CT121),\"\")","v":""},null,null,{"$f":"IF(Input_Output!CV121=\"\",T(Input_Output!CW121),\"\")","v":""},null,null,{"$f":"IF(Input_Output!CY121=\"\",T(Input_Output!CZ121),\"\")","v":""},null,null,{"$f":"IF(Input_Output!DB121=\"\",T(Input_Output!DC121),\"\")","v":""},null,null,{"$f":"IF(Input_Output!DE121=\"\",T(Input_Output!DF121),\"\")","v":""},null,null,{"$f":"IF(Input_Output!DH121=\"\",T(Input_Output!DI121),\"\")","v":""},null,null,{"$f":"IF(Input_Output!DK121=\"\",T(Input_Output!DL121),\"\")","v":""},null,null,{"$f":"IF(Input_Output!DN121=\"\",T(Input_Output!DO121),\"\")","v":""},null,null,{"$f":"IF(Input_Output!DQ121=\"\",T(Input_Output!DR121),\"\")","v":""},null,null,{"$f":"IF(Input_Output!DT121=\"\",T(Input_Output!DU121),\"\")","v":""},null,null,{"$f":"IF(Input_Output!DW121=\"\",T(Input_Output!DX121),\"\")","v":""},null,null,{"$f":"IF(Input_Output!DZ121=\"\",T(Input_Output!EA121),\"\")","v":""},null,null,{"$f":"IF(Input_Output!EC121=\"\",T(Input_Output!ED121),\"\")","v":""},null,null,{"$f":"IF(Input_Output!EF121=\"\",T(Input_Output!EG121),\"\")","v":""},null,null,{"$f":"IF(Input_Output!EI121=\"\",T(Input_Output!EJ121),\"\")","v":""},null,null,{"$f":"IF(Input_Output!EL121=\"\",T(Input_Output!EM121),\"\")","v":""},null,null,{"$f":"IF(Input_Output!EO121=\"\",T(Input_Output!EP121),\"\")","v":""},null,null,{"$f":"IF(Input_Output!ER121=\"\",T(Input_Output!ES121),\"\")","v":""},null,null,{"$f":"IF(Input_Output!EU121=\"\",T(Input_Output!EV121),\"\")","v":""},null,null,{"$f":"IF(Input_Output!EX121=\"\",T(Input_Output!EY121),\"\")","v":""},null,null,{"$f":"IF(Input_Output!FA121=\"\",T(Input_Output!FB121),\"\")","v":""},null,null,{"$f":"IF(Input_Output!FD121=\"\",T(Input_Output!FE121),\"\")","v":""},null,null,{"$f":"IF(Input_Output!FG121=\"\",T(Input_Output!FH121),\"\")","v":""},null,null,{"$f":"IF(Input_Output!FJ121=\"\",T(Input_Output!FK121),\"\")","v":""},null,null,{"$f":"IF(Input_Output!FM121=\"\",T(Input_Output!FN121),\"\")","v":""},null,null,{"$f":"IF(Input_Output!FP121=\"\",T(Input_Output!FQ121),\"\")","v":""},null,null,{"$f":"IF(Input_Output!FS121=\"\",T(Input_Output!FT121),\"\")","v":""},null,null,{"$f":"IF(Input_Output!FV121=\"\",T(Input_Output!FW121),\"\")","v":""},null,null,{"$f":"IF(Input_Output!FY121=\"\",T(Input_Output!FZ121),\"\")","v":""},null,null,{"$f":"IF(Input_Output!GB121=\"\",T(Input_Output!GC121),\"\")","v":""},null,null,{"$f":"IF(Input_Output!GE121=\"\",T(Input_Output!GF121),\"\")","v":""},null,null,{"$f":"IF(Input_Output!GH121=\"\",T(Input_Output!GI121),\"\")","v":""},null,null,{"$f":"IF(Input_Output!GK121=\"\",T(Input_Output!GL121),\"\")","v":""},null,null,{"$f":"IF(Input_Output!GN121=\"\",T(Input_Output!GO121),\"\")","v":""},null,null,{"$f":"IF(Input_Output!GQ121=\"\",T(Input_Output!GR121),\"\")","v":""},null,null,{"$f":"IF(Input_Output!GT121=\"\",T(Input_Output!GU121),\"\")","v":""},null,null,{"$f":"IF(Input_Output!GW121=\"\",T(Input_Output!GX121),\"\")","v":""},null,null,{"$f":"IF(Input_Output!GZ121=\"\",T(Input_Output!HA121),\"\")","v":""},null,null,{"$f":"IF(Input_Output!HC121=\"\",T(Input_Output!HD121),\"\")","v":""},null,null,{"$f":"IF(Input_Output!HF121=\"\",T(Input_Output!HG121),\"\")","v":""},null,null,{"$f":"IF(Input_Output!HI121=\"\",T(Input_Output!HJ121),\"\")","v":""},null,null,{"$f":"IF(Input_Output!HL121=\"\",T(Input_Output!HM121),\"\")","v":""},null,null,{"$f":"IF(Input_Output!HO121=\"\",T(Input_Output!HP121),\"\")","v":""},null,null,{"$f":"IF(Input_Output!HR121=\"\",T(Input_Output!HS121),\"\")","v":""},null,null,{"$f":"IF(Input_Output!HU121=\"\",T(Input_Output!HV121),\"\")","v":""},null,null,{"$f":"IF(Input_Output!HX121=\"\",T(Input_Output!HY121),\"\")","v":""},null,null,{"$f":"IF(Input_Output!IA121=\"\",T(Input_Output!IB121),\"\")","v":""},null,null,{"$f":"IF(Input_Output!ID121=\"\",T(Input_Output!IE121),\"\")","v":""},null,null,{"$f":"IF(Input_Output!IG121=\"\",T(Input_Output!IH121),\"\")","v":""},null,null,{"$f":"IF(Input_Output!IJ121=\"\",T(Input_Output!IK121),\"\")","v":""},null,null,{"$f":"IF(Input_Output!IM121=\"\",T(Input_Output!IN121),\"\")","v":""},null,null,{"$f":"IF(Input_Output!IP121=\"\",T(Input_Output!IQ121),\"\")","v":""},null,null,{"$f":"IF(Input_Output!IS121=\"\",T(Input_Output!IT121),\"\")","v":""}]
[null,null,null,null,{"$f":"IF(Input_Output!D122=\"\",T(Input_Output!E122),\"\")","v":""},null,null,{"$f":"IF(Input_Output!G122=\"\",T(Input_Output!H122),\"\")","v":""},null,null,{"$f":"IF(Input_Output!J122=\"\",T(Input_Output!K122),\"\")","v":""},null,null,{"$f":"IF(Input_Output!M122=\"\",T(Input_Output!N122),\"\")","v":""},null,null,{"$f":"IF(Input_Output!P122=\"\",T(Input_Output!Q122),\"\")","v":""},null,null,{"$f":"IF(Input_Output!S122=\"\",T(Input_Output!T122),\"\")","v":""},null,null,{"$f":"IF(Input_Output!V122=\"\",T(Input_Output!W122),\"\")","v":""},null,null,{"$f":"IF(Input_Output!Y122=\"\",T(Input_Output!Z122),\"\")","v":""},null,null,{"$f":"IF(Input_Output!AB122=\"\",T(Input_Output!AC122),\"\")","v":""},null,null,{"$f":"IF(Input_Output!AE122=\"\",T(Input_Output!AF122),\"\")","v":""},null,null,{"$f":"IF(Input_Output!AH122=\"\",T(Input_Output!AI122),\"\")","v":""},null,null,{"$f":"IF(Input_Output!AK122=\"\",T(Input_Output!AL122),\"\")","v":""},null,null,{"$f":"IF(Input_Output!AN122=\"\",T(Input_Output!AO122),\"\")","v":""},null,null,{"$f":"IF(Input_Output!AQ122=\"\",T(Input_Output!AR122),\"\")","v":""},null,null,{"$f":"IF(Input_Output!AT122=\"\",T(Input_Output!AU122),\"\")","v":""},null,null,{"$f":"IF(Input_Output!AW122=\"\",T(Input_Output!AX122),\"\")","v":""},null,null,{"$f":"IF(Input_Output!AZ122=\"\",T(Input_Output!BA122),\"\")","v":""},null,null,{"$f":"IF(Input_Output!BC122=\"\",T(Input_Output!BD122),\"\")","v":""},null,null,{"$f":"IF(Input_Output!BF122=\"\",T(Input_Output!BG122),\"\")","v":""},null,null,{"$f":"IF(Input_Output!BI122=\"\",T(Input_Output!BJ122),\"\")","v":""},null,null,{"$f":"IF(Input_Output!BL122=\"\",T(Input_Output!BM122),\"\")","v":""},null,null,{"$f":"IF(Input_Output!BO122=\"\",T(Input_Output!BP122),\"\")","v":""},null,null,{"$f":"IF(Input_Output!BR122=\"\",T(Input_Output!BS122),\"\")","v":""},null,null,{"$f":"IF(Input_Output!BU122=\"\",T(Input_Output!BV122),\"\")","v":""},null,null,{"$f":"IF(Input_Output!BX122=\"\",T(Input_Output!BY122),\"\")","v":""},null,null,{"$f":"IF(Input_Output!CA122=\"\",T(Input_Output!CB122),\"\")","v":""},null,null,{"$f":"IF(Input_Output!CD122=\"\",T(Input_Output!CE122),\"\")","v":""},null,null,{"$f":"IF(Input_Output!CG122=\"\",T(Input_Output!CH122),\"\")","v":""},null,null,{"$f":"IF(Input_Output!CJ122=\"\",T(Input_Output!CK122),\"\")","v":""},null,null,{"$f":"IF(Input_Output!CM122=\"\",T(Input_Output!CN122),\"\")","v":""},null,null,{"$f":"IF(Input_Output!CP122=\"\",T(Input_Output!CQ122),\"\")","v":""},null,null,{"$f":"IF(Input_Output!CS122=\"\",T(Input_Output!CT122),\"\")","v":""},null,null,{"$f":"IF(Input_Output!CV122=\"\",T(Input_Output!CW122),\"\")","v":""},null,null,{"$f":"IF(Input_Output!CY122=\"\",T(Input_Output!CZ122),\"\")","v":""},null,null,{"$f":"IF(Input_Output!DB122=\"\",T(Input_Output!DC122),\"\")","v":""},null,null,{"$f":"IF(Input_Output!DE122=\"\",T(Input_Output!DF122),\"\")","v":""},null,null,{"$f":"IF(Input_Output!DH122=\"\",T(Input_Output!DI122),\"\")","v":""},null,null,{"$f":"IF(Input_Output!DK122=\"\",T(Input_Output!DL122),\"\")","v":""},null,null,{"$f":"IF(Input_Output!DN122=\"\",T(Input_Output!DO122),\"\")","v":""},null,null,{"$f":"IF(Input_Output!DQ122=\"\",T(Input_Output!DR122),\"\")","v":""},null,null,{"$f":"IF(Input_Output!DT122=\"\",T(Input_Output!DU122),\"\")","v":""},null,null,{"$f":"IF(Input_Output!DW122=\"\",T(Input_Output!DX122),\"\")","v":""},null,null,{"$f":"IF(Input_Output!DZ122=\"\",T(Input_Output!EA122),\"\")","v":""},null,null,{"$f":"IF(Input_Output!EC122=\"\",T(Input_Output!ED122),\"\")","v":""},null,null,{"$f":"IF(Input_Output!EF122=\"\",T(Input_Output!EG122),\"\")","v":""},null,null,{"$f":"IF(Input_Output!EI122=\"\",T(Input_Output!EJ122),\"\")","v":""},null,null,{"$f":"IF(Input_Output!EL122=\"\",T(Input_Output!EM122),\"\")","v":""},null,null,{"$f":"IF(Input_Output!EO122=\"\",T(Input_Output!EP122),\"\")","v":""},null,null,{"$f":"IF(Input_Output!ER122=\"\",T(Input_Output!ES122),\"\")","v":""},null,null,{"$f":"IF(Input_Output!EU122=\"\",T(Input_Output!EV122),\"\")","v":""},null,null,{"$f":"IF(Input_Output!EX122=\"\",T(Input_Output!EY122),\"\")","v":""},null,null,{"$f":"IF(Input_Output!FA122=\"\",T(Input_Output!FB122),\"\")","v":""},null,null,{"$f":"IF(Input_Output!FD122=\"\",T(Input_Output!FE122),\"\")","v":""},null,null,{"$f":"IF(Input_Output!FG122=\"\",T(Input_Output!FH122),\"\")","v":""},null,null,{"$f":"IF(Input_Output!FJ122=\"\",T(Input_Output!FK122),\"\")","v":""},null,null,{"$f":"IF(Input_Output!FM122=\"\",T(Input_Output!FN122),\"\")","v":""},null,null,{"$f":"IF(Input_Output!FP122=\"\",T(Input_Output!FQ122),\"\")","v":""},null,null,{"$f":"IF(Input_Output!FS122=\"\",T(Input_Output!FT122),\"\")","v":""},null,null,{"$f":"IF(Input_Output!FV122=\"\",T(Input_Output!FW122),\"\")","v":""},null,null,{"$f":"IF(Input_Output!FY122=\"\",T(Input_Output!FZ122),\"\")","v":""},null,null,{"$f":"IF(Input_Output!GB122=\"\",T(Input_Output!GC122),\"\")","v":""},null,null,{"$f":"IF(Input_Output!GE122=\"\",T(Input_Output!GF122),\"\")","v":""},null,null,{"$f":"IF(Input_Output!GH122=\"\",T(Input_Output!GI122),\"\")","v":""},null,null,{"$f":"IF(Input_Output!GK122=\"\",T(Input_Output!GL122),\"\")","v":""},null,null,{"$f":"IF(Input_Output!GN122=\"\",T(Input_Output!GO122),\"\")","v":""},null,null,{"$f":"IF(Input_Output!GQ122=\"\",T(Input_Output!GR122),\"\")","v":""},null,null,{"$f":"IF(Input_Output!GT122=\"\",T(Input_Output!GU122),\"\")","v":""},null,null,{"$f":"IF(Input_Output!GW122=\"\",T(Input_Output!GX122),\"\")","v":""},null,null,{"$f":"IF(Input_Output!GZ122=\"\",T(Input_Output!HA122),\"\")","v":""},null,null,{"$f":"IF(Input_Output!HC122=\"\",T(Input_Output!HD122),\"\")","v":""},null,null,{"$f":"IF(Input_Output!HF122=\"\",T(Input_Output!HG122),\"\")","v":""},null,null,{"$f":"IF(Input_Output!HI122=\"\",T(Input_Output!HJ122),\"\")","v":""},null,null,{"$f":"IF(Input_Output!HL122=\"\",T(Input_Output!HM122),\"\")","v":""},null,null,{"$f":"IF(Input_Output!HO122=\"\",T(Input_Output!HP122),\"\")","v":""},null,null,{"$f":"IF(Input_Output!HR122=\"\",T(Input_Output!HS122),\"\")","v":""},null,null,{"$f":"IF(Input_Output!HU122=\"\",T(Input_Output!HV122),\"\")","v":""},null,null,{"$f":"IF(Input_Output!HX122=\"\",T(Input_Output!HY122),\"\")","v":""},null,null,{"$f":"IF(Input_Output!IA122=\"\",T(Input_Output!IB122),\"\")","v":""},null,null,{"$f":"IF(Input_Output!ID122=\"\",T(Input_Output!IE122),\"\")","v":""},null,null,{"$f":"IF(Input_Output!IG122=\"\",T(Input_Output!IH122),\"\")","v":""},null,null,{"$f":"IF(Input_Output!IJ122=\"\",T(Input_Output!IK122),\"\")","v":""},null,null,{"$f":"IF(Input_Output!IM122=\"\",T(Input_Output!IN122),\"\")","v":""},null,null,{"$f":"IF(Input_Output!IP122=\"\",T(Input_Output!IQ122),\"\")","v":""},null,null,{"$f":"IF(Input_Output!IS122=\"\",T(Input_Output!IT122),\"\")","v":""}]
[null,null,null,null,{"$f":"IF(Input_Output!D123=\"\",T(Input_Output!E123),\"\")","v":""},null,null,{"$f":"IF(Input_Output!G123=\"\",T(Input_Output!H123),\"\")","v":""},null,null,{"$f":"IF(Input_Output!J123=\"\",T(Input_Output!K123),\"\")","v":""},null,null,{"$f":"IF(Input_Output!M123=\"\",T(Input_Output!N123),\"\")","v":""},null,null,{"$f":"IF(Input_Output!P123=\"\",T(Input_Output!Q123),\"\")","v":""},null,null,{"$f":"IF(Input_Output!S123=\"\",T(Input_Output!T123),\"\")","v":""},null,null,{"$f":"IF(Input_Output!V123=\"\",T(Input_Output!W123),\"\")","v":""},null,null,{"$f":"IF(Input_Output!Y123=\"\",T(Input_Output!Z123),\"\")","v":""},null,null,{"$f":"IF(Input_Output!AB123=\"\",T(Input_Output!AC123),\"\")","v":""},null,null,{"$f":"IF(Input_Output!AE123=\"\",T(Input_Output!AF123),\"\")","v":""},null,null,{"$f":"IF(Input_Output!AH123=\"\",T(Input_Output!AI123),\"\")","v":""},null,null,{"$f":"IF(Input_Output!AK123=\"\",T(Input_Output!AL123),\"\")","v":""},null,null,{"$f":"IF(Input_Output!AN123=\"\",T(Input_Output!AO123),\"\")","v":""},null,null,{"$f":"IF(Input_Output!AQ123=\"\",T(Input_Output!AR123),\"\")","v":""},null,null,{"$f":"IF(Input_Output!AT123=\"\",T(Input_Output!AU123),\"\")","v":""},null,null,{"$f":"IF(Input_Output!AW123=\"\",T(Input_Output!AX123),\"\")","v":""},null,null,{"$f":"IF(Input_Output!AZ123=\"\",T(Input_Output!BA123),\"\")","v":""},null,null,{"$f":"IF(Input_Output!BC123=\"\",T(Input_Output!BD123),\"\")","v":""},null,null,{"$f":"IF(Input_Output!BF123=\"\",T(Input_Output!BG123),\"\")","v":""},null,null,{"$f":"IF(Input_Output!BI123=\"\",T(Input_Output!BJ123),\"\")","v":""},null,null,{"$f":"IF(Input_Output!BL123=\"\",T(Input_Output!BM123),\"\")","v":""},null,null,{"$f":"IF(Input_Output!BO123=\"\",T(Input_Output!BP123),\"\")","v":""},null,null,{"$f":"IF(Input_Output!BR123=\"\",T(Input_Output!BS123),\"\")","v":""},null,null,{"$f":"IF(Input_Output!BU123=\"\",T(Input_Output!BV123),\"\")","v":""},null,null,{"$f":"IF(Input_Output!BX123=\"\",T(Input_Output!BY123),\"\")","v":""},null,null,{"$f":"IF(Input_Output!CA123=\"\",T(Input_Output!CB123),\"\")","v":""},null,null,{"$f":"IF(Input_Output!CD123=\"\",T(Input_Output!CE123),\"\")","v":""},null,null,{"$f":"IF(Input_Output!CG123=\"\",T(Input_Output!CH123),\"\")","v":""},null,null,{"$f":"IF(Input_Output!CJ123=\"\",T(Input_Output!CK123),\"\")","v":""},null,null,{"$f":"IF(Input_Output!CM123=\"\",T(Input_Output!CN123),\"\")","v":""},null,null,{"$f":"IF(Input_Output!CP123=\"\",T(Input_Output!CQ123),\"\")","v":""},null,null,{"$f":"IF(Input_Output!CS123=\"\",T(Input_Output!CT123),\"\")","v":""},null,null,{"$f":"IF(Input_Output!CV123=\"\",T(Input_Output!CW123),\"\")","v":""},null,null,{"$f":"IF(Input_Output!CY123=\"\",T(Input_Output!CZ123),\"\")","v":""},null,null,{"$f":"IF(Input_Output!DB123=\"\",T(Input_Output!DC123),\"\")","v":""},null,null,{"$f":"IF(Input_Output!DE123=\"\",T(Input_Output!DF123),\"\")","v":""},null,null,{"$f":"IF(Input_Output!DH123=\"\",T(Input_Output!DI123),\"\")","v":""},null,null,{"$f":"IF(Input_Output!DK123=\"\",T(Input_Output!DL123),\"\")","v":""},null,null,{"$f":"IF(Input_Output!DN123=\"\",T(Input_Output!DO123),\"\")","v":""},null,null,{"$f":"IF(Input_Output!DQ123=\"\",T(Input_Output!DR123),\"\")","v":""},null,null,{"$f":"IF(Input_Output!DT123=\"\",T(Input_Output!DU123),\"\")","v":""},null,null,{"$f":"IF(Input_Output!DW123=\"\",T(Input_Output!DX123),\"\")","v":""},null,null,{"$f":"IF(Input_Output!DZ123=\"\",T(Input_Output!EA123),\"\")","v":""},null,null,{"$f":"IF(Input_Output!EC123=\"\",T(Input_Output!ED123),\"\")","v":""},null,null,{"$f":"IF(Input_Output!EF123=\"\",T(Input_Output!EG123),\"\")","v":""},null,null,{"$f":"IF(Input_Output!EI123=\"\",T(Input_Output!EJ123),\"\")","v":""},null,null,{"$f":"IF(Input_Output!EL123=\"\",T(Input_Output!EM123),\"\")","v":""},null,null,{"$f":"IF(Input_Output!EO123=\"\",T(Input_Output!EP123),\"\")","v":""},null,null,{"$f":"IF(Input_Output!ER123=\"\",T(Input_Output!ES123),\"\")","v":""},null,null,{"$f":"IF(Input_Output!EU123=\"\",T(Input_Output!EV123),\"\")","v":""},null,null,{"$f":"IF(Input_Output!EX123=\"\",T(Input_Output!EY123),\"\")","v":""},null,null,{"$f":"IF(Input_Output!FA123=\"\",T(Input_Output!FB123),\"\")","v":""},null,null,{"$f":"IF(Input_Output!FD123=\"\",T(Input_Output!FE123),\"\")","v":""},null,null,{"$f":"IF(Input_Output!FG123=\"\",T(Input_Output!FH123),\"\")","v":""},null,null,{"$f":"IF(Input_Output!FJ123=\"\",T(Input_Output!FK123),\"\")","v":""},null,null,{"$f":"IF(Input_Output!FM123=\"\",T(Input_Output!FN123),\"\")","v":""},null,null,{"$f":"IF(Input_Output!FP123=\"\",T(Input_Output!FQ123),\"\")","v":""},null,null,{"$f":"IF(Input_Output!FS123=\"\",T(Input_Output!FT123),\"\")","v":""},null,null,{"$f":"IF(Input_Output!FV123=\"\",T(Input_Output!FW123),\"\")","v":""},null,null,{"$f":"IF(Input_Output!FY123=\"\",T(Input_Output!FZ123),\"\")","v":""},null,null,{"$f":"IF(Input_Output!GB123=\"\",T(Input_Output!GC123),\"\")","v":""},null,null,{"$f":"IF(Input_Output!GE123=\"\",T(Input_Output!GF123),\"\")","v":""},null,null,{"$f":"IF(Input_Output!GH123=\"\",T(Input_Output!GI123),\"\")","v":""},null,null,{"$f":"IF(Input_Output!GK123=\"\",T(Input_Output!GL123),\"\")","v":""},null,null,{"$f":"IF(Input_Output!GN123=\"\",T(Input_Output!GO123),\"\")","v":""},null,null,{"$f":"IF(Input_Output!GQ123=\"\",T(Input_Output!GR123),\"\")","v":""},null,null,{"$f":"IF(Input_Output!GT123=\"\",T(Input_Output!GU123),\"\")","v":""},null,null,{"$f":"IF(Input_Output!GW123=\"\",T(Input_Output!GX123),\"\")","v":""},null,null,{"$f":"IF(Input_Output!GZ123=\"\",T(Input_Output!HA123),\"\")","v":""},null,null,{"$f":"IF(Input_Output!HC123=\"\",T(Input_Output!HD123),\"\")","v":""},null,null,{"$f":"IF(Input_Output!HF123=\"\",T(Input_Output!HG123),\"\")","v":""},null,null,{"$f":"IF(Input_Output!HI123=\"\",T(Input_Output!HJ123),\"\")","v":""},null,null,{"$f":"IF(Input_Output!HL123=\"\",T(Input_Output!HM123),\"\")","v":""},null,null,{"$f":"IF(Input_Output!HO123=\"\",T(Input_Output!HP123),\"\")","v":""},null,null,{"$f":"IF(Input_Output!HR123=\"\",T(Input_Output!HS123),\"\")","v":""},null,null,{"$f":"IF(Input_Output!HU123=\"\",T(Input_Output!HV123),\"\")","v":""},null,null,{"$f":"IF(Input_Output!HX123=\"\",T(Input_Output!HY123),\"\")","v":""},null,null,{"$f":"IF(Input_Output!IA123=\"\",T(Input_Output!IB123),\"\")","v":""},null,null,{"$f":"IF(Input_Output!ID123=\"\",T(Input_Output!IE123),\"\")","v":""},null,null,{"$f":"IF(Input_Output!IG123=\"\",T(Input_Output!IH123),\"\")","v":""},null,null,{"$f":"IF(Input_Output!IJ123=\"\",T(Input_Output!IK123),\"\")","v":""},null,null,{"$f":"IF(Input_Output!IM123=\"\",T(Input_Output!IN123),\"\")","v":""},null,null,{"$f":"IF(Input_Output!IP123=\"\",T(Input_Output!IQ123),\"\")","v":""},null,null,{"$f":"IF(Input_Output!IS123=\"\",T(Input_Output!IT123),\"\")","v":""}]
[null,null,null,null,{"$f":"IF(Input_Output!D124=\"\",T(Input_Output!E124),\"\")","v":""},null,null,{"$f":"IF(Input_Output!G124=\"\",T(Input_Output!H124),\"\")","v":""},null,null,{"$f":"IF(Input_Output!J124=\"\",T(Input_Output!K124),\"\")","v":""},null,null,{"$f":"IF(Input_Output!M124=\"\",T(Input_Output!N124),\"\")","v":""},null,null,{"$f":"IF(Input_Output!P124=\"\",T(Input_Output!Q124),\"\")","v":""},null,null,{"$f":"IF(Input_Output!S124=\"\",T(Input_Output!T124),\"\")","v":""},null,null,{"$f":"IF(Input_Output!V124=\"\",T(Input_Output!W124),\"\")","v":""},null,null,{"$f":"IF(Input_Output!Y124=\"\",T(Input_Output!Z124),\"\")","v":""},null,null,{"$f":"IF(Input_Output!AB124=\"\",T(Input_Output!AC124),\"\")","v":""},null,null,{"$f":"IF(Input_Output!AE124=\"\",T(Input_Output!AF124),\"\")","v":""},null,null,{"$f":"IF(Input_Output!AH124=\"\",T(Input_Output!AI124),\"\")","v":""},null,null,{"$f":"IF(Input_Output!AK124=\"\",T(Input_Output!AL124),\"\")","v":""},null,null,{"$f":"IF(Input_Output!AN124=\"\",T(Input_Output!AO124),\"\")","v":""},null,null,{"$f":"IF(Input_Output!AQ124=\"\",T(Input_Output!AR124),\"\")","v":""},null,null,{"$f":"IF(Input_Output!AT124=\"\",T(Input_Output!AU124),\"\")","v":""},null,null,{"$f":"IF(Input_Output!AW124=\"\",T(Input_Output!AX124),\"\")","v":""},null,null,{"$f":"IF(Input_Output!AZ124=\"\",T(Input_Output!BA124),\"\")","v":""},null,null,{"$f":"IF(Input_Output!BC124=\"\",T(Input_Output!BD124),\"\")","v":""},null,null,{"$f":"IF(Input_Output!BF124=\"\",T(Input_Output!BG124),\"\")","v":""},null,null,{"$f":"IF(Input_Output!BI124=\"\",T(Input_Output!BJ124),\"\")","v":""},null,null,{"$f":"IF(Input_Output!BL124=\"\",T(Input_Output!BM124),\"\")","v":""},null,null,{"$f":"IF(Input_Output!BO124=\"\",T(Input_Output!BP124),\"\")","v":""},null,null,{"$f":"IF(Input_Output!BR124=\"\",T(Input_Output!BS124),\"\")","v":""},null,null,{"$f":"IF(Input_Output!BU124=\"\",T(Input_Output!BV124),\"\")","v":""},null,null,{"$f":"IF(Input_Output!BX124=\"\",T(Input_Output!BY124),\"\")","v":""},null,null,{"$f":"IF(Input_Output!CA124=\"\",T(Input_Output!CB124),\"\")","v":""},null,null,{"$f":"IF(Input_Output!CD124=\"\",T(Input_Output!CE124),\"\")","v":""},null,null,{"$f":"IF(Input_Output!CG124=\"\",T(Input_Output!CH124),\"\")","v":""},null,null,{"$f":"IF(Input_Output!CJ124=\"\",T(Input_Output!CK124),\"\")","v":""},null,null,{"$f":"IF(Input_Output!CM124=\"\",T(Input_Output!CN124),\"\")","v":""},null,null,{"$f":"IF(Input_Output!CP124=\"\",T(Input_Output!CQ124),\"\")","v":""},null,null,{"$f":"IF(Input_Output!CS124=\"\",T(Input_Output!CT124),\"\")","v":""},null,null,{"$f":"IF(Input_Output!CV124=\"\",T(Input_Output!CW124),\"\")","v":""},null,null,{"$f":"IF(Input_Output!CY124=\"\",T(Input_Output!CZ124),\"\")","v":""},null,null,{"$f":"IF(Input_Output!DB124=\"\",T(Input_Output!DC124),\"\")","v":""},null,null,{"$f":"IF(Input_Output!DE124=\"\",T(Input_Output!DF124),\"\")","v":""},null,null,{"$f":"IF(Input_Output!DH124=\"\",T(Input_Output!DI124),\"\")","v":""},null,null,{"$f":"IF(Input_Output!DK124=\"\",T(Input_Output!DL124),\"\")","v":""},null,null,{"$f":"IF(Input_Output!DN124=\"\",T(Input_Output!DO124),\"\")","v":""},null,null,{"$f":"IF(Input_Output!DQ124=\"\",T(Input_Output!DR124),\"\")","v":""},null,null,{"$f":"IF(Input_Output!DT124=\"\",T(Input_Output!DU124),\"\")","v":""},null,null,{"$f":"IF(Input_Output!DW124=\"\",T(Input_Output!DX124),\"\")","v":""},null,null,{"$f":"IF(Input_Output!DZ124=\"\",T(Input_Output!EA124),\"\")","v":""},null,null,{"$f":"IF(Input_Output!EC124=\"\",T(Input_Output!ED124),\"\")","v":""},null,null,{"$f":"IF(Input_Output!EF124=\"\",T(Input_Output!EG124),\"\")","v":""},null,null,{"$f":"IF(Input_Output!EI124=\"\",T(Input_Output!EJ124),\"\")","v":""},null,null,{"$f":"IF(Input_Output!EL124=\"\",T(Input_Output!EM124),\"\")","v":""},null,null,{"$f":"IF(Input_Output!EO124=\"\",T(Input_Output!EP124),\"\")","v":""},null,null,{"$f":"IF(Input_Output!ER124=\"\",T(Input_Output!ES124),\"\")","v":""},null,null,{"$f":"IF(Input_Output!EU124=\"\",T(Input_Output!EV124),\"\")","v":""},null,null,{"$f":"IF(Input_Output!EX124=\"\",T(Input_Output!EY124),\"\")","v":""},null,null,{"$f":"IF(Input_Output!FA124=\"\",T(Input_Output!FB124),\"\")","v":""},null,null,{"$f":"IF(Input_Output!FD124=\"\",T(Input_Output!FE124),\"\")","v":""},null,null,{"$f":"IF(Input_Output!FG124=\"\",T(Input_Output!FH124),\"\")","v":""},null,null,{"$f":"IF(Input_Output!FJ124=\"\",T(Input_Output!FK124),\"\")","v":""},null,null,{"$f":"IF(Input_Output!FM124=\"\",T(Input_Output!FN124),\"\")","v":""},null,null,{"$f":"IF(Input_Output!FP124=\"\",T(Input_Output!FQ124),\"\")","v":""},null,null,{"$f":"IF(Input_Output!FS124=\"\",T(Input_Output!FT124),\"\")","v":""},null,null,{"$f":"IF(Input_Output!FV124=\"\",T(Input_Output!FW124),\"\")","v":""},null,null,{"$f":"IF(Input_Output!FY124=\"\",T(Input_Output!FZ124),\"\")","v":""},null,null,{"$f":"IF(Input_Output!GB124=\"\",T(Input_Output!GC124),\"\")","v":""},null,null,{"$f":"IF(Input_Output!GE124=\"\",T(Input_Output!GF124),\"\")","v":""},null,null,{"$f":"IF(Input_Output!GH124=\"\",T(Input_Output!GI124),\"\")","v":""},null,null,{"$f":"IF(Input_Output!GK124=\"\",T(Input_Output!GL124),\"\")","v":""},null,null,{"$f":"IF(Input_Output!GN124=\"\",T(Input_Output!GO124),\"\")","v":""},null,null,{"$f":"IF(Input_Output!GQ124=\"\",T(Input_Output!GR124),\"\")","v":""},null,null,{"$f":"IF(Input_Output!GT124=\"\",T(Input_Output!GU124),\"\")","v":""},null,null,{"$f":"IF(Input_Output!GW124=\"\",T(Input_Output!GX124),\"\")","v":""},null,null,{"$f":"IF(Input_Output!GZ124=\"\",T(Input_Output!HA124),\"\")","v":""},null,null,{"$f":"IF(Input_Output!HC124=\"\",T(Input_Output!HD124),\"\")","v":""},null,null,{"$f":"IF(Input_Output!HF124=\"\",T(Input_Output!HG124),\"\")","v":""},null,null,{"$f":"IF(Input_Output!HI124=\"\",T(Input_Output!HJ124),\"\")","v":""},null,null,{"$f":"IF(Input_Output!HL124=\"\",T(Input_Output!HM124),\"\")","v":""},null,null,{"$f":"IF(Input_Output!HO124=\"\",T(Input_Output!HP124),\"\")","v":""},null,null,{"$f":"IF(Input_Output!HR124=\"\",T(Input_Output!HS124),\"\")","v":""},null,null,{"$f":"IF(Input_Output!HU124=\"\",T(Input_Output!HV124),\"\")","v":""},null,null,{"$f":"IF(Input_Output!HX124=\"\",T(Input_Output!HY124),\"\")","v":""},null,null,{"$f":"IF(Input_Output!IA124=\"\",T(Input_Output!IB124),\"\")","v":""},null,null,{"$f":"IF(Input_Output!ID124=\"\",T(Input_Output!IE124),\"\")","v":""},null,null,{"$f":"IF(Input_Output!IG124=\"\",T(Input_Output!IH124),\"\")","v":""},null,null,{"$f":"IF(Input_Output!IJ124=\"\",T(Input_Output!IK124),\"\")","v":""},null,null,{"$f":"IF(Input_Output!IM124=\"\",T(Input_Output!IN124),\"\")","v":""},null,null,{"$f":"IF(Input_Output!IP124=\"\",T(Input_Output!IQ124),\"\")","v":""},null,null,{"$f":"IF(Input_Output!IS124=\"\",T(Input_Output!IT124),\"\")","v":""}]
[null,null,null,null,{"$f":"IF(Input_Output!D125=\"\",T(Input_Output!E125),\"\")","v":""},null,null,{"$f":"IF(Input_Output!G125=\"\",T(Input_Output!H125),\"\")","v":""},null,null,{"$f":"IF(Input_Output!J125=\"\",T(Input_Output!K125),\"\")","v":""},null,null,{"$f":"IF(Input_Output!M125=\"\",T(Input_Output!N125),\"\")","v":""},null,null,{"$f":"IF(Input_Output!P125=\"\",T(Input_Output!Q125),\"\")","v":""},null,null,{"$f":"IF(Input_Output!S125=\"\",T(Input_Output!T125),\"\")","v":""},null,null,{"$f":"IF(Input_Output!V125=\"\",T(Input_Output!W125),\"\")","v":""},null,null,{"$f":"IF(Input_Output!Y125=\"\",T(Input_Output!Z125),\"\")","v":""},null,null,{"$f":"IF(Input_Output!AB125=\"\",T(Input_Output!AC125),\"\")","v":""},null,null,{"$f":"IF(Input_Output!AE125=\"\",T(Input_Output!AF125),\"\")","v":""},null,null,{"$f":"IF(Input_Output!AH125=\"\",T(Input_Output!AI125),\"\")","v":""},null,null,{"$f":"IF(Input_Output!AK125=\"\",T(Input_Output!AL125),\"\")","v":""},null,null,{"$f":"IF(Input_Output!AN125=\"\",T(Input_Output!AO125),\"\")","v":""},null,null,{"$f":"IF(Input_Output!AQ125=\"\",T(Input_Output!AR125),\"\")","v":""},null,null,{"$f":"IF(Input_Output!AT125=\"\",T(Input_Output!AU125),\"\")","v":""},null,null,{"$f":"IF(Input_Output!AW125=\"\",T(Input_Output!AX125),\"\")","v":""},null,null,{"$f":"IF(Input_Output!AZ125=\"\",T(Input_Output!BA125),\"\")","v":""},null,null,{"$f":"IF(Input_Output!BC125=\"\",T(Input_Output!BD125),\"\")","v":""},null,null,{"$f":"IF(Input_Output!BF125=\"\",T(Input_Output!BG125),\"\")","v":""},null,null,{"$f":"IF(Input_Output!BI125=\"\",T(Input_Output!BJ125),\"\")","v":""},null,null,{"$f":"IF(Input_Output!BL125=\"\",T(Input_Output!BM125),\"\")","v":""},null,null,{"$f":"IF(Input_Output!BO125=\"\",T(Input_Output!BP125),\"\")","v":""},null,null,{"$f":"IF(Input_Output!BR125=\"\",T(Input_Output!BS125),\"\")","v":""},null,null,{"$f":"IF(Input_Output!BU125=\"\",T(Input_Output!BV125),\"\")","v":""},null,null,{"$f":"IF(Input_Output!BX125=\"\",T(Input_Output!BY125),\"\")","v":""},null,null,{"$f":"IF(Input_Output!CA125=\"\",T(Input_Output!CB125),\"\")","v":""},null,null,{"$f":"IF(Input_Output!CD125=\"\",T(Input_Output!CE125),\"\")","v":""},null,null,{"$f":"IF(Input_Output!CG125=\"\",T(Input_Output!CH125),\"\")","v":""},null,null,{"$f":"IF(Input_Output!CJ125=\"\",T(Input_Output!CK125),\"\")","v":""},null,null,{"$f":"IF(Input_Output!CM125=\"\",T(Input_Output!CN125),\"\")","v":""},null,null,{"$f":"IF(Input_Output!CP125=\"\",T(Input_Output!CQ125),\"\")","v":""},null,null,{"$f":"IF(Input_Output!CS125=\"\",T(Input_Output!CT125),\"\")","v":""},null,null,{"$f":"IF(Input_Output!CV125=\"\",T(Input_Output!CW125),\"\")","v":""},null,null,{"$f":"IF(Input_Output!CY125=\"\",T(Input_Output!CZ125),\"\")","v":""},null,null,{"$f":"IF(Input_Output!DB125=\"\",T(Input_Output!DC125),\"\")","v":""},null,null,{"$f":"IF(Input_Output!DE125=\"\",T(Input_Output!DF125),\"\")","v":""},null,null,{"$f":"IF(Input_Output!DH125=\"\",T(Input_Output!DI125),\"\")","v":""},null,null,{"$f":"IF(Input_Output!DK125=\"\",T(Input_Output!DL125),\"\")","v":""},null,null,{"$f":"IF(Input_Output!DN125=\"\",T(Input_Output!DO125),\"\")","v":""},null,null,{"$f":"IF(Input_Output!DQ125=\"\",T(Input_Output!DR125),\"\")","v":""},null,null,{"$f":"IF(Input_Output!DT125=\"\",T(Input_Output!DU125),\"\")","v":""},null,null,{"$f":"IF(Input_Output!DW125=\"\",T(Input_Output!DX125),\"\")","v":""},null,null,{"$f":"IF(Input_Output!DZ125=\"\",T(Input_Output!EA125),\"\")","v":""},null,null,{"$f":"IF(Input_Output!EC125=\"\",T(Input_Output!ED125),\"\")","v":""},null,null,{"$f":"IF(Input_Output!EF125=\"\",T(Input_Output!EG125),\"\")","v":""},null,null,{"$f":"IF(Input_Output!EI125=\"\",T(Input_Output!EJ125),\"\")","v":""},null,null,{"$f":"IF(Input_Output!EL125=\"\",T(Input_Output!EM125),\"\")","v":""},null,null,{"$f":"IF(Input_Output!EO125=\"\",T(Input_Output!EP125),\"\")","v":""},null,null,{"$f":"IF(Input_Output!ER125=\"\",T(Input_Output!ES125),\"\")","v":""},null,null,{"$f":"IF(Input_Output!EU125=\"\",T(Input_Output!EV125),\"\")","v":""},null,null,{"$f":"IF(Input_Output!EX125=\"\",T(Input_Output!EY125),\"\")","v":""},null,null,{"$f":"IF(Input_Output!FA125=\"\",T(Input_Output!FB125),\"\")","v":""},null,null,{"$f":"IF(Input_Output!FD125=\"\",T(Input_Output!FE125),\"\")","v":""},null,null,{"$f":"IF(Input_Output!FG125=\"\",T(Input_Output!FH125),\"\")","v":""},null,null,{"$f":"IF(Input_Output!FJ125=\"\",T(Input_Output!FK125),\"\")","v":""},null,null,{"$f":"IF(Input_Output!FM125=\"\",T(Input_Output!FN125),\"\")","v":""},null,null,{"$f":"IF(Input_Output!FP125=\"\",T(Input_Output!FQ125),\"\")","v":""},null,null,{"$f":"IF(Input_Output!FS125=\"\",T(Input_Output!FT125),\"\")","v":""},null,null,{"$f":"IF(Input_Output!FV125=\"\",T(Input_Output!FW125),\"\")","v":""},null,null,{"$f":"IF(Input_Output!FY125=\"\",T(Input_Output!FZ125),\"\")","v":""},null,null,{"$f":"IF(Input_Output!GB125=\"\",T(Input_Output!GC125),\"\")","v":""},null,null,{"$f":"IF(Input_Output!GE125=\"\",T(Input_Output!GF125),\"\")","v":""},null,null,{"$f":"IF(Input_Output!GH125=\"\",T(Input_Output!GI125),\"\")","v":""},null,null,{"$f":"IF(Input_Output!GK125=\"\",T(Input_Output!GL125),\"\")","v":""},null,null,{"$f":"IF(Input_Output!GN125=\"\",T(Input_Output!GO125),\"\")","v":""},null,null,{"$f":"IF(Input_Output!GQ125=\"\",T(Input_Output!GR125),\"\")","v":""},null,null,{"$f":"IF(Input_Output!GT125=\"\",T(Input_Output!GU125),\"\")","v":""},null,null,{"$f":"IF(Input_Output!GW125=\"\",T(Input_Output!GX125),\"\")","v":""},null,null,{"$f":"IF(Input_Output!GZ125=\"\",T(Input_Output!HA125),\"\")","v":""},null,null,{"$f":"IF(Input_Output!HC125=\"\",T(Input_Output!HD125),\"\")","v":""},null,null,{"$f":"IF(Input_Output!HF125=\"\",T(Input_Output!HG125),\"\")","v":""},null,null,{"$f":"IF(Input_Output!HI125=\"\",T(Input_Output!HJ125),\"\")","v":""},null,null,{"$f":"IF(Input_Output!HL125=\"\",T(Input_Output!HM125),\"\")","v":""},null,null,{"$f":"IF(Input_Output!HO125=\"\",T(Input_Output!HP125),\"\")","v":""},null,null,{"$f":"IF(Input_Output!HR125=\"\",T(Input_Output!HS125),\"\")","v":""},null,null,{"$f":"IF(Input_Output!HU125=\"\",T(Input_Output!HV125),\"\")","v":""},null,null,{"$f":"IF(Input_Output!HX125=\"\",T(Input_Output!HY125),\"\")","v":""},null,null,{"$f":"IF(Input_Output!IA125=\"\",T(Input_Output!IB125),\"\")","v":""},null,null,{"$f":"IF(Input_Output!ID125=\"\",T(Input_Output!IE125),\"\")","v":""},null,null,{"$f":"IF(Input_Output!IG125=\"\",T(Input_Output!IH125),\"\")","v":""},null,null,{"$f":"IF(Input_Output!IJ125=\"\",T(Input_Output!IK125),\"\")","v":""},null,null,{"$f":"IF(Input_Output!IM125=\"\",T(Input_Output!IN125),\"\")","v":""},null,null,{"$f":"IF(Input_Output!IP125=\"\",T(Input_Output!IQ125),\"\")","v":""},null,null,{"$f":"IF(Input_Output!IS125=\"\",T(Input_Output!IT125),\"\")","v":""}]
[null,null,null,null,{"$f":"IF(Input_Output!D126=\"\",T(Input_Output!E126),\"\")","v":""},null,null,{"$f":"IF(Input_Output!G126=\"\",T(Input_Output!H126),\"\")","v":""},null,null,{"$f":"IF(Input_Output!J126=\"\",T(Input_Output!K126),\"\")","v":""},null,null,{"$f":"IF(Input_Output!M126=\"\",T(Input_Output!N126),\"\")","v":""},null,null,{"$f":"IF(Input_Output!P126=\"\",T(Input_Output!Q126),\"\")","v":""},null,null,{"$f":"IF(Input_Output!S126=\"\",T(Input_Output!T126),\"\")","v":""},null,null,{"$f":"IF(Input_Output!V126=\"\",T(Input_Output!W126),\"\")","v":""},null,null,{"$f":"IF(Input_Output!Y126=\"\",T(Input_Output!Z126),\"\")","v":""},null,null,{"$f":"IF(Input_Output!AB126=\"\",T(Input_Output!AC126),\"\")","v":""},null,null,{"$f":"IF(Input_Output!AE126=\"\",T(Input_Output!AF126),\"\")","v":""},null,null,{"$f":"IF(Input_Output!AH126=\"\",T(Input_Output!AI126),\"\")","v":""},null,null,{"$f":"IF(Input_Output!AK126=\"\",T(Input_Output!AL126),\"\")","v":""},null,null,{"$f":"IF(Input_Output!AN126=\"\",T(Input_Output!AO126),\"\")","v":""},null,null,{"$f":"IF(Input_Output!AQ126=\"\",T(Input_Output!AR126),\"\")","v":""},null,null,{"$f":"IF(Input_Output!AT126=\"\",T(Input_Output!AU126),\"\")","v":""},null,null,{"$f":"IF(Input_Output!AW126=\"\",T(Input_Output!AX126),\"\")","v":""},null,null,{"$f":"IF(Input_Output!AZ126=\"\",T(Input_Output!BA126),\"\")","v":""},null,null,{"$f":"IF(Input_Output!BC126=\"\",T(Input_Output!BD126),\"\")","v":""},null,null,{"$f":"IF(Input_Output!BF126=\"\",T(Input_Output!BG126),\"\")","v":""},null,null,{"$f":"IF(Input_Output!BI126=\"\",T(Input_Output!BJ126),\"\")","v":""},null,null,{"$f":"IF(Input_Output!BL126=\"\",T(Input_Output!BM126),\"\")","v":""},null,null,{"$f":"IF(Input_Output!BO126=\"\",T(Input_Output!BP126),\"\")","v":""},null,null,{"$f":"IF(Input_Output!BR126=\"\",T(Input_Output!BS126),\"\")","v":""},null,null,{"$f":"IF(Input_Output!BU126=\"\",T(Input_Output!BV126),\"\")","v":""},null,null,{"$f":"IF(Input_Output!BX126=\"\",T(Input_Output!BY126),\"\")","v":""},null,null,{"$f":"IF(Input_Output!CA126=\"\",T(Input_Output!CB126),\"\")","v":""},null,null,{"$f":"IF(Input_Output!CD126=\"\",T(Input_Output!CE126),\"\")","v":""},null,null,{"$f":"IF(Input_Output!CG126=\"\",T(Input_Output!CH126),\"\")","v":""},null,null,{"$f":"IF(Input_Output!CJ126=\"\",T(Input_Output!CK126),\"\")","v":""},null,null,{"$f":"IF(Input_Output!CM126=\"\",T(Input_Output!CN126),\"\")","v":""},null,null,{"$f":"IF(Input_Output!CP126=\"\",T(Input_Output!CQ126),\"\")","v":""},null,null,{"$f":"IF(Input_Output!CS126=\"\",T(Input_Output!CT126),\"\")","v":""},null,null,{"$f":"IF(Input_Output!CV126=\"\",T(Input_Output!CW126),\"\")","v":""},null,null,{"$f":"IF(Input_Output!CY126=\"\",T(Input_Output!CZ126),\"\")","v":""},null,null,{"$f":"IF(Input_Output!DB126=\"\",T(Input_Output!DC126),\"\")","v":""},null,null,{"$f":"IF(Input_Output!DE126=\"\",T(Input_Output!DF126),\"\")","v":""},null,null,{"$f":"IF(Input_Output!DH126=\"\",T(Input_Output!DI126),\"\")","v":""},null,null,{"$f":"IF(Input_Output!DK126=\"\",T(Input_Output!DL126),\"\")","v":""},null,null,{"$f":"IF(Input_Output!DN126=\"\",T(Input_Output!DO126),\"\")","v":""},null,null,{"$f":"IF(Input_Output!DQ126=\"\",T(Input_Output!DR126),\"\")","v":""},null,null,{"$f":"IF(Input_Output!DT126=\"\",T(Input_Output!DU126),\"\")","v":""},null,null,{"$f":"IF(Input_Output!DW126=\"\",T(Input_Output!DX126),\"\")","v":""},null,null,{"$f":"IF(Input_Output!DZ126=\"\",T(Input_Output!EA126),\"\")","v":""},null,null,{"$f":"IF(Input_Output!EC126=\"\",T(Input_Output!ED126),\"\")","v":""},null,null,{"$f":"IF(Input_Output!EF126=\"\",T(Input_Output!EG126),\"\")","v":""},null,null,{"$f":"IF(Input_Output!EI126=\"\",T(Input_Output!EJ126),\"\")","v":""},null,null,{"$f":"IF(Input_Output!EL126=\"\",T(Input_Output!EM126),\"\")","v":""},null,null,{"$f":"IF(Input_Output!EO126=\"\",T(Input_Output!EP126),\"\")","v":""},null,null,{"$f":"IF(Input_Output!ER126=\"\",T(Input_Output!ES126),\"\")","v":""},null,null,{"$f":"IF(Input_Output!EU126=\"\",T(Input_Output!EV126),\"\")","v":""},null,null,{"$f":"IF(Input_Output!EX126=\"\",T(Input_Output!EY126),\"\")","v":""},null,null,{"$f":"IF(Input_Output!FA126=\"\",T(Input_Output!FB126),\"\")","v":""},null,null,{"$f":"IF(Input_Output!FD126=\"\",T(Input_Output!FE126),\"\")","v":""},null,null,{"$f":"IF(Input_Output!FG126=\"\",T(Input_Output!FH126),\"\")","v":""},null,null,{"$f":"IF(Input_Output!FJ126=\"\",T(Input_Output!FK126),\"\")","v":""},null,null,{"$f":"IF(Input_Output!FM126=\"\",T(Input_Output!FN126),\"\")","v":""},null,null,{"$f":"IF(Input_Output!FP126=\"\",T(Input_Output!FQ126),\"\")","v":""},null,null,{"$f":"IF(Input_Output!FS126=\"\",T(Input_Output!FT126),\"\")","v":""},null,null,{"$f":"IF(Input_Output!FV126=\"\",T(Input_Output!FW126),\"\")","v":""},null,null,{"$f":"IF(Input_Output!FY126=\"\",T(Input_Output!FZ126),\"\")","v":""},null,null,{"$f":"IF(Input_Output!GB126=\"\",T(Input_Output!GC126),\"\")","v":""},null,null,{"$f":"IF(Input_Output!GE126=\"\",T(Input_Output!GF126),\"\")","v":""},null,null,{"$f":"IF(Input_Output!GH126=\"\",T(Input_Output!GI126),\"\")","v":""},null,null,{"$f":"IF(Input_Output!GK126=\"\",T(Input_Output!GL126),\"\")","v":""},null,null,{"$f":"IF(Input_Output!GN126=\"\",T(Input_Output!GO126),\"\")","v":""},null,null,{"$f":"IF(Input_Output!GQ126=\"\",T(Input_Output!GR126),\"\")","v":""},null,null,{"$f":"IF(Input_Output!GT126=\"\",T(Input_Output!GU126),\"\")","v":""},null,null,{"$f":"IF(Input_Output!GW126=\"\",T(Input_Output!GX126),\"\")","v":""},null,null,{"$f":"IF(Input_Output!GZ126=\"\",T(Input_Output!HA126),\"\")","v":""},null,null,{"$f":"IF(Input_Output!HC126=\"\",T(Input_Output!HD126),\"\")","v":""},null,null,{"$f":"IF(Input_Output!HF126=\"\",T(Input_Output!HG126),\"\")","v":""},null,null,{"$f":"IF(Input_Output!HI126=\"\",T(Input_Output!HJ126),\"\")","v":""},null,null,{"$f":"IF(Input_Output!HL126=\"\",T(Input_Output!HM126),\"\")","v":""},null,null,{"$f":"IF(Input_Output!HO126=\"\",T(Input_Output!HP126),\"\")","v":""},null,null,{"$f":"IF(Input_Output!HR126=\"\",T(Input_Output!HS126),\"\")","v":""},null,null,{"$f":"IF(Input_Output!HU126=\"\",T(Input_Output!HV126),\"\")","v":""},null,null,{"$f":"IF(Input_Output!HX126=\"\",T(Input_Output!HY126),\"\")","v":""},null,null,{"$f":"IF(Input_Output!IA126=\"\",T(Input_Output!IB126),\"\")","v":""},null,null,{"$f":"IF(Input_Output!ID126=\"\",T(Input_Output!IE126),\"\")","v":""},null,null,{"$f":"IF(Input_Output!IG126=\"\",T(Input_Output!IH126),\"\")","v":""},null,null,{"$f":"IF(Input_Output!IJ126=\"\",T(Input_Output!IK126),\"\")","v":""},null,null,{"$f":"IF(Input_Output!IM126=\"\",T(Input_Output!IN126),\"\")","v":""},null,null,{"$f":"IF(Input_Output!IP126=\"\",T(Input_Output!IQ126),\"\")","v":""},null,null,{"$f":"IF(Input_Output!IS126=\"\",T(Input_Output!IT126),\"\")","v":""}]
[null,null,null,null,{"$f":"IF(Input_Output!D127=\"\",T(Input_Output!E127),\"\")","v":""},null,null,{"$f":"IF(Input_Output!G127=\"\",T(Input_Output!H127),\"\")","v":""},null,null,{"$f":"IF(Input_Output!J127=\"\",T(Input_Output!K127),\"\")","v":""},null,null,{"$f":"IF(Input_Output!M127=\"\",T(Input_Output!N127),\"\")","v":""},null,null,{"$f":"IF(Input_Output!P127=\"\",T(Input_Output!Q127),\"\")","v":""},null,null,{"$f":"IF(Input_Output!S127=\"\",T(Input_Output!T127),\"\")","v":""},null,null,{"$f":"IF(Input_Output!V127=\"\",T(Input_Output!W127),\"\")","v":""},null,null,{"$f":"IF(Input_Output!Y127=\"\",T(Input_Output!Z127),\"\")","v":""},null,null,{"$f":"IF(Input_Output!AB127=\"\",T(Input_Output!AC127),\"\")","v":""},null,null,{"$f":"IF(Input_Output!AE127=\"\",T(Input_Output!AF127),\"\")","v":""},null,null,{"$f":"IF(Input_Output!AH127=\"\",T(Input_Output!AI127),\"\")","v":""},null,null,{"$f":"IF(Input_Output!AK127=\"\",T(Input_Output!AL127),\"\")","v":""},null,null,{"$f":"IF(Input_Output!AN127=\"\",T(Input_Output!AO127),\"\")","v":""},null,null,{"$f":"IF(Input_Output!AQ127=\"\",T(Input_Output!AR127),\"\")","v":""},null,null,{"$f":"IF(Input_Output!AT127=\"\",T(Input_Output!AU127),\"\")","v":""},null,null,{"$f":"IF(Input_Output!AW127=\"\",T(Input_Output!AX127),\"\")","v":""},null,null,{"$f":"IF(Input_Output!AZ127=\"\",T(Input_Output!BA127),\"\")","v":""},null,null,{"$f":"IF(Input_Output!BC127=\"\",T(Input_Output!BD127),\"\")","v":""},null,null,{"$f":"IF(Input_Output!BF127=\"\",T(Input_Output!BG127),\"\")","v":""},null,null,{"$f":"IF(Input_Output!BI127=\"\",T(Input_Output!BJ127),\"\")","v":""},null,null,{"$f":"IF(Input_Output!BL127=\"\",T(Input_Output!BM127),\"\")","v":""},null,null,{"$f":"IF(Input_Output!BO127=\"\",T(Input_Output!BP127),\"\")","v":""},null,null,{"$f":"IF(Input_Output!BR127=\"\",T(Input_Output!BS127),\"\")","v":""},null,null,{"$f":"IF(Input_Output!BU127=\"\",T(Input_Output!BV127),\"\")","v":""},null,null,{"$f":"IF(Input_Output!BX127=\"\",T(Input_Output!BY127),\"\")","v":""},null,null,{"$f":"IF(Input_Output!CA127=\"\",T(Input_Output!CB127),\"\")","v":""},null,null,{"$f":"IF(Input_Output!CD127=\"\",T(Input_Output!CE127),\"\")","v":""},null,null,{"$f":"IF(Input_Output!CG127=\"\",T(Input_Output!CH127),\"\")","v":""},null,null,{"$f":"IF(Input_Output!CJ127=\"\",T(Input_Output!CK127),\"\")","v":""},null,null,{"$f":"IF(Input_Output!CM127=\"\",T(Input_Output!CN127),\"\")","v":""},null,null,{"$f":"IF(Input_Output!CP127=\"\",T(Input_Output!CQ127),\"\")","v":""},null,null,{"$f":"IF(Input_Output!CS127=\"\",T(Input_Output!CT127),\"\")","v":""},null,null,{"$f":"IF(Input_Output!CV127=\"\",T(Input_Output!CW127),\"\")","v":""},null,null,{"$f":"IF(Input_Output!CY127=\"\",T(Input_Output!CZ127),\"\")","v":""},null,null,{"$f":"IF(Input_Output!DB127=\"\",T(Input_Output!DC127),\"\")","v":""},null,null,{"$f":"IF(Input_Output!DE127=\"\",T(Input_Output!DF127),\"\")","v":""},null,null,{"$f":"IF(Input_Output!DH127=\"\",T(Input_Output!DI127),\"\")","v":""},null,null,{"$f":"IF(Input_Output!DK127=\"\",T(Input_Output!DL127),\"\")","v":""},null,null,{"$f":"IF(Input_Output!DN127=\"\",T(Input_Output!DO127),\"\")","v":""},null,null,{"$f":"IF(Input_Output!DQ127=\"\",T(Input_Output!DR127),\"\")","v":""},null,null,{"$f":"IF(Input_Output!DT127=\"\",T(Input_Output!DU127),\"\")","v":""},null,null,{"$f":"IF(Input_Output!DW127=\"\",T(Input_Output!DX127),\"\")","v":""},null,null,{"$f":"IF(Input_Output!DZ127=\"\",T(Input_Output!EA127),\"\")","v":""},null,null,{"$f":"IF(Input_Output!EC127=\"\",T(Input_Output!ED127),\"\")","v":""},null,null,{"$f":"IF(Input_Output!EF127=\"\",T(Input_Output!EG127),\"\")","v":""},null,null,{"$f":"IF(Input_Output!EI127=\"\",T(Input_Output!EJ127),\"\")","v":""},null,null,{"$f":"IF(Input_Output!EL127=\"\",T(Input_Output!EM127),\"\")","v":""},null,null,{"$f":"IF(Input_Output!EO127=\"\",T(Input_Output!EP127),\"\")","v":""},null,null,{"$f":"IF(Input_Output!ER127=\"\",T(Input_Output!ES127),\"\")","v":""},null,null,{"$f":"IF(Input_Output!EU127=\"\",T(Input_Output!EV127),\"\")","v":""},null,null,{"$f":"IF(Input_Output!EX127=\"\",T(Input_Output!EY127),\"\")","v":""},null,null,{"$f":"IF(Input_Output!FA127=\"\",T(Input_Output!FB127),\"\")","v":""},null,null,{"$f":"IF(Input_Output!FD127=\"\",T(Input_Output!FE127),\"\")","v":""},null,null,{"$f":"IF(Input_Output!FG127=\"\",T(Input_Output!FH127),\"\")","v":""},null,null,{"$f":"IF(Input_Output!FJ127=\"\",T(Input_Output!FK127),\"\")","v":""},null,null,{"$f":"IF(Input_Output!FM127=\"\",T(Input_Output!FN127),\"\")","v":""},null,null,{"$f":"IF(Input_Output!FP127=\"\",T(Input_Output!FQ127),\"\")","v":""},null,null,{"$f":"IF(Input_Output!FS127=\"\",T(Input_Output!FT127),\"\")","v":""},null,null,{"$f":"IF(Input_Output!FV127=\"\",T(Input_Output!FW127),\"\")","v":""},null,null,{"$f":"IF(Input_Output!FY127=\"\",T(Input_Output!FZ127),\"\")","v":""},null,null,{"$f":"IF(Input_Output!GB127=\"\",T(Input_Output!GC127),\"\")","v":""},null,null,{"$f":"IF(Input_Output!GE127=\"\",T(Input_Output!GF127),\"\")","v":""},null,null,{"$f":"IF(Input_Output!GH127=\"\",T(Input_Output!GI127),\"\")","v":""},null,null,{"$f":"IF(Input_Output!GK127=\"\",T(Input_Output!GL127),\"\")","v":""},null,null,{"$f":"IF(Input_Output!GN127=\"\",T(Input_Output!GO127),\"\")","v":""},null,null,{"$f":"IF(Input_Output!GQ127=\"\",T(Input_Output!GR127),\"\")","v":""},null,null,{"$f":"IF(Input_Output!GT127=\"\",T(Input_Output!GU127),\"\")","v":""},null,null,{"$f":"IF(Input_Output!GW127=\"\",T(Input_Output!GX127),\"\")","v":""},null,null,{"$f":"IF(Input_Output!GZ127=\"\",T(Input_Output!HA127),\"\")","v":""},null,null,{"$f":"IF(Input_Output!HC127=\"\",T(Input_Output!HD127),\"\")","v":""},null,null,{"$f":"IF(Input_Output!HF127=\"\",T(Input_Output!HG127),\"\")","v":""},null,null,{"$f":"IF(Input_Output!HI127=\"\",T(Input_Output!HJ127),\"\")","v":""},null,null,{"$f":"IF(Input_Output!HL127=\"\",T(Input_Output!HM127),\"\")","v":""},null,null,{"$f":"IF(Input_Output!HO127=\"\",T(Input_Output!HP127),\"\")","v":""},null,null,{"$f":"IF(Input_Output!HR127=\"\",T(Input_Output!HS127),\"\")","v":""},null,null,{"$f":"IF(Input_Output!HU127=\"\",T(Input_Output!HV127),\"\")","v":""},null,null,{"$f":"IF(Input_Output!HX127=\"\",T(Input_Output!HY127),\"\")","v":""},null,null,{"$f":"IF(Input_Output!IA127=\"\",T(Input_Output!IB127),\"\")","v":""},null,null,{"$f":"IF(Input_Output!ID127=\"\",T(Input_Output!IE127),\"\")","v":""},null,null,{"$f":"IF(Input_Output!IG127=\"\",T(Input_Output!IH127),\"\")","v":""},null,null,{"$f":"IF(Input_Output!IJ127=\"\",T(Input_Output!IK127),\"\")","v":""},null,null,{"$f":"IF(Input_Output!IM127=\"\",T(Input_Output!IN127),\"\")","v":""},null,null,{"$f":"IF(Input_Output!IP127=\"\",T(Input_Output!IQ127),\"\")","v":""},null,null,{"$f":"IF(Input_Output!IS127=\"\",T(Input_Output!IT127),\"\")","v":""}]
[null,null,null,null,{"$f":"IF(Input_Output!D128=\"\",T(Input_Output!E128),\"\")","v":""},null,null,{"$f":"IF(Input_Output!G128=\"\",T(Input_Output!H128),\"\")","v":""},null,null,{"$f":"IF(Input_Output!J128=\"\",T(Input_Output!K128),\"\")","v":""},null,null,{"$f":"IF(Input_Output!M128=\"\",T(Input_Output!N128),\"\")","v":""},null,null,{"$f":"IF(Input_Output!P128=\"\",T(Input_Output!Q128),\"\")","v":""},null,null,{"$f":"IF(Input_Output!S128=\"\",T(Input_Output!T128),\"\")","v":""},null,null,{"$f":"IF(Input_Output!V128=\"\",T(Input_Output!W128),\"\")","v":""},null,null,{"$f":"IF(Input_Output!Y128=\"\",T(Input_Output!Z128),\"\")","v":""},null,null,{"$f":"IF(Input_Output!AB128=\"\",T(Input_Output!AC128),\"\")","v":""},null,null,{"$f":"IF(Input_Output!AE128=\"\",T(Input_Output!AF128),\"\")","v":""},null,null,{"$f":"IF(Input_Output!AH128=\"\",T(Input_Output!AI128),\"\")","v":""},null,null,{"$f":"IF(Input_Output!AK128=\"\",T(Input_Output!AL128),\"\")","v":""},null,null,{"$f":"IF(Input_Output!AN128=\"\",T(Input_Output!AO128),\"\")","v":""},null,null,{"$f":"IF(Input_Output!AQ128=\"\",T(Input_Output!AR128),\"\")","v":""},null,null,{"$f":"IF(Input_Output!AT128=\"\",T(Input_Output!AU128),\"\")","v":""},null,null,{"$f":"IF(Input_Output!AW128=\"\",T(Input_Output!AX128),\"\")","v":""},null,null,{"$f":"IF(Input_Output!AZ128=\"\",T(Input_Output!BA128),\"\")","v":""},null,null,{"$f":"IF(Input_Output!BC128=\"\",T(Input_Output!BD128),\"\")","v":""},null,null,{"$f":"IF(Input_Output!BF128=\"\",T(Input_Output!BG128),\"\")","v":""},null,null,{"$f":"IF(Input_Output!BI128=\"\",T(Input_Output!BJ128),\"\")","v":""},null,null,{"$f":"IF(Input_Output!BL128=\"\",T(Input_Output!BM128),\"\")","v":""},null,null,{"$f":"IF(Input_Output!BO128=\"\",T(Input_Output!BP128),\"\")","v":""},null,null,{"$f":"IF(Input_Output!BR128=\"\",T(Input_Output!BS128),\"\")","v":""},null,null,{"$f":"IF(Input_Output!BU128=\"\",T(Input_Output!BV128),\"\")","v":""},null,null,{"$f":"IF(Input_Output!BX128=\"\",T(Input_Output!BY128),\"\")","v":""},null,null,{"$f":"IF(Input_Output!CA128=\"\",T(Input_Output!CB128),\"\")","v":""},null,null,{"$f":"IF(Input_Output!CD128=\"\",T(Input_Output!CE128),\"\")","v":""},null,null,{"$f":"IF(Input_Output!CG128=\"\",T(Input_Output!CH128),\"\")","v":""},null,null,{"$f":"IF(Input_Output!CJ128=\"\",T(Input_Output!CK128),\"\")","v":""},null,null,{"$f":"IF(Input_Output!CM128=\"\",T(Input_Output!CN128),\"\")","v":""},null,null,{"$f":"IF(Input_Output!CP128=\"\",T(Input_Output!CQ128),\"\")","v":""},null,null,{"$f":"IF(Input_Output!CS128=\"\",T(Input_Output!CT128),\"\")","v":""},null,null,{"$f":"IF(Input_Output!CV128=\"\",T(Input_Output!CW128),\"\")","v":""},null,null,{"$f":"IF(Input_Output!CY128=\"\",T(Input_Output!CZ128),\"\")","v":""},null,null,{"$f":"IF(Input_Output!DB128=\"\",T(Input_Output!DC128),\"\")","v":""},null,null,{"$f":"IF(Input_Output!DE128=\"\",T(Input_Output!DF128),\"\")","v":""},null,null,{"$f":"IF(Input_Output!DH128=\"\",T(Input_Output!DI128),\"\")","v":""},null,null,{"$f":"IF(Input_Output!DK128=\"\",T(Input_Output!DL128),\"\")","v":""},null,null,{"$f":"IF(Input_Output!DN128=\"\",T(Input_Output!DO128),\"\")","v":""},null,null,{"$f":"IF(Input_Output!DQ128=\"\",T(Input_Output!DR128),\"\")","v":""},null,null,{"$f":"IF(Input_Output!DT128=\"\",T(Input_Output!DU128),\"\")","v":""},null,null,{"$f":"IF(Input_Output!DW128=\"\",T(Input_Output!DX128),\"\")","v":""},null,null,{"$f":"IF(Input_Output!DZ128=\"\",T(Input_Output!EA128),\"\")","v":""},null,null,{"$f":"IF(Input_Output!EC128=\"\",T(Input_Output!ED128),\"\")","v":""},null,null,{"$f":"IF(Input_Output!EF128=\"\",T(Input_Output!EG128),\"\")","v":""},null,null,{"$f":"IF(Input_Output!EI128=\"\",T(Input_Output!EJ128),\"\")","v":""},null,null,{"$f":"IF(Input_Output!EL128=\"\",T(Input_Output!EM128),\"\")","v":""},null,null,{"$f":"IF(Input_Output!EO128=\"\",T(Input_Output!EP128),\"\")","v":""},null,null,{"$f":"IF(Input_Output!ER128=\"\",T(Input_Output!ES128),\"\")","v":""},null,null,{"$f":"IF(Input_Output!EU128=\"\",T(Input_Output!EV128),\"\")","v":""},null,null,{"$f":"IF(Input_Output!EX128=\"\",T(Input_Output!EY128),\"\")","v":""},null,null,{"$f":"IF(Input_Output!FA128=\"\",T(Input_Output!FB128),\"\")","v":""},null,null,{"$f":"IF(Input_Output!FD128=\"\",T(Input_Output!FE128),\"\")","v":""},null,null,{"$f":"IF(Input_Output!FG128=\"\",T(Input_Output!FH128),\"\")","v":""},null,null,{"$f":"IF(Input_Output!FJ128=\"\",T(Input_Output!FK128),\"\")","v":""},null,null,{"$f":"IF(Input_Output!FM128=\"\",T(Input_Output!FN128),\"\")","v":""},null,null,{"$f":"IF(Input_Output!FP128=\"\",T(Input_Output!FQ128),\"\")","v":""},null,null,{"$f":"IF(Input_Output!FS128=\"\",T(Input_Output!FT128),\"\")","v":""},null,null,{"$f":"IF(Input_Output!FV128=\"\",T(Input_Output!FW128),\"\")","v":""},null,null,{"$f":"IF(Input_Output!FY128=\"\",T(Input_Output!FZ128),\"\")","v":""},null,null,{"$f":"IF(Input_Output!GB128=\"\",T(Input_Output!GC128),\"\")","v":""},null,null,{"$f":"IF(Input_Output!GE128=\"\",T(Input_Output!GF128),\"\")","v":""},null,null,{"$f":"IF(Input_Output!GH128=\"\",T(Input_Output!GI128),\"\")","v":""},null,null,{"$f":"IF(Input_Output!GK128=\"\",T(Input_Output!GL128),\"\")","v":""},null,null,{"$f":"IF(Input_Output!GN128=\"\",T(Input_Output!GO128),\"\")","v":""},null,null,{"$f":"IF(Input_Output!GQ128=\"\",T(Input_Output!GR128),\"\")","v":""},null,null,{"$f":"IF(Input_Output!GT128=\"\",T(Input_Output!GU128),\"\")","v":""},null,null,{"$f":"IF(Input_Output!GW128=\"\",T(Input_Output!GX128),\"\")","v":""},null,null,{"$f":"IF(Input_Output!GZ128=\"\",T(Input_Output!HA128),\"\")","v":""},null,null,{"$f":"IF(Input_Output!HC128=\"\",T(Input_Output!HD128),\"\")","v":""},null,null,{"$f":"IF(Input_Output!HF128=\"\",T(Input_Output!HG128),\"\")","v":""},null,null,{"$f":"IF(Input_Output!HI128=\"\",T(Input_Output!HJ128),\"\")","v":""},null,null,{"$f":"IF(Input_Output!HL128=\"\",T(Input_Output!HM128),\"\")","v":""},null,null,{"$f":"IF(Input_Output!HO128=\"\",T(Input_Output!HP128),\"\")","v":""},null,null,{"$f":"IF(Input_Output!HR128=\"\",T(Input_Output!HS128),\"\")","v":""},null,null,{"$f":"IF(Input_Output!HU128=\"\",T(Input_Output!HV128),\"\")","v":""},null,null,{"$f":"IF(Input_Output!HX128=\"\",T(Input_Output!HY128),\"\")","v":""},null,null,{"$f":"IF(Input_Output!IA128=\"\",T(Input_Output!IB128),\"\")","v":""},null,null,{"$f":"IF(Input_Output!ID128=\"\",T(Input_Output!IE128),\"\")","v":""},null,null,{"$f":"IF(Input_Output!IG128=\"\",T(Input_Output!IH128),\"\")","v":""},null,null,{"$f":"IF(Input_Output!IJ128=\"\",T(Input_Output!IK128),\"\")","v":""},null,null,{"$f":"IF(Input_Output!IM128=\"\",T(Input_Output!IN128),\"\")","v":""},null,null,{"$f":"IF(Input_Output!IP128=\"\",T(Input_Output!IQ128),\"\")","v":""},null,null,{"$f":"IF(Input_Output!IS128=\"\",T(Input_Output!IT128),\"\")","v":""}]
[null,null,null,null,{"$f":"IF(Input_Output!D129=\"\",T(Input_Output!E129),\"\")","v":""},null,null,{"$f":"IF(Input_Output!G129=\"\",T(Input_Output!H129),\"\")","v":""},null,null,{"$f":"IF(Input_Output!J129=\"\",T(Input_Output!K129),\"\")","v":""},null,null,{"$f":"IF(Input_Output!M129=\"\",T(Input_Output!N129),\"\")","v":""},null,null,{"$f":"IF(Input_Output!P129=\"\",T(Input_Output!Q129),\"\")","v":""},null,null,{"$f":"IF(Input_Output!S129=\"\",T(Input_Output!T129),\"\")","v":""},null,null,{"$f":"IF(Input_Output!V129=\"\",T(Input_Output!W129),\"\")","v":""},null,null,{"$f":"IF(Input_Output!Y129=\"\",T(Input_Output!Z129),\"\")","v":""},null,null,{"$f":"IF(Input_Output!AB129=\"\",T(Input_Output!AC129),\"\")","v":""},null,null,{"$f":"IF(Input_Output!AE129=\"\",T(Input_Output!AF129),\"\")","v":""},null,null,{"$f":"IF(Input_Output!AH129=\"\",T(Input_Output!AI129),\"\")","v":""},null,null,{"$f":"IF(Input_Output!AK129=\"\",T(Input_Output!AL129),\"\")","v":""},null,null,{"$f":"IF(Input_Output!AN129=\"\",T(Input_Output!AO129),\"\")","v":""},null,null,{"$f":"IF(Input_Output!AQ129=\"\",T(Input_Output!AR129),\"\")","v":""},null,null,{"$f":"IF(Input_Output!AT129=\"\",T(Input_Output!AU129),\"\")","v":""},null,null,{"$f":"IF(Input_Output!AW129=\"\",T(Input_Output!AX129),\"\")","v":""},null,null,{"$f":"IF(Input_Output!AZ129=\"\",T(Input_Output!BA129),\"\")","v":""},null,null,{"$f":"IF(Input_Output!BC129=\"\",T(Input_Output!BD129),\"\")","v":""},null,null,{"$f":"IF(Input_Output!BF129=\"\",T(Input_Output!BG129),\"\")","v":""},null,null,{"$f":"IF(Input_Output!BI129=\"\",T(Input_Output!BJ129),\"\")","v":""},null,null,{"$f":"IF(Input_Output!BL129=\"\",T(Input_Output!BM129),\"\")","v":""},null,null,{"$f":"IF(Input_Output!BO129=\"\",T(Input_Output!BP129),\"\")","v":""},null,null,{"$f":"IF(Input_Output!BR129=\"\",T(Input_Output!BS129),\"\")","v":""},null,null,{"$f":"IF(Input_Output!BU129=\"\",T(Input_Output!BV129),\"\")","v":""},null,null,{"$f":"IF(Input_Output!BX129=\"\",T(Input_Output!BY129),\"\")","v":""},null,null,{"$f":"IF(Input_Output!CA129=\"\",T(Input_Output!CB129),\"\")","v":""},null,null,{"$f":"IF(Input_Output!CD129=\"\",T(Input_Output!CE129),\"\")","v":""},null,null,{"$f":"IF(Input_Output!CG129=\"\",T(Input_Output!CH129),\"\")","v":""},null,null,{"$f":"IF(Input_Output!CJ129=\"\",T(Input_Output!CK129),\"\")","v":""},null,null,{"$f":"IF(Input_Output!CM129=\"\",T(Input_Output!CN129),\"\")","v":""},null,null,{"$f":"IF(Input_Output!CP129=\"\",T(Input_Output!CQ129),\"\")","v":""},null,null,{"$f":"IF(Input_Output!CS129=\"\",T(Input_Output!CT129),\"\")","v":""},null,null,{"$f":"IF(Input_Output!CV129=\"\",T(Input_Output!CW129),\"\")","v":""},null,null,{"$f":"IF(Input_Output!CY129=\"\",T(Input_Output!CZ129),\"\")","v":""},null,null,{"$f":"IF(Input_Output!DB129=\"\",T(Input_Output!DC129),\"\")","v":""},null,null,{"$f":"IF(Input_Output!DE129=\"\",T(Input_Output!DF129),\"\")","v":""},null,null,{"$f":"IF(Input_Output!DH129=\"\",T(Input_Output!DI129),\"\")","v":""},null,null,{"$f":"IF(Input_Output!DK129=\"\",T(Input_Output!DL129),\"\")","v":""},null,null,{"$f":"IF(Input_Output!DN129=\"\",T(Input_Output!DO129),\"\")","v":""},null,null,{"$f":"IF(Input_Output!DQ129=\"\",T(Input_Output!DR129),\"\")","v":""},null,null,{"$f":"IF(Input_Output!DT129=\"\",T(Input_Output!DU129),\"\")","v":""},null,null,{"$f":"IF(Input_Output!DW129=\"\",T(Input_Output!DX129),\"\")","v":""},null,null,{"$f":"IF(Input_Output!DZ129=\"\",T(Input_Output!EA129),\"\")","v":""},null,null,{"$f":"IF(Input_Output!EC129=\"\",T(Input_Output!ED129),\"\")","v":""},null,null,{"$f":"IF(Input_Output!EF129=\"\",T(Input_Output!EG129),\"\")","v":""},null,null,{"$f":"IF(Input_Output!EI129=\"\",T(Input_Output!EJ129),\"\")","v":""},null,null,{"$f":"IF(Input_Output!EL129=\"\",T(Input_Output!EM129),\"\")","v":""},null,null,{"$f":"IF(Input_Output!EO129=\"\",T(Input_Output!EP129),\"\")","v":""},null,null,{"$f":"IF(Input_Output!ER129=\"\",T(Input_Output!ES129),\"\")","v":""},null,null,{"$f":"IF(Input_Output!EU129=\"\",T(Input_Output!EV129),\"\")","v":""},null,null,{"$f":"IF(Input_Output!EX129=\"\",T(Input_Output!EY129),\"\")","v":""},null,null,{"$f":"IF(Input_Output!FA129=\"\",T(Input_Output!FB129),\"\")","v":""},null,null,{"$f":"IF(Input_Output!FD129=\"\",T(Input_Output!FE129),\"\")","v":""},null,null,{"$f":"IF(Input_Output!FG129=\"\",T(Input_Output!FH129),\"\")","v":""},null,null,{"$f":"IF(Input_Output!FJ129=\"\",T(Input_Output!FK129),\"\")","v":""},null,null,{"$f":"IF(Input_Output!FM129=\"\",T(Input_Output!FN129),\"\")","v":""},null,null,{"$f":"IF(Input_Output!FP129=\"\",T(Input_Output!FQ129),\"\")","v":""},null,null,{"$f":"IF(Input_Output!FS129=\"\",T(Input_Output!FT129),\"\")","v":""},null,null,{"$f":"IF(Input_Output!FV129=\"\",T(Input_Output!FW129),\"\")","v":""},null,null,{"$f":"IF(Input_Output!FY129=\"\",T(Input_Output!FZ129),\"\")","v":""},null,null,{"$f":"IF(Input_Output!GB129=\"\",T(Input_Output!GC129),\"\")","v":""},null,null,{"$f":"IF(Input_Output!GE129=\"\",T(Input_Output!GF129),\"\")","v":""},null,null,{"$f":"IF(Input_Output!GH129=\"\",T(Input_Output!GI129),\"\")","v":""},null,null,{"$f":"IF(Input_Output!GK129=\"\",T(Input_Output!GL129),\"\")","v":""},null,null,{"$f":"IF(Input_Output!GN129=\"\",T(Input_Output!GO129),\"\")","v":""},null,null,{"$f":"IF(Input_Output!GQ129=\"\",T(Input_Output!GR129),\"\")","v":""},null,null,{"$f":"IF(Input_Output!GT129=\"\",T(Input_Output!GU129),\"\")","v":""},null,null,{"$f":"IF(Input_Output!GW129=\"\",T(Input_Output!GX129),\"\")","v":""},null,null,{"$f":"IF(Input_Output!GZ129=\"\",T(Input_Output!HA129),\"\")","v":""},null,null,{"$f":"IF(Input_Output!HC129=\"\",T(Input_Output!HD129),\"\")","v":""},null,null,{"$f":"IF(Input_Output!HF129=\"\",T(Input_Output!HG129),\"\")","v":""},null,null,{"$f":"IF(Input_Output!HI129=\"\",T(Input_Output!HJ129),\"\")","v":""},null,null,{"$f":"IF(Input_Output!HL129=\"\",T(Input_Output!HM129),\"\")","v":""},null,null,{"$f":"IF(Input_Output!HO129=\"\",T(Input_Output!HP129),\"\")","v":""},null,null,{"$f":"IF(Input_Output!HR129=\"\",T(Input_Output!HS129),\"\")","v":""},null,null,{"$f":"IF(Input_Output!HU129=\"\",T(Input_Output!HV129),\"\")","v":""},null,null,{"$f":"IF(Input_Output!HX129=\"\",T(Input_Output!HY129),\"\")","v":""},null,null,{"$f":"IF(Input_Output!IA129=\"\",T(Input_Output!IB129),\"\")","v":""},null,null,{"$f":"IF(Input_Output!ID129=\"\",T(Input_Output!IE129),\"\")","v":""},null,null,{"$f":"IF(Input_Output!IG129=\"\",T(Input_Output!IH129),\"\")","v":""},null,null,{"$f":"IF(Input_Output!IJ129=\"\",T(Input_Output!IK129),\"\")","v":""},null,null,{"$f":"IF(Input_Output!IM129=\"\",T(Input_Output!IN129),\"\")","v":""},null,null,{"$f":"IF(Input_Output!IP129=\"\",T(Input_Output!IQ129),\"\")","v":""},null,null,{"$f":"IF(Input_Output!IS129=\"\",T(Input_Output!IT129),\"\")","v":""}]
[null,null,null,null,{"$f":"IF(Input_Output!D130=\"\",T(Input_Output!E130),\"\")","v":""},null,null,{"$f":"IF(Input_Output!G130=\"\",T(Input_Output!H130),\"\")","v":""},null,null,{"$f":"IF(Input_Output!J130=\"\",T(Input_Output!K130),\"\")","v":""},null,null,{"$f":"IF(Input_Output!M130=\"\",T(Input_Output!N130),\"\")","v":""},null,null,{"$f":"IF(Input_Output!P130=\"\",T(Input_Output!Q130),\"\")","v":""},null,null,{"$f":"IF(Input_Output!S130=\"\",T(Input_Output!T130),\"\")","v":""},null,null,{"$f":"IF(Input_Output!V130=\"\",T(Input_Output!W130),\"\")","v":""},null,null,{"$f":"IF(Input_Output!Y130=\"\",T(Input_Output!Z130),\"\")","v":""},null,null,{"$f":"IF(Input_Output!AB130=\"\",T(Input_Output!AC130),\"\")","v":""},null,null,{"$f":"IF(Input_Output!AE130=\"\",T(Input_Output!AF130),\"\")","v":""},null,null,{"$f":"IF(Input_Output!AH130=\"\",T(Input_Output!AI130),\"\")","v":""},null,null,{"$f":"IF(Input_Output!AK130=\"\",T(Input_Output!AL130),\"\")","v":""},null,null,{"$f":"IF(Input_Output!AN130=\"\",T(Input_Output!AO130),\"\")","v":""},null,null,{"$f":"IF(Input_Output!AQ130=\"\",T(Input_Output!AR130),\"\")","v":""},null,null,{"$f":"IF(Input_Output!AT130=\"\",T(Input_Output!AU130),\"\")","v":""},null,null,{"$f":"IF(Input_Output!AW130=\"\",T(Input_Output!AX130),\"\")","v":""},null,null,{"$f":"IF(Input_Output!AZ130=\"\",T(Input_Output!BA130),\"\")","v":""},null,null,{"$f":"IF(Input_Output!BC130=\"\",T(Input_Output!BD130),\"\")","v":""},null,null,{"$f":"IF(Input_Output!BF130=\"\",T(Input_Output!BG130),\"\")","v":""},null,null,{"$f":"IF(Input_Output!BI130=\"\",T(Input_Output!BJ130),\"\")","v":""},null,null,{"$f":"IF(Input_Output!BL130=\"\",T(Input_Output!BM130),\"\")","v":""},null,null,{"$f":"IF(Input_Output!BO130=\"\",T(Input_Output!BP130),\"\")","v":""},null,null,{"$f":"IF(Input_Output!BR130=\"\",T(Input_Output!BS130),\"\")","v":""},null,null,{"$f":"IF(Input_Output!BU130=\"\",T(Input_Output!BV130),\"\")","v":""},null,null,{"$f":"IF(Input_Output!BX130=\"\",T(Input_Output!BY130),\"\")","v":""},null,null,{"$f":"IF(Input_Output!CA130=\"\",T(Input_Output!CB130),\"\")","v":""},null,null,{"$f":"IF(Input_Output!CD130=\"\",T(Input_Output!CE130),\"\")","v":""},null,null,{"$f":"IF(Input_Output!CG130=\"\",T(Input_Output!CH130),\"\")","v":""},null,null,{"$f":"IF(Input_Output!CJ130=\"\",T(Input_Output!CK130),\"\")","v":""},null,null,{"$f":"IF(Input_Output!CM130=\"\",T(Input_Output!CN130),\"\")","v":""},null,null,{"$f":"IF(Input_Output!CP130=\"\",T(Input_Output!CQ130),\"\")","v":""},null,null,{"$f":"IF(Input_Output!CS130=\"\",T(Input_Output!CT130),\"\")","v":""},null,null,{"$f":"IF(Input_Output!CV130=\"\",T(Input_Output!CW130),\"\")","v":""},null,null,{"$f":"IF(Input_Output!CY130=\"\",T(Input_Output!CZ130),\"\")","v":""},null,null,{"$f":"IF(Input_Output!DB130=\"\",T(Input_Output!DC130),\"\")","v":""},null,null,{"$f":"IF(Input_Output!DE130=\"\",T(Input_Output!DF130),\"\")","v":""},null,null,{"$f":"IF(Input_Output!DH130=\"\",T(Input_Output!DI130),\"\")","v":""},null,null,{"$f":"IF(Input_Output!DK130=\"\",T(Input_Output!DL130),\"\")","v":""},null,null,{"$f":"IF(Input_Output!DN130=\"\",T(Input_Output!DO130),\"\")","v":""},null,null,{"$f":"IF(Input_Output!DQ130=\"\",T(Input_Output!DR130),\"\")","v":""},null,null,{"$f":"IF(Input_Output!DT130=\"\",T(Input_Output!DU130),\"\")","v":""},null,null,{"$f":"IF(Input_Output!DW130=\"\",T(Input_Output!DX130),\"\")","v":""},null,null,{"$f":"IF(Input_Output!DZ130=\"\",T(Input_Output!EA130),\"\")","v":""},null,null,{"$f":"IF(Input_Output!EC130=\"\",T(Input_Output!ED130),\"\")","v":""},null,null,{"$f":"IF(Input_Output!EF130=\"\",T(Input_Output!EG130),\"\")","v":""},null,null,{"$f":"IF(Input_Output!EI130=\"\",T(Input_Output!EJ130),\"\")","v":""},null,null,{"$f":"IF(Input_Output!EL130=\"\",T(Input_Output!EM130),\"\")","v":""},null,null,{"$f":"IF(Input_Output!EO130=\"\",T(Input_Output!EP130),\"\")","v":""},null,null,{"$f":"IF(Input_Output!ER130=\"\",T(Input_Output!ES130),\"\")","v":""},null,null,{"$f":"IF(Input_Output!EU130=\"\",T(Input_Output!EV130),\"\")","v":""},null,null,{"$f":"IF(Input_Output!EX130=\"\",T(Input_Output!EY130),\"\")","v":""},null,null,{"$f":"IF(Input_Output!FA130=\"\",T(Input_Output!FB130),\"\")","v":""},null,null,{"$f":"IF(Input_Output!FD130=\"\",T(Input_Output!FE130),\"\")","v":""},null,null,{"$f":"IF(Input_Output!FG130=\"\",T(Input_Output!FH130),\"\")","v":""},null,null,{"$f":"IF(Input_Output!FJ130=\"\",T(Input_Output!FK130),\"\")","v":""},null,null,{"$f":"IF(Input_Output!FM130=\"\",T(Input_Output!FN130),\"\")","v":""},null,null,{"$f":"IF(Input_Output!FP130=\"\",T(Input_Output!FQ130),\"\")","v":""},null,null,{"$f":"IF(Input_Output!FS130=\"\",T(Input_Output!FT130),\"\")","v":""},null,null,{"$f":"IF(Input_Output!FV130=\"\",T(Input_Output!FW130),\"\")","v":""},null,null,{"$f":"IF(Input_Output!FY130=\"\",T(Input_Output!FZ130),\"\")","v":""},null,null,{"$f":"IF(Input_Output!GB130=\"\",T(Input_Output!GC130),\"\")","v":""},null,null,{"$f":"IF(Input_Output!GE130=\"\",T(Input_Output!GF130),\"\")","v":""},null,null,{"$f":"IF(Input_Output!GH130=\"\",T(Input_Output!GI130),\"\")","v":""},null,null,{"$f":"IF(Input_Output!GK130=\"\",T(Input_Output!GL130),\"\")","v":""},null,null,{"$f":"IF(Input_Output!GN130=\"\",T(Input_Output!GO130),\"\")","v":""},null,null,{"$f":"IF(Input_Output!GQ130=\"\",T(Input_Output!GR130),\"\")","v":""},null,null,{"$f":"IF(Input_Output!GT130=\"\",T(Input_Output!GU130),\"\")","v":""},null,null,{"$f":"IF(Input_Output!GW130=\"\",T(Input_Output!GX130),\"\")","v":""},null,null,{"$f":"IF(Input_Output!GZ130=\"\",T(Input_Output!HA130),\"\")","v":""},null,null,{"$f":"IF(Input_Output!HC130=\"\",T(Input_Output!HD130),\"\")","v":""},null,null,{"$f":"IF(Input_Output!HF130=\"\",T(Input_Output!HG130),\"\")","v":""},null,null,{"$f":"IF(Input_Output!HI130=\"\",T(Input_Output!HJ130),\"\")","v":""},null,null,{"$f":"IF(Input_Output!HL130=\"\",T(Input_Output!HM130),\"\")","v":""},null,null,{"$f":"IF(Input_Output!HO130=\"\",T(Input_Output!HP130),\"\")","v":""},null,null,{"$f":"IF(Input_Output!HR130=\"\",T(Input_Output!HS130),\"\")","v":""},null,null,{"$f":"IF(Input_Output!HU130=\"\",T(Input_Output!HV130),\"\")","v":""},null,null,{"$f":"IF(Input_Output!HX130=\"\",T(Input_Output!HY130),\"\")","v":""},null,null,{"$f":"IF(Input_Output!IA130=\"\",T(Input_Output!IB130),\"\")","v":""},null,null,{"$f":"IF(Input_Output!ID130=\"\",T(Input_Output!IE130),\"\")","v":""},null,null,{"$f":"IF(Input_Output!IG130=\"\",T(Input_Output!IH130),\"\")","v":""},null,null,{"$f":"IF(Input_Output!IJ130=\"\",T(Input_Output!IK130),\"\")","v":""},null,null,{"$f":"IF(Input_Output!IM130=\"\",T(Input_Output!IN130),\"\")","v":""},null,null,{"$f":"IF(Input_Output!IP130=\"\",T(Input_Output!IQ130),\"\")","v":""},null,null,{"$f":"IF(Input_Output!IS130=\"\",T(Input_Output!IT130),\"\")","v":""}]
[null,null,null,null,{"$f":"IF(Input_Output!D131=\"\",T(Input_Output!E131),\"\")","v":""},null,null,{"$f":"IF(Input_Output!G131=\"\",T(Input_Output!H131),\"\")","v":""},null,null,{"$f":"IF(Input_Output!J131=\"\",T(Input_Output!K131),\"\")","v":""},null,null,{"$f":"IF(Input_Output!M131=\"\",T(Input_Output!N131),\"\")","v":""},null,null,{"$f":"IF(Input_Output!P131=\"\",T(Input_Output!Q131),\"\")","v":""},null,null,{"$f":"IF(Input_Output!S131=\"\",T(Input_Output!T131),\"\")","v":""},null,null,{"$f":"IF(Input_Output!V131=\"\",T(Input_Output!W131),\"\")","v":""},null,null,{"$f":"IF(Input_Output!Y131=\"\",T(Input_Output!Z131),\"\")","v":""},null,null,{"$f":"IF(Input_Output!AB131=\"\",T(Input_Output!AC131),\"\")","v":""},null,null,{"$f":"IF(Input_Output!AE131=\"\",T(Input_Output!AF131),\"\")","v":""},null,null,{"$f":"IF(Input_Output!AH131=\"\",T(Input_Output!AI131),\"\")","v":""},null,null,{"$f":"IF(Input_Output!AK131=\"\",T(Input_Output!AL131),\"\")","v":""},null,null,{"$f":"IF(Input_Output!AN131=\"\",T(Input_Output!AO131),\"\")","v":""},null,null,{"$f":"IF(Input_Output!AQ131=\"\",T(Input_Output!AR131),\"\")","v":""},null,null,{"$f":"IF(Input_Output!AT131=\"\",T(Input_Output!AU131),\"\")","v":""},null,null,{"$f":"IF(Input_Output!AW131=\"\",T(Input_Output!AX131),\"\")","v":""},null,null,{"$f":"IF(Input_Output!AZ131=\"\",T(Input_Output!BA131),\"\")","v":""},null,null,{"$f":"IF(Input_Output!BC131=\"\",T(Input_Output!BD131),\"\")","v":""},null,null,{"$f":"IF(Input_Output!BF131=\"\",T(Input_Output!BG131),\"\")","v":""},null,null,{"$f":"IF(Input_Output!BI131=\"\",T(Input_Output!BJ131),\"\")","v":""},null,null,{"$f":"IF(Input_Output!BL131=\"\",T(Input_Output!BM131),\"\")","v":""},null,null,{"$f":"IF(Input_Output!BO131=\"\",T(Input_Output!BP131),\"\")","v":""},null,null,{"$f":"IF(Input_Output!BR131=\"\",T(Input_Output!BS131),\"\")","v":""},null,null,{"$f":"IF(Input_Output!BU131=\"\",T(Input_Output!BV131),\"\")","v":""},null,null,{"$f":"IF(Input_Output!BX131=\"\",T(Input_Output!BY131),\"\")","v":""},null,null,{"$f":"IF(Input_Output!CA131=\"\",T(Input_Output!CB131),\"\")","v":""},null,null,{"$f":"IF(Input_Output!CD131=\"\",T(Input_Output!CE131),\"\")","v":""},null,null,{"$f":"IF(Input_Output!CG131=\"\",T(Input_Output!CH131),\"\")","v":""},null,null,{"$f":"IF(Input_Output!CJ131=\"\",T(Input_Output!CK131),\"\")","v":""},null,null,{"$f":"IF(Input_Output!CM131=\"\",T(Input_Output!CN131),\"\")","v":""},null,null,{"$f":"IF(Input_Output!CP131=\"\",T(Input_Output!CQ131),\"\")","v":""},null,null,{"$f":"IF(Input_Output!CS131=\"\",T(Input_Output!CT131),\"\")","v":""},null,null,{"$f":"IF(Input_Output!CV131=\"\",T(Input_Output!CW131),\"\")","v":""},null,null,{"$f":"IF(Input_Output!CY131=\"\",T(Input_Output!CZ131),\"\")","v":""},null,null,{"$f":"IF(Input_Output!DB131=\"\",T(Input_Output!DC131),\"\")","v":""},null,null,{"$f":"IF(Input_Output!DE131=\"\",T(Input_Output!DF131),\"\")","v":""},null,null,{"$f":"IF(Input_Output!DH131=\"\",T(Input_Output!DI131),\"\")","v":""},null,null,{"$f":"IF(Input_Output!DK131=\"\",T(Input_Output!DL131),\"\")","v":""},null,null,{"$f":"IF(Input_Output!DN131=\"\",T(Input_Output!DO131),\"\")","v":""},null,null,{"$f":"IF(Input_Output!DQ131=\"\",T(Input_Output!DR131),\"\")","v":""},null,null,{"$f":"IF(Input_Output!DT131=\"\",T(Input_Output!DU131),\"\")","v":""},null,null,{"$f":"IF(Input_Output!DW131=\"\",T(Input_Output!DX131),\"\")","v":""},null,null,{"$f":"IF(Input_Output!DZ131=\"\",T(Input_Output!EA131),\"\")","v":""},null,null,{"$f":"IF(Input_Output!EC131=\"\",T(Input_Output!ED131),\"\")","v":""},null,null,{"$f":"IF(Input_Output!EF131=\"\",T(Input_Output!EG131),\"\")","v":""},null,null,{"$f":"IF(Input_Output!EI131=\"\",T(Input_Output!EJ131),\"\")","v":""},null,null,{"$f":"IF(Input_Output!EL131=\"\",T(Input_Output!EM131),\"\")","v":""},null,null,{"$f":"IF(Input_Output!EO131=\"\",T(Input_Output!EP131),\"\")","v":""},null,null,{"$f":"IF(Input_Output!ER131=\"\",T(Input_Output!ES131),\"\")","v":""},null,null,{"$f":"IF(Input_Output!EU131=\"\",T(Input_Output!EV131),\"\")","v":""},null,null,{"$f":"IF(Input_Output!EX131=\"\",T(Input_Output!EY131),\"\")","v":""},null,null,{"$f":"IF(Input_Output!FA131=\"\",T(Input_Output!FB131),\"\")","v":""},null,null,{"$f":"IF(Input_Output!FD131=\"\",T(Input_Output!FE131),\"\")","v":""},null,null,{"$f":"IF(Input_Output!FG131=\"\",T(Input_Output!FH131),\"\")","v":""},null,null,{"$f":"IF(Input_Output!FJ131=\"\",T(Input_Output!FK131),\"\")","v":""},null,null,{"$f":"IF(Input_Output!FM131=\"\",T(Input_Output!FN131),\"\")","v":""},null,null,{"$f":"IF(Input_Output!FP131=\"\",T(Input_Output!FQ131),\"\")","v":""},null,null,{"$f":"IF(Input_Output!FS131=\"\",T(Input_Output!FT131),\"\")","v":""},null,null,{"$f":"IF(Input_Output!FV131=\"\",T(Input_Output!FW131),\"\")","v":""},null,null,{"$f":"IF(Input_Output!FY131=\"\",T(Input_Output!FZ131),\"\")","v":""},null,null,{"$f":"IF(Input_Output!GB131=\"\",T(Input_Output!GC131),\"\")","v":""},null,null,{"$f":"IF(Input_Output!GE131=\"\",T(Input_Output!GF131),\"\")","v":""},null,null,{"$f":"IF(Input_Output!GH131=\"\",T(Input_Output!GI131),\"\")","v":""},null,null,{"$f":"IF(Input_Output!GK131=\"\",T(Input_Output!GL131),\"\")","v":""},null,null,{"$f":"IF(Input_Output!GN131=\"\",T(Input_Output!GO131),\"\")","v":""},null,null,{"$f":"IF(Input_Output!GQ131=\"\",T(Input_Output!GR131),\"\")","v":""},null,null,{"$f":"IF(Input_Output!GT131=\"\",T(Input_Output!GU131),\"\")","v":""},null,null,{"$f":"IF(Input_Output!GW131=\"\",T(Input_Output!GX131),\"\")","v":""},null,null,{"$f":"IF(Input_Output!GZ131=\"\",T(Input_Output!HA131),\"\")","v":""},null,null,{"$f":"IF(Input_Output!HC131=\"\",T(Input_Output!HD131),\"\")","v":""},null,null,{"$f":"IF(Input_Output!HF131=\"\",T(Input_Output!HG131),\"\")","v":""},null,null,{"$f":"IF(Input_Output!HI131=\"\",T(Input_Output!HJ131),\"\")","v":""},null,null,{"$f":"IF(Input_Output!HL131=\"\",T(Input_Output!HM131),\"\")","v":""},null,null,{"$f":"IF(Input_Output!HO131=\"\",T(Input_Output!HP131),\"\")","v":""},null,null,{"$f":"IF(Input_Output!HR131=\"\",T(Input_Output!HS131),\"\")","v":""},null,null,{"$f":"IF(Input_Output!HU131=\"\",T(Input_Output!HV131),\"\")","v":""},null,null,{"$f":"IF(Input_Output!HX131=\"\",T(Input_Output!HY131),\"\")","v":""},null,null,{"$f":"IF(Input_Output!IA131=\"\",T(Input_Output!IB131),\"\")","v":""},null,null,{"$f":"IF(Input_Output!ID131=\"\",T(Input_Output!IE131),\"\")","v":""},null,null,{"$f":"IF(Input_Output!IG131=\"\",T(Input_Output!IH131),\"\")","v":""},null,null,{"$f":"IF(Input_Output!IJ131=\"\",T(Input_Output!IK131),\"\")","v":""},null,null,{"$f":"IF(Input_Output!IM131=\"\",T(Input_Output!IN131),\"\")","v":""},null,null,{"$f":"IF(Input_Output!IP131=\"\",T(Input_Output!IQ131),\"\")","v":""},null,null,{"$f":"IF(Input_Output!IS131=\"\",T(Input_Output!IT131),\"\")","v":""}]
[null,null,null,null,{"$f":"IF(Input_Output!D132=\"\",T(Input_Output!E132),\"\")","v":""},null,null,{"$f":"IF(Input_Output!G132=\"\",T(Input_Output!H132),\"\")","v":""},null,null,{"$f":"IF(Input_Output!J132=\"\",T(Input_Output!K132),\"\")","v":""},null,null,{"$f":"IF(Input_Output!M132=\"\",T(Input_Output!N132),\"\")","v":""},null,null,{"$f":"IF(Input_Output!P132=\"\",T(Input_Output!Q132),\"\")","v":""},null,null,{"$f":"IF(Input_Output!S132=\"\",T(Input_Output!T132),\"\")","v":""},null,null,{"$f":"IF(Input_Output!V132=\"\",T(Input_Output!W132),\"\")","v":""},null,null,{"$f":"IF(Input_Output!Y132=\"\",T(Input_Output!Z132),\"\")","v":""},null,null,{"$f":"IF(Input_Output!AB132=\"\",T(Input_Output!AC132),\"\")","v":""},null,null,{"$f":"IF(Input_Output!AE132=\"\",T(Input_Output!AF132),\"\")","v":""},null,null,{"$f":"IF(Input_Output!AH132=\"\",T(Input_Output!AI132),\"\")","v":""},null,null,{"$f":"IF(Input_Output!AK132=\"\",T(Input_Output!AL132),\"\")","v":""},null,null,{"$f":"IF(Input_Output!AN132=\"\",T(Input_Output!AO132),\"\")","v":""},null,null,{"$f":"IF(Input_Output!AQ132=\"\",T(Input_Output!AR132),\"\")","v":""},null,null,{"$f":"IF(Input_Output!AT132=\"\",T(Input_Output!AU132),\"\")","v":""},null,null,{"$f":"IF(Input_Output!AW132=\"\",T(Input_Output!AX132),\"\")","v":""},null,null,{"$f":"IF(Input_Output!AZ132=\"\",T(Input_Output!BA132),\"\")","v":""},null,null,{"$f":"IF(Input_Output!BC132=\"\",T(Input_Output!BD132),\"\")","v":""},null,null,{"$f":"IF(Input_Output!BF132=\"\",T(Input_Output!BG132),\"\")","v":""},null,null,{"$f":"IF(Input_Output!BI132=\"\",T(Input_Output!BJ132),\"\")","v":""},null,null,{"$f":"IF(Input_Output!BL132=\"\",T(Input_Output!BM132),\"\")","v":""},null,null,{"$f":"IF(Input_Output!BO132=\"\",T(Input_Output!BP132),\"\")","v":""},null,null,{"$f":"IF(Input_Output!BR132=\"\",T(Input_Output!BS132),\"\")","v":""},null,null,{"$f":"IF(Input_Output!BU132=\"\",T(Input_Output!BV132),\"\")","v":""},null,null,{"$f":"IF(Input_Output!BX132=\"\",T(Input_Output!BY132),\"\")","v":""},null,null,{"$f":"IF(Input_Output!CA132=\"\",T(Input_Output!CB132),\"\")","v":""},null,null,{"$f":"IF(Input_Output!CD132=\"\",T(Input_Output!CE132),\"\")","v":""},null,null,{"$f":"IF(Input_Output!CG132=\"\",T(Input_Output!CH132),\"\")","v":""},null,null,{"$f":"IF(Input_Output!CJ132=\"\",T(Input_Output!CK132),\"\")","v":""},null,null,{"$f":"IF(Input_Output!CM132=\"\",T(Input_Output!CN132),\"\")","v":""},null,null,{"$f":"IF(Input_Output!CP132=\"\",T(Input_Output!CQ132),\"\")","v":""},null,null,{"$f":"IF(Input_Output!CS132=\"\",T(Input_Output!CT132),\"\")","v":""},null,null,{"$f":"IF(Input_Output!CV132=\"\",T(Input_Output!CW132),\"\")","v":""},null,null,{"$f":"IF(Input_Output!CY132=\"\",T(Input_Output!CZ132),\"\")","v":""},null,null,{"$f":"IF(Input_Output!DB132=\"\",T(Input_Output!DC132),\"\")","v":""},null,null,{"$f":"IF(Input_Output!DE132=\"\",T(Input_Output!DF132),\"\")","v":""},null,null,{"$f":"IF(Input_Output!DH132=\"\",T(Input_Output!DI132),\"\")","v":""},null,null,{"$f":"IF(Input_Output!DK132=\"\",T(Input_Output!DL132),\"\")","v":""},null,null,{"$f":"IF(Input_Output!DN132=\"\",T(Input_Output!DO132),\"\")","v":""},null,null,{"$f":"IF(Input_Output!DQ132=\"\",T(Input_Output!DR132),\"\")","v":""},null,null,{"$f":"IF(Input_Output!DT132=\"\",T(Input_Output!DU132),\"\")","v":""},null,null,{"$f":"IF(Input_Output!DW132=\"\",T(Input_Output!DX132),\"\")","v":""},null,null,{"$f":"IF(Input_Output!DZ132=\"\",T(Input_Output!EA132),\"\")","v":""},null,null,{"$f":"IF(Input_Output!EC132=\"\",T(Input_Output!ED132),\"\")","v":""},null,null,{"$f":"IF(Input_Output!EF132=\"\",T(Input_Output!EG132),\"\")","v":""},null,null,{"$f":"IF(Input_Output!EI132=\"\",T(Input_Output!EJ132),\"\")","v":""},null,null,{"$f":"IF(Input_Output!EL132=\"\",T(Input_Output!EM132),\"\")","v":""},null,null,{"$f":"IF(Input_Output!EO132=\"\",T(Input_Output!EP132),\"\")","v":""},null,null,{"$f":"IF(Input_Output!ER132=\"\",T(Input_Output!ES132),\"\")","v":""},null,null,{"$f":"IF(Input_Output!EU132=\"\",T(Input_Output!EV132),\"\")","v":""},null,null,{"$f":"IF(Input_Output!EX132=\"\",T(Input_Output!EY132),\"\")","v":""},null,null,{"$f":"IF(Input_Output!FA132=\"\",T(Input_Output!FB132),\"\")","v":""},null,null,{"$f":"IF(Input_Output!FD132=\"\",T(Input_Output!FE132),\"\")","v":""},null,null,{"$f":"IF(Input_Output!FG132=\"\",T(Input_Output!FH132),\"\")","v":""},null,null,{"$f":"IF(Input_Output!FJ132=\"\",T(Input_Output!FK132),\"\")","v":""},null,null,{"$f":"IF(Input_Output!FM132=\"\",T(Input_Output!FN132),\"\")","v":""},null,null,{"$f":"IF(Input_Output!FP132=\"\",T(Input_Output!FQ132),\"\")","v":""},null,null,{"$f":"IF(Input_Output!FS132=\"\",T(Input_Output!FT132),\"\")","v":""},null,null,{"$f":"IF(Input_Output!FV132=\"\",T(Input_Output!FW132),\"\")","v":""},null,null,{"$f":"IF(Input_Output!FY132=\"\",T(Input_Output!FZ132),\"\")","v":""},null,null,{"$f":"IF(Input_Output!GB132=\"\",T(Input_Output!GC132),\"\")","v":""},null,null,{"$f":"IF(Input_Output!GE132=\"\",T(Input_Output!GF132),\"\")","v":""},null,null,{"$f":"IF(Input_Output!GH132=\"\",T(Input_Output!GI132),\"\")","v":""},null,null,{"$f":"IF(Input_Output!GK132=\"\",T(Input_Output!GL132),\"\")","v":""},null,null,{"$f":"IF(Input_Output!GN132=\"\",T(Input_Output!GO132),\"\")","v":""},null,null,{"$f":"IF(Input_Output!GQ132=\"\",T(Input_Output!GR132),\"\")","v":""},null,null,{"$f":"IF(Input_Output!GT132=\"\",T(Input_Output!GU132),\"\")","v":""},null,null,{"$f":"IF(Input_Output!GW132=\"\",T(Input_Output!GX132),\"\")","v":""},null,null,{"$f":"IF(Input_Output!GZ132=\"\",T(Input_Output!HA132),\"\")","v":""},null,null,{"$f":"IF(Input_Output!HC132=\"\",T(Input_Output!HD132),\"\")","v":""},null,null,{"$f":"IF(Input_Output!HF132=\"\",T(Input_Output!HG132),\"\")","v":""},null,null,{"$f":"IF(Input_Output!HI132=\"\",T(Input_Output!HJ132),\"\")","v":""},null,null,{"$f":"IF(Input_Output!HL132=\"\",T(Input_Output!HM132),\"\")","v":""},null,null,{"$f":"IF(Input_Output!HO132=\"\",T(Input_Output!HP132),\"\")","v":""},null,null,{"$f":"IF(Input_Output!HR132=\"\",T(Input_Output!HS132),\"\")","v":""},null,null,{"$f":"IF(Input_Output!HU132=\"\",T(Input_Output!HV132),\"\")","v":""},null,null,{"$f":"IF(Input_Output!HX132=\"\",T(Input_Output!HY132),\"\")","v":""},null,null,{"$f":"IF(Input_Output!IA132=\"\",T(Input_Output!IB132),\"\")","v":""},null,null,{"$f":"IF(Input_Output!ID132=\"\",T(Input_Output!IE132),\"\")","v":""},null,null,{"$f":"IF(Input_Output!IG132=\"\",T(Input_Output!IH132),\"\")","v":""},null,null,{"$f":"IF(Input_Output!IJ132=\"\",T(Input_Output!IK132),\"\")","v":""},null,null,{"$f":"IF(Input_Output!IM132=\"\",T(Input_Output!IN132),\"\")","v":""},null,null,{"$f":"IF(Input_Output!IP132=\"\",T(Input_Output!IQ132),\"\")","v":""},null,null,{"$f":"IF(Input_Output!IS132=\"\",T(Input_Output!IT132),\"\")","v":""}]
[null,null,null,null,{"$f":"IF(Input_Output!D133=\"\",T(Input_Output!E133),\"\")","v":""},null,null,{"$f":"IF(Input_Output!G133=\"\",T(Input_Output!H133),\"\")","v":""},null,null,{"$f":"IF(Input_Output!J133=\"\",T(Input_Output!K133),\"\")","v":""},null,null,{"$f":"IF(Input_Output!M133=\"\",T(Input_Output!N133),\"\")","v":""},null,null,{"$f":"IF(Input_Output!P133=\"\",T(Input_Output!Q133),\"\")","v":""},null,null,{"$f":"IF(Input_Output!S133=\"\",T(Input_Output!T133),\"\")","v":""},null,null,{"$f":"IF(Input_Output!V133=\"\",T(Input_Output!W133),\"\")","v":""},null,null,{"$f":"IF(Input_Output!Y133=\"\",T(Input_Output!Z133),\"\")","v":""},null,null,{"$f":"IF(Input_Output!AB133=\"\",T(Input_Output!AC133),\"\")","v":""},null,null,{"$f":"IF(Input_Output!AE133=\"\",T(Input_Output!AF133),\"\")","v":""},null,null,{"$f":"IF(Input_Output!AH133=\"\",T(Input_Output!AI133),\"\")","v":""},null,null,{"$f":"IF(Input_Output!AK133=\"\",T(Input_Output!AL133),\"\")","v":""},null,null,{"$f":"IF(Input_Output!AN133=\"\",T(Input_Output!AO133),\"\")","v":""},null,null,{"$f":"IF(Input_Output!AQ133=\"\",T(Input_Output!AR133),\"\")","v":""},null,null,{"$f":"IF(Input_Output!AT133=\"\",T(Input_Output!AU133),\"\")","v":""},null,null,{"$f":"IF(Input_Output!AW133=\"\",T(Input_Output!AX133),\"\")","v":""},null,null,{"$f":"IF(Input_Output!AZ133=\"\",T(Input_Output!BA133),\"\")","v":""},null,null,{"$f":"IF(Input_Output!BC133=\"\",T(Input_Output!BD133),\"\")","v":""},null,null,{"$f":"IF(Input_Output!BF133=\"\",T(Input_Output!BG133),\"\")","v":""},null,null,{"$f":"IF(Input_Output!BI133=\"\",T(Input_Output!BJ133),\"\")","v":""},null,null,{"$f":"IF(Input_Output!BL133=\"\",T(Input_Output!BM133),\"\")","v":""},null,null,{"$f":"IF(Input_Output!BO133=\"\",T(Input_Output!BP133),\"\")","v":""},null,null,{"$f":"IF(Input_Output!BR133=\"\",T(Input_Output!BS133),\"\")","v":""},null,null,{"$f":"IF(Input_Output!BU133=\"\",T(Input_Output!BV133),\"\")","v":""},null,null,{"$f":"IF(Input_Output!BX133=\"\",T(Input_Output!BY133),\"\")","v":""},null,null,{"$f":"IF(Input_Output!CA133=\"\",T(Input_Output!CB133),\"\")","v":""},null,null,{"$f":"IF(Input_Output!CD133=\"\",T(Input_Output!CE133),\"\")","v":""},null,null,{"$f":"IF(Input_Output!CG133=\"\",T(Input_Output!CH133),\"\")","v":""},null,null,{"$f":"IF(Input_Output!CJ133=\"\",T(Input_Output!CK133),\"\")","v":""},null,null,{"$f":"IF(Input_Output!CM133=\"\",T(Input_Output!CN133),\"\")","v":""},null,null,{"$f":"IF(Input_Output!CP133=\"\",T(Input_Output!CQ133),\"\")","v":""},null,null,{"$f":"IF(Input_Output!CS133=\"\",T(Input_Output!CT133),\"\")","v":""},null,null,{"$f":"IF(Input_Output!CV133=\"\",T(Input_Output!CW133),\"\")","v":""},null,null,{"$f":"IF(Input_Output!CY133=\"\",T(Input_Output!CZ133),\"\")","v":""},null,null,{"$f":"IF(Input_Output!DB133=\"\",T(Input_Output!DC133),\"\")","v":""},null,null,{"$f":"IF(Input_Output!DE133=\"\",T(Input_Output!DF133),\"\")","v":""},null,null,{"$f":"IF(Input_Output!DH133=\"\",T(Input_Output!DI133),\"\")","v":""},null,null,{"$f":"IF(Input_Output!DK133=\"\",T(Input_Output!DL133),\"\")","v":""},null,null,{"$f":"IF(Input_Output!DN133=\"\",T(Input_Output!DO133),\"\")","v":""},null,null,{"$f":"IF(Input_Output!DQ133=\"\",T(Input_Output!DR133),\"\")","v":""},null,null,{"$f":"IF(Input_Output!DT133=\"\",T(Input_Output!DU133),\"\")","v":""},null,null,{"$f":"IF(Input_Output!DW133=\"\",T(Input_Output!DX133),\"\")","v":""},null,null,{"$f":"IF(Input_Output!DZ133=\"\",T(Input_Output!EA133),\"\")","v":""},null,null,{"$f":"IF(Input_Output!EC133=\"\",T(Input_Output!ED133),\"\")","v":""},null,null,{"$f":"IF(Input_Output!EF133=\"\",T(Input_Output!EG133),\"\")","v":""},null,null,{"$f":"IF(Input_Output!EI133=\"\",T(Input_Output!EJ133),\"\")","v":""},null,null,{"$f":"IF(Input_Output!EL133=\"\",T(Input_Output!EM133),\"\")","v":""},null,null,{"$f":"IF(Input_Output!EO133=\"\",T(Input_Output!EP133),\"\")","v":""},null,null,{"$f":"IF(Input_Output!ER133=\"\",T(Input_Output!ES133),\"\")","v":""},null,null,{"$f":"IF(Input_Output!EU133=\"\",T(Input_Output!EV133),\"\")","v":""},null,null,{"$f":"IF(Input_Output!EX133=\"\",T(Input_Output!EY133),\"\")","v":""},null,null,{"$f":"IF(Input_Output!FA133=\"\",T(Input_Output!FB133),\"\")","v":""},null,null,{"$f":"IF(Input_Output!FD133=\"\",T(Input_Output!FE133),\"\")","v":""},null,null,{"$f":"IF(Input_Output!FG133=\"\",T(Input_Output!FH133),\"\")","v":""},null,null,{"$f":"IF(Input_Output!FJ133=\"\",T(Input_Output!FK133),\"\")","v":""},null,null,{"$f":"IF(Input_Output!FM133=\"\",T(Input_Output!FN133),\"\")","v":""},null,null,{"$f":"IF(Input_Output!FP133=\"\",T(Input_Output!FQ133),\"\")","v":""},null,null,{"$f":"IF(Input_Output!FS133=\"\",T(Input_Output!FT133),\"\")","v":""},null,null,{"$f":"IF(Input_Output!FV133=\"\",T(Input_Output!FW133),\"\")","v":""},null,null,{"$f":"IF(Input_Output!FY133=\"\",T(Input_Output!FZ133),\"\")","v":""},null,null,{"$f":"IF(Input_Output!GB133=\"\",T(Input_Output!GC133),\"\")","v":""},null,null,{"$f":"IF(Input_Output!GE133=\"\",T(Input_Output!GF133),\"\")","v":""},null,null,{"$f":"IF(Input_Output!GH133=\"\",T(Input_Output!GI133),\"\")","v":""},null,null,{"$f":"IF(Input_Output!GK133=\"\",T(Input_Output!GL133),\"\")","v":""},null,null,{"$f":"IF(Input_Output!GN133=\"\",T(Input_Output!GO133),\"\")","v":""},null,null,{"$f":"IF(Input_Output!GQ133=\"\",T(Input_Output!GR133),\"\")","v":""},null,null,{"$f":"IF(Input_Output!GT133=\"\",T(Input_Output!GU133),\"\")","v":""},null,null,{"$f":"IF(Input_Output!GW133=\"\",T(Input_Output!GX133),\"\")","v":""},null,null,{"$f":"IF(Input_Output!GZ133=\"\",T(Input_Output!HA133),\"\")","v":""},null,null,{"$f":"IF(Input_Output!HC133=\"\",T(Input_Output!HD133),\"\")","v":""},null,null,{"$f":"IF(Input_Output!HF133=\"\",T(Input_Output!HG133),\"\")","v":""},null,null,{"$f":"IF(Input_Output!HI133=\"\",T(Input_Output!HJ133),\"\")","v":""},null,null,{"$f":"IF(Input_Output!HL133=\"\",T(Input_Output!HM133),\"\")","v":""},null,null,{"$f":"IF(Input_Output!HO133=\"\",T(Input_Output!HP133),\"\")","v":""},null,null,{"$f":"IF(Input_Output!HR133=\"\",T(Input_Output!HS133),\"\")","v":""},null,null,{"$f":"IF(Input_Output!HU133=\"\",T(Input_Output!HV133),\"\")","v":""},null,null,{"$f":"IF(Input_Output!HX133=\"\",T(Input_Output!HY133),\"\")","v":""},null,null,{"$f":"IF(Input_Output!IA133=\"\",T(Input_Output!IB133),\"\")","v":""},null,null,{"$f":"IF(Input_Output!ID133=\"\",T(Input_Output!IE133),\"\")","v":""},null,null,{"$f":"IF(Input_Output!IG133=\"\",T(Input_Output!IH133),\"\")","v":""},null,null,{"$f":"IF(Input_Output!IJ133=\"\",T(Input_Output!IK133),\"\")","v":""},null,null,{"$f":"IF(Input_Output!IM133=\"\",T(Input_Output!IN133),\"\")","v":""},null,null,{"$f":"IF(Input_Output!IP133=\"\",T(Input_Output!IQ133),\"\")","v":""},null,null,{"$f":"IF(Input_Output!IS133=\"\",T(Input_Output!IT133),\"\")","v":""}]
[null,null,null,null,{"$f":"IF(Input_Output!D134=\"\",T(Input_Output!E134),\"\")","v":""},null,null,{"$f":"IF(Input_Output!G134=\"\",T(Input_Output!H134),\"\")","v":""},null,null,{"$f":"IF(Input_Output!J134=\"\",T(Input_Output!K134),\"\")","v":""},null,null,{"$f":"IF(Input_Output!M134=\"\",T(Input_Output!N134),\"\")","v":""},null,null,{"$f":"IF(Input_Output!P134=\"\",T(Input_Output!Q134),\"\")","v":""},null,null,{"$f":"IF(Input_Output!S134=\"\",T(Input_Output!T134),\"\")","v":""},null,null,{"$f":"IF(Input_Output!V134=\"\",T(Input_Output!W134),\"\")","v":""},null,null,{"$f":"IF(Input_Output!Y134=\"\",T(Input_Output!Z134),\"\")","v":""},null,null,{"$f":"IF(Input_Output!AB134=\"\",T(Input_Output!AC134),\"\")","v":""},null,null,{"$f":"IF(Input_Output!AE134=\"\",T(Input_Output!AF134),\"\")","v":""},null,null,{"$f":"IF(Input_Output!AH134=\"\",T(Input_Output!AI134),\"\")","v":""},null,null,{"$f":"IF(Input_Output!AK134=\"\",T(Input_Output!AL134),\"\")","v":""},null,null,{"$f":"IF(Input_Output!AN134=\"\",T(Input_Output!AO134),\"\")","v":""},null,null,{"$f":"IF(Input_Output!AQ134=\"\",T(Input_Output!AR134),\"\")","v":""},null,null,{"$f":"IF(Input_Output!AT134=\"\",T(Input_Output!AU134),\"\")","v":""},null,null,{"$f":"IF(Input_Output!AW134=\"\",T(Input_Output!AX134),\"\")","v":""},null,null,{"$f":"IF(Input_Output!AZ134=\"\",T(Input_Output!BA134),\"\")","v":""},null,null,{"$f":"IF(Input_Output!BC134=\"\",T(Input_Output!BD134),\"\")","v":""},null,null,{"$f":"IF(Input_Output!BF134=\"\",T(Input_Output!BG134),\"\")","v":""},null,null,{"$f":"IF(Input_Output!BI134=\"\",T(Input_Output!BJ134),\"\")","v":""},null,null,{"$f":"IF(Input_Output!BL134=\"\",T(Input_Output!BM134),\"\")","v":""},null,null,{"$f":"IF(Input_Output!BO134=\"\",T(Input_Output!BP134),\"\")","v":""},null,null,{"$f":"IF(Input_Output!BR134=\"\",T(Input_Output!BS134),\"\")","v":""},null,null,{"$f":"IF(Input_Output!BU134=\"\",T(Input_Output!BV134),\"\")","v":""},null,null,{"$f":"IF(Input_Output!BX134=\"\",T(Input_Output!BY134),\"\")","v":""},null,null,{"$f":"IF(Input_Output!CA134=\"\",T(Input_Output!CB134),\"\")","v":""},null,null,{"$f":"IF(Input_Output!CD134=\"\",T(Input_Output!CE134),\"\")","v":""},null,null,{"$f":"IF(Input_Output!CG134=\"\",T(Input_Output!CH134),\"\")","v":""},null,null,{"$f":"IF(Input_Output!CJ134=\"\",T(Input_Output!CK134),\"\")","v":""},null,null,{"$f":"IF(Input_Output!CM134=\"\",T(Input_Output!CN134),\"\")","v":""},null,null,{"$f":"IF(Input_Output!CP134=\"\",T(Input_Output!CQ134),\"\")","v":""},null,null,{"$f":"IF(Input_Output!CS134=\"\",T(Input_Output!CT134),\"\")","v":""},null,null,{"$f":"IF(Input_Output!CV134=\"\",T(Input_Output!CW134),\"\")","v":""},null,null,{"$f":"IF(Input_Output!CY134=\"\",T(Input_Output!CZ134),\"\")","v":""},null,null,{"$f":"IF(Input_Output!DB134=\"\",T(Input_Output!DC134),\"\")","v":""},null,null,{"$f":"IF(Input_Output!DE134=\"\",T(Input_Output!DF134),\"\")","v":""},null,null,{"$f":"IF(Input_Output!DH134=\"\",T(Input_Output!DI134),\"\")","v":""},null,null,{"$f":"IF(Input_Output!DK134=\"\",T(Input_Output!DL134),\"\")","v":""},null,null,{"$f":"IF(Input_Output!DN134=\"\",T(Input_Output!DO134),\"\")","v":""},null,null,{"$f":"IF(Input_Output!DQ134=\"\",T(Input_Output!DR134),\"\")","v":""},null,null,{"$f":"IF(Input_Output!DT134=\"\",T(Input_Output!DU134),\"\")","v":""},null,null,{"$f":"IF(Input_Output!DW134=\"\",T(Input_Output!DX134),\"\")","v":""},null,null,{"$f":"IF(Input_Output!DZ134=\"\",T(Input_Output!EA134),\"\")","v":""},null,null,{"$f":"IF(Input_Output!EC134=\"\",T(Input_Output!ED134),\"\")","v":""},null,null,{"$f":"IF(Input_Output!EF134=\"\",T(Input_Output!EG134),\"\")","v":""},null,null,{"$f":"IF(Input_Output!EI134=\"\",T(Input_Output!EJ134),\"\")","v":""},null,null,{"$f":"IF(Input_Output!EL134=\"\",T(Input_Output!EM134),\"\")","v":""},null,null,{"$f":"IF(Input_Output!EO134=\"\",T(Input_Output!EP134),\"\")","v":""},null,null,{"$f":"IF(Input_Output!ER134=\"\",T(Input_Output!ES134),\"\")","v":""},null,null,{"$f":"IF(Input_Output!EU134=\"\",T(Input_Output!EV134),\"\")","v":""},null,null,{"$f":"IF(Input_Output!EX134=\"\",T(Input_Output!EY134),\"\")","v":""},null,null,{"$f":"IF(Input_Output!FA134=\"\",T(Input_Output!FB134),\"\")","v":""},null,null,{"$f":"IF(Input_Output!FD134=\"\",T(Input_Output!FE134),\"\")","v":""},null,null,{"$f":"IF(Input_Output!FG134=\"\",T(Input_Output!FH134),\"\")","v":""},null,null,{"$f":"IF(Input_Output!FJ134=\"\",T(Input_Output!FK134),\"\")","v":""},null,null,{"$f":"IF(Input_Output!FM134=\"\",T(Input_Output!FN134),\"\")","v":""},null,null,{"$f":"IF(Input_Output!FP134=\"\",T(Input_Output!FQ134),\"\")","v":""},null,null,{"$f":"IF(Input_Output!FS134=\"\",T(Input_Output!FT134),\"\")","v":""},null,null,{"$f":"IF(Input_Output!FV134=\"\",T(Input_Output!FW134),\"\")","v":""},null,null,{"$f":"IF(Input_Output!FY134=\"\",T(Input_Output!FZ134),\"\")","v":""},null,null,{"$f":"IF(Input_Output!GB134=\"\",T(Input_Output!GC134),\"\")","v":""},null,null,{"$f":"IF(Input_Output!GE134=\"\",T(Input_Output!GF134),\"\")","v":""},null,null,{"$f":"IF(Input_Output!GH134=\"\",T(Input_Output!GI134),\"\")","v":""},null,null,{"$f":"IF(Input_Output!GK134=\"\",T(Input_Output!GL134),\"\")","v":""},null,null,{"$f":"IF(Input_Output!GN134=\"\",T(Input_Output!GO134),\"\")","v":""},null,null,{"$f":"IF(Input_Output!GQ134=\"\",T(Input_Output!GR134),\"\")","v":""},null,null,{"$f":"IF(Input_Output!GT134=\"\",T(Input_Output!GU134),\"\")","v":""},null,null,{"$f":"IF(Input_Output!GW134=\"\",T(Input_Output!GX134),\"\")","v":""},null,null,{"$f":"IF(Input_Output!GZ134=\"\",T(Input_Output!HA134),\"\")","v":""},null,null,{"$f":"IF(Input_Output!HC134=\"\",T(Input_Output!HD134),\"\")","v":""},null,null,{"$f":"IF(Input_Output!HF134=\"\",T(Input_Output!HG134),\"\")","v":""},null,null,{"$f":"IF(Input_Output!HI134=\"\",T(Input_Output!HJ134),\"\")","v":""},null,null,{"$f":"IF(Input_Output!HL134=\"\",T(Input_Output!HM134),\"\")","v":""},null,null,{"$f":"IF(Input_Output!HO134=\"\",T(Input_Output!HP134),\"\")","v":""},null,null,{"$f":"IF(Input_Output!HR134=\"\",T(Input_Output!HS134),\"\")","v":""},null,null,{"$f":"IF(Input_Output!HU134=\"\",T(Input_Output!HV134),\"\")","v":""},null,null,{"$f":"IF(Input_Output!HX134=\"\",T(Input_Output!HY134),\"\")","v":""},null,null,{"$f":"IF(Input_Output!IA134=\"\",T(Input_Output!IB134),\"\")","v":""},null,null,{"$f":"IF(Input_Output!ID134=\"\",T(Input_Output!IE134),\"\")","v":""},null,null,{"$f":"IF(Input_Output!IG134=\"\",T(Input_Output!IH134),\"\")","v":""},null,null,{"$f":"IF(Input_Output!IJ134=\"\",T(Input_Output!IK134),\"\")","v":""},null,null,{"$f":"IF(Input_Output!IM134=\"\",T(Input_Output!IN134),\"\")","v":""},null,null,{"$f":"IF(Input_Output!IP134=\"\",T(Input_Output!IQ134),\"\")","v":""},null,null,{"$f":"IF(Input_Output!IS134=\"\",T(Input_Output!IT134),\"\")","v":""}]
[null,null,null,null,{"$f":"IF(Input_Output!D135=\"\",T(Input_Output!E135),\"\")","v":""},null,null,{"$f":"IF(Input_Output!G135=\"\",T(Input_Output!H135),\"\")","v":""},null,null,{"$f":"IF(Input_Output!J135=\"\",T(Input_Output!K135),\"\")","v":""},null,null,{"$f":"IF(Input_Output!M135=\"\",T(Input_Output!N135),\"\")","v":""},null,null,{"$f":"IF(Input_Output!P135=\"\",T(Input_Output!Q135),\"\")","v":""},null,null,{"$f":"IF(Input_Output!S135=\"\",T(Input_Output!T135),\"\")","v":""},null,null,{"$f":"IF(Input_Output!V135=\"\",T(Input_Output!W135),\"\")","v":""},null,null,{"$f":"IF(Input_Output!Y135=\"\",T(Input_Output!Z135),\"\")","v":""},null,null,{"$f":"IF(Input_Output!AB135=\"\",T(Input_Output!AC135),\"\")","v":""},null,null,{"$f":"IF(Input_Output!AE135=\"\",T(Input_Output!AF135),\"\")","v":""},null,null,{"$f":"IF(Input_Output!AH135=\"\",T(Input_Output!AI135),\"\")","v":""},null,null,{"$f":"IF(Input_Output!AK135=\"\",T(Input_Output!AL135),\"\")","v":""},null,null,{"$f":"IF(Input_Output!AN135=\"\",T(Input_Output!AO135),\"\")","v":""},null,null,{"$f":"IF(Input_Output!AQ135=\"\",T(Input_Output!AR135),\"\")","v":""},null,null,{"$f":"IF(Input_Output!AT135=\"\",T(Input_Output!AU135),\"\")","v":""},null,null,{"$f":"IF(Input_Output!AW135=\"\",T(Input_Output!AX135),\"\")","v":""},null,null,{"$f":"IF(Input_Output!AZ135=\"\",T(Input_Output!BA135),\"\")","v":""},null,null,{"$f":"IF(Input_Output!BC135=\"\",T(Input_Output!BD135),\"\")","v":""},null,null,{"$f":"IF(Input_Output!BF135=\"\",T(Input_Output!BG135),\"\")","v":""},null,null,{"$f":"IF(Input_Output!BI135=\"\",T(Input_Output!BJ135),\"\")","v":""},null,null,{"$f":"IF(Input_Output!BL135=\"\",T(Input_Output!BM135),\"\")","v":""},null,null,{"$f":"IF(Input_Output!BO135=\"\",T(Input_Output!BP135),\"\")","v":""},null,null,{"$f":"IF(Input_Output!BR135=\"\",T(Input_Output!BS135),\"\")","v":""},null,null,{"$f":"IF(Input_Output!BU135=\"\",T(Input_Output!BV135),\"\")","v":""},null,null,{"$f":"IF(Input_Output!BX135=\"\",T(Input_Output!BY135),\"\")","v":""},null,null,{"$f":"IF(Input_Output!CA135=\"\",T(Input_Output!CB135),\"\")","v":""},null,null,{"$f":"IF(Input_Output!CD135=\"\",T(Input_Output!CE135),\"\")","v":""},null,null,{"$f":"IF(Input_Output!CG135=\"\",T(Input_Output!CH135),\"\")","v":""},null,null,{"$f":"IF(Input_Output!CJ135=\"\",T(Input_Output!CK135),\"\")","v":""},null,null,{"$f":"IF(Input_Output!CM135=\"\",T(Input_Output!CN135),\"\")","v":""},null,null,{"$f":"IF(Input_Output!CP135=\"\",T(Input_Output!CQ135),\"\")","v":""},null,null,{"$f":"IF(Input_Output!CS135=\"\",T(Input_Output!CT135),\"\")","v":""},null,null,{"$f":"IF(Input_Output!CV135=\"\",T(Input_Output!CW135),\"\")","v":""},null,null,{"$f":"IF(Input_Output!CY135=\"\",T(Input_Output!CZ135),\"\")","v":""},null,null,{"$f":"IF(Input_Output!DB135=\"\",T(Input_Output!DC135),\"\")","v":""},null,null,{"$f":"IF(Input_Output!DE135=\"\",T(Input_Output!DF135),\"\")","v":""},null,null,{"$f":"IF(Input_Output!DH135=\"\",T(Input_Output!DI135),\"\")","v":""},null,null,{"$f":"IF(Input_Output!DK135=\"\",T(Input_Output!DL135),\"\")","v":""},null,null,{"$f":"IF(Input_Output!DN135=\"\",T(Input_Output!DO135),\"\")","v":""},null,null,{"$f":"IF(Input_Output!DQ135=\"\",T(Input_Output!DR135),\"\")","v":""},null,null,{"$f":"IF(Input_Output!DT135=\"\",T(Input_Output!DU135),\"\")","v":""},null,null,{"$f":"IF(Input_Output!DW135=\"\",T(Input_Output!DX135),\"\")","v":""},null,null,{"$f":"IF(Input_Output!DZ135=\"\",T(Input_Output!EA135),\"\")","v":""},null,null,{"$f":"IF(Input_Output!EC135=\"\",T(Input_Output!ED135),\"\")","v":""},null,null,{"$f":"IF(Input_Output!EF135=\"\",T(Input_Output!EG135),\"\")","v":""},null,null,{"$f":"IF(Input_Output!EI135=\"\",T(Input_Output!EJ135),\"\")","v":""},null,null,{"$f":"IF(Input_Output!EL135=\"\",T(Input_Output!EM135),\"\")","v":""},null,null,{"$f":"IF(Input_Output!EO135=\"\",T(Input_Output!EP135),\"\")","v":""},null,null,{"$f":"IF(Input_Output!ER135=\"\",T(Input_Output!ES135),\"\")","v":""},null,null,{"$f":"IF(Input_Output!EU135=\"\",T(Input_Output!EV135),\"\")","v":""},null,null,{"$f":"IF(Input_Output!EX135=\"\",T(Input_Output!EY135),\"\")","v":""},null,null,{"$f":"IF(Input_Output!FA135=\"\",T(Input_Output!FB135),\"\")","v":""},null,null,{"$f":"IF(Input_Output!FD135=\"\",T(Input_Output!FE135),\"\")","v":""},null,null,{"$f":"IF(Input_Output!FG135=\"\",T(Input_Output!FH135),\"\")","v":""},null,null,{"$f":"IF(Input_Output!FJ135=\"\",T(Input_Output!FK135),\"\")","v":""},null,null,{"$f":"IF(Input_Output!FM135=\"\",T(Input_Output!FN135),\"\")","v":""},null,null,{"$f":"IF(Input_Output!FP135=\"\",T(Input_Output!FQ135),\"\")","v":""},null,null,{"$f":"IF(Input_Output!FS135=\"\",T(Input_Output!FT135),\"\")","v":""},null,null,{"$f":"IF(Input_Output!FV135=\"\",T(Input_Output!FW135),\"\")","v":""},null,null,{"$f":"IF(Input_Output!FY135=\"\",T(Input_Output!FZ135),\"\")","v":""},null,null,{"$f":"IF(Input_Output!GB135=\"\",T(Input_Output!GC135),\"\")","v":""},null,null,{"$f":"IF(Input_Output!GE135=\"\",T(Input_Output!GF135),\"\")","v":""},null,null,{"$f":"IF(Input_Output!GH135=\"\",T(Input_Output!GI135),\"\")","v":""},null,null,{"$f":"IF(Input_Output!GK135=\"\",T(Input_Output!GL135),\"\")","v":""},null,null,{"$f":"IF(Input_Output!GN135=\"\",T(Input_Output!GO135),\"\")","v":""},null,null,{"$f":"IF(Input_Output!GQ135=\"\",T(Input_Output!GR135),\"\")","v":""},null,null,{"$f":"IF(Input_Output!GT135=\"\",T(Input_Output!GU135),\"\")","v":""},null,null,{"$f":"IF(Input_Output!GW135=\"\",T(Input_Output!GX135),\"\")","v":""},null,null,{"$f":"IF(Input_Output!GZ135=\"\",T(Input_Output!HA135),\"\")","v":""},null,null,{"$f":"IF(Input_Output!HC135=\"\",T(Input_Output!HD135),\"\")","v":""},null,null,{"$f":"IF(Input_Output!HF135=\"\",T(Input_Output!HG135),\"\")","v":""},null,null,{"$f":"IF(Input_Output!HI135=\"\",T(Input_Output!HJ135),\"\")","v":""},null,null,{"$f":"IF(Input_Output!HL135=\"\",T(Input_Output!HM135),\"\")","v":""},null,null,{"$f":"IF(Input_Output!HO135=\"\",T(Input_Output!HP135),\"\")","v":""},null,null,{"$f":"IF(Input_Output!HR135=\"\",T(Input_Output!HS135),\"\")","v":""},null,null,{"$f":"IF(Input_Output!HU135=\"\",T(Input_Output!HV135),\"\")","v":""},null,null,{"$f":"IF(Input_Output!HX135=\"\",T(Input_Output!HY135),\"\")","v":""},null,null,{"$f":"IF(Input_Output!IA135=\"\",T(Input_Output!IB135),\"\")","v":""},null,null,{"$f":"IF(Input_Output!ID135=\"\",T(Input_Output!IE135),\"\")","v":""},null,null,{"$f":"IF(Input_Output!IG135=\"\",T(Input_Output!IH135),\"\")","v":""},null,null,{"$f":"IF(Input_Output!IJ135=\"\",T(Input_Output!IK135),\"\")","v":""},null,null,{"$f":"IF(Input_Output!IM135=\"\",T(Input_Output!IN135),\"\")","v":""},null,null,{"$f":"IF(Input_Output!IP135=\"\",T(Input_Output!IQ135),\"\")","v":""},null,null,{"$f":"IF(Input_Output!IS135=\"\",T(Input_Output!IT135),\"\")","v":""}]
[null,null,null,null,{"$f":"IF(Input_Output!D136=\"\",T(Input_Output!E136),\"\")","v":""},null,null,{"$f":"IF(Input_Output!G136=\"\",T(Input_Output!H136),\"\")","v":""},null,null,{"$f":"IF(Input_Output!J136=\"\",T(Input_Output!K136),\"\")","v":""},null,null,{"$f":"IF(Input_Output!M136=\"\",T(Input_Output!N136),\"\")","v":""},null,null,{"$f":"IF(Input_Output!P136=\"\",T(Input_Output!Q136),\"\")","v":""},null,null,{"$f":"IF(Input_Output!S136=\"\",T(Input_Output!T136),\"\")","v":""},null,null,{"$f":"IF(Input_Output!V136=\"\",T(Input_Output!W136),\"\")","v":""},null,null,{"$f":"IF(Input_Output!Y136=\"\",T(Input_Output!Z136),\"\")","v":""},null,null,{"$f":"IF(Input_Output!AB136=\"\",T(Input_Output!AC136),\"\")","v":""},null,null,{"$f":"IF(Input_Output!AE136=\"\",T(Input_Output!AF136),\"\")","v":""},null,null,{"$f":"IF(Input_Output!AH136=\"\",T(Input_Output!AI136),\"\")","v":""},null,null,{"$f":"IF(Input_Output!AK136=\"\",T(Input_Output!AL136),\"\")","v":""},null,null,{"$f":"IF(Input_Output!AN136=\"\",T(Input_Output!AO136),\"\")","v":""},null,null,{"$f":"IF(Input_Output!AQ136=\"\",T(Input_Output!AR136),\"\")","v":""},null,null,{"$f":"IF(Input_Output!AT136=\"\",T(Input_Output!AU136),\"\")","v":""},null,null,{"$f":"IF(Input_Output!AW136=\"\",T(Input_Output!AX136),\"\")","v":""},null,null,{"$f":"IF(Input_Output!AZ136=\"\",T(Input_Output!BA136),\"\")","v":""},null,null,{"$f":"IF(Input_Output!BC136=\"\",T(Input_Output!BD136),\"\")","v":""},null,null,{"$f":"IF(Input_Output!BF136=\"\",T(Input_Output!BG136),\"\")","v":""},null,null,{"$f":"IF(Input_Output!BI136=\"\",T(Input_Output!BJ136),\"\")","v":""},null,null,{"$f":"IF(Input_Output!BL136=\"\",T(Input_Output!BM136),\"\")","v":""},null,null,{"$f":"IF(Input_Output!BO136=\"\",T(Input_Output!BP136),\"\")","v":""},null,null,{"$f":"IF(Input_Output!BR136=\"\",T(Input_Output!BS136),\"\")","v":""},null,null,{"$f":"IF(Input_Output!BU136=\"\",T(Input_Output!BV136),\"\")","v":""},null,null,{"$f":"IF(Input_Output!BX136=\"\",T(Input_Output!BY136),\"\")","v":""},null,null,{"$f":"IF(Input_Output!CA136=\"\",T(Input_Output!CB136),\"\")","v":""},null,null,{"$f":"IF(Input_Output!CD136=\"\",T(Input_Output!CE136),\"\")","v":""},null,null,{"$f":"IF(Input_Output!CG136=\"\",T(Input_Output!CH136),\"\")","v":""},null,null,{"$f":"IF(Input_Output!CJ136=\"\",T(Input_Output!CK136),\"\")","v":""},null,null,{"$f":"IF(Input_Output!CM136=\"\",T(Input_Output!CN136),\"\")","v":""},null,null,{"$f":"IF(Input_Output!CP136=\"\",T(Input_Output!CQ136),\"\")","v":""},null,null,{"$f":"IF(Input_Output!CS136=\"\",T(Input_Output!CT136),\"\")","v":""},null,null,{"$f":"IF(Input_Output!CV136=\"\",T(Input_Output!CW136),\"\")","v":""},null,null,{"$f":"IF(Input_Output!CY136=\"\",T(Input_Output!CZ136),\"\")","v":""},null,null,{"$f":"IF(Input_Output!DB136=\"\",T(Input_Output!DC136),\"\")","v":""},null,null,{"$f":"IF(Input_Output!DE136=\"\",T(Input_Output!DF136),\"\")","v":""},null,null,{"$f":"IF(Input_Output!DH136=\"\",T(Input_Output!DI136),\"\")","v":""},null,null,{"$f":"IF(Input_Output!DK136=\"\",T(Input_Output!DL136),\"\")","v":""},null,null,{"$f":"IF(Input_Output!DN136=\"\",T(Input_Output!DO136),\"\")","v":""},null,null,{"$f":"IF(Input_Output!DQ136=\"\",T(Input_Output!DR136),\"\")","v":""},null,null,{"$f":"IF(Input_Output!DT136=\"\",T(Input_Output!DU136),\"\")","v":""},null,null,{"$f":"IF(Input_Output!DW136=\"\",T(Input_Output!DX136),\"\")","v":""},null,null,{"$f":"IF(Input_Output!DZ136=\"\",T(Input_Output!EA136),\"\")","v":""},null,null,{"$f":"IF(Input_Output!EC136=\"\",T(Input_Output!ED136),\"\")","v":""},null,null,{"$f":"IF(Input_Output!EF136=\"\",T(Input_Output!EG136),\"\")","v":""},null,null,{"$f":"IF(Input_Output!EI136=\"\",T(Input_Output!EJ136),\"\")","v":""},null,null,{"$f":"IF(Input_Output!EL136=\"\",T(Input_Output!EM136),\"\")","v":""},null,null,{"$f":"IF(Input_Output!EO136=\"\",T(Input_Output!EP136),\"\")","v":""},null,null,{"$f":"IF(Input_Output!ER136=\"\",T(Input_Output!ES136),\"\")","v":""},null,null,{"$f":"IF(Input_Output!EU136=\"\",T(Input_Output!EV136),\"\")","v":""},null,null,{"$f":"IF(Input_Output!EX136=\"\",T(Input_Output!EY136),\"\")","v":""},null,null,{"$f":"IF(Input_Output!FA136=\"\",T(Input_Output!FB136),\"\")","v":""},null,null,{"$f":"IF(Input_Output!FD136=\"\",T(Input_Output!FE136),\"\")","v":""},null,null,{"$f":"IF(Input_Output!FG136=\"\",T(Input_Output!FH136),\"\")","v":""},null,null,{"$f":"IF(Input_Output!FJ136=\"\",T(Input_Output!FK136),\"\")","v":""},null,null,{"$f":"IF(Input_Output!FM136=\"\",T(Input_Output!FN136),\"\")","v":""},null,null,{"$f":"IF(Input_Output!FP136=\"\",T(Input_Output!FQ136),\"\")","v":""},null,null,{"$f":"IF(Input_Output!FS136=\"\",T(Input_Output!FT136),\"\")","v":""},null,null,{"$f":"IF(Input_Output!FV136=\"\",T(Input_Output!FW136),\"\")","v":""},null,null,{"$f":"IF(Input_Output!FY136=\"\",T(Input_Output!FZ136),\"\")","v":""},null,null,{"$f":"IF(Input_Output!GB136=\"\",T(Input_Output!GC136),\"\")","v":""},null,null,{"$f":"IF(Input_Output!GE136=\"\",T(Input_Output!GF136),\"\")","v":""},null,null,{"$f":"IF(Input_Output!GH136=\"\",T(Input_Output!GI136),\"\")","v":""},null,null,{"$f":"IF(Input_Output!GK136=\"\",T(Input_Output!GL136),\"\")","v":""},null,null,{"$f":"IF(Input_Output!GN136=\"\",T(Input_Output!GO136),\"\")","v":""},null,null,{"$f":"IF(Input_Output!GQ136=\"\",T(Input_Output!GR136),\"\")","v":""},null,null,{"$f":"IF(Input_Output!GT136=\"\",T(Input_Output!GU136),\"\")","v":""},null,null,{"$f":"IF(Input_Output!GW136=\"\",T(Input_Output!GX136),\"\")","v":""},null,null,{"$f":"IF(Input_Output!GZ136=\"\",T(Input_Output!HA136),\"\")","v":""},null,null,{"$f":"IF(Input_Output!HC136=\"\",T(Input_Output!HD136),\"\")","v":""},null,null,{"$f":"IF(Input_Output!HF136=\"\",T(Input_Output!HG136),\"\")","v":""},null,null,{"$f":"IF(Input_Output!HI136=\"\",T(Input_Output!HJ136),\"\")","v":""},null,null,{"$f":"IF(Input_Output!HL136=\"\",T(Input_Output!HM136),\"\")","v":""},null,null,{"$f":"IF(Input_Output!HO136=\"\",T(Input_Output!HP136),\"\")","v":""},null,null,{"$f":"IF(Input_Output!HR136=\"\",T(Input_Output!HS136),\"\")","v":""},null,null,{"$f":"IF(Input_Output!HU136=\"\",T(Input_Output!HV136),\"\")","v":""},null,null,{"$f":"IF(Input_Output!HX136=\"\",T(Input_Output!HY136),\"\")","v":""},null,null,{"$f":"IF(Input_Output!IA136=\"\",T(Input_Output!IB136),\"\")","v":""},null,null,{"$f":"IF(Input_Output!ID136=\"\",T(Input_Output!IE136),\"\")","v":""},null,null,{"$f":"IF(Input_Output!IG136=\"\",T(Input_Output!IH136),\"\")","v":""},null,null,{"$f":"IF(Input_Output!IJ136=\"\",T(Input_Output!IK136),\"\")","v":""},null,null,{"$f":"IF(Input_Output!IM136=\"\",T(Input_Output!IN136),\"\")","v":""},null,null,{"$f":"IF(Input_Output!IP136=\"\",T(Input_Output!IQ136),\"\")","v":""},null,null,{"$f":"IF(Input_Output!IS136=\"\",T(Input_Output!IT136),\"\")","v":""}]
[null,null,null,null,{"$f":"IF(Input_Output!D137=\"\",T(Input_Output!E137),\"\")","v":""},null,null,{"$f":"IF(Input_Output!G137=\"\",T(Input_Output!H137),\"\")","v":""},null,null,{"$f":"IF(Input_Output!J137=\"\",T(Input_Output!K137),\"\")","v":""},null,null,{"$f":"IF(Input_Output!M137=\"\",T(Input_Output!N137),\"\")","v":""},null,null,{"$f":"IF(Input_Output!P137=\"\",T(Input_Output!Q137),\"\")","v":""},null,null,{"$f":"IF(Input_Output!S137=\"\",T(Input_Output!T137),\"\")","v":""},null,null,{"$f":"IF(Input_Output!V137=\"\",T(Input_Output!W137),\"\")","v":""},null,null,{"$f":"IF(Input_Output!Y137=\"\",T(Input_Output!Z137),\"\")","v":""},null,null,{"$f":"IF(Input_Output!AB137=\"\",T(Input_Output!AC137),\"\")","v":""},null,null,{"$f":"IF(Input_Output!AE137=\"\",T(Input_Output!AF137),\"\")","v":""},null,null,{"$f":"IF(Input_Output!AH137=\"\",T(Input_Output!AI137),\"\")","v":""},null,null,{"$f":"IF(Input_Output!AK137=\"\",T(Input_Output!AL137),\"\")","v":""},null,null,{"$f":"IF(Input_Output!AN137=\"\",T(Input_Output!AO137),\"\")","v":""},null,null,{"$f":"IF(Input_Output!AQ137=\"\",T(Input_Output!AR137),\"\")","v":""},null,null,{"$f":"IF(Input_Output!AT137=\"\",T(Input_Output!AU137),\"\")","v":""},null,null,{"$f":"IF(Input_Output!AW137=\"\",T(Input_Output!AX137),\"\")","v":""},null,null,{"$f":"IF(Input_Output!AZ137=\"\",T(Input_Output!BA137),\"\")","v":""},null,null,{"$f":"IF(Input_Output!BC137=\"\",T(Input_Output!BD137),\"\")","v":""},null,null,{"$f":"IF(Input_Output!BF137=\"\",T(Input_Output!BG137),\"\")","v":""},null,null,{"$f":"IF(Input_Output!BI137=\"\",T(Input_Output!BJ137),\"\")","v":""},null,null,{"$f":"IF(Input_Output!BL137=\"\",T(Input_Output!BM137),\"\")","v":""},null,null,{"$f":"IF(Input_Output!BO137=\"\",T(Input_Output!BP137),\"\")","v":""},null,null,{"$f":"IF(Input_Output!BR137=\"\",T(Input_Output!BS137),\"\")","v":""},null,null,{"$f":"IF(Input_Output!BU137=\"\",T(Input_Output!BV137),\"\")","v":""},null,null,{"$f":"IF(Input_Output!BX137=\"\",T(Input_Output!BY137),\"\")","v":""},null,null,{"$f":"IF(Input_Output!CA137=\"\",T(Input_Output!CB137),\"\")","v":""},null,null,{"$f":"IF(Input_Output!CD137=\"\",T(Input_Output!CE137),\"\")","v":""},null,null,{"$f":"IF(Input_Output!CG137=\"\",T(Input_Output!CH137),\"\")","v":""},null,null,{"$f":"IF(Input_Output!CJ137=\"\",T(Input_Output!CK137),\"\")","v":""},null,null,{"$f":"IF(Input_Output!CM137=\"\",T(Input_Output!CN137),\"\")","v":""},null,null,{"$f":"IF(Input_Output!CP137=\"\",T(Input_Output!CQ137),\"\")","v":""},null,null,{"$f":"IF(Input_Output!CS137=\"\",T(Input_Output!CT137),\"\")","v":""},null,null,{"$f":"IF(Input_Output!CV137=\"\",T(Input_Output!CW137),\"\")","v":""},null,null,{"$f":"IF(Input_Output!CY137=\"\",T(Input_Output!CZ137),\"\")","v":""},null,null,{"$f":"IF(Input_Output!DB137=\"\",T(Input_Output!DC137),\"\")","v":""},null,null,{"$f":"IF(Input_Output!DE137=\"\",T(Input_Output!DF137),\"\")","v":""},null,null,{"$f":"IF(Input_Output!DH137=\"\",T(Input_Output!DI137),\"\")","v":""},null,null,{"$f":"IF(Input_Output!DK137=\"\",T(Input_Output!DL137),\"\")","v":""},null,null,{"$f":"IF(Input_Output!DN137=\"\",T(Input_Output!DO137),\"\")","v":""},null,null,{"$f":"IF(Input_Output!DQ137=\"\",T(Input_Output!DR137),\"\")","v":""},null,null,{"$f":"IF(Input_Output!DT137=\"\",T(Input_Output!DU137),\"\")","v":""},null,null,{"$f":"IF(Input_Output!DW137=\"\",T(Input_Output!DX137),\"\")","v":""},null,null,{"$f":"IF(Input_Output!DZ137=\"\",T(Input_Output!EA137),\"\")","v":""},null,null,{"$f":"IF(Input_Output!EC137=\"\",T(Input_Output!ED137),\"\")","v":""},null,null,{"$f":"IF(Input_Output!EF137=\"\",T(Input_Output!EG137),\"\")","v":""},null,null,{"$f":"IF(Input_Output!EI137=\"\",T(Input_Output!EJ137),\"\")","v":""},null,null,{"$f":"IF(Input_Output!EL137=\"\",T(Input_Output!EM137),\"\")","v":""},null,null,{"$f":"IF(Input_Output!EO137=\"\",T(Input_Output!EP137),\"\")","v":""},null,null,{"$f":"IF(Input_Output!ER137=\"\",T(Input_Output!ES137),\"\")","v":""},null,null,{"$f":"IF(Input_Output!EU137=\"\",T(Input_Output!EV137),\"\")","v":""},null,null,{"$f":"IF(Input_Output!EX137=\"\",T(Input_Output!EY137),\"\")","v":""},null,null,{"$f":"IF(Input_Output!FA137=\"\",T(Input_Output!FB137),\"\")","v":""},null,null,{"$f":"IF(Input_Output!FD137=\"\",T(Input_Output!FE137),\"\")","v":""},null,null,{"$f":"IF(Input_Output!FG137=\"\",T(Input_Output!FH137),\"\")","v":""},null,null,{"$f":"IF(Input_Output!FJ137=\"\",T(Input_Output!FK137),\"\")","v":""},null,null,{"$f":"IF(Input_Output!FM137=\"\",T(Input_Output!FN137),\"\")","v":""},null,null,{"$f":"IF(Input_Output!FP137=\"\",T(Input_Output!FQ137),\"\")","v":""},null,null,{"$f":"IF(Input_Output!FS137=\"\",T(Input_Output!FT137),\"\")","v":""},null,null,{"$f":"IF(Input_Output!FV137=\"\",T(Input_Output!FW137),\"\")","v":""},null,null,{"$f":"IF(Input_Output!FY137=\"\",T(Input_Output!FZ137),\"\")","v":""},null,null,{"$f":"IF(Input_Output!GB137=\"\",T(Input_Output!GC137),\"\")","v":""},null,null,{"$f":"IF(Input_Output!GE137=\"\",T(Input_Output!GF137),\"\")","v":""},null,null,{"$f":"IF(Input_Output!GH137=\"\",T(Input_Output!GI137),\"\")","v":""},null,null,{"$f":"IF(Input_Output!GK137=\"\",T(Input_Output!GL137),\"\")","v":""},null,null,{"$f":"IF(Input_Output!GN137=\"\",T(Input_Output!GO137),\"\")","v":""},null,null,{"$f":"IF(Input_Output!GQ137=\"\",T(Input_Output!GR137),\"\")","v":""},null,null,{"$f":"IF(Input_Output!GT137=\"\",T(Input_Output!GU137),\"\")","v":""},null,null,{"$f":"IF(Input_Output!GW137=\"\",T(Input_Output!GX137),\"\")","v":""},null,null,{"$f":"IF(Input_Output!GZ137=\"\",T(Input_Output!HA137),\"\")","v":""},null,null,{"$f":"IF(Input_Output!HC137=\"\",T(Input_Output!HD137),\"\")","v":""},null,null,{"$f":"IF(Input_Output!HF137=\"\",T(Input_Output!HG137),\"\")","v":""},null,null,{"$f":"IF(Input_Output!HI137=\"\",T(Input_Output!HJ137),\"\")","v":""},null,null,{"$f":"IF(Input_Output!HL137=\"\",T(Input_Output!HM137),\"\")","v":""},null,null,{"$f":"IF(Input_Output!HO137=\"\",T(Input_Output!HP137),\"\")","v":""},null,null,{"$f":"IF(Input_Output!HR137=\"\",T(Input_Output!HS137),\"\")","v":""},null,null,{"$f":"IF(Input_Output!HU137=\"\",T(Input_Output!HV137),\"\")","v":""},null,null,{"$f":"IF(Input_Output!HX137=\"\",T(Input_Output!HY137),\"\")","v":""},null,null,{"$f":"IF(Input_Output!IA137=\"\",T(Input_Output!IB137),\"\")","v":""},null,null,{"$f":"IF(Input_Output!ID137=\"\",T(Input_Output!IE137),\"\")","v":""},null,null,{"$f":"IF(Input_Output!IG137=\"\",T(Input_Output!IH137),\"\")","v":""},null,null,{"$f":"IF(Input_Output!IJ137=\"\",T(Input_Output!IK137),\"\")","v":""},null,null,{"$f":"IF(Input_Output!IM137=\"\",T(Input_Output!IN137),\"\")","v":""},null,null,{"$f":"IF(Input_Output!IP137=\"\",T(Input_Output!IQ137),\"\")","v":""},null,null,{"$f":"IF(Input_Output!IS137=\"\",T(Input_Output!IT137),\"\")","v":""}]
[null,null,null,null,{"$f":"IF(Input_Output!D138=\"\",T(Input_Output!E138),\"\")","v":""},null,null,{"$f":"IF(Input_Output!G138=\"\",T(Input_Output!H138),\"\")","v":""},null,null,{"$f":"IF(Input_Output!J138=\"\",T(Input_Output!K138),\"\")","v":""},null,null,{"$f":"IF(Input_Output!M138=\"\",T(Input_Output!N138),\"\")","v":""},null,null,{"$f":"IF(Input_Output!P138=\"\",T(Input_Output!Q138),\"\")","v":""},null,null,{"$f":"IF(Input_Output!S138=\"\",T(Input_Output!T138),\"\")","v":""},null,null,{"$f":"IF(Input_Output!V138=\"\",T(Input_Output!W138),\"\")","v":""},null,null,{"$f":"IF(Input_Output!Y138=\"\",T(Input_Output!Z138),\"\")","v":""},null,null,{"$f":"IF(Input_Output!AB138=\"\",T(Input_Output!AC138),\"\")","v":""},null,null,{"$f":"IF(Input_Output!AE138=\"\",T(Input_Output!AF138),\"\")","v":""},null,null,{"$f":"IF(Input_Output!AH138=\"\",T(Input_Output!AI138),\"\")","v":""},null,null,{"$f":"IF(Input_Output!AK138=\"\",T(Input_Output!AL138),\"\")","v":""},null,null,{"$f":"IF(Input_Output!AN138=\"\",T(Input_Output!AO138),\"\")","v":""},null,null,{"$f":"IF(Input_Output!AQ138=\"\",T(Input_Output!AR138),\"\")","v":""},null,null,{"$f":"IF(Input_Output!AT138=\"\",T(Input_Output!AU138),\"\")","v":""},null,null,{"$f":"IF(Input_Output!AW138=\"\",T(Input_Output!AX138),\"\")","v":""},null,null,{"$f":"IF(Input_Output!AZ138=\"\",T(Input_Output!BA138),\"\")","v":""},null,null,{"$f":"IF(Input_Output!BC138=\"\",T(Input_Output!BD138),\"\")","v":""},null,null,{"$f":"IF(Input_Output!BF138=\"\",T(Input_Output!BG138),\"\")","v":""},null,null,{"$f":"IF(Input_Output!BI138=\"\",T(Input_Output!BJ138),\"\")","v":""},null,null,{"$f":"IF(Input_Output!BL138=\"\",T(Input_Output!BM138),\"\")","v":""},null,null,{"$f":"IF(Input_Output!BO138=\"\",T(Input_Output!BP138),\"\")","v":""},null,null,{"$f":"IF(Input_Output!BR138=\"\",T(Input_Output!BS138),\"\")","v":""},null,null,{"$f":"IF(Input_Output!BU138=\"\",T(Input_Output!BV138),\"\")","v":""},null,null,{"$f":"IF(Input_Output!BX138=\"\",T(Input_Output!BY138),\"\")","v":""},null,null,{"$f":"IF(Input_Output!CA138=\"\",T(Input_Output!CB138),\"\")","v":""},null,null,{"$f":"IF(Input_Output!CD138=\"\",T(Input_Output!CE138),\"\")","v":""},null,null,{"$f":"IF(Input_Output!CG138=\"\",T(Input_Output!CH138),\"\")","v":""},null,null,{"$f":"IF(Input_Output!CJ138=\"\",T(Input_Output!CK138),\"\")","v":""},null,null,{"$f":"IF(Input_Output!CM138=\"\",T(Input_Output!CN138),\"\")","v":""},null,null,{"$f":"IF(Input_Output!CP138=\"\",T(Input_Output!CQ138),\"\")","v":""},null,null,{"$f":"IF(Input_Output!CS138=\"\",T(Input_Output!CT138),\"\")","v":""},null,null,{"$f":"IF(Input_Output!CV138=\"\",T(Input_Output!CW138),\"\")","v":""},null,null,{"$f":"IF(Input_Output!CY138=\"\",T(Input_Output!CZ138),\"\")","v":""},null,null,{"$f":"IF(Input_Output!DB138=\"\",T(Input_Output!DC138),\"\")","v":""},null,null,{"$f":"IF(Input_Output!DE138=\"\",T(Input_Output!DF138),\"\")","v":""},null,null,{"$f":"IF(Input_Output!DH138=\"\",T(Input_Output!DI138),\"\")","v":""},null,null,{"$f":"IF(Input_Output!DK138=\"\",T(Input_Output!DL138),\"\")","v":""},null,null,{"$f":"IF(Input_Output!DN138=\"\",T(Input_Output!DO138),\"\")","v":""},null,null,{"$f":"IF(Input_Output!DQ138=\"\",T(Input_Output!DR138),\"\")","v":""},null,null,{"$f":"IF(Input_Output!DT138=\"\",T(Input_Output!DU138),\"\")","v":""},null,null,{"$f":"IF(Input_Output!DW138=\"\",T(Input_Output!DX138),\"\")","v":""},null,null,{"$f":"IF(Input_Output!DZ138=\"\",T(Input_Output!EA138),\"\")","v":""},null,null,{"$f":"IF(Input_Output!EC138=\"\",T(Input_Output!ED138),\"\")","v":""},null,null,{"$f":"IF(Input_Output!EF138=\"\",T(Input_Output!EG138),\"\")","v":""},null,null,{"$f":"IF(Input_Output!EI138=\"\",T(Input_Output!EJ138),\"\")","v":""},null,null,{"$f":"IF(Input_Output!EL138=\"\",T(Input_Output!EM138),\"\")","v":""},null,null,{"$f":"IF(Input_Output!EO138=\"\",T(Input_Output!EP138),\"\")","v":""},null,null,{"$f":"IF(Input_Output!ER138=\"\",T(Input_Output!ES138),\"\")","v":""},null,null,{"$f":"IF(Input_Output!EU138=\"\",T(Input_Output!EV138),\"\")","v":""},null,null,{"$f":"IF(Input_Output!EX138=\"\",T(Input_Output!EY138),\"\")","v":""},null,null,{"$f":"IF(Input_Output!FA138=\"\",T(Input_Output!FB138),\"\")","v":""},null,null,{"$f":"IF(Input_Output!FD138=\"\",T(Input_Output!FE138),\"\")","v":""},null,null,{"$f":"IF(Input_Output!FG138=\"\",T(Input_Output!FH138),\"\")","v":""},null,null,{"$f":"IF(Input_Output!FJ138=\"\",T(Input_Output!FK138),\"\")","v":""},null,null,{"$f":"IF(Input_Output!FM138=\"\",T(Input_Output!FN138),\"\")","v":""},null,null,{"$f":"IF(Input_Output!FP138=\"\",T(Input_Output!FQ138),\"\")","v":""},null,null,{"$f":"IF(Input_Output!FS138=\"\",T(Input_Output!FT138),\"\")","v":""},null,null,{"$f":"IF(Input_Output!FV138=\"\",T(Input_Output!FW138),\"\")","v":""},null,null,{"$f":"IF(Input_Output!FY138=\"\",T(Input_Output!FZ138),\"\")","v":""},null,null,{"$f":"IF(Input_Output!GB138=\"\",T(Input_Output!GC138),\"\")","v":""},null,null,{"$f":"IF(Input_Output!GE138=\"\",T(Input_Output!GF138),\"\")","v":""},null,null,{"$f":"IF(Input_Output!GH138=\"\",T(Input_Output!GI138),\"\")","v":""},null,null,{"$f":"IF(Input_Output!GK138=\"\",T(Input_Output!GL138),\"\")","v":""},null,null,{"$f":"IF(Input_Output!GN138=\"\",T(Input_Output!GO138),\"\")","v":""},null,null,{"$f":"IF(Input_Output!GQ138=\"\",T(Input_Output!GR138),\"\")","v":""},null,null,{"$f":"IF(Input_Output!GT138=\"\",T(Input_Output!GU138),\"\")","v":""},null,null,{"$f":"IF(Input_Output!GW138=\"\",T(Input_Output!GX138),\"\")","v":""},null,null,{"$f":"IF(Input_Output!GZ138=\"\",T(Input_Output!HA138),\"\")","v":""},null,null,{"$f":"IF(Input_Output!HC138=\"\",T(Input_Output!HD138),\"\")","v":""},null,null,{"$f":"IF(Input_Output!HF138=\"\",T(Input_Output!HG138),\"\")","v":""},null,null,{"$f":"IF(Input_Output!HI138=\"\",T(Input_Output!HJ138),\"\")","v":""},null,null,{"$f":"IF(Input_Output!HL138=\"\",T(Input_Output!HM138),\"\")","v":""},null,null,{"$f":"IF(Input_Output!HO138=\"\",T(Input_Output!HP138),\"\")","v":""},null,null,{"$f":"IF(Input_Output!HR138=\"\",T(Input_Output!HS138),\"\")","v":""},null,null,{"$f":"IF(Input_Output!HU138=\"\",T(Input_Output!HV138),\"\")","v":""},null,null,{"$f":"IF(Input_Output!HX138=\"\",T(Input_Output!HY138),\"\")","v":""},null,null,{"$f":"IF(Input_Output!IA138=\"\",T(Input_Output!IB138),\"\")","v":""},null,null,{"$f":"IF(Input_Output!ID138=\"\",T(Input_Output!IE138),\"\")","v":""},null,null,{"$f":"IF(Input_Output!IG138=\"\",T(Input_Output!IH138),\"\")","v":""},null,null,{"$f":"IF(Input_Output!IJ138=\"\",T(Input_Output!IK138),\"\")","v":""},null,null,{"$f":"IF(Input_Output!IM138=\"\",T(Input_Output!IN138),\"\")","v":""},null,null,{"$f":"IF(Input_Output!IP138=\"\",T(Input_Output!IQ138),\"\")","v":""},null,null,{"$f":"IF(Input_Output!IS138=\"\",T(Input_Output!IT138),\"\")","v":""}]
[null,null,null,null,{"$f":"IF(Input_Output!D139=\"\",T(Input_Output!E139),\"\")","v":""},null,null,{"$f":"IF(Input_Output!G139=\"\",T(Input_Output!H139),\"\")","v":""},null,null,{"$f":"IF(Input_Output!J139=\"\",T(Input_Output!K139),\"\")","v":""},null,null,{"$f":"IF(Input_Output!M139=\"\",T(Input_Output!N139),\"\")","v":""},null,null,{"$f":"IF(Input_Output!P139=\"\",T(Input_Output!Q139),\"\")","v":""},null,null,{"$f":"IF(Input_Output!S139=\"\",T(Input_Output!T139),\"\")","v":""},null,null,{"$f":"IF(Input_Output!V139=\"\",T(Input_Output!W139),\"\")","v":""},null,null,{"$f":"IF(Input_Output!Y139=\"\",T(Input_Output!Z139),\"\")","v":""},null,null,{"$f":"IF(Input_Output!AB139=\"\",T(Input_Output!AC139),\"\")","v":""},null,null,{"$f":"IF(Input_Output!AE139=\"\",T(Input_Output!AF139),\"\")","v":""},null,null,{"$f":"IF(Input_Output!AH139=\"\",T(Input_Output!AI139),\"\")","v":""},null,null,{"$f":"IF(Input_Output!AK139=\"\",T(Input_Output!AL139),\"\")","v":""},null,null,{"$f":"IF(Input_Output!AN139=\"\",T(Input_Output!AO139),\"\")","v":""},null,null,{"$f":"IF(Input_Output!AQ139=\"\",T(Input_Output!AR139),\"\")","v":""},null,null,{"$f":"IF(Input_Output!AT139=\"\",T(Input_Output!AU139),\"\")","v":""},null,null,{"$f":"IF(Input_Output!AW139=\"\",T(Input_Output!AX139),\"\")","v":""},null,null,{"$f":"IF(Input_Output!AZ139=\"\",T(Input_Output!BA139),\"\")","v":""},null,null,{"$f":"IF(Input_Output!BC139=\"\",T(Input_Output!BD139),\"\")","v":""},null,null,{"$f":"IF(Input_Output!BF139=\"\",T(Input_Output!BG139),\"\")","v":""},null,null,{"$f":"IF(Input_Output!BI139=\"\",T(Input_Output!BJ139),\"\")","v":""},null,null,{"$f":"IF(Input_Output!BL139=\"\",T(Input_Output!BM139),\"\")","v":""},null,null,{"$f":"IF(Input_Output!BO139=\"\",T(Input_Output!BP139),\"\")","v":""},null,null,{"$f":"IF(Input_Output!BR139=\"\",T(Input_Output!BS139),\"\")","v":""},null,null,{"$f":"IF(Input_Output!BU139=\"\",T(Input_Output!BV139),\"\")","v":""},null,null,{"$f":"IF(Input_Output!BX139=\"\",T(Input_Output!BY139),\"\")","v":""},null,null,{"$f":"IF(Input_Output!CA139=\"\",T(Input_Output!CB139),\"\")","v":""},null,null,{"$f":"IF(Input_Output!CD139=\"\",T(Input_Output!CE139),\"\")","v":""},null,null,{"$f":"IF(Input_Output!CG139=\"\",T(Input_Output!CH139),\"\")","v":""},null,null,{"$f":"IF(Input_Output!CJ139=\"\",T(Input_Output!CK139),\"\")","v":""},null,null,{"$f":"IF(Input_Output!CM139=\"\",T(Input_Output!CN139),\"\")","v":""},null,null,{"$f":"IF(Input_Output!CP139=\"\",T(Input_Output!CQ139),\"\")","v":""},null,null,{"$f":"IF(Input_Output!CS139=\"\",T(Input_Output!CT139),\"\")","v":""},null,null,{"$f":"IF(Input_Output!CV139=\"\",T(Input_Output!CW139),\"\")","v":""},null,null,{"$f":"IF(Input_Output!CY139=\"\",T(Input_Output!CZ139),\"\")","v":""},null,null,{"$f":"IF(Input_Output!DB139=\"\",T(Input_Output!DC139),\"\")","v":""},null,null,{"$f":"IF(Input_Output!DE139=\"\",T(Input_Output!DF139),\"\")","v":""},null,null,{"$f":"IF(Input_Output!DH139=\"\",T(Input_Output!DI139),\"\")","v":""},null,null,{"$f":"IF(Input_Output!DK139=\"\",T(Input_Output!DL139),\"\")","v":""},null,null,{"$f":"IF(Input_Output!DN139=\"\",T(Input_Output!DO139),\"\")","v":""},null,null,{"$f":"IF(Input_Output!DQ139=\"\",T(Input_Output!DR139),\"\")","v":""},null,null,{"$f":"IF(Input_Output!DT139=\"\",T(Input_Output!DU139),\"\")","v":""},null,null,{"$f":"IF(Input_Output!DW139=\"\",T(Input_Output!DX139),\"\")","v":""},null,null,{"$f":"IF(Input_Output!DZ139=\"\",T(Input_Output!EA139),\"\")","v":""},null,null,{"$f":"IF(Input_Output!EC139=\"\",T(Input_Output!ED139),\"\")","v":""},null,null,{"$f":"IF(Input_Output!EF139=\"\",T(Input_Output!EG139),\"\")","v":""},null,null,{"$f":"IF(Input_Output!EI139=\"\",T(Input_Output!EJ139),\"\")","v":""},null,null,{"$f":"IF(Input_Output!EL139=\"\",T(Input_Output!EM139),\"\")","v":""},null,null,{"$f":"IF(Input_Output!EO139=\"\",T(Input_Output!EP139),\"\")","v":""},null,null,{"$f":"IF(Input_Output!ER139=\"\",T(Input_Output!ES139),\"\")","v":""},null,null,{"$f":"IF(Input_Output!EU139=\"\",T(Input_Output!EV139),\"\")","v":""},null,null,{"$f":"IF(Input_Output!EX139=\"\",T(Input_Output!EY139),\"\")","v":""},null,null,{"$f":"IF(Input_Output!FA139=\"\",T(Input_Output!FB139),\"\")","v":""},null,null,{"$f":"IF(Input_Output!FD139=\"\",T(Input_Output!FE139),\"\")","v":""},null,null,{"$f":"IF(Input_Output!FG139=\"\",T(Input_Output!FH139),\"\")","v":""},null,null,{"$f":"IF(Input_Output!FJ139=\"\",T(Input_Output!FK139),\"\")","v":""},null,null,{"$f":"IF(Input_Output!FM139=\"\",T(Input_Output!FN139),\"\")","v":""},null,null,{"$f":"IF(Input_Output!FP139=\"\",T(Input_Output!FQ139),\"\")","v":""},null,null,{"$f":"IF(Input_Output!FS139=\"\",T(Input_Output!FT139),\"\")","v":""},null,null,{"$f":"IF(Input_Output!FV139=\"\",T(Input_Output!FW139),\"\")","v":""},null,null,{"$f":"IF(Input_Output!FY139=\"\",T(Input_Output!FZ139),\"\")","v":""},null,null,{"$f":"IF(Input_Output!GB139=\"\",T(Input_Output!GC139),\"\")","v":""},null,null,{"$f":"IF(Input_Output!GE139=\"\",T(Input_Output!GF139),\"\")","v":""},null,null,{"$f":"IF(Input_Output!GH139=\"\",T(Input_Output!GI139),\"\")","v":""},null,null,{"$f":"IF(Input_Output!GK139=\"\",T(Input_Output!GL139),\"\")","v":""},null,null,{"$f":"IF(Input_Output!GN139=\"\",T(Input_Output!GO139),\"\")","v":""},null,null,{"$f":"IF(Input_Output!GQ139=\"\",T(Input_Output!GR139),\"\")","v":""},null,null,{"$f":"IF(Input_Output!GT139=\"\",T(Input_Output!GU139),\"\")","v":""},null,null,{"$f":"IF(Input_Output!GW139=\"\",T(Input_Output!GX139),\"\")","v":""},null,null,{"$f":"IF(Input_Output!GZ139=\"\",T(Input_Output!HA139),\"\")","v":""},null,null,{"$f":"IF(Input_Output!HC139=\"\",T(Input_Output!HD139),\"\")","v":""},null,null,{"$f":"IF(Input_Output!HF139=\"\",T(Input_Output!HG139),\"\")","v":""},null,null,{"$f":"IF(Input_Output!HI139=\"\",T(Input_Output!HJ139),\"\")","v":""},null,null,{"$f":"IF(Input_Output!HL139=\"\",T(Input_Output!HM139),\"\")","v":""},null,null,{"$f":"IF(Input_Output!HO139=\"\",T(Input_Output!HP139),\"\")","v":""},null,null,{"$f":"IF(Input_Output!HR139=\"\",T(Input_Output!HS139),\"\")","v":""},null,null,{"$f":"IF(Input_Output!HU139=\"\",T(Input_Output!HV139),\"\")","v":""},null,null,{"$f":"IF(Input_Output!HX139=\"\",T(Input_Output!HY139),\"\")","v":""},null,null,{"$f":"IF(Input_Output!IA139=\"\",T(Input_Output!IB139),\"\")","v":""},null,null,{"$f":"IF(Input_Output!ID139=\"\",T(Input_Output!IE139),\"\")","v":""},null,null,{"$f":"IF(Input_Output!IG139=\"\",T(Input_Output!IH139),\"\")","v":""},null,null,{"$f":"IF(Input_Output!IJ139=\"\",T(Input_Output!IK139),\"\")","v":""},null,null,{"$f":"IF(Input_Output!IM139=\"\",T(Input_Output!IN139),\"\")","v":""},null,null,{"$f":"IF(Input_Output!IP139=\"\",T(Input_Output!IQ139),\"\")","v":""},null,null,{"$f":"IF(Input_Output!IS139=\"\",T(Input_Output!IT139),\"\")","v":""}]
[null,null,null,null,{"$f":"IF(Input_Output!D140=\"\",T(Input_Output!E140),\"\")","v":""},null,null,{"$f":"IF(Input_Output!G140=\"\",T(Input_Output!H140),\"\")","v":""},null,null,{"$f":"IF(Input_Output!J140=\"\",T(Input_Output!K140),\"\")","v":""},null,null,{"$f":"IF(Input_Output!M140=\"\",T(Input_Output!N140),\"\")","v":""},null,null,{"$f":"IF(Input_Output!P140=\"\",T(Input_Output!Q140),\"\")","v":""},null,null,{"$f":"IF(Input_Output!S140=\"\",T(Input_Output!T140),\"\")","v":""},null,null,{"$f":"IF(Input_Output!V140=\"\",T(Input_Output!W140),\"\")","v":""},null,null,{"$f":"IF(Input_Output!Y140=\"\",T(Input_Output!Z140),\"\")","v":""},null,null,{"$f":"IF(Input_Output!AB140=\"\",T(Input_Output!AC140),\"\")","v":""},null,null,{"$f":"IF(Input_Output!AE140=\"\",T(Input_Output!AF140),\"\")","v":""},null,null,{"$f":"IF(Input_Output!AH140=\"\",T(Input_Output!AI140),\"\")","v":""},null,null,{"$f":"IF(Input_Output!AK140=\"\",T(Input_Output!AL140),\"\")","v":""},null,null,{"$f":"IF(Input_Output!AN140=\"\",T(Input_Output!AO140),\"\")","v":""},null,null,{"$f":"IF(Input_Output!AQ140=\"\",T(Input_Output!AR140),\"\")","v":""},null,null,{"$f":"IF(Input_Output!AT140=\"\",T(Input_Output!AU140),\"\")","v":""},null,null,{"$f":"IF(Input_Output!AW140=\"\",T(Input_Output!AX140),\"\")","v":""},null,null,{"$f":"IF(Input_Output!AZ140=\"\",T(Input_Output!BA140),\"\")","v":""},null,null,{"$f":"IF(Input_Output!BC140=\"\",T(Input_Output!BD140),\"\")","v":""},null,null,{"$f":"IF(Input_Output!BF140=\"\",T(Input_Output!BG140),\"\")","v":""},null,null,{"$f":"IF(Input_Output!BI140=\"\",T(Input_Output!BJ140),\"\")","v":""},null,null,{"$f":"IF(Input_Output!BL140=\"\",T(Input_Output!BM140),\"\")","v":""},null,null,{"$f":"IF(Input_Output!BO140=\"\",T(Input_Output!BP140),\"\")","v":""},null,null,{"$f":"IF(Input_Output!BR140=\"\",T(Input_Output!BS140),\"\")","v":""},null,null,{"$f":"IF(Input_Output!BU140=\"\",T(Input_Output!BV140),\"\")","v":""},null,null,{"$f":"IF(Input_Output!BX140=\"\",T(Input_Output!BY140),\"\")","v":""},null,null,{"$f":"IF(Input_Output!CA140=\"\",T(Input_Output!CB140),\"\")","v":""},null,null,{"$f":"IF(Input_Output!CD140=\"\",T(Input_Output!CE140),\"\")","v":""},null,null,{"$f":"IF(Input_Output!CG140=\"\",T(Input_Output!CH140),\"\")","v":""},null,null,{"$f":"IF(Input_Output!CJ140=\"\",T(Input_Output!CK140),\"\")","v":""},null,null,{"$f":"IF(Input_Output!CM140=\"\",T(Input_Output!CN140),\"\")","v":""},null,null,{"$f":"IF(Input_Output!CP140=\"\",T(Input_Output!CQ140),\"\")","v":""},null,null,{"$f":"IF(Input_Output!CS140=\"\",T(Input_Output!CT140),\"\")","v":""},null,null,{"$f":"IF(Input_Output!CV140=\"\",T(Input_Output!CW140),\"\")","v":""},null,null,{"$f":"IF(Input_Output!CY140=\"\",T(Input_Output!CZ140),\"\")","v":""},null,null,{"$f":"IF(Input_Output!DB140=\"\",T(Input_Output!DC140),\"\")","v":""},null,null,{"$f":"IF(Input_Output!DE140=\"\",T(Input_Output!DF140),\"\")","v":""},null,null,{"$f":"IF(Input_Output!DH140=\"\",T(Input_Output!DI140),\"\")","v":""},null,null,{"$f":"IF(Input_Output!DK140=\"\",T(Input_Output!DL140),\"\")","v":""},null,null,{"$f":"IF(Input_Output!DN140=\"\",T(Input_Output!DO140),\"\")","v":""},null,null,{"$f":"IF(Input_Output!DQ140=\"\",T(Input_Output!DR140),\"\")","v":""},null,null,{"$f":"IF(Input_Output!DT140=\"\",T(Input_Output!DU140),\"\")","v":""},null,null,{"$f":"IF(Input_Output!DW140=\"\",T(Input_Output!DX140),\"\")","v":""},null,null,{"$f":"IF(Input_Output!DZ140=\"\",T(Input_Output!EA140),\"\")","v":""},null,null,{"$f":"IF(Input_Output!EC140=\"\",T(Input_Output!ED140),\"\")","v":""},null,null,{"$f":"IF(Input_Output!EF140=\"\",T(Input_Output!EG140),\"\")","v":""},null,null,{"$f":"IF(Input_Output!EI140=\"\",T(Input_Output!EJ140),\"\")","v":""},null,null,{"$f":"IF(Input_Output!EL140=\"\",T(Input_Output!EM140),\"\")","v":""},null,null,{"$f":"IF(Input_Output!EO140=\"\",T(Input_Output!EP140),\"\")","v":""},null,null,{"$f":"IF(Input_Output!ER140=\"\",T(Input_Output!ES140),\"\")","v":""},null,null,{"$f":"IF(Input_Output!EU140=\"\",T(Input_Output!EV140),\"\")","v":""},null,null,{"$f":"IF(Input_Output!EX140=\"\",T(Input_Output!EY140),\"\")","v":""},null,null,{"$f":"IF(Input_Output!FA140=\"\",T(Input_Output!FB140),\"\")","v":""},null,null,{"$f":"IF(Input_Output!FD140=\"\",T(Input_Output!FE140),\"\")","v":""},null,null,{"$f":"IF(Input_Output!FG140=\"\",T(Input_Output!FH140),\"\")","v":""},null,null,{"$f":"IF(Input_Output!FJ140=\"\",T(Input_Output!FK140),\"\")","v":""},null,null,{"$f":"IF(Input_Output!FM140=\"\",T(Input_Output!FN140),\"\")","v":""},null,null,{"$f":"IF(Input_Output!FP140=\"\",T(Input_Output!FQ140),\"\")","v":""},null,null,{"$f":"IF(Input_Output!FS140=\"\",T(Input_Output!FT140),\"\")","v":""},null,null,{"$f":"IF(Input_Output!FV140=\"\",T(Input_Output!FW140),\"\")","v":""},null,null,{"$f":"IF(Input_Output!FY140=\"\",T(Input_Output!FZ140),\"\")","v":""},null,null,{"$f":"IF(Input_Output!GB140=\"\",T(Input_Output!GC140),\"\")","v":""},null,null,{"$f":"IF(Input_Output!GE140=\"\",T(Input_Output!GF140),\"\")","v":""},null,null,{"$f":"IF(Input_Output!GH140=\"\",T(Input_Output!GI140),\"\")","v":""},null,null,{"$f":"IF(Input_Output!GK140=\"\",T(Input_Output!GL140),\"\")","v":""},null,null,{"$f":"IF(Input_Output!GN140=\"\",T(Input_Output!GO140),\"\")","v":""},null,null,{"$f":"IF(Input_Output!GQ140=\"\",T(Input_Output!GR140),\"\")","v":""},null,null,{"$f":"IF(Input_Output!GT140=\"\",T(Input_Output!GU140),\"\")","v":""},null,null,{"$f":"IF(Input_Output!GW140=\"\",T(Input_Output!GX140),\"\")","v":""},null,null,{"$f":"IF(Input_Output!GZ140=\"\",T(Input_Output!HA140),\"\")","v":""},null,null,{"$f":"IF(Input_Output!HC140=\"\",T(Input_Output!HD140),\"\")","v":""},null,null,{"$f":"IF(Input_Output!HF140=\"\",T(Input_Output!HG140),\"\")","v":""},null,null,{"$f":"IF(Input_Output!HI140=\"\",T(Input_Output!HJ140),\"\")","v":""},null,null,{"$f":"IF(Input_Output!HL140=\"\",T(Input_Output!HM140),\"\")","v":""},null,null,{"$f":"IF(Input_Output!HO140=\"\",T(Input_Output!HP140),\"\")","v":""},null,null,{"$f":"IF(Input_Output!HR140=\"\",T(Input_Output!HS140),\"\")","v":""},null,null,{"$f":"IF(Input_Output!HU140=\"\",T(Input_Output!HV140),\"\")","v":""},null,null,{"$f":"IF(Input_Output!HX140=\"\",T(Input_Output!HY140),\"\")","v":""},null,null,{"$f":"IF(Input_Output!IA140=\"\",T(Input_Output!IB140),\"\")","v":""},null,null,{"$f":"IF(Input_Output!ID140=\"\",T(Input_Output!IE140),\"\")","v":""},null,null,{"$f":"IF(Input_Output!IG140=\"\",T(Input_Output!IH140),\"\")","v":""},null,null,{"$f":"IF(Input_Output!IJ140=\"\",T(Input_Output!IK140),\"\")","v":""},null,null,{"$f":"IF(Input_Output!IM140=\"\",T(Input_Output!IN140),\"\")","v":""},null,null,{"$f":"IF(Input_Output!IP140=\"\",T(Input_Output!IQ140),\"\")","v":""},null,null,{"$f":"IF(Input_Output!IS140=\"\",T(Input_Output!IT140),\"\")","v":""}]
[null,null,null,null,{"$f":"IF(Input_Output!D141=\"\",T(Input_Output!E141),\"\")","v":""},null,null,{"$f":"IF(Input_Output!G141=\"\",T(Input_Output!H141),\"\")","v":""},null,null,{"$f":"IF(Input_Output!J141=\"\",T(Input_Output!K141),\"\")","v":""},null,null,{"$f":"IF(Input_Output!M141=\"\",T(Input_Output!N141),\"\")","v":""},null,null,{"$f":"IF(Input_Output!P141=\"\",T(Input_Output!Q141),\"\")","v":""},null,null,{"$f":"IF(Input_Output!S141=\"\",T(Input_Output!T141),\"\")","v":""},null,null,{"$f":"IF(Input_Output!V141=\"\",T(Input_Output!W141),\"\")","v":""},null,null,{"$f":"IF(Input_Output!Y141=\"\",T(Input_Output!Z141),\"\")","v":""},null,null,{"$f":"IF(Input_Output!AB141=\"\",T(Input_Output!AC141),\"\")","v":""},null,null,{"$f":"IF(Input_Output!AE141=\"\",T(Input_Output!AF141),\"\")","v":""},null,null,{"$f":"IF(Input_Output!AH141=\"\",T(Input_Output!AI141),\"\")","v":""},null,null,{"$f":"IF(Input_Output!AK141=\"\",T(Input_Output!AL141),\"\")","v":""},null,null,{"$f":"IF(Input_Output!AN141=\"\",T(Input_Output!AO141),\"\")","v":""},null,null,{"$f":"IF(Input_Output!AQ141=\"\",T(Input_Output!AR141),\"\")","v":""},null,null,{"$f":"IF(Input_Output!AT141=\"\",T(Input_Output!AU141),\"\")","v":""},null,null,{"$f":"IF(Input_Output!AW141=\"\",T(Input_Output!AX141),\"\")","v":""},null,null,{"$f":"IF(Input_Output!AZ141=\"\",T(Input_Output!BA141),\"\")","v":""},null,null,{"$f":"IF(Input_Output!BC141=\"\",T(Input_Output!BD141),\"\")","v":""},null,null,{"$f":"IF(Input_Output!BF141=\"\",T(Input_Output!BG141),\"\")","v":""},null,null,{"$f":"IF(Input_Output!BI141=\"\",T(Input_Output!BJ141),\"\")","v":""},null,null,{"$f":"IF(Input_Output!BL141=\"\",T(Input_Output!BM141),\"\")","v":""},null,null,{"$f":"IF(Input_Output!BO141=\"\",T(Input_Output!BP141),\"\")","v":""},null,null,{"$f":"IF(Input_Output!BR141=\"\",T(Input_Output!BS141),\"\")","v":""},null,null,{"$f":"IF(Input_Output!BU141=\"\",T(Input_Output!BV141),\"\")","v":""},null,null,{"$f":"IF(Input_Output!BX141=\"\",T(Input_Output!BY141),\"\")","v":""},null,null,{"$f":"IF(Input_Output!CA141=\"\",T(Input_Output!CB141),\"\")","v":""},null,null,{"$f":"IF(Input_Output!CD141=\"\",T(Input_Output!CE141),\"\")","v":""},null,null,{"$f":"IF(Input_Output!CG141=\"\",T(Input_Output!CH141),\"\")","v":""},null,null,{"$f":"IF(Input_Output!CJ141=\"\",T(Input_Output!CK141),\"\")","v":""},null,null,{"$f":"IF(Input_Output!CM141=\"\",T(Input_Output!CN141),\"\")","v":""},null,null,{"$f":"IF(Input_Output!CP141=\"\",T(Input_Output!CQ141),\"\")","v":""},null,null,{"$f":"IF(Input_Output!CS141=\"\",T(Input_Output!CT141),\"\")","v":""},null,null,{"$f":"IF(Input_Output!CV141=\"\",T(Input_Output!CW141),\"\")","v":""},null,null,{"$f":"IF(Input_Output!CY141=\"\",T(Input_Output!CZ141),\"\")","v":""},null,null,{"$f":"IF(Input_Output!DB141=\"\",T(Input_Output!DC141),\"\")","v":""},null,null,{"$f":"IF(Input_Output!DE141=\"\",T(Input_Output!DF141),\"\")","v":""},null,null,{"$f":"IF(Input_Output!DH141=\"\",T(Input_Output!DI141),\"\")","v":""},null,null,{"$f":"IF(Input_Output!DK141=\"\",T(Input_Output!DL141),\"\")","v":""},null,null,{"$f":"IF(Input_Output!DN141=\"\",T(Input_Output!DO141),\"\")","v":""},null,null,{"$f":"IF(Input_Output!DQ141=\"\",T(Input_Output!DR141),\"\")","v":""},null,null,{"$f":"IF(Input_Output!DT141=\"\",T(Input_Output!DU141),\"\")","v":""},null,null,{"$f":"IF(Input_Output!DW141=\"\",T(Input_Output!DX141),\"\")","v":""},null,null,{"$f":"IF(Input_Output!DZ141=\"\",T(Input_Output!EA141),\"\")","v":""},null,null,{"$f":"IF(Input_Output!EC141=\"\",T(Input_Output!ED141),\"\")","v":""},null,null,{"$f":"IF(Input_Output!EF141=\"\",T(Input_Output!EG141),\"\")","v":""},null,null,{"$f":"IF(Input_Output!EI141=\"\",T(Input_Output!EJ141),\"\")","v":""},null,null,{"$f":"IF(Input_Output!EL141=\"\",T(Input_Output!EM141),\"\")","v":""},null,null,{"$f":"IF(Input_Output!EO141=\"\",T(Input_Output!EP141),\"\")","v":""},null,null,{"$f":"IF(Input_Output!ER141=\"\",T(Input_Output!ES141),\"\")","v":""},null,null,{"$f":"IF(Input_Output!EU141=\"\",T(Input_Output!EV141),\"\")","v":""},null,null,{"$f":"IF(Input_Output!EX141=\"\",T(Input_Output!EY141),\"\")","v":""},null,null,{"$f":"IF(Input_Output!FA141=\"\",T(Input_Output!FB141),\"\")","v":""},null,null,{"$f":"IF(Input_Output!FD141=\"\",T(Input_Output!FE141),\"\")","v":""},null,null,{"$f":"IF(Input_Output!FG141=\"\",T(Input_Output!FH141),\"\")","v":""},null,null,{"$f":"IF(Input_Output!FJ141=\"\",T(Input_Output!FK141),\"\")","v":""},null,null,{"$f":"IF(Input_Output!FM141=\"\",T(Input_Output!FN141),\"\")","v":""},null,null,{"$f":"IF(Input_Output!FP141=\"\",T(Input_Output!FQ141),\"\")","v":""},null,null,{"$f":"IF(Input_Output!FS141=\"\",T(Input_Output!FT141),\"\")","v":""},null,null,{"$f":"IF(Input_Output!FV141=\"\",T(Input_Output!FW141),\"\")","v":""},null,null,{"$f":"IF(Input_Output!FY141=\"\",T(Input_Output!FZ141),\"\")","v":""},null,null,{"$f":"IF(Input_Output!GB141=\"\",T(Input_Output!GC141),\"\")","v":""},null,null,{"$f":"IF(Input_Output!GE141=\"\",T(Input_Output!GF141),\"\")","v":""},null,null,{"$f":"IF(Input_Output!GH141=\"\",T(Input_Output!GI141),\"\")","v":""},null,null,{"$f":"IF(Input_Output!GK141=\"\",T(Input_Output!GL141),\"\")","v":""},null,null,{"$f":"IF(Input_Output!GN141=\"\",T(Input_Output!GO141),\"\")","v":""},null,null,{"$f":"IF(Input_Output!GQ141=\"\",T(Input_Output!GR141),\"\")","v":""},null,null,{"$f":"IF(Input_Output!GT141=\"\",T(Input_Output!GU141),\"\")","v":""},null,null,{"$f":"IF(Input_Output!GW141=\"\",T(Input_Output!GX141),\"\")","v":""},null,null,{"$f":"IF(Input_Output!GZ141=\"\",T(Input_Output!HA141),\"\")","v":""},null,null,{"$f":"IF(Input_Output!HC141=\"\",T(Input_Output!HD141),\"\")","v":""},null,null,{"$f":"IF(Input_Output!HF141=\"\",T(Input_Output!HG141),\"\")","v":""},null,null,{"$f":"IF(Input_Output!HI141=\"\",T(Input_Output!HJ141),\"\")","v":""},null,null,{"$f":"IF(Input_Output!HL141=\"\",T(Input_Output!HM141),\"\")","v":""},null,null,{"$f":"IF(Input_Output!HO141=\"\",T(Input_Output!HP141),\"\")","v":""},null,null,{"$f":"IF(Input_Output!HR141=\"\",T(Input_Output!HS141),\"\")","v":""},null,null,{"$f":"IF(Input_Output!HU141=\"\",T(Input_Output!HV141),\"\")","v":""},null,null,{"$f":"IF(Input_Output!HX141=\"\",T(Input_Output!HY141),\"\")","v":""},null,null,{"$f":"IF(Input_Output!IA141=\"\",T(Input_Output!IB141),\"\")","v":""},null,null,{"$f":"IF(Input_Output!ID141=\"\",T(Input_Output!IE141),\"\")","v":""},null,null,{"$f":"IF(Input_Output!IG141=\"\",T(Input_Output!IH141),\"\")","v":""},null,null,{"$f":"IF(Input_Output!IJ141=\"\",T(Input_Output!IK141),\"\")","v":""},null,null,{"$f":"IF(Input_Output!IM141=\"\",T(Input_Output!IN141),\"\")","v":""},null,null,{"$f":"IF(Input_Output!IP141=\"\",T(Input_Output!IQ141),\"\")","v":""},null,null,{"$f":"IF(Input_Output!IS141=\"\",T(Input_Output!IT141),\"\")","v":""}]
[null,null,null,null,{"$f":"IF(Input_Output!D142=\"\",T(Input_Output!E142),\"\")","v":""},null,null,{"$f":"IF(Input_Output!G142=\"\",T(Input_Output!H142),\"\")","v":""},null,null,{"$f":"IF(Input_Output!J142=\"\",T(Input_Output!K142),\"\")","v":""},null,null,{"$f":"IF(Input_Output!M142=\"\",T(Input_Output!N142),\"\")","v":""},null,null,{"$f":"IF(Input_Output!P142=\"\",T(Input_Output!Q142),\"\")","v":""},null,null,{"$f":"IF(Input_Output!S142=\"\",T(Input_Output!T142),\"\")","v":""},null,null,{"$f":"IF(Input_Output!V142=\"\",T(Input_Output!W142),\"\")","v":""},null,null,{"$f":"IF(Input_Output!Y142=\"\",T(Input_Output!Z142),\"\")","v":""},null,null,{"$f":"IF(Input_Output!AB142=\"\",T(Input_Output!AC142),\"\")","v":""},null,null,{"$f":"IF(Input_Output!AE142=\"\",T(Input_Output!AF142),\"\")","v":""},null,null,{"$f":"IF(Input_Output!AH142=\"\",T(Input_Output!AI142),\"\")","v":""},null,null,{"$f":"IF(Input_Output!AK142=\"\",T(Input_Output!AL142),\"\")","v":""},null,null,{"$f":"IF(Input_Output!AN142=\"\",T(Input_Output!AO142),\"\")","v":""},null,null,{"$f":"IF(Input_Output!AQ142=\"\",T(Input_Output!AR142),\"\")","v":""},null,null,{"$f":"IF(Input_Output!AT142=\"\",T(Input_Output!AU142),\"\")","v":""},null,null,{"$f":"IF(Input_Output!AW142=\"\",T(Input_Output!AX142),\"\")","v":""},null,null,{"$f":"IF(Input_Output!AZ142=\"\",T(Input_Output!BA142),\"\")","v":""},null,null,{"$f":"IF(Input_Output!BC142=\"\",T(Input_Output!BD142),\"\")","v":""},null,null,{"$f":"IF(Input_Output!BF142=\"\",T(Input_Output!BG142),\"\")","v":""},null,null,{"$f":"IF(Input_Output!BI142=\"\",T(Input_Output!BJ142),\"\")","v":""},null,null,{"$f":"IF(Input_Output!BL142=\"\",T(Input_Output!BM142),\"\")","v":""},null,null,{"$f":"IF(Input_Output!BO142=\"\",T(Input_Output!BP142),\"\")","v":""},null,null,{"$f":"IF(Input_Output!BR142=\"\",T(Input_Output!BS142),\"\")","v":""},null,null,{"$f":"IF(Input_Output!BU142=\"\",T(Input_Output!BV142),\"\")","v":""},null,null,{"$f":"IF(Input_Output!BX142=\"\",T(Input_Output!BY142),\"\")","v":""},null,null,{"$f":"IF(Input_Output!CA142=\"\",T(Input_Output!CB142),\"\")","v":""},null,null,{"$f":"IF(Input_Output!CD142=\"\",T(Input_Output!CE142),\"\")","v":""},null,null,{"$f":"IF(Input_Output!CG142=\"\",T(Input_Output!CH142),\"\")","v":""},null,null,{"$f":"IF(Input_Output!CJ142=\"\",T(Input_Output!CK142),\"\")","v":""},null,null,{"$f":"IF(Input_Output!CM142=\"\",T(Input_Output!CN142),\"\")","v":""},null,null,{"$f":"IF(Input_Output!CP142=\"\",T(Input_Output!CQ142),\"\")","v":""},null,null,{"$f":"IF(Input_Output!CS142=\"\",T(Input_Output!CT142),\"\")","v":""},null,null,{"$f":"IF(Input_Output!CV142=\"\",T(Input_Output!CW142),\"\")","v":""},null,null,{"$f":"IF(Input_Output!CY142=\"\",T(Input_Output!CZ142),\"\")","v":""},null,null,{"$f":"IF(Input_Output!DB142=\"\",T(Input_Output!DC142),\"\")","v":""},null,null,{"$f":"IF(Input_Output!DE142=\"\",T(Input_Output!DF142),\"\")","v":""},null,null,{"$f":"IF(Input_Output!DH142=\"\",T(Input_Output!DI142),\"\")","v":""},null,null,{"$f":"IF(Input_Output!DK142=\"\",T(Input_Output!DL142),\"\")","v":""},null,null,{"$f":"IF(Input_Output!DN142=\"\",T(Input_Output!DO142),\"\")","v":""},null,null,{"$f":"IF(Input_Output!DQ142=\"\",T(Input_Output!DR142),\"\")","v":""},null,null,{"$f":"IF(Input_Output!DT142=\"\",T(Input_Output!DU142),\"\")","v":""},null,null,{"$f":"IF(Input_Output!DW142=\"\",T(Input_Output!DX142),\"\")","v":""},null,null,{"$f":"IF(Input_Output!DZ142=\"\",T(Input_Output!EA142),\"\")","v":""},null,null,{"$f":"IF(Input_Output!EC142=\"\",T(Input_Output!ED142),\"\")","v":""},null,null,{"$f":"IF(Input_Output!EF142=\"\",T(Input_Output!EG142),\"\")","v":""},null,null,{"$f":"IF(Input_Output!EI142=\"\",T(Input_Output!EJ142),\"\")","v":""},null,null,{"$f":"IF(Input_Output!EL142=\"\",T(Input_Output!EM142),\"\")","v":""},null,null,{"$f":"IF(Input_Output!EO142=\"\",T(Input_Output!EP142),\"\")","v":""},null,null,{"$f":"IF(Input_Output!ER142=\"\",T(Input_Output!ES142),\"\")","v":""},null,null,{"$f":"IF(Input_Output!EU142=\"\",T(Input_Output!EV142),\"\")","v":""},null,null,{"$f":"IF(Input_Output!EX142=\"\",T(Input_Output!EY142),\"\")","v":""},null,null,{"$f":"IF(Input_Output!FA142=\"\",T(Input_Output!FB142),\"\")","v":""},null,null,{"$f":"IF(Input_Output!FD142=\"\",T(Input_Output!FE142),\"\")","v":""},null,null,{"$f":"IF(Input_Output!FG142=\"\",T(Input_Output!FH142),\"\")","v":""},null,null,{"$f":"IF(Input_Output!FJ142=\"\",T(Input_Output!FK142),\"\")","v":""},null,null,{"$f":"IF(Input_Output!FM142=\"\",T(Input_Output!FN142),\"\")","v":""},null,null,{"$f":"IF(Input_Output!FP142=\"\",T(Input_Output!FQ142),\"\")","v":""},null,null,{"$f":"IF(Input_Output!FS142=\"\",T(Input_Output!FT142),\"\")","v":""},null,null,{"$f":"IF(Input_Output!FV142=\"\",T(Input_Output!FW142),\"\")","v":""},null,null,{"$f":"IF(Input_Output!FY142=\"\",T(Input_Output!FZ142),\"\")","v":""},null,null,{"$f":"IF(Input_Output!GB142=\"\",T(Input_Output!GC142),\"\")","v":""},null,null,{"$f":"IF(Input_Output!GE142=\"\",T(Input_Output!GF142),\"\")","v":""},null,null,{"$f":"IF(Input_Output!GH142=\"\",T(Input_Output!GI142),\"\")","v":""},null,null,{"$f":"IF(Input_Output!GK142=\"\",T(Input_Output!GL142),\"\")","v":""},null,null,{"$f":"IF(Input_Output!GN142=\"\",T(Input_Output!GO142),\"\")","v":""},null,null,{"$f":"IF(Input_Output!GQ142=\"\",T(Input_Output!GR142),\"\")","v":""},null,null,{"$f":"IF(Input_Output!GT142=\"\",T(Input_Output!GU142),\"\")","v":""},null,null,{"$f":"IF(Input_Output!GW142=\"\",T(Input_Output!GX142),\"\")","v":""},null,null,{"$f":"IF(Input_Output!GZ142=\"\",T(Input_Output!HA142),\"\")","v":""},null,null,{"$f":"IF(Input_Output!HC142=\"\",T(Input_Output!HD142),\"\")","v":""},null,null,{"$f":"IF(Input_Output!HF142=\"\",T(Input_Output!HG142),\"\")","v":""},null,null,{"$f":"IF(Input_Output!HI142=\"\",T(Input_Output!HJ142),\"\")","v":""},null,null,{"$f":"IF(Input_Output!HL142=\"\",T(Input_Output!HM142),\"\")","v":""},null,null,{"$f":"IF(Input_Output!HO142=\"\",T(Input_Output!HP142),\"\")","v":""},null,null,{"$f":"IF(Input_Output!HR142=\"\",T(Input_Output!HS142),\"\")","v":""},null,null,{"$f":"IF(Input_Output!HU142=\"\",T(Input_Output!HV142),\"\")","v":""},null,null,{"$f":"IF(Input_Output!HX142=\"\",T(Input_Output!HY142),\"\")","v":""},null,null,{"$f":"IF(Input_Output!IA142=\"\",T(Input_Output!IB142),\"\")","v":""},null,null,{"$f":"IF(Input_Output!ID142=\"\",T(Input_Output!IE142),\"\")","v":""},null,null,{"$f":"IF(Input_Output!IG142=\"\",T(Input_Output!IH142),\"\")","v":""},null,null,{"$f":"IF(Input_Output!IJ142=\"\",T(Input_Output!IK142),\"\")","v":""},null,null,{"$f":"IF(Input_Output!IM142=\"\",T(Input_Output!IN142),\"\")","v":""},null,null,{"$f":"IF(Input_Output!IP142=\"\",T(Input_Output!IQ142),\"\")","v":""},null,null,{"$f":"IF(Input_Output!IS142=\"\",T(Input_Output!IT142),\"\")","v":""}]
[null,null,null,null,{"$f":"IF(Input_Output!D143=\"\",T(Input_Output!E143),\"\")","v":""},null,null,{"$f":"IF(Input_Output!G143=\"\",T(Input_Output!H143),\"\")","v":""},null,null,{"$f":"IF(Input_Output!J143=\"\",T(Input_Output!K143),\"\")","v":""},null,null,{"$f":"IF(Input_Output!M143=\"\",T(Input_Output!N143),\"\")","v":""},null,null,{"$f":"IF(Input_Output!P143=\"\",T(Input_Output!Q143),\"\")","v":""},null,null,{"$f":"IF(Input_Output!S143=\"\",T(Input_Output!T143),\"\")","v":""},null,null,{"$f":"IF(Input_Output!V143=\"\",T(Input_Output!W143),\"\")","v":""},null,null,{"$f":"IF(Input_Output!Y143=\"\",T(Input_Output!Z143),\"\")","v":""},null,null,{"$f":"IF(Input_Output!AB143=\"\",T(Input_Output!AC143),\"\")","v":""},null,null,{"$f":"IF(Input_Output!AE143=\"\",T(Input_Output!AF143),\"\")","v":""},null,null,{"$f":"IF(Input_Output!AH143=\"\",T(Input_Output!AI143),\"\")","v":""},null,null,{"$f":"IF(Input_Output!AK143=\"\",T(Input_Output!AL143),\"\")","v":""},null,null,{"$f":"IF(Input_Output!AN143=\"\",T(Input_Output!AO143),\"\")","v":""},null,null,{"$f":"IF(Input_Output!AQ143=\"\",T(Input_Output!AR143),\"\")","v":""},null,null,{"$f":"IF(Input_Output!AT143=\"\",T(Input_Output!AU143),\"\")","v":""},null,null,{"$f":"IF(Input_Output!AW143=\"\",T(Input_Output!AX143),\"\")","v":""},null,null,{"$f":"IF(Input_Output!AZ143=\"\",T(Input_Output!BA143),\"\")","v":""},null,null,{"$f":"IF(Input_Output!BC143=\"\",T(Input_Output!BD143),\"\")","v":""},null,null,{"$f":"IF(Input_Output!BF143=\"\",T(Input_Output!BG143),\"\")","v":""},null,null,{"$f":"IF(Input_Output!BI143=\"\",T(Input_Output!BJ143),\"\")","v":""},null,null,{"$f":"IF(Input_Output!BL143=\"\",T(Input_Output!BM143),\"\")","v":""},null,null,{"$f":"IF(Input_Output!BO143=\"\",T(Input_Output!BP143),\"\")","v":""},null,null,{"$f":"IF(Input_Output!BR143=\"\",T(Input_Output!BS143),\"\")","v":""},null,null,{"$f":"IF(Input_Output!BU143=\"\",T(Input_Output!BV143),\"\")","v":""},null,null,{"$f":"IF(Input_Output!BX143=\"\",T(Input_Output!BY143),\"\")","v":""},null,null,{"$f":"IF(Input_Output!CA143=\"\",T(Input_Output!CB143),\"\")","v":""},null,null,{"$f":"IF(Input_Output!CD143=\"\",T(Input_Output!CE143),\"\")","v":""},null,null,{"$f":"IF(Input_Output!CG143=\"\",T(Input_Output!CH143),\"\")","v":""},null,null,{"$f":"IF(Input_Output!CJ143=\"\",T(Input_Output!CK143),\"\")","v":""},null,null,{"$f":"IF(Input_Output!CM143=\"\",T(Input_Output!CN143),\"\")","v":""},null,null,{"$f":"IF(Input_Output!CP143=\"\",T(Input_Output!CQ143),\"\")","v":""},null,null,{"$f":"IF(Input_Output!CS143=\"\",T(Input_Output!CT143),\"\")","v":""},null,null,{"$f":"IF(Input_Output!CV143=\"\",T(Input_Output!CW143),\"\")","v":""},null,null,{"$f":"IF(Input_Output!CY143=\"\",T(Input_Output!CZ143),\"\")","v":""},null,null,{"$f":"IF(Input_Output!DB143=\"\",T(Input_Output!DC143),\"\")","v":""},null,null,{"$f":"IF(Input_Output!DE143=\"\",T(Input_Output!DF143),\"\")","v":""},null,null,{"$f":"IF(Input_Output!DH143=\"\",T(Input_Output!DI143),\"\")","v":""},null,null,{"$f":"IF(Input_Output!DK143=\"\",T(Input_Output!DL143),\"\")","v":""},null,null,{"$f":"IF(Input_Output!DN143=\"\",T(Input_Output!DO143),\"\")","v":""},null,null,{"$f":"IF(Input_Output!DQ143=\"\",T(Input_Output!DR143),\"\")","v":""},null,null,{"$f":"IF(Input_Output!DT143=\"\",T(Input_Output!DU143),\"\")","v":""},null,null,{"$f":"IF(Input_Output!DW143=\"\",T(Input_Output!DX143),\"\")","v":""},null,null,{"$f":"IF(Input_Output!DZ143=\"\",T(Input_Output!EA143),\"\")","v":""},null,null,{"$f":"IF(Input_Output!EC143=\"\",T(Input_Output!ED143),\"\")","v":""},null,null,{"$f":"IF(Input_Output!EF143=\"\",T(Input_Output!EG143),\"\")","v":""},null,null,{"$f":"IF(Input_Output!EI143=\"\",T(Input_Output!EJ143),\"\")","v":""},null,null,{"$f":"IF(Input_Output!EL143=\"\",T(Input_Output!EM143),\"\")","v":""},null,null,{"$f":"IF(Input_Output!EO143=\"\",T(Input_Output!EP143),\"\")","v":""},null,null,{"$f":"IF(Input_Output!ER143=\"\",T(Input_Output!ES143),\"\")","v":""},null,null,{"$f":"IF(Input_Output!EU143=\"\",T(Input_Output!EV143),\"\")","v":""},null,null,{"$f":"IF(Input_Output!EX143=\"\",T(Input_Output!EY143),\"\")","v":""},null,null,{"$f":"IF(Input_Output!FA143=\"\",T(Input_Output!FB143),\"\")","v":""},null,null,{"$f":"IF(Input_Output!FD143=\"\",T(Input_Output!FE143),\"\")","v":""},null,null,{"$f":"IF(Input_Output!FG143=\"\",T(Input_Output!FH143),\"\")","v":""},null,null,{"$f":"IF(Input_Output!FJ143=\"\",T(Input_Output!FK143),\"\")","v":""},null,null,{"$f":"IF(Input_Output!FM143=\"\",T(Input_Output!FN143),\"\")","v":""},null,null,{"$f":"IF(Input_Output!FP143=\"\",T(Input_Output!FQ143),\"\")","v":""},null,null,{"$f":"IF(Input_Output!FS143=\"\",T(Input_Output!FT143),\"\")","v":""},null,null,{"$f":"IF(Input_Output!FV143=\"\",T(Input_Output!FW143),\"\")","v":""},null,null,{"$f":"IF(Input_Output!FY143=\"\",T(Input_Output!FZ143),\"\")","v":""},null,null,{"$f":"IF(Input_Output!GB143=\"\",T(Input_Output!GC143),\"\")","v":""},null,null,{"$f":"IF(Input_Output!GE143=\"\",T(Input_Output!GF143),\"\")","v":""},null,null,{"$f":"IF(Input_Output!GH143=\"\",T(Input_Output!GI143),\"\")","v":""},null,null,{"$f":"IF(Input_Output!GK143=\"\",T(Input_Output!GL143),\"\")","v":""},null,null,{"$f":"IF(Input_Output!GN143=\"\",T(Input_Output!GO143),\"\")","v":""},null,null,{"$f":"IF(Input_Output!GQ143=\"\",T(Input_Output!GR143),\"\")","v":""},null,null,{"$f":"IF(Input_Output!GT143=\"\",T(Input_Output!GU143),\"\")","v":""},null,null,{"$f":"IF(Input_Output!GW143=\"\",T(Input_Output!GX143),\"\")","v":""},null,null,{"$f":"IF(Input_Output!GZ143=\"\",T(Input_Output!HA143),\"\")","v":""},null,null,{"$f":"IF(Input_Output!HC143=\"\",T(Input_Output!HD143),\"\")","v":""},null,null,{"$f":"IF(Input_Output!HF143=\"\",T(Input_Output!HG143),\"\")","v":""},null,null,{"$f":"IF(Input_Output!HI143=\"\",T(Input_Output!HJ143),\"\")","v":""},null,null,{"$f":"IF(Input_Output!HL143=\"\",T(Input_Output!HM143),\"\")","v":""},null,null,{"$f":"IF(Input_Output!HO143=\"\",T(Input_Output!HP143),\"\")","v":""},null,null,{"$f":"IF(Input_Output!HR143=\"\",T(Input_Output!HS143),\"\")","v":""},null,null,{"$f":"IF(Input_Output!HU143=\"\",T(Input_Output!HV143),\"\")","v":""},null,null,{"$f":"IF(Input_Output!HX143=\"\",T(Input_Output!HY143),\"\")","v":""},null,null,{"$f":"IF(Input_Output!IA143=\"\",T(Input_Output!IB143),\"\")","v":""},null,null,{"$f":"IF(Input_Output!ID143=\"\",T(Input_Output!IE143),\"\")","v":""},null,null,{"$f":"IF(Input_Output!IG143=\"\",T(Input_Output!IH143),\"\")","v":""},null,null,{"$f":"IF(Input_Output!IJ143=\"\",T(Input_Output!IK143),\"\")","v":""},null,null,{"$f":"IF(Input_Output!IM143=\"\",T(Input_Output!IN143),\"\")","v":""},null,null,{"$f":"IF(Input_Output!IP143=\"\",T(Input_Output!IQ143),\"\")","v":""},null,null,{"$f":"IF(Input_Output!IS143=\"\",T(Input_Output!IT143),\"\")","v":""}]
[null,null,null,null,{"$f":"IF(Input_Output!D144=\"\",T(Input_Output!E144),\"\")","v":""},null,null,{"$f":"IF(Input_Output!G144=\"\",T(Input_Output!H144),\"\")","v":""},null,null,{"$f":"IF(Input_Output!J144=\"\",T(Input_Output!K144),\"\")","v":""},null,null,{"$f":"IF(Input_Output!M144=\"\",T(Input_Output!N144),\"\")","v":""},null,null,{"$f":"IF(Input_Output!P144=\"\",T(Input_Output!Q144),\"\")","v":""},null,null,{"$f":"IF(Input_Output!S144=\"\",T(Input_Output!T144),\"\")","v":""},null,null,{"$f":"IF(Input_Output!V144=\"\",T(Input_Output!W144),\"\")","v":""},null,null,{"$f":"IF(Input_Output!Y144=\"\",T(Input_Output!Z144),\"\")","v":""},null,null,{"$f":"IF(Input_Output!AB144=\"\",T(Input_Output!AC144),\"\")","v":""},null,null,{"$f":"IF(Input_Output!AE144=\"\",T(Input_Output!AF144),\"\")","v":""},null,null,{"$f":"IF(Input_Output!AH144=\"\",T(Input_Output!AI144),\"\")","v":""},null,null,{"$f":"IF(Input_Output!AK144=\"\",T(Input_Output!AL144),\"\")","v":""},null,null,{"$f":"IF(Input_Output!AN144=\"\",T(Input_Output!AO144),\"\")","v":""},null,null,{"$f":"IF(Input_Output!AQ144=\"\",T(Input_Output!AR144),\"\")","v":""},null,null,{"$f":"IF(Input_Output!AT144=\"\",T(Input_Output!AU144),\"\")","v":""},null,null,{"$f":"IF(Input_Output!AW144=\"\",T(Input_Output!AX144),\"\")","v":""},null,null,{"$f":"IF(Input_Output!AZ144=\"\",T(Input_Output!BA144),\"\")","v":""},null,null,{"$f":"IF(Input_Output!BC144=\"\",T(Input_Output!BD144),\"\")","v":""},null,null,{"$f":"IF(Input_Output!BF144=\"\",T(Input_Output!BG144),\"\")","v":""},null,null,{"$f":"IF(Input_Output!BI144=\"\",T(Input_Output!BJ144),\"\")","v":""},null,null,{"$f":"IF(Input_Output!BL144=\"\",T(Input_Output!BM144),\"\")","v":""},null,null,{"$f":"IF(Input_Output!BO144=\"\",T(Input_Output!BP144),\"\")","v":""},null,null,{"$f":"IF(Input_Output!BR144=\"\",T(Input_Output!BS144),\"\")","v":""},null,null,{"$f":"IF(Input_Output!BU144=\"\",T(Input_Output!BV144),\"\")","v":""},null,null,{"$f":"IF(Input_Output!BX144=\"\",T(Input_Output!BY144),\"\")","v":""},null,null,{"$f":"IF(Input_Output!CA144=\"\",T(Input_Output!CB144),\"\")","v":""},null,null,{"$f":"IF(Input_Output!CD144=\"\",T(Input_Output!CE144),\"\")","v":""},null,null,{"$f":"IF(Input_Output!CG144=\"\",T(Input_Output!CH144),\"\")","v":""},null,null,{"$f":"IF(Input_Output!CJ144=\"\",T(Input_Output!CK144),\"\")","v":""},null,null,{"$f":"IF(Input_Output!CM144=\"\",T(Input_Output!CN144),\"\")","v":""},null,null,{"$f":"IF(Input_Output!CP144=\"\",T(Input_Output!CQ144),\"\")","v":""},null,null,{"$f":"IF(Input_Output!CS144=\"\",T(Input_Output!CT144),\"\")","v":""},null,null,{"$f":"IF(Input_Output!CV144=\"\",T(Input_Output!CW144),\"\")","v":""},null,null,{"$f":"IF(Input_Output!CY144=\"\",T(Input_Output!CZ144),\"\")","v":""},null,null,{"$f":"IF(Input_Output!DB144=\"\",T(Input_Output!DC144),\"\")","v":""},null,null,{"$f":"IF(Input_Output!DE144=\"\",T(Input_Output!DF144),\"\")","v":""},null,null,{"$f":"IF(Input_Output!DH144=\"\",T(Input_Output!DI144),\"\")","v":""},null,null,{"$f":"IF(Input_Output!DK144=\"\",T(Input_Output!DL144),\"\")","v":""},null,null,{"$f":"IF(Input_Output!DN144=\"\",T(Input_Output!DO144),\"\")","v":""},null,null,{"$f":"IF(Input_Output!DQ144=\"\",T(Input_Output!DR144),\"\")","v":""},null,null,{"$f":"IF(Input_Output!DT144=\"\",T(Input_Output!DU144),\"\")","v":""},null,null,{"$f":"IF(Input_Output!DW144=\"\",T(Input_Output!DX144),\"\")","v":""},null,null,{"$f":"IF(Input_Output!DZ144=\"\",T(Input_Output!EA144),\"\")","v":""},null,null,{"$f":"IF(Input_Output!EC144=\"\",T(Input_Output!ED144),\"\")","v":""},null,null,{"$f":"IF(Input_Output!EF144=\"\",T(Input_Output!EG144),\"\")","v":""},null,null,{"$f":"IF(Input_Output!EI144=\"\",T(Input_Output!EJ144),\"\")","v":""},null,null,{"$f":"IF(Input_Output!EL144=\"\",T(Input_Output!EM144),\"\")","v":""},null,null,{"$f":"IF(Input_Output!EO144=\"\",T(Input_Output!EP144),\"\")","v":""},null,null,{"$f":"IF(Input_Output!ER144=\"\",T(Input_Output!ES144),\"\")","v":""},null,null,{"$f":"IF(Input_Output!EU144=\"\",T(Input_Output!EV144),\"\")","v":""},null,null,{"$f":"IF(Input_Output!EX144=\"\",T(Input_Output!EY144),\"\")","v":""},null,null,{"$f":"IF(Input_Output!FA144=\"\",T(Input_Output!FB144),\"\")","v":""},null,null,{"$f":"IF(Input_Output!FD144=\"\",T(Input_Output!FE144),\"\")","v":""},null,null,{"$f":"IF(Input_Output!FG144=\"\",T(Input_Output!FH144),\"\")","v":""},null,null,{"$f":"IF(Input_Output!FJ144=\"\",T(Input_Output!FK144),\"\")","v":""},null,null,{"$f":"IF(Input_Output!FM144=\"\",T(Input_Output!FN144),\"\")","v":""},null,null,{"$f":"IF(Input_Output!FP144=\"\",T(Input_Output!FQ144),\"\")","v":""},null,null,{"$f":"IF(Input_Output!FS144=\"\",T(Input_Output!FT144),\"\")","v":""},null,null,{"$f":"IF(Input_Output!FV144=\"\",T(Input_Output!FW144),\"\")","v":""},null,null,{"$f":"IF(Input_Output!FY144=\"\",T(Input_Output!FZ144),\"\")","v":""},null,null,{"$f":"IF(Input_Output!GB144=\"\",T(Input_Output!GC144),\"\")","v":""},null,null,{"$f":"IF(Input_Output!GE144=\"\",T(Input_Output!GF144),\"\")","v":""},null,null,{"$f":"IF(Input_Output!GH144=\"\",T(Input_Output!GI144),\"\")","v":""},null,null,{"$f":"IF(Input_Output!GK144=\"\",T(Input_Output!GL144),\"\")","v":""},null,null,{"$f":"IF(Input_Output!GN144=\"\",T(Input_Output!GO144),\"\")","v":""},null,null,{"$f":"IF(Input_Output!GQ144=\"\",T(Input_Output!GR144),\"\")","v":""},null,null,{"$f":"IF(Input_Output!GT144=\"\",T(Input_Output!GU144),\"\")","v":""},null,null,{"$f":"IF(Input_Output!GW144=\"\",T(Input_Output!GX144),\"\")","v":""},null,null,{"$f":"IF(Input_Output!GZ144=\"\",T(Input_Output!HA144),\"\")","v":""},null,null,{"$f":"IF(Input_Output!HC144=\"\",T(Input_Output!HD144),\"\")","v":""},null,null,{"$f":"IF(Input_Output!HF144=\"\",T(Input_Output!HG144),\"\")","v":""},null,null,{"$f":"IF(Input_Output!HI144=\"\",T(Input_Output!HJ144),\"\")","v":""},null,null,{"$f":"IF(Input_Output!HL144=\"\",T(Input_Output!HM144),\"\")","v":""},null,null,{"$f":"IF(Input_Output!HO144=\"\",T(Input_Output!HP144),\"\")","v":""},null,null,{"$f":"IF(Input_Output!HR144=\"\",T(Input_Output!HS144),\"\")","v":""},null,null,{"$f":"IF(Input_Output!HU144=\"\",T(Input_Output!HV144),\"\")","v":""},null,null,{"$f":"IF(Input_Output!HX144=\"\",T(Input_Output!HY144),\"\")","v":""},null,null,{"$f":"IF(Input_Output!IA144=\"\",T(Input_Output!IB144),\"\")","v":""},null,null,{"$f":"IF(Input_Output!ID144=\"\",T(Input_Output!IE144),\"\")","v":""},null,null,{"$f":"IF(Input_Output!IG144=\"\",T(Input_Output!IH144),\"\")","v":""},null,null,{"$f":"IF(Input_Output!IJ144=\"\",T(Input_Output!IK144),\"\")","v":""},null,null,{"$f":"IF(Input_Output!IM144=\"\",T(Input_Output!IN144),\"\")","v":""},null,null,{"$f":"IF(Input_Output!IP144=\"\",T(Input_Output!IQ144),\"\")","v":""},null,null,{"$f":"IF(Input_Output!IS144=\"\",T(Input_Output!IT144),\"\")","v":""}]
[null,null,null,null,{"$f":"IF(Input_Output!D145=\"\",T(Input_Output!E145),\"\")","v":""},null,null,{"$f":"IF(Input_Output!G145=\"\",T(Input_Output!H145),\"\")","v":""},null,null,{"$f":"IF(Input_Output!J145=\"\",T(Input_Output!K145),\"\")","v":""},null,null,{"$f":"IF(Input_Output!M145=\"\",T(Input_Output!N145),\"\")","v":""},null,null,{"$f":"IF(Input_Output!P145=\"\",T(Input_Output!Q145),\"\")","v":""},null,null,{"$f":"IF(Input_Output!S145=\"\",T(Input_Output!T145),\"\")","v":""},null,null,{"$f":"IF(Input_Output!V145=\"\",T(Input_Output!W145),\"\")","v":""},null,null,{"$f":"IF(Input_Output!Y145=\"\",T(Input_Output!Z145),\"\")","v":""},null,null,{"$f":"IF(Input_Output!AB145=\"\",T(Input_Output!AC145),\"\")","v":""},null,null,{"$f":"IF(Input_Output!AE145=\"\",T(Input_Output!AF145),\"\")","v":""},null,null,{"$f":"IF(Input_Output!AH145=\"\",T(Input_Output!AI145),\"\")","v":""},null,null,{"$f":"IF(Input_Output!AK145=\"\",T(Input_Output!AL145),\"\")","v":""},null,null,{"$f":"IF(Input_Output!AN145=\"\",T(Input_Output!AO145),\"\")","v":""},null,null,{"$f":"IF(Input_Output!AQ145=\"\",T(Input_Output!AR145),\"\")","v":""},null,null,{"$f":"IF(Input_Output!AT145=\"\",T(Input_Output!AU145),\"\")","v":""},null,null,{"$f":"IF(Input_Output!AW145=\"\",T(Input_Output!AX145),\"\")","v":""},null,null,{"$f":"IF(Input_Output!AZ145=\"\",T(Input_Output!BA145),\"\")","v":""},null,null,{"$f":"IF(Input_Output!BC145=\"\",T(Input_Output!BD145),\"\")","v":""},null,null,{"$f":"IF(Input_Output!BF145=\"\",T(Input_Output!BG145),\"\")","v":""},null,null,{"$f":"IF(Input_Output!BI145=\"\",T(Input_Output!BJ145),\"\")","v":""},null,null,{"$f":"IF(Input_Output!BL145=\"\",T(Input_Output!BM145),\"\")","v":""},null,null,{"$f":"IF(Input_Output!BO145=\"\",T(Input_Output!BP145),\"\")","v":""},null,null,{"$f":"IF(Input_Output!BR145=\"\",T(Input_Output!BS145),\"\")","v":""},null,null,{"$f":"IF(Input_Output!BU145=\"\",T(Input_Output!BV145),\"\")","v":""},null,null,{"$f":"IF(Input_Output!BX145=\"\",T(Input_Output!BY145),\"\")","v":""},null,null,{"$f":"IF(Input_Output!CA145=\"\",T(Input_Output!CB145),\"\")","v":""},null,null,{"$f":"IF(Input_Output!CD145=\"\",T(Input_Output!CE145),\"\")","v":""},null,null,{"$f":"IF(Input_Output!CG145=\"\",T(Input_Output!CH145),\"\")","v":""},null,null,{"$f":"IF(Input_Output!CJ145=\"\",T(Input_Output!CK145),\"\")","v":""},null,null,{"$f":"IF(Input_Output!CM145=\"\",T(Input_Output!CN145),\"\")","v":""},null,null,{"$f":"IF(Input_Output!CP145=\"\",T(Input_Output!CQ145),\"\")","v":""},null,null,{"$f":"IF(Input_Output!CS145=\"\",T(Input_Output!CT145),\"\")","v":""},null,null,{"$f":"IF(Input_Output!CV145=\"\",T(Input_Output!CW145),\"\")","v":""},null,null,{"$f":"IF(Input_Output!CY145=\"\",T(Input_Output!CZ145),\"\")","v":""},null,null,{"$f":"IF(Input_Output!DB145=\"\",T(Input_Output!DC145),\"\")","v":""},null,null,{"$f":"IF(Input_Output!DE145=\"\",T(Input_Output!DF145),\"\")","v":""},null,null,{"$f":"IF(Input_Output!DH145=\"\",T(Input_Output!DI145),\"\")","v":""},null,null,{"$f":"IF(Input_Output!DK145=\"\",T(Input_Output!DL145),\"\")","v":""},null,null,{"$f":"IF(Input_Output!DN145=\"\",T(Input_Output!DO145),\"\")","v":""},null,null,{"$f":"IF(Input_Output!DQ145=\"\",T(Input_Output!DR145),\"\")","v":""},null,null,{"$f":"IF(Input_Output!DT145=\"\",T(Input_Output!DU145),\"\")","v":""},null,null,{"$f":"IF(Input_Output!DW145=\"\",T(Input_Output!DX145),\"\")","v":""},null,null,{"$f":"IF(Input_Output!DZ145=\"\",T(Input_Output!EA145),\"\")","v":""},null,null,{"$f":"IF(Input_Output!EC145=\"\",T(Input_Output!ED145),\"\")","v":""},null,null,{"$f":"IF(Input_Output!EF145=\"\",T(Input_Output!EG145),\"\")","v":""},null,null,{"$f":"IF(Input_Output!EI145=\"\",T(Input_Output!EJ145),\"\")","v":""},null,null,{"$f":"IF(Input_Output!EL145=\"\",T(Input_Output!EM145),\"\")","v":""},null,null,{"$f":"IF(Input_Output!EO145=\"\",T(Input_Output!EP145),\"\")","v":""},null,null,{"$f":"IF(Input_Output!ER145=\"\",T(Input_Output!ES145),\"\")","v":""},null,null,{"$f":"IF(Input_Output!EU145=\"\",T(Input_Output!EV145),\"\")","v":""},null,null,{"$f":"IF(Input_Output!EX145=\"\",T(Input_Output!EY145),\"\")","v":""},null,null,{"$f":"IF(Input_Output!FA145=\"\",T(Input_Output!FB145),\"\")","v":""},null,null,{"$f":"IF(Input_Output!FD145=\"\",T(Input_Output!FE145),\"\")","v":""},null,null,{"$f":"IF(Input_Output!FG145=\"\",T(Input_Output!FH145),\"\")","v":""},null,null,{"$f":"IF(Input_Output!FJ145=\"\",T(Input_Output!FK145),\"\")","v":""},null,null,{"$f":"IF(Input_Output!FM145=\"\",T(Input_Output!FN145),\"\")","v":""},null,null,{"$f":"IF(Input_Output!FP145=\"\",T(Input_Output!FQ145),\"\")","v":""},null,null,{"$f":"IF(Input_Output!FS145=\"\",T(Input_Output!FT145),\"\")","v":""},null,null,{"$f":"IF(Input_Output!FV145=\"\",T(Input_Output!FW145),\"\")","v":""},null,null,{"$f":"IF(Input_Output!FY145=\"\",T(Input_Output!FZ145),\"\")","v":""},null,null,{"$f":"IF(Input_Output!GB145=\"\",T(Input_Output!GC145),\"\")","v":""},null,null,{"$f":"IF(Input_Output!GE145=\"\",T(Input_Output!GF145),\"\")","v":""},null,null,{"$f":"IF(Input_Output!GH145=\"\",T(Input_Output!GI145),\"\")","v":""},null,null,{"$f":"IF(Input_Output!GK145=\"\",T(Input_Output!GL145),\"\")","v":""},null,null,{"$f":"IF(Input_Output!GN145=\"\",T(Input_Output!GO145),\"\")","v":""},null,null,{"$f":"IF(Input_Output!GQ145=\"\",T(Input_Output!GR145),\"\")","v":""},null,null,{"$f":"IF(Input_Output!GT145=\"\",T(Input_Output!GU145),\"\")","v":""},null,null,{"$f":"IF(Input_Output!GW145=\"\",T(Input_Output!GX145),\"\")","v":""},null,null,{"$f":"IF(Input_Output!GZ145=\"\",T(Input_Output!HA145),\"\")","v":""},null,null,{"$f":"IF(Input_Output!HC145=\"\",T(Input_Output!HD145),\"\")","v":""},null,null,{"$f":"IF(Input_Output!HF145=\"\",T(Input_Output!HG145),\"\")","v":""},null,null,{"$f":"IF(Input_Output!HI145=\"\",T(Input_Output!HJ145),\"\")","v":""},null,null,{"$f":"IF(Input_Output!HL145=\"\",T(Input_Output!HM145),\"\")","v":""},null,null,{"$f":"IF(Input_Output!HO145=\"\",T(Input_Output!HP145),\"\")","v":""},null,null,{"$f":"IF(Input_Output!HR145=\"\",T(Input_Output!HS145),\"\")","v":""},null,null,{"$f":"IF(Input_Output!HU145=\"\",T(Input_Output!HV145),\"\")","v":""},null,null,{"$f":"IF(Input_Output!HX145=\"\",T(Input_Output!HY145),\"\")","v":""},null,null,{"$f":"IF(Input_Output!IA145=\"\",T(Input_Output!IB145),\"\")","v":""},null,null,{"$f":"IF(Input_Output!ID145=\"\",T(Input_Output!IE145),\"\")","v":""},null,null,{"$f":"IF(Input_Output!IG145=\"\",T(Input_Output!IH145),\"\")","v":""},null,null,{"$f":"IF(Input_Output!IJ145=\"\",T(Input_Output!IK145),\"\")","v":""},null,null,{"$f":"IF(Input_Output!IM145=\"\",T(Input_Output!IN145),\"\")","v":""},null,null,{"$f":"IF(Input_Output!IP145=\"\",T(Input_Output!IQ145),\"\")","v":""},null,null,{"$f":"IF(Input_Output!IS145=\"\",T(Input_Output!IT145),\"\")","v":""}]
[null,null,null,null,{"$f":"IF(Input_Output!D146=\"\",T(Input_Output!E146),\"\")","v":""},null,null,{"$f":"IF(Input_Output!G146=\"\",T(Input_Output!H146),\"\")","v":""},null,null,{"$f":"IF(Input_Output!J146=\"\",T(Input_Output!K146),\"\")","v":""},null,null,{"$f":"IF(Input_Output!M146=\"\",T(Input_Output!N146),\"\")","v":""},null,null,{"$f":"IF(Input_Output!P146=\"\",T(Input_Output!Q146),\"\")","v":""},null,null,{"$f":"IF(Input_Output!S146=\"\",T(Input_Output!T146),\"\")","v":""},null,null,{"$f":"IF(Input_Output!V146=\"\",T(Input_Output!W146),\"\")","v":""},null,null,{"$f":"IF(Input_Output!Y146=\"\",T(Input_Output!Z146),\"\")","v":""},null,null,{"$f":"IF(Input_Output!AB146=\"\",T(Input_Output!AC146),\"\")","v":""},null,null,{"$f":"IF(Input_Output!AE146=\"\",T(Input_Output!AF146),\"\")","v":""},null,null,{"$f":"IF(Input_Output!AH146=\"\",T(Input_Output!AI146),\"\")","v":""},null,null,{"$f":"IF(Input_Output!AK146=\"\",T(Input_Output!AL146),\"\")","v":""},null,null,{"$f":"IF(Input_Output!AN146=\"\",T(Input_Output!AO146),\"\")","v":""},null,null,{"$f":"IF(Input_Output!AQ146=\"\",T(Input_Output!AR146),\"\")","v":""},null,null,{"$f":"IF(Input_Output!AT146=\"\",T(Input_Output!AU146),\"\")","v":""},null,null,{"$f":"IF(Input_Output!AW146=\"\",T(Input_Output!AX146),\"\")","v":""},null,null,{"$f":"IF(Input_Output!AZ146=\"\",T(Input_Output!BA146),\"\")","v":""},null,null,{"$f":"IF(Input_Output!BC146=\"\",T(Input_Output!BD146),\"\")","v":""},null,null,{"$f":"IF(Input_Output!BF146=\"\",T(Input_Output!BG146),\"\")","v":""},null,null,{"$f":"IF(Input_Output!BI146=\"\",T(Input_Output!BJ146),\"\")","v":""},null,null,{"$f":"IF(Input_Output!BL146=\"\",T(Input_Output!BM146),\"\")","v":""},null,null,{"$f":"IF(Input_Output!BO146=\"\",T(Input_Output!BP146),\"\")","v":""},null,null,{"$f":"IF(Input_Output!BR146=\"\",T(Input_Output!BS146),\"\")","v":""},null,null,{"$f":"IF(Input_Output!BU146=\"\",T(Input_Output!BV146),\"\")","v":""},null,null,{"$f":"IF(Input_Output!BX146=\"\",T(Input_Output!BY146),\"\")","v":""},null,null,{"$f":"IF(Input_Output!CA146=\"\",T(Input_Output!CB146),\"\")","v":""},null,null,{"$f":"IF(Input_Output!CD146=\"\",T(Input_Output!CE146),\"\")","v":""},null,null,{"$f":"IF(Input_Output!CG146=\"\",T(Input_Output!CH146),\"\")","v":""},null,null,{"$f":"IF(Input_Output!CJ146=\"\",T(Input_Output!CK146),\"\")","v":""},null,null,{"$f":"IF(Input_Output!CM146=\"\",T(Input_Output!CN146),\"\")","v":""},null,null,{"$f":"IF(Input_Output!CP146=\"\",T(Input_Output!CQ146),\"\")","v":""},null,null,{"$f":"IF(Input_Output!CS146=\"\",T(Input_Output!CT146),\"\")","v":""},null,null,{"$f":"IF(Input_Output!CV146=\"\",T(Input_Output!CW146),\"\")","v":""},null,null,{"$f":"IF(Input_Output!CY146=\"\",T(Input_Output!CZ146),\"\")","v":""},null,null,{"$f":"IF(Input_Output!DB146=\"\",T(Input_Output!DC146),\"\")","v":""},null,null,{"$f":"IF(Input_Output!DE146=\"\",T(Input_Output!DF146),\"\")","v":""},null,null,{"$f":"IF(Input_Output!DH146=\"\",T(Input_Output!DI146),\"\")","v":""},null,null,{"$f":"IF(Input_Output!DK146=\"\",T(Input_Output!DL146),\"\")","v":""},null,null,{"$f":"IF(Input_Output!DN146=\"\",T(Input_Output!DO146),\"\")","v":""},null,null,{"$f":"IF(Input_Output!DQ146=\"\",T(Input_Output!DR146),\"\")","v":""},null,null,{"$f":"IF(Input_Output!DT146=\"\",T(Input_Output!DU146),\"\")","v":""},null,null,{"$f":"IF(Input_Output!DW146=\"\",T(Input_Output!DX146),\"\")","v":""},null,null,{"$f":"IF(Input_Output!DZ146=\"\",T(Input_Output!EA146),\"\")","v":""},null,null,{"$f":"IF(Input_Output!EC146=\"\",T(Input_Output!ED146),\"\")","v":""},null,null,{"$f":"IF(Input_Output!EF146=\"\",T(Input_Output!EG146),\"\")","v":""},null,null,{"$f":"IF(Input_Output!EI146=\"\",T(Input_Output!EJ146),\"\")","v":""},null,null,{"$f":"IF(Input_Output!EL146=\"\",T(Input_Output!EM146),\"\")","v":""},null,null,{"$f":"IF(Input_Output!EO146=\"\",T(Input_Output!EP146),\"\")","v":""},null,null,{"$f":"IF(Input_Output!ER146=\"\",T(Input_Output!ES146),\"\")","v":""},null,null,{"$f":"IF(Input_Output!EU146=\"\",T(Input_Output!EV146),\"\")","v":""},null,null,{"$f":"IF(Input_Output!EX146=\"\",T(Input_Output!EY146),\"\")","v":""},null,null,{"$f":"IF(Input_Output!FA146=\"\",T(Input_Output!FB146),\"\")","v":""},null,null,{"$f":"IF(Input_Output!FD146=\"\",T(Input_Output!FE146),\"\")","v":""},null,null,{"$f":"IF(Input_Output!FG146=\"\",T(Input_Output!FH146),\"\")","v":""},null,null,{"$f":"IF(Input_Output!FJ146=\"\",T(Input_Output!FK146),\"\")","v":""},null,null,{"$f":"IF(Input_Output!FM146=\"\",T(Input_Output!FN146),\"\")","v":""},null,null,{"$f":"IF(Input_Output!FP146=\"\",T(Input_Output!FQ146),\"\")","v":""},null,null,{"$f":"IF(Input_Output!FS146=\"\",T(Input_Output!FT146),\"\")","v":""},null,null,{"$f":"IF(Input_Output!FV146=\"\",T(Input_Output!FW146),\"\")","v":""},null,null,{"$f":"IF(Input_Output!FY146=\"\",T(Input_Output!FZ146),\"\")","v":""},null,null,{"$f":"IF(Input_Output!GB146=\"\",T(Input_Output!GC146),\"\")","v":""},null,null,{"$f":"IF(Input_Output!GE146=\"\",T(Input_Output!GF146),\"\")","v":""},null,null,{"$f":"IF(Input_Output!GH146=\"\",T(Input_Output!GI146),\"\")","v":""},null,null,{"$f":"IF(Input_Output!GK146=\"\",T(Input_Output!GL146),\"\")","v":""},null,null,{"$f":"IF(Input_Output!GN146=\"\",T(Input_Output!GO146),\"\")","v":""},null,null,{"$f":"IF(Input_Output!GQ146=\"\",T(Input_Output!GR146),\"\")","v":""},null,null,{"$f":"IF(Input_Output!GT146=\"\",T(Input_Output!GU146),\"\")","v":""},null,null,{"$f":"IF(Input_Output!GW146=\"\",T(Input_Output!GX146),\"\")","v":""},null,null,{"$f":"IF(Input_Output!GZ146=\"\",T(Input_Output!HA146),\"\")","v":""},null,null,{"$f":"IF(Input_Output!HC146=\"\",T(Input_Output!HD146),\"\")","v":""},null,null,{"$f":"IF(Input_Output!HF146=\"\",T(Input_Output!HG146),\"\")","v":""},null,null,{"$f":"IF(Input_Output!HI146=\"\",T(Input_Output!HJ146),\"\")","v":""},null,null,{"$f":"IF(Input_Output!HL146=\"\",T(Input_Output!HM146),\"\")","v":""},null,null,{"$f":"IF(Input_Output!HO146=\"\",T(Input_Output!HP146),\"\")","v":""},null,null,{"$f":"IF(Input_Output!HR146=\"\",T(Input_Output!HS146),\"\")","v":""},null,null,{"$f":"IF(Input_Output!HU146=\"\",T(Input_Output!HV146),\"\")","v":""},null,null,{"$f":"IF(Input_Output!HX146=\"\",T(Input_Output!HY146),\"\")","v":""},null,null,{"$f":"IF(Input_Output!IA146=\"\",T(Input_Output!IB146),\"\")","v":""},null,null,{"$f":"IF(Input_Output!ID146=\"\",T(Input_Output!IE146),\"\")","v":""},null,null,{"$f":"IF(Input_Output!IG146=\"\",T(Input_Output!IH146),\"\")","v":""},null,null,{"$f":"IF(Input_Output!IJ146=\"\",T(Input_Output!IK146),\"\")","v":""},null,null,{"$f":"IF(Input_Output!IM146=\"\",T(Input_Output!IN146),\"\")","v":""},null,null,{"$f":"IF(Input_Output!IP146=\"\",T(Input_Output!IQ146),\"\")","v":""},null,null,{"$f":"IF(Input_Output!IS146=\"\",T(Input_Output!IT146),\"\")","v":""}]
[null,null,null,null,{"$f":"IF(Input_Output!D147=\"\",T(Input_Output!E147),\"\")","v":""},null,null,{"$f":"IF(Input_Output!G147=\"\",T(Input_Output!H147),\"\")","v":""},null,null,{"$f":"IF(Input_Output!J147=\"\",T(Input_Output!K147),\"\")","v":""},null,null,{"$f":"IF(Input_Output!M147=\"\",T(Input_Output!N147),\"\")","v":""},null,null,{"$f":"IF(Input_Output!P147=\"\",T(Input_Output!Q147),\"\")","v":""},null,null,{"$f":"IF(Input_Output!S147=\"\",T(Input_Output!T147),\"\")","v":""},null,null,{"$f":"IF(Input_Output!V147=\"\",T(Input_Output!W147),\"\")","v":""},null,null,{"$f":"IF(Input_Output!Y147=\"\",T(Input_Output!Z147),\"\")","v":""},null,null,{"$f":"IF(Input_Output!AB147=\"\",T(Input_Output!AC147),\"\")","v":""},null,null,{"$f":"IF(Input_Output!AE147=\"\",T(Input_Output!AF147),\"\")","v":""},null,null,{"$f":"IF(Input_Output!AH147=\"\",T(Input_Output!AI147),\"\")","v":""},null,null,{"$f":"IF(Input_Output!AK147=\"\",T(Input_Output!AL147),\"\")","v":""},null,null,{"$f":"IF(Input_Output!AN147=\"\",T(Input_Output!AO147),\"\")","v":""},null,null,{"$f":"IF(Input_Output!AQ147=\"\",T(Input_Output!AR147),\"\")","v":""},null,null,{"$f":"IF(Input_Output!AT147=\"\",T(Input_Output!AU147),\"\")","v":""},null,null,{"$f":"IF(Input_Output!AW147=\"\",T(Input_Output!AX147),\"\")","v":""},null,null,{"$f":"IF(Input_Output!AZ147=\"\",T(Input_Output!BA147),\"\")","v":""},null,null,{"$f":"IF(Input_Output!BC147=\"\",T(Input_Output!BD147),\"\")","v":""},null,null,{"$f":"IF(Input_Output!BF147=\"\",T(Input_Output!BG147),\"\")","v":""},null,null,{"$f":"IF(Input_Output!BI147=\"\",T(Input_Output!BJ147),\"\")","v":""},null,null,{"$f":"IF(Input_Output!BL147=\"\",T(Input_Output!BM147),\"\")","v":""},null,null,{"$f":"IF(Input_Output!BO147=\"\",T(Input_Output!BP147),\"\")","v":""},null,null,{"$f":"IF(Input_Output!BR147=\"\",T(Input_Output!BS147),\"\")","v":""},null,null,{"$f":"IF(Input_Output!BU147=\"\",T(Input_Output!BV147),\"\")","v":""},null,null,{"$f":"IF(Input_Output!BX147=\"\",T(Input_Output!BY147),\"\")","v":""},null,null,{"$f":"IF(Input_Output!CA147=\"\",T(Input_Output!CB147),\"\")","v":""},null,null,{"$f":"IF(Input_Output!CD147=\"\",T(Input_Output!CE147),\"\")","v":""},null,null,{"$f":"IF(Input_Output!CG147=\"\",T(Input_Output!CH147),\"\")","v":""},null,null,{"$f":"IF(Input_Output!CJ147=\"\",T(Input_Output!CK147),\"\")","v":""},null,null,{"$f":"IF(Input_Output!CM147=\"\",T(Input_Output!CN147),\"\")","v":""},null,null,{"$f":"IF(Input_Output!CP147=\"\",T(Input_Output!CQ147),\"\")","v":""},null,null,{"$f":"IF(Input_Output!CS147=\"\",T(Input_Output!CT147),\"\")","v":""},null,null,{"$f":"IF(Input_Output!CV147=\"\",T(Input_Output!CW147),\"\")","v":""},null,null,{"$f":"IF(Input_Output!CY147=\"\",T(Input_Output!CZ147),\"\")","v":""},null,null,{"$f":"IF(Input_Output!DB147=\"\",T(Input_Output!DC147),\"\")","v":""},null,null,{"$f":"IF(Input_Output!DE147=\"\",T(Input_Output!DF147),\"\")","v":""},null,null,{"$f":"IF(Input_Output!DH147=\"\",T(Input_Output!DI147),\"\")","v":""},null,null,{"$f":"IF(Input_Output!DK147=\"\",T(Input_Output!DL147),\"\")","v":""},null,null,{"$f":"IF(Input_Output!DN147=\"\",T(Input_Output!DO147),\"\")","v":""},null,null,{"$f":"IF(Input_Output!DQ147=\"\",T(Input_Output!DR147),\"\")","v":""},null,null,{"$f":"IF(Input_Output!DT147=\"\",T(Input_Output!DU147),\"\")","v":""},null,null,{"$f":"IF(Input_Output!DW147=\"\",T(Input_Output!DX147),\"\")","v":""},null,null,{"$f":"IF(Input_Output!DZ147=\"\",T(Input_Output!EA147),\"\")","v":""},null,null,{"$f":"IF(Input_Output!EC147=\"\",T(Input_Output!ED147),\"\")","v":""},null,null,{"$f":"IF(Input_Output!EF147=\"\",T(Input_Output!EG147),\"\")","v":""},null,null,{"$f":"IF(Input_Output!EI147=\"\",T(Input_Output!EJ147),\"\")","v":""},null,null,{"$f":"IF(Input_Output!EL147=\"\",T(Input_Output!EM147),\"\")","v":""},null,null,{"$f":"IF(Input_Output!EO147=\"\",T(Input_Output!EP147),\"\")","v":""},null,null,{"$f":"IF(Input_Output!ER147=\"\",T(Input_Output!ES147),\"\")","v":""},null,null,{"$f":"IF(Input_Output!EU147=\"\",T(Input_Output!EV147),\"\")","v":""},null,null,{"$f":"IF(Input_Output!EX147=\"\",T(Input_Output!EY147),\"\")","v":""},null,null,{"$f":"IF(Input_Output!FA147=\"\",T(Input_Output!FB147),\"\")","v":""},null,null,{"$f":"IF(Input_Output!FD147=\"\",T(Input_Output!FE147),\"\")","v":""},null,null,{"$f":"IF(Input_Output!FG147=\"\",T(Input_Output!FH147),\"\")","v":""},null,null,{"$f":"IF(Input_Output!FJ147=\"\",T(Input_Output!FK147),\"\")","v":""},null,null,{"$f":"IF(Input_Output!FM147=\"\",T(Input_Output!FN147),\"\")","v":""},null,null,{"$f":"IF(Input_Output!FP147=\"\",T(Input_Output!FQ147),\"\")","v":""},null,null,{"$f":"IF(Input_Output!FS147=\"\",T(Input_Output!FT147),\"\")","v":""},null,null,{"$f":"IF(Input_Output!FV147=\"\",T(Input_Output!FW147),\"\")","v":""},null,null,{"$f":"IF(Input_Output!FY147=\"\",T(Input_Output!FZ147),\"\")","v":""},null,null,{"$f":"IF(Input_Output!GB147=\"\",T(Input_Output!GC147),\"\")","v":""},null,null,{"$f":"IF(Input_Output!GE147=\"\",T(Input_Output!GF147),\"\")","v":""},null,null,{"$f":"IF(Input_Output!GH147=\"\",T(Input_Output!GI147),\"\")","v":""},null,null,{"$f":"IF(Input_Output!GK147=\"\",T(Input_Output!GL147),\"\")","v":""},null,null,{"$f":"IF(Input_Output!GN147=\"\",T(Input_Output!GO147),\"\")","v":""},null,null,{"$f":"IF(Input_Output!GQ147=\"\",T(Input_Output!GR147),\"\")","v":""},null,null,{"$f":"IF(Input_Output!GT147=\"\",T(Input_Output!GU147),\"\")","v":""},null,null,{"$f":"IF(Input_Output!GW147=\"\",T(Input_Output!GX147),\"\")","v":""},null,null,{"$f":"IF(Input_Output!GZ147=\"\",T(Input_Output!HA147),\"\")","v":""},null,null,{"$f":"IF(Input_Output!HC147=\"\",T(Input_Output!HD147),\"\")","v":""},null,null,{"$f":"IF(Input_Output!HF147=\"\",T(Input_Output!HG147),\"\")","v":""},null,null,{"$f":"IF(Input_Output!HI147=\"\",T(Input_Output!HJ147),\"\")","v":""},null,null,{"$f":"IF(Input_Output!HL147=\"\",T(Input_Output!HM147),\"\")","v":""},null,null,{"$f":"IF(Input_Output!HO147=\"\",T(Input_Output!HP147),\"\")","v":""},null,null,{"$f":"IF(Input_Output!HR147=\"\",T(Input_Output!HS147),\"\")","v":""},null,null,{"$f":"IF(Input_Output!HU147=\"\",T(Input_Output!HV147),\"\")","v":""},null,null,{"$f":"IF(Input_Output!HX147=\"\",T(Input_Output!HY147),\"\")","v":""},null,null,{"$f":"IF(Input_Output!IA147=\"\",T(Input_Output!IB147),\"\")","v":""},null,null,{"$f":"IF(Input_Output!ID147=\"\",T(Input_Output!IE147),\"\")","v":""},null,null,{"$f":"IF(Input_Output!IG147=\"\",T(Input_Output!IH147),\"\")","v":""},null,null,{"$f":"IF(Input_Output!IJ147=\"\",T(Input_Output!IK147),\"\")","v":""},null,null,{"$f":"IF(Input_Output!IM147=\"\",T(Input_Output!IN147),\"\")","v":""},null,null,{"$f":"IF(Input_Output!IP147=\"\",T(Input_Output!IQ147),\"\")","v":""},null,null,{"$f":"IF(Input_Output!IS147=\"\",T(Input_Output!IT147),\"\")","v":""}]
[null,null,null,null,{"$f":"IF(Input_Output!D148=\"\",T(Input_Output!E148),\"\")","v":""},null,null,{"$f":"IF(Input_Output!G148=\"\",T(Input_Output!H148),\"\")","v":""},null,null,{"$f":"IF(Input_Output!J148=\"\",T(Input_Output!K148),\"\")","v":""},null,null,{"$f":"IF(Input_Output!M148=\"\",T(Input_Output!N148),\"\")","v":""},null,null,{"$f":"IF(Input_Output!P148=\"\",T(Input_Output!Q148),\"\")","v":""},null,null,{"$f":"IF(Input_Output!S148=\"\",T(Input_Output!T148),\"\")","v":""},null,null,{"$f":"IF(Input_Output!V148=\"\",T(Input_Output!W148),\"\")","v":""},null,null,{"$f":"IF(Input_Output!Y148=\"\",T(Input_Output!Z148),\"\")","v":""},null,null,{"$f":"IF(Input_Output!AB148=\"\",T(Input_Output!AC148),\"\")","v":""},null,null,{"$f":"IF(Input_Output!AE148=\"\",T(Input_Output!AF148),\"\")","v":""},null,null,{"$f":"IF(Input_Output!AH148=\"\",T(Input_Output!AI148),\"\")","v":""},null,null,{"$f":"IF(Input_Output!AK148=\"\",T(Input_Output!AL148),\"\")","v":""},null,null,{"$f":"IF(Input_Output!AN148=\"\",T(Input_Output!AO148),\"\")","v":""},null,null,{"$f":"IF(Input_Output!AQ148=\"\",T(Input_Output!AR148),\"\")","v":""},null,null,{"$f":"IF(Input_Output!AT148=\"\",T(Input_Output!AU148),\"\")","v":""},null,null,{"$f":"IF(Input_Output!AW148=\"\",T(Input_Output!AX148),\"\")","v":""},null,null,{"$f":"IF(Input_Output!AZ148=\"\",T(Input_Output!BA148),\"\")","v":""},null,null,{"$f":"IF(Input_Output!BC148=\"\",T(Input_Output!BD148),\"\")","v":""},null,null,{"$f":"IF(Input_Output!BF148=\"\",T(Input_Output!BG148),\"\")","v":""},null,null,{"$f":"IF(Input_Output!BI148=\"\",T(Input_Output!BJ148),\"\")","v":""},null,null,{"$f":"IF(Input_Output!BL148=\"\",T(Input_Output!BM148),\"\")","v":""},null,null,{"$f":"IF(Input_Output!BO148=\"\",T(Input_Output!BP148),\"\")","v":""},null,null,{"$f":"IF(Input_Output!BR148=\"\",T(Input_Output!BS148),\"\")","v":""},null,null,{"$f":"IF(Input_Output!BU148=\"\",T(Input_Output!BV148),\"\")","v":""},null,null,{"$f":"IF(Input_Output!BX148=\"\",T(Input_Output!BY148),\"\")","v":""},null,null,{"$f":"IF(Input_Output!CA148=\"\",T(Input_Output!CB148),\"\")","v":""},null,null,{"$f":"IF(Input_Output!CD148=\"\",T(Input_Output!CE148),\"\")","v":""},null,null,{"$f":"IF(Input_Output!CG148=\"\",T(Input_Output!CH148),\"\")","v":""},null,null,{"$f":"IF(Input_Output!CJ148=\"\",T(Input_Output!CK148),\"\")","v":""},null,null,{"$f":"IF(Input_Output!CM148=\"\",T(Input_Output!CN148),\"\")","v":""},null,null,{"$f":"IF(Input_Output!CP148=\"\",T(Input_Output!CQ148),\"\")","v":""},null,null,{"$f":"IF(Input_Output!CS148=\"\",T(Input_Output!CT148),\"\")","v":""},null,null,{"$f":"IF(Input_Output!CV148=\"\",T(Input_Output!CW148),\"\")","v":""},null,null,{"$f":"IF(Input_Output!CY148=\"\",T(Input_Output!CZ148),\"\")","v":""},null,null,{"$f":"IF(Input_Output!DB148=\"\",T(Input_Output!DC148),\"\")","v":""},null,null,{"$f":"IF(Input_Output!DE148=\"\",T(Input_Output!DF148),\"\")","v":""},null,null,{"$f":"IF(Input_Output!DH148=\"\",T(Input_Output!DI148),\"\")","v":""},null,null,{"$f":"IF(Input_Output!DK148=\"\",T(Input_Output!DL148),\"\")","v":""},null,null,{"$f":"IF(Input_Output!DN148=\"\",T(Input_Output!DO148),\"\")","v":""},null,null,{"$f":"IF(Input_Output!DQ148=\"\",T(Input_Output!DR148),\"\")","v":""},null,null,{"$f":"IF(Input_Output!DT148=\"\",T(Input_Output!DU148),\"\")","v":""},null,null,{"$f":"IF(Input_Output!DW148=\"\",T(Input_Output!DX148),\"\")","v":""},null,null,{"$f":"IF(Input_Output!DZ148=\"\",T(Input_Output!EA148),\"\")","v":""},null,null,{"$f":"IF(Input_Output!EC148=\"\",T(Input_Output!ED148),\"\")","v":""},null,null,{"$f":"IF(Input_Output!EF148=\"\",T(Input_Output!EG148),\"\")","v":""},null,null,{"$f":"IF(Input_Output!EI148=\"\",T(Input_Output!EJ148),\"\")","v":""},null,null,{"$f":"IF(Input_Output!EL148=\"\",T(Input_Output!EM148),\"\")","v":""},null,null,{"$f":"IF(Input_Output!EO148=\"\",T(Input_Output!EP148),\"\")","v":""},null,null,{"$f":"IF(Input_Output!ER148=\"\",T(Input_Output!ES148),\"\")","v":""},null,null,{"$f":"IF(Input_Output!EU148=\"\",T(Input_Output!EV148),\"\")","v":""},null,null,{"$f":"IF(Input_Output!EX148=\"\",T(Input_Output!EY148),\"\")","v":""},null,null,{"$f":"IF(Input_Output!FA148=\"\",T(Input_Output!FB148),\"\")","v":""},null,null,{"$f":"IF(Input_Output!FD148=\"\",T(Input_Output!FE148),\"\")","v":""},null,null,{"$f":"IF(Input_Output!FG148=\"\",T(Input_Output!FH148),\"\")","v":""},null,null,{"$f":"IF(Input_Output!FJ148=\"\",T(Input_Output!FK148),\"\")","v":""},null,null,{"$f":"IF(Input_Output!FM148=\"\",T(Input_Output!FN148),\"\")","v":""},null,null,{"$f":"IF(Input_Output!FP148=\"\",T(Input_Output!FQ148),\"\")","v":""},null,null,{"$f":"IF(Input_Output!FS148=\"\",T(Input_Output!FT148),\"\")","v":""},null,null,{"$f":"IF(Input_Output!FV148=\"\",T(Input_Output!FW148),\"\")","v":""},null,null,{"$f":"IF(Input_Output!FY148=\"\",T(Input_Output!FZ148),\"\")","v":""},null,null,{"$f":"IF(Input_Output!GB148=\"\",T(Input_Output!GC148),\"\")","v":""},null,null,{"$f":"IF(Input_Output!GE148=\"\",T(Input_Output!GF148),\"\")","v":""},null,null,{"$f":"IF(Input_Output!GH148=\"\",T(Input_Output!GI148),\"\")","v":""},null,null,{"$f":"IF(Input_Output!GK148=\"\",T(Input_Output!GL148),\"\")","v":""},null,null,{"$f":"IF(Input_Output!GN148=\"\",T(Input_Output!GO148),\"\")","v":""},null,null,{"$f":"IF(Input_Output!GQ148=\"\",T(Input_Output!GR148),\"\")","v":""},null,null,{"$f":"IF(Input_Output!GT148=\"\",T(Input_Output!GU148),\"\")","v":""},null,null,{"$f":"IF(Input_Output!GW148=\"\",T(Input_Output!GX148),\"\")","v":""},null,null,{"$f":"IF(Input_Output!GZ148=\"\",T(Input_Output!HA148),\"\")","v":""},null,null,{"$f":"IF(Input_Output!HC148=\"\",T(Input_Output!HD148),\"\")","v":""},null,null,{"$f":"IF(Input_Output!HF148=\"\",T(Input_Output!HG148),\"\")","v":""},null,null,{"$f":"IF(Input_Output!HI148=\"\",T(Input_Output!HJ148),\"\")","v":""},null,null,{"$f":"IF(Input_Output!HL148=\"\",T(Input_Output!HM148),\"\")","v":""},null,null,{"$f":"IF(Input_Output!HO148=\"\",T(Input_Output!HP148),\"\")","v":""},null,null,{"$f":"IF(Input_Output!HR148=\"\",T(Input_Output!HS148),\"\")","v":""},null,null,{"$f":"IF(Input_Output!HU148=\"\",T(Input_Output!HV148),\"\")","v":""},null,null,{"$f":"IF(Input_Output!HX148=\"\",T(Input_Output!HY148),\"\")","v":""},null,null,{"$f":"IF(Input_Output!IA148=\"\",T(Input_Output!IB148),\"\")","v":""},null,null,{"$f":"IF(Input_Output!ID148=\"\",T(Input_Output!IE148),\"\")","v":""},null,null,{"$f":"IF(Input_Output!IG148=\"\",T(Input_Output!IH148),\"\")","v":""},null,null,{"$f":"IF(Input_Output!IJ148=\"\",T(Input_Output!IK148),\"\")","v":""},null,null,{"$f":"IF(Input_Output!IM148=\"\",T(Input_Output!IN148),\"\")","v":""},null,null,{"$f":"IF(Input_Output!IP148=\"\",T(Input_Output!IQ148),\"\")","v":""},null,null,{"$f":"IF(Input_Output!IS148=\"\",T(Input_Output!IT148),\"\")","v":""}]
[null,null,null,null,{"$f":"IF(Input_Output!D149=\"\",T(Input_Output!E149),\"\")","v":""},null,null,{"$f":"IF(Input_Output!G149=\"\",T(Input_Output!H149),\"\")","v":""},null,null,{"$f":"IF(Input_Output!J149=\"\",T(Input_Output!K149),\"\")","v":""},null,null,{"$f":"IF(Input_Output!M149=\"\",T(Input_Output!N149),\"\")","v":""},null,null,{"$f":"IF(Input_Output!P149=\"\",T(Input_Output!Q149),\"\")","v":""},null,null,{"$f":"IF(Input_Output!S149=\"\",T(Input_Output!T149),\"\")","v":""},null,null,{"$f":"IF(Input_Output!V149=\"\",T(Input_Output!W149),\"\")","v":""},null,null,{"$f":"IF(Input_Output!Y149=\"\",T(Input_Output!Z149),\"\")","v":""},null,null,{"$f":"IF(Input_Output!AB149=\"\",T(Input_Output!AC149),\"\")","v":""},null,null,{"$f":"IF(Input_Output!AE149=\"\",T(Input_Output!AF149),\"\")","v":""},null,null,{"$f":"IF(Input_Output!AH149=\"\",T(Input_Output!AI149),\"\")","v":""},null,null,{"$f":"IF(Input_Output!AK149=\"\",T(Input_Output!AL149),\"\")","v":""},null,null,{"$f":"IF(Input_Output!AN149=\"\",T(Input_Output!AO149),\"\")","v":""},null,null,{"$f":"IF(Input_Output!AQ149=\"\",T(Input_Output!AR149),\"\")","v":""},null,null,{"$f":"IF(Input_Output!AT149=\"\",T(Input_Output!AU149),\"\")","v":""},null,null,{"$f":"IF(Input_Output!AW149=\"\",T(Input_Output!AX149),\"\")","v":""},null,null,{"$f":"IF(Input_Output!AZ149=\"\",T(Input_Output!BA149),\"\")","v":""},null,null,{"$f":"IF(Input_Output!BC149=\"\",T(Input_Output!BD149),\"\")","v":""},null,null,{"$f":"IF(Input_Output!BF149=\"\",T(Input_Output!BG149),\"\")","v":""},null,null,{"$f":"IF(Input_Output!BI149=\"\",T(Input_Output!BJ149),\"\")","v":""},null,null,{"$f":"IF(Input_Output!BL149=\"\",T(Input_Output!BM149),\"\")","v":""},null,null,{"$f":"IF(Input_Output!BO149=\"\",T(Input_Output!BP149),\"\")","v":""},null,null,{"$f":"IF(Input_Output!BR149=\"\",T(Input_Output!BS149),\"\")","v":""},null,null,{"$f":"IF(Input_Output!BU149=\"\",T(Input_Output!BV149),\"\")","v":""},null,null,{"$f":"IF(Input_Output!BX149=\"\",T(Input_Output!BY149),\"\")","v":""},null,null,{"$f":"IF(Input_Output!CA149=\"\",T(Input_Output!CB149),\"\")","v":""},null,null,{"$f":"IF(Input_Output!CD149=\"\",T(Input_Output!CE149),\"\")","v":""},null,null,{"$f":"IF(Input_Output!CG149=\"\",T(Input_Output!CH149),\"\")","v":""},null,null,{"$f":"IF(Input_Output!CJ149=\"\",T(Input_Output!CK149),\"\")","v":""},null,null,{"$f":"IF(Input_Output!CM149=\"\",T(Input_Output!CN149),\"\")","v":""},null,null,{"$f":"IF(Input_Output!CP149=\"\",T(Input_Output!CQ149),\"\")","v":""},null,null,{"$f":"IF(Input_Output!CS149=\"\",T(Input_Output!CT149),\"\")","v":""},null,null,{"$f":"IF(Input_Output!CV149=\"\",T(Input_Output!CW149),\"\")","v":""},null,null,{"$f":"IF(Input_Output!CY149=\"\",T(Input_Output!CZ149),\"\")","v":""},null,null,{"$f":"IF(Input_Output!DB149=\"\",T(Input_Output!DC149),\"\")","v":""},null,null,{"$f":"IF(Input_Output!DE149=\"\",T(Input_Output!DF149),\"\")","v":""},null,null,{"$f":"IF(Input_Output!DH149=\"\",T(Input_Output!DI149),\"\")","v":""},null,null,{"$f":"IF(Input_Output!DK149=\"\",T(Input_Output!DL149),\"\")","v":""},null,null,{"$f":"IF(Input_Output!DN149=\"\",T(Input_Output!DO149),\"\")","v":""},null,null,{"$f":"IF(Input_Output!DQ149=\"\",T(Input_Output!DR149),\"\")","v":""},null,null,{"$f":"IF(Input_Output!DT149=\"\",T(Input_Output!DU149),\"\")","v":""},null,null,{"$f":"IF(Input_Output!DW149=\"\",T(Input_Output!DX149),\"\")","v":""},null,null,{"$f":"IF(Input_Output!DZ149=\"\",T(Input_Output!EA149),\"\")","v":""},null,null,{"$f":"IF(Input_Output!EC149=\"\",T(Input_Output!ED149),\"\")","v":""},null,null,{"$f":"IF(Input_Output!EF149=\"\",T(Input_Output!EG149),\"\")","v":""},null,null,{"$f":"IF(Input_Output!EI149=\"\",T(Input_Output!EJ149),\"\")","v":""},null,null,{"$f":"IF(Input_Output!EL149=\"\",T(Input_Output!EM149),\"\")","v":""},null,null,{"$f":"IF(Input_Output!EO149=\"\",T(Input_Output!EP149),\"\")","v":""},null,null,{"$f":"IF(Input_Output!ER149=\"\",T(Input_Output!ES149),\"\")","v":""},null,null,{"$f":"IF(Input_Output!EU149=\"\",T(Input_Output!EV149),\"\")","v":""},null,null,{"$f":"IF(Input_Output!EX149=\"\",T(Input_Output!EY149),\"\")","v":""},null,null,{"$f":"IF(Input_Output!FA149=\"\",T(Input_Output!FB149),\"\")","v":""},null,null,{"$f":"IF(Input_Output!FD149=\"\",T(Input_Output!FE149),\"\")","v":""},null,null,{"$f":"IF(Input_Output!FG149=\"\",T(Input_Output!FH149),\"\")","v":""},null,null,{"$f":"IF(Input_Output!FJ149=\"\",T(Input_Output!FK149),\"\")","v":""},null,null,{"$f":"IF(Input_Output!FM149=\"\",T(Input_Output!FN149),\"\")","v":""},null,null,{"$f":"IF(Input_Output!FP149=\"\",T(Input_Output!FQ149),\"\")","v":""},null,null,{"$f":"IF(Input_Output!FS149=\"\",T(Input_Output!FT149),\"\")","v":""},null,null,{"$f":"IF(Input_Output!FV149=\"\",T(Input_Output!FW149),\"\")","v":""},null,null,{"$f":"IF(Input_Output!FY149=\"\",T(Input_Output!FZ149),\"\")","v":""},null,null,{"$f":"IF(Input_Output!GB149=\"\",T(Input_Output!GC149),\"\")","v":""},null,null,{"$f":"IF(Input_Output!GE149=\"\",T(Input_Output!GF149),\"\")","v":""},null,null,{"$f":"IF(Input_Output!GH149=\"\",T(Input_Output!GI149),\"\")","v":""},null,null,{"$f":"IF(Input_Output!GK149=\"\",T(Input_Output!GL149),\"\")","v":""},null,null,{"$f":"IF(Input_Output!GN149=\"\",T(Input_Output!GO149),\"\")","v":""},null,null,{"$f":"IF(Input_Output!GQ149=\"\",T(Input_Output!GR149),\"\")","v":""},null,null,{"$f":"IF(Input_Output!GT149=\"\",T(Input_Output!GU149),\"\")","v":""},null,null,{"$f":"IF(Input_Output!GW149=\"\",T(Input_Output!GX149),\"\")","v":""},null,null,{"$f":"IF(Input_Output!GZ149=\"\",T(Input_Output!HA149),\"\")","v":""},null,null,{"$f":"IF(Input_Output!HC149=\"\",T(Input_Output!HD149),\"\")","v":""},null,null,{"$f":"IF(Input_Output!HF149=\"\",T(Input_Output!HG149),\"\")","v":""},null,null,{"$f":"IF(Input_Output!HI149=\"\",T(Input_Output!HJ149),\"\")","v":""},null,null,{"$f":"IF(Input_Output!HL149=\"\",T(Input_Output!HM149),\"\")","v":""},null,null,{"$f":"IF(Input_Output!HO149=\"\",T(Input_Output!HP149),\"\")","v":""},null,null,{"$f":"IF(Input_Output!HR149=\"\",T(Input_Output!HS149),\"\")","v":""},null,null,{"$f":"IF(Input_Output!HU149=\"\",T(Input_Output!HV149),\"\")","v":""},null,null,{"$f":"IF(Input_Output!HX149=\"\",T(Input_Output!HY149),\"\")","v":""},null,null,{"$f":"IF(Input_Output!IA149=\"\",T(Input_Output!IB149),\"\")","v":""},null,null,{"$f":"IF(Input_Output!ID149=\"\",T(Input_Output!IE149),\"\")","v":""},null,null,{"$f":"IF(Input_Output!IG149=\"\",T(Input_Output!IH149),\"\")","v":""},null,null,{"$f":"IF(Input_Output!IJ149=\"\",T(Input_Output!IK149),\"\")","v":""},null,null,{"$f":"IF(Input_Output!IM149=\"\",T(Input_Output!IN149),\"\")","v":""},null,null,{"$f":"IF(Input_Output!IP149=\"\",T(Input_Output!IQ149),\"\")","v":""},null,null,{"$f":"IF(Input_Output!IS149=\"\",T(Input_Output!IT149),\"\")","v":""}]
[null,null,null,null,{"$f":"IF(Input_Output!D150=\"\",T(Input_Output!E150),\"\")","v":""},null,null,{"$f":"IF(Input_Output!G150=\"\",T(Input_Output!H150),\"\")","v":""},null,null,{"$f":"IF(Input_Output!J150=\"\",T(Input_Output!K150),\"\")","v":""},null,null,{"$f":"IF(Input_Output!M150=\"\",T(Input_Output!N150),\"\")","v":""},null,null,{"$f":"IF(Input_Output!P150=\"\",T(Input_Output!Q150),\"\")","v":""},null,null,{"$f":"IF(Input_Output!S150=\"\",T(Input_Output!T150),\"\")","v":""},null,null,{"$f":"IF(Input_Output!V150=\"\",T(Input_Output!W150),\"\")","v":""},null,null,{"$f":"IF(Input_Output!Y150=\"\",T(Input_Output!Z150),\"\")","v":""},null,null,{"$f":"IF(Input_Output!AB150=\"\",T(Input_Output!AC150),\"\")","v":""},null,null,{"$f":"IF(Input_Output!AE150=\"\",T(Input_Output!AF150),\"\")","v":""},null,null,{"$f":"IF(Input_Output!AH150=\"\",T(Input_Output!AI150),\"\")","v":""},null,null,{"$f":"IF(Input_Output!AK150=\"\",T(Input_Output!AL150),\"\")","v":""},null,null,{"$f":"IF(Input_Output!AN150=\"\",T(Input_Output!AO150),\"\")","v":""},null,null,{"$f":"IF(Input_Output!AQ150=\"\",T(Input_Output!AR150),\"\")","v":""},null,null,{"$f":"IF(Input_Output!AT150=\"\",T(Input_Output!AU150),\"\")","v":""},null,null,{"$f":"IF(Input_Output!AW150=\"\",T(Input_Output!AX150),\"\")","v":""},null,null,{"$f":"IF(Input_Output!AZ150=\"\",T(Input_Output!BA150),\"\")","v":""},null,null,{"$f":"IF(Input_Output!BC150=\"\",T(Input_Output!BD150),\"\")","v":""},null,null,{"$f":"IF(Input_Output!BF150=\"\",T(Input_Output!BG150),\"\")","v":""},null,null,{"$f":"IF(Input_Output!BI150=\"\",T(Input_Output!BJ150),\"\")","v":""},null,null,{"$f":"IF(Input_Output!BL150=\"\",T(Input_Output!BM150),\"\")","v":""},null,null,{"$f":"IF(Input_Output!BO150=\"\",T(Input_Output!BP150),\"\")","v":""},null,null,{"$f":"IF(Input_Output!BR150=\"\",T(Input_Output!BS150),\"\")","v":""},null,null,{"$f":"IF(Input_Output!BU150=\"\",T(Input_Output!BV150),\"\")","v":""},null,null,{"$f":"IF(Input_Output!BX150=\"\",T(Input_Output!BY150),\"\")","v":""},null,null,{"$f":"IF(Input_Output!CA150=\"\",T(Input_Output!CB150),\"\")","v":""},null,null,{"$f":"IF(Input_Output!CD150=\"\",T(Input_Output!CE150),\"\")","v":""},null,null,{"$f":"IF(Input_Output!CG150=\"\",T(Input_Output!CH150),\"\")","v":""},null,null,{"$f":"IF(Input_Output!CJ150=\"\",T(Input_Output!CK150),\"\")","v":""},null,null,{"$f":"IF(Input_Output!CM150=\"\",T(Input_Output!CN150),\"\")","v":""},null,null,{"$f":"IF(Input_Output!CP150=\"\",T(Input_Output!CQ150),\"\")","v":""},null,null,{"$f":"IF(Input_Output!CS150=\"\",T(Input_Output!CT150),\"\")","v":""},null,null,{"$f":"IF(Input_Output!CV150=\"\",T(Input_Output!CW150),\"\")","v":""},null,null,{"$f":"IF(Input_Output!CY150=\"\",T(Input_Output!CZ150),\"\")","v":""},null,null,{"$f":"IF(Input_Output!DB150=\"\",T(Input_Output!DC150),\"\")","v":""},null,null,{"$f":"IF(Input_Output!DE150=\"\",T(Input_Output!DF150),\"\")","v":""},null,null,{"$f":"IF(Input_Output!DH150=\"\",T(Input_Output!DI150),\"\")","v":""},null,null,{"$f":"IF(Input_Output!DK150=\"\",T(Input_Output!DL150),\"\")","v":""},null,null,{"$f":"IF(Input_Output!DN150=\"\",T(Input_Output!DO150),\"\")","v":""},null,null,{"$f":"IF(Input_Output!DQ150=\"\",T(Input_Output!DR150),\"\")","v":""},null,null,{"$f":"IF(Input_Output!DT150=\"\",T(Input_Output!DU150),\"\")","v":""},null,null,{"$f":"IF(Input_Output!DW150=\"\",T(Input_Output!DX150),\"\")","v":""},null,null,{"$f":"IF(Input_Output!DZ150=\"\",T(Input_Output!EA150),\"\")","v":""},null,null,{"$f":"IF(Input_Output!EC150=\"\",T(Input_Output!ED150),\"\")","v":""},null,null,{"$f":"IF(Input_Output!EF150=\"\",T(Input_Output!EG150),\"\")","v":""},null,null,{"$f":"IF(Input_Output!EI150=\"\",T(Input_Output!EJ150),\"\")","v":""},null,null,{"$f":"IF(Input_Output!EL150=\"\",T(Input_Output!EM150),\"\")","v":""},null,null,{"$f":"IF(Input_Output!EO150=\"\",T(Input_Output!EP150),\"\")","v":""},null,null,{"$f":"IF(Input_Output!ER150=\"\",T(Input_Output!ES150),\"\")","v":""},null,null,{"$f":"IF(Input_Output!EU150=\"\",T(Input_Output!EV150),\"\")","v":""},null,null,{"$f":"IF(Input_Output!EX150=\"\",T(Input_Output!EY150),\"\")","v":""},null,null,{"$f":"IF(Input_Output!FA150=\"\",T(Input_Output!FB150),\"\")","v":""},null,null,{"$f":"IF(Input_Output!FD150=\"\",T(Input_Output!FE150),\"\")","v":""},null,null,{"$f":"IF(Input_Output!FG150=\"\",T(Input_Output!FH150),\"\")","v":""},null,null,{"$f":"IF(Input_Output!FJ150=\"\",T(Input_Output!FK150),\"\")","v":""},null,null,{"$f":"IF(Input_Output!FM150=\"\",T(Input_Output!FN150),\"\")","v":""},null,null,{"$f":"IF(Input_Output!FP150=\"\",T(Input_Output!FQ150),\"\")","v":""},null,null,{"$f":"IF(Input_Output!FS150=\"\",T(Input_Output!FT150),\"\")","v":""},null,null,{"$f":"IF(Input_Output!FV150=\"\",T(Input_Output!FW150),\"\")","v":""},null,null,{"$f":"IF(Input_Output!FY150=\"\",T(Input_Output!FZ150),\"\")","v":""},null,null,{"$f":"IF(Input_Output!GB150=\"\",T(Input_Output!GC150),\"\")","v":""},null,null,{"$f":"IF(Input_Output!GE150=\"\",T(Input_Output!GF150),\"\")","v":""},null,null,{"$f":"IF(Input_Output!GH150=\"\",T(Input_Output!GI150),\"\")","v":""},null,null,{"$f":"IF(Input_Output!GK150=\"\",T(Input_Output!GL150),\"\")","v":""},null,null,{"$f":"IF(Input_Output!GN150=\"\",T(Input_Output!GO150),\"\")","v":""},null,null,{"$f":"IF(Input_Output!GQ150=\"\",T(Input_Output!GR150),\"\")","v":""},null,null,{"$f":"IF(Input_Output!GT150=\"\",T(Input_Output!GU150),\"\")","v":""},null,null,{"$f":"IF(Input_Output!GW150=\"\",T(Input_Output!GX150),\"\")","v":""},null,null,{"$f":"IF(Input_Output!GZ150=\"\",T(Input_Output!HA150),\"\")","v":""},null,null,{"$f":"IF(Input_Output!HC150=\"\",T(Input_Output!HD150),\"\")","v":""},null,null,{"$f":"IF(Input_Output!HF150=\"\",T(Input_Output!HG150),\"\")","v":""},null,null,{"$f":"IF(Input_Output!HI150=\"\",T(Input_Output!HJ150),\"\")","v":""},null,null,{"$f":"IF(Input_Output!HL150=\"\",T(Input_Output!HM150),\"\")","v":""},null,null,{"$f":"IF(Input_Output!HO150=\"\",T(Input_Output!HP150),\"\")","v":""},null,null,{"$f":"IF(Input_Output!HR150=\"\",T(Input_Output!HS150),\"\")","v":""},null,null,{"$f":"IF(Input_Output!HU150=\"\",T(Input_Output!HV150),\"\")","v":""},null,null,{"$f":"IF(Input_Output!HX150=\"\",T(Input_Output!HY150),\"\")","v":""},null,null,{"$f":"IF(Input_Output!IA150=\"\",T(Input_Output!IB150),\"\")","v":""},null,null,{"$f":"IF(Input_Output!ID150=\"\",T(Input_Output!IE150),\"\")","v":""},null,null,{"$f":"IF(Input_Output!IG150=\"\",T(Input_Output!IH150),\"\")","v":""},null,null,{"$f":"IF(Input_Output!IJ150=\"\",T(Input_Output!IK150),\"\")","v":""},null,null,{"$f":"IF(Input_Output!IM150=\"\",T(Input_Output!IN150),\"\")","v":""},null,null,{"$f":"IF(Input_Output!IP150=\"\",T(Input_Output!IQ150),\"\")","v":""},null,null,{"$f":"IF(Input_Output!IS150=\"\",T(Input_Output!IT150),\"\")","v":""}]
[null,null,null,null,{"$f":"IF(Input_Output!D151=\"\",T(Input_Output!E151),\"\")","v":""},null,null,{"$f":"IF(Input_Output!G151=\"\",T(Input_Output!H151),\"\")","v":""},null,null,{"$f":"IF(Input_Output!J151=\"\",T(Input_Output!K151),\"\")","v":""},null,null,{"$f":"IF(Input_Output!M151=\"\",T(Input_Output!N151),\"\")","v":""},null,null,{"$f":"IF(Input_Output!P151=\"\",T(Input_Output!Q151),\"\")","v":""},null,null,{"$f":"IF(Input_Output!S151=\"\",T(Input_Output!T151),\"\")","v":""},null,null,{"$f":"IF(Input_Output!V151=\"\",T(Input_Output!W151),\"\")","v":""},null,null,{"$f":"IF(Input_Output!Y151=\"\",T(Input_Output!Z151),\"\")","v":""},null,null,{"$f":"IF(Input_Output!AB151=\"\",T(Input_Output!AC151),\"\")","v":""},null,null,{"$f":"IF(Input_Output!AE151=\"\",T(Input_Output!AF151),\"\")","v":""},null,null,{"$f":"IF(Input_Output!AH151=\"\",T(Input_Output!AI151),\"\")","v":""},null,null,{"$f":"IF(Input_Output!AK151=\"\",T(Input_Output!AL151),\"\")","v":""},null,null,{"$f":"IF(Input_Output!AN151=\"\",T(Input_Output!AO151),\"\")","v":""},null,null,{"$f":"IF(Input_Output!AQ151=\"\",T(Input_Output!AR151),\"\")","v":""},null,null,{"$f":"IF(Input_Output!AT151=\"\",T(Input_Output!AU151),\"\")","v":""},null,null,{"$f":"IF(Input_Output!AW151=\"\",T(Input_Output!AX151),\"\")","v":""},null,null,{"$f":"IF(Input_Output!AZ151=\"\",T(Input_Output!BA151),\"\")","v":""},null,null,{"$f":"IF(Input_Output!BC151=\"\",T(Input_Output!BD151),\"\")","v":""},null,null,{"$f":"IF(Input_Output!BF151=\"\",T(Input_Output!BG151),\"\")","v":""},null,null,{"$f":"IF(Input_Output!BI151=\"\",T(Input_Output!BJ151),\"\")","v":""},null,null,{"$f":"IF(Input_Output!BL151=\"\",T(Input_Output!BM151),\"\")","v":""},null,null,{"$f":"IF(Input_Output!BO151=\"\",T(Input_Output!BP151),\"\")","v":""},null,null,{"$f":"IF(Input_Output!BR151=\"\",T(Input_Output!BS151),\"\")","v":""},null,null,{"$f":"IF(Input_Output!BU151=\"\",T(Input_Output!BV151),\"\")","v":""},null,null,{"$f":"IF(Input_Output!BX151=\"\",T(Input_Output!BY151),\"\")","v":""},null,null,{"$f":"IF(Input_Output!CA151=\"\",T(Input_Output!CB151),\"\")","v":""},null,null,{"$f":"IF(Input_Output!CD151=\"\",T(Input_Output!CE151),\"\")","v":""},null,null,{"$f":"IF(Input_Output!CG151=\"\",T(Input_Output!CH151),\"\")","v":""},null,null,{"$f":"IF(Input_Output!CJ151=\"\",T(Input_Output!CK151),\"\")","v":""},null,null,{"$f":"IF(Input_Output!CM151=\"\",T(Input_Output!CN151),\"\")","v":""},null,null,{"$f":"IF(Input_Output!CP151=\"\",T(Input_Output!CQ151),\"\")","v":""},null,null,{"$f":"IF(Input_Output!CS151=\"\",T(Input_Output!CT151),\"\")","v":""},null,null,{"$f":"IF(Input_Output!CV151=\"\",T(Input_Output!CW151),\"\")","v":""},null,null,{"$f":"IF(Input_Output!CY151=\"\",T(Input_Output!CZ151),\"\")","v":""},null,null,{"$f":"IF(Input_Output!DB151=\"\",T(Input_Output!DC151),\"\")","v":""},null,null,{"$f":"IF(Input_Output!DE151=\"\",T(Input_Output!DF151),\"\")","v":""},null,null,{"$f":"IF(Input_Output!DH151=\"\",T(Input_Output!DI151),\"\")","v":""},null,null,{"$f":"IF(Input_Output!DK151=\"\",T(Input_Output!DL151),\"\")","v":""},null,null,{"$f":"IF(Input_Output!DN151=\"\",T(Input_Output!DO151),\"\")","v":""},null,null,{"$f":"IF(Input_Output!DQ151=\"\",T(Input_Output!DR151),\"\")","v":""},null,null,{"$f":"IF(Input_Output!DT151=\"\",T(Input_Output!DU151),\"\")","v":""},null,null,{"$f":"IF(Input_Output!DW151=\"\",T(Input_Output!DX151),\"\")","v":""},null,null,{"$f":"IF(Input_Output!DZ151=\"\",T(Input_Output!EA151),\"\")","v":""},null,null,{"$f":"IF(Input_Output!EC151=\"\",T(Input_Output!ED151),\"\")","v":""},null,null,{"$f":"IF(Input_Output!EF151=\"\",T(Input_Output!EG151),\"\")","v":""},null,null,{"$f":"IF(Input_Output!EI151=\"\",T(Input_Output!EJ151),\"\")","v":""},null,null,{"$f":"IF(Input_Output!EL151=\"\",T(Input_Output!EM151),\"\")","v":""},null,null,{"$f":"IF(Input_Output!EO151=\"\",T(Input_Output!EP151),\"\")","v":""},null,null,{"$f":"IF(Input_Output!ER151=\"\",T(Input_Output!ES151),\"\")","v":""},null,null,{"$f":"IF(Input_Output!EU151=\"\",T(Input_Output!EV151),\"\")","v":""},null,null,{"$f":"IF(Input_Output!EX151=\"\",T(Input_Output!EY151),\"\")","v":""},null,null,{"$f":"IF(Input_Output!FA151=\"\",T(Input_Output!FB151),\"\")","v":""},null,null,{"$f":"IF(Input_Output!FD151=\"\",T(Input_Output!FE151),\"\")","v":""},null,null,{"$f":"IF(Input_Output!FG151=\"\",T(Input_Output!FH151),\"\")","v":""},null,null,{"$f":"IF(Input_Output!FJ151=\"\",T(Input_Output!FK151),\"\")","v":""},null,null,{"$f":"IF(Input_Output!FM151=\"\",T(Input_Output!FN151),\"\")","v":""},null,null,{"$f":"IF(Input_Output!FP151=\"\",T(Input_Output!FQ151),\"\")","v":""},null,null,{"$f":"IF(Input_Output!FS151=\"\",T(Input_Output!FT151),\"\")","v":""},null,null,{"$f":"IF(Input_Output!FV151=\"\",T(Input_Output!FW151),\"\")","v":""},null,null,{"$f":"IF(Input_Output!FY151=\"\",T(Input_Output!FZ151),\"\")","v":""},null,null,{"$f":"IF(Input_Output!GB151=\"\",T(Input_Output!GC151),\"\")","v":""},null,null,{"$f":"IF(Input_Output!GE151=\"\",T(Input_Output!GF151),\"\")","v":""},null,null,{"$f":"IF(Input_Output!GH151=\"\",T(Input_Output!GI151),\"\")","v":""},null,null,{"$f":"IF(Input_Output!GK151=\"\",T(Input_Output!GL151),\"\")","v":""},null,null,{"$f":"IF(Input_Output!GN151=\"\",T(Input_Output!GO151),\"\")","v":""},null,null,{"$f":"IF(Input_Output!GQ151=\"\",T(Input_Output!GR151),\"\")","v":""},null,null,{"$f":"IF(Input_Output!GT151=\"\",T(Input_Output!GU151),\"\")","v":""},null,null,{"$f":"IF(Input_Output!GW151=\"\",T(Input_Output!GX151),\"\")","v":""},null,null,{"$f":"IF(Input_Output!GZ151=\"\",T(Input_Output!HA151),\"\")","v":""},null,null,{"$f":"IF(Input_Output!HC151=\"\",T(Input_Output!HD151),\"\")","v":""},null,null,{"$f":"IF(Input_Output!HF151=\"\",T(Input_Output!HG151),\"\")","v":""},null,null,{"$f":"IF(Input_Output!HI151=\"\",T(Input_Output!HJ151),\"\")","v":""},null,null,{"$f":"IF(Input_Output!HL151=\"\",T(Input_Output!HM151),\"\")","v":""},null,null,{"$f":"IF(Input_Output!HO151=\"\",T(Input_Output!HP151),\"\")","v":""},null,null,{"$f":"IF(Input_Output!HR151=\"\",T(Input_Output!HS151),\"\")","v":""},null,null,{"$f":"IF(Input_Output!HU151=\"\",T(Input_Output!HV151),\"\")","v":""},null,null,{"$f":"IF(Input_Output!HX151=\"\",T(Input_Output!HY151),\"\")","v":""},null,null,{"$f":"IF(Input_Output!IA151=\"\",T(Input_Output!IB151),\"\")","v":""},null,null,{"$f":"IF(Input_Output!ID151=\"\",T(Input_Output!IE151),\"\")","v":""},null,null,{"$f":"IF(Input_Output!IG151=\"\",T(Input_Output!IH151),\"\")","v":""},null,null,{"$f":"IF(Input_Output!IJ151=\"\",T(Input_Output!IK151),\"\")","v":""},null,null,{"$f":"IF(Input_Output!IM151=\"\",T(Input_Output!IN151),\"\")","v":""},null,null,{"$f":"IF(Input_Output!IP151=\"\",T(Input_Output!IQ151),\"\")","v":""},null,null,{"$f":"IF(Input_Output!IS151=\"\",T(Input_Output!IT151),\"\")","v":""}]
[null,null,null,null,{"$f":"IF(Input_Output!D152=\"\",T(Input_Output!E152),\"\")","v":""},null,null,{"$f":"IF(Input_Output!G152=\"\",T(Input_Output!H152),\"\")","v":""},null,null,{"$f":"IF(Input_Output!J152=\"\",T(Input_Output!K152),\"\")","v":""},null,null,{"$f":"IF(Input_Output!M152=\"\",T(Input_Output!N152),\"\")","v":""},null,null,{"$f":"IF(Input_Output!P152=\"\",T(Input_Output!Q152),\"\")","v":""},null,null,{"$f":"IF(Input_Output!S152=\"\",T(Input_Output!T152),\"\")","v":""},null,null,{"$f":"IF(Input_Output!V152=\"\",T(Input_Output!W152),\"\")","v":""},null,null,{"$f":"IF(Input_Output!Y152=\"\",T(Input_Output!Z152),\"\")","v":""},null,null,{"$f":"IF(Input_Output!AB152=\"\",T(Input_Output!AC152),\"\")","v":""},null,null,{"$f":"IF(Input_Output!AE152=\"\",T(Input_Output!AF152),\"\")","v":""},null,null,{"$f":"IF(Input_Output!AH152=\"\",T(Input_Output!AI152),\"\")","v":""},null,null,{"$f":"IF(Input_Output!AK152=\"\",T(Input_Output!AL152),\"\")","v":""},null,null,{"$f":"IF(Input_Output!AN152=\"\",T(Input_Output!AO152),\"\")","v":""},null,null,{"$f":"IF(Input_Output!AQ152=\"\",T(Input_Output!AR152),\"\")","v":""},null,null,{"$f":"IF(Input_Output!AT152=\"\",T(Input_Output!AU152),\"\")","v":""},null,null,{"$f":"IF(Input_Output!AW152=\"\",T(Input_Output!AX152),\"\")","v":""},null,null,{"$f":"IF(Input_Output!AZ152=\"\",T(Input_Output!BA152),\"\")","v":""},null,null,{"$f":"IF(Input_Output!BC152=\"\",T(Input_Output!BD152),\"\")","v":""},null,null,{"$f":"IF(Input_Output!BF152=\"\",T(Input_Output!BG152),\"\")","v":""},null,null,{"$f":"IF(Input_Output!BI152=\"\",T(Input_Output!BJ152),\"\")","v":""},null,null,{"$f":"IF(Input_Output!BL152=\"\",T(Input_Output!BM152),\"\")","v":""},null,null,{"$f":"IF(Input_Output!BO152=\"\",T(Input_Output!BP152),\"\")","v":""},null,null,{"$f":"IF(Input_Output!BR152=\"\",T(Input_Output!BS152),\"\")","v":""},null,null,{"$f":"IF(Input_Output!BU152=\"\",T(Input_Output!BV152),\"\")","v":""},null,null,{"$f":"IF(Input_Output!BX152=\"\",T(Input_Output!BY152),\"\")","v":""},null,null,{"$f":"IF(Input_Output!CA152=\"\",T(Input_Output!CB152),\"\")","v":""},null,null,{"$f":"IF(Input_Output!CD152=\"\",T(Input_Output!CE152),\"\")","v":""},null,null,{"$f":"IF(Input_Output!CG152=\"\",T(Input_Output!CH152),\"\")","v":""},null,null,{"$f":"IF(Input_Output!CJ152=\"\",T(Input_Output!CK152),\"\")","v":""},null,null,{"$f":"IF(Input_Output!CM152=\"\",T(Input_Output!CN152),\"\")","v":""},null,null,{"$f":"IF(Input_Output!CP152=\"\",T(Input_Output!CQ152),\"\")","v":""},null,null,{"$f":"IF(Input_Output!CS152=\"\",T(Input_Output!CT152),\"\")","v":""},null,null,{"$f":"IF(Input_Output!CV152=\"\",T(Input_Output!CW152),\"\")","v":""},null,null,{"$f":"IF(Input_Output!CY152=\"\",T(Input_Output!CZ152),\"\")","v":""},null,null,{"$f":"IF(Input_Output!DB152=\"\",T(Input_Output!DC152),\"\")","v":""},null,null,{"$f":"IF(Input_Output!DE152=\"\",T(Input_Output!DF152),\"\")","v":""},null,null,{"$f":"IF(Input_Output!DH152=\"\",T(Input_Output!DI152),\"\")","v":""},null,null,{"$f":"IF(Input_Output!DK152=\"\",T(Input_Output!DL152),\"\")","v":""},null,null,{"$f":"IF(Input_Output!DN152=\"\",T(Input_Output!DO152),\"\")","v":""},null,null,{"$f":"IF(Input_Output!DQ152=\"\",T(Input_Output!DR152),\"\")","v":""},null,null,{"$f":"IF(Input_Output!DT152=\"\",T(Input_Output!DU152),\"\")","v":""},null,null,{"$f":"IF(Input_Output!DW152=\"\",T(Input_Output!DX152),\"\")","v":""},null,null,{"$f":"IF(Input_Output!DZ152=\"\",T(Input_Output!EA152),\"\")","v":""},null,null,{"$f":"IF(Input_Output!EC152=\"\",T(Input_Output!ED152),\"\")","v":""},null,null,{"$f":"IF(Input_Output!EF152=\"\",T(Input_Output!EG152),\"\")","v":""},null,null,{"$f":"IF(Input_Output!EI152=\"\",T(Input_Output!EJ152),\"\")","v":""},null,null,{"$f":"IF(Input_Output!EL152=\"\",T(Input_Output!EM152),\"\")","v":""},null,null,{"$f":"IF(Input_Output!EO152=\"\",T(Input_Output!EP152),\"\")","v":""},null,null,{"$f":"IF(Input_Output!ER152=\"\",T(Input_Output!ES152),\"\")","v":""},null,null,{"$f":"IF(Input_Output!EU152=\"\",T(Input_Output!EV152),\"\")","v":""},null,null,{"$f":"IF(Input_Output!EX152=\"\",T(Input_Output!EY152),\"\")","v":""},null,null,{"$f":"IF(Input_Output!FA152=\"\",T(Input_Output!FB152),\"\")","v":""},null,null,{"$f":"IF(Input_Output!FD152=\"\",T(Input_Output!FE152),\"\")","v":""},null,null,{"$f":"IF(Input_Output!FG152=\"\",T(Input_Output!FH152),\"\")","v":""},null,null,{"$f":"IF(Input_Output!FJ152=\"\",T(Input_Output!FK152),\"\")","v":""},null,null,{"$f":"IF(Input_Output!FM152=\"\",T(Input_Output!FN152),\"\")","v":""},null,null,{"$f":"IF(Input_Output!FP152=\"\",T(Input_Output!FQ152),\"\")","v":""},null,null,{"$f":"IF(Input_Output!FS152=\"\",T(Input_Output!FT152),\"\")","v":""},null,null,{"$f":"IF(Input_Output!FV152=\"\",T(Input_Output!FW152),\"\")","v":""},null,null,{"$f":"IF(Input_Output!FY152=\"\",T(Input_Output!FZ152),\"\")","v":""},null,null,{"$f":"IF(Input_Output!GB152=\"\",T(Input_Output!GC152),\"\")","v":""},null,null,{"$f":"IF(Input_Output!GE152=\"\",T(Input_Output!GF152),\"\")","v":""},null,null,{"$f":"IF(Input_Output!GH152=\"\",T(Input_Output!GI152),\"\")","v":""},null,null,{"$f":"IF(Input_Output!GK152=\"\",T(Input_Output!GL152),\"\")","v":""},null,null,{"$f":"IF(Input_Output!GN152=\"\",T(Input_Output!GO152),\"\")","v":""},null,null,{"$f":"IF(Input_Output!GQ152=\"\",T(Input_Output!GR152),\"\")","v":""},null,null,{"$f":"IF(Input_Output!GT152=\"\",T(Input_Output!GU152),\"\")","v":""},null,null,{"$f":"IF(Input_Output!GW152=\"\",T(Input_Output!GX152),\"\")","v":""},null,null,{"$f":"IF(Input_Output!GZ152=\"\",T(Input_Output!HA152),\"\")","v":""},null,null,{"$f":"IF(Input_Output!HC152=\"\",T(Input_Output!HD152),\"\")","v":""},null,null,{"$f":"IF(Input_Output!HF152=\"\",T(Input_Output!HG152),\"\")","v":""},null,null,{"$f":"IF(Input_Output!HI152=\"\",T(Input_Output!HJ152),\"\")","v":""},null,null,{"$f":"IF(Input_Output!HL152=\"\",T(Input_Output!HM152),\"\")","v":""},null,null,{"$f":"IF(Input_Output!HO152=\"\",T(Input_Output!HP152),\"\")","v":""},null,null,{"$f":"IF(Input_Output!HR152=\"\",T(Input_Output!HS152),\"\")","v":""},null,null,{"$f":"IF(Input_Output!HU152=\"\",T(Input_Output!HV152),\"\")","v":""},null,null,{"$f":"IF(Input_Output!HX152=\"\",T(Input_Output!HY152),\"\")","v":""},null,null,{"$f":"IF(Input_Output!IA152=\"\",T(Input_Output!IB152),\"\")","v":""},null,null,{"$f":"IF(Input_Output!ID152=\"\",T(Input_Output!IE152),\"\")","v":""},null,null,{"$f":"IF(Input_Output!IG152=\"\",T(Input_Output!IH152),\"\")","v":""},null,null,{"$f":"IF(Input_Output!IJ152=\"\",T(Input_Output!IK152),\"\")","v":""},null,null,{"$f":"IF(Input_Output!IM152=\"\",T(Input_Output!IN152),\"\")","v":""},null,null,{"$f":"IF(Input_Output!IP152=\"\",T(Input_Output!IQ152),\"\")","v":""},null,null,{"$f":"IF(Input_Output!IS152=\"\",T(Input_Output!IT152),\"\")","v":""}]
[null,null,null,null,{"$f":"IF(Input_Output!D153=\"\",T(Input_Output!E153),\"\")","v":""},null,null,{"$f":"IF(Input_Output!G153=\"\",T(Input_Output!H153),\"\")","v":""},null,null,{"$f":"IF(Input_Output!J153=\"\",T(Input_Output!K153),\"\")","v":""},null,null,{"$f":"IF(Input_Output!M153=\"\",T(Input_Output!N153),\"\")","v":""},null,null,{"$f":"IF(Input_Output!P153=\"\",T(Input_Output!Q153),\"\")","v":""},null,null,{"$f":"IF(Input_Output!S153=\"\",T(Input_Output!T153),\"\")","v":""},null,null,{"$f":"IF(Input_Output!V153=\"\",T(Input_Output!W153),\"\")","v":""},null,null,{"$f":"IF(Input_Output!Y153=\"\",T(Input_Output!Z153),\"\")","v":""},null,null,{"$f":"IF(Input_Output!AB153=\"\",T(Input_Output!AC153),\"\")","v":""},null,null,{"$f":"IF(Input_Output!AE153=\"\",T(Input_Output!AF153),\"\")","v":""},null,null,{"$f":"IF(Input_Output!AH153=\"\",T(Input_Output!AI153),\"\")","v":""},null,null,{"$f":"IF(Input_Output!AK153=\"\",T(Input_Output!AL153),\"\")","v":""},null,null,{"$f":"IF(Input_Output!AN153=\"\",T(Input_Output!AO153),\"\")","v":""},null,null,{"$f":"IF(Input_Output!AQ153=\"\",T(Input_Output!AR153),\"\")","v":""},null,null,{"$f":"IF(Input_Output!AT153=\"\",T(Input_Output!AU153),\"\")","v":""},null,null,{"$f":"IF(Input_Output!AW153=\"\",T(Input_Output!AX153),\"\")","v":""},null,null,{"$f":"IF(Input_Output!AZ153=\"\",T(Input_Output!BA153),\"\")","v":""},null,null,{"$f":"IF(Input_Output!BC153=\"\",T(Input_Output!BD153),\"\")","v":""},null,null,{"$f":"IF(Input_Output!BF153=\"\",T(Input_Output!BG153),\"\")","v":""},null,null,{"$f":"IF(Input_Output!BI153=\"\",T(Input_Output!BJ153),\"\")","v":""},null,null,{"$f":"IF(Input_Output!BL153=\"\",T(Input_Output!BM153),\"\")","v":""},null,null,{"$f":"IF(Input_Output!BO153=\"\",T(Input_Output!BP153),\"\")","v":""},null,null,{"$f":"IF(Input_Output!BR153=\"\",T(Input_Output!BS153),\"\")","v":""},null,null,{"$f":"IF(Input_Output!BU153=\"\",T(Input_Output!BV153),\"\")","v":""},null,null,{"$f":"IF(Input_Output!BX153=\"\",T(Input_Output!BY153),\"\")","v":""},null,null,{"$f":"IF(Input_Output!CA153=\"\",T(Input_Output!CB153),\"\")","v":""},null,null,{"$f":"IF(Input_Output!CD153=\"\",T(Input_Output!CE153),\"\")","v":""},null,null,{"$f":"IF(Input_Output!CG153=\"\",T(Input_Output!CH153),\"\")","v":""},null,null,{"$f":"IF(Input_Output!CJ153=\"\",T(Input_Output!CK153),\"\")","v":""},null,null,{"$f":"IF(Input_Output!CM153=\"\",T(Input_Output!CN153),\"\")","v":""},null,null,{"$f":"IF(Input_Output!CP153=\"\",T(Input_Output!CQ153),\"\")","v":""},null,null,{"$f":"IF(Input_Output!CS153=\"\",T(Input_Output!CT153),\"\")","v":""},null,null,{"$f":"IF(Input_Output!CV153=\"\",T(Input_Output!CW153),\"\")","v":""},null,null,{"$f":"IF(Input_Output!CY153=\"\",T(Input_Output!CZ153),\"\")","v":""},null,null,{"$f":"IF(Input_Output!DB153=\"\",T(Input_Output!DC153),\"\")","v":""},null,null,{"$f":"IF(Input_Output!DE153=\"\",T(Input_Output!DF153),\"\")","v":""},null,null,{"$f":"IF(Input_Output!DH153=\"\",T(Input_Output!DI153),\"\")","v":""},null,null,{"$f":"IF(Input_Output!DK153=\"\",T(Input_Output!DL153),\"\")","v":""},null,null,{"$f":"IF(Input_Output!DN153=\"\",T(Input_Output!DO153),\"\")","v":""},null,null,{"$f":"IF(Input_Output!DQ153=\"\",T(Input_Output!DR153),\"\")","v":""},null,null,{"$f":"IF(Input_Output!DT153=\"\",T(Input_Output!DU153),\"\")","v":""},null,null,{"$f":"IF(Input_Output!DW153=\"\",T(Input_Output!DX153),\"\")","v":""},null,null,{"$f":"IF(Input_Output!DZ153=\"\",T(Input_Output!EA153),\"\")","v":""},null,null,{"$f":"IF(Input_Output!EC153=\"\",T(Input_Output!ED153),\"\")","v":""},null,null,{"$f":"IF(Input_Output!EF153=\"\",T(Input_Output!EG153),\"\")","v":""},null,null,{"$f":"IF(Input_Output!EI153=\"\",T(Input_Output!EJ153),\"\")","v":""},null,null,{"$f":"IF(Input_Output!EL153=\"\",T(Input_Output!EM153),\"\")","v":""},null,null,{"$f":"IF(Input_Output!EO153=\"\",T(Input_Output!EP153),\"\")","v":""},null,null,{"$f":"IF(Input_Output!ER153=\"\",T(Input_Output!ES153),\"\")","v":""},null,null,{"$f":"IF(Input_Output!EU153=\"\",T(Input_Output!EV153),\"\")","v":""},null,null,{"$f":"IF(Input_Output!EX153=\"\",T(Input_Output!EY153),\"\")","v":""},null,null,{"$f":"IF(Input_Output!FA153=\"\",T(Input_Output!FB153),\"\")","v":""},null,null,{"$f":"IF(Input_Output!FD153=\"\",T(Input_Output!FE153),\"\")","v":""},null,null,{"$f":"IF(Input_Output!FG153=\"\",T(Input_Output!FH153),\"\")","v":""},null,null,{"$f":"IF(Input_Output!FJ153=\"\",T(Input_Output!FK153),\"\")","v":""},null,null,{"$f":"IF(Input_Output!FM153=\"\",T(Input_Output!FN153),\"\")","v":""},null,null,{"$f":"IF(Input_Output!FP153=\"\",T(Input_Output!FQ153),\"\")","v":""},null,null,{"$f":"IF(Input_Output!FS153=\"\",T(Input_Output!FT153),\"\")","v":""},null,null,{"$f":"IF(Input_Output!FV153=\"\",T(Input_Output!FW153),\"\")","v":""},null,null,{"$f":"IF(Input_Output!FY153=\"\",T(Input_Output!FZ153),\"\")","v":""},null,null,{"$f":"IF(Input_Output!GB153=\"\",T(Input_Output!GC153),\"\")","v":""},null,null,{"$f":"IF(Input_Output!GE153=\"\",T(Input_Output!GF153),\"\")","v":""},null,null,{"$f":"IF(Input_Output!GH153=\"\",T(Input_Output!GI153),\"\")","v":""},null,null,{"$f":"IF(Input_Output!GK153=\"\",T(Input_Output!GL153),\"\")","v":""},null,null,{"$f":"IF(Input_Output!GN153=\"\",T(Input_Output!GO153),\"\")","v":""},null,null,{"$f":"IF(Input_Output!GQ153=\"\",T(Input_Output!GR153),\"\")","v":""},null,null,{"$f":"IF(Input_Output!GT153=\"\",T(Input_Output!GU153),\"\")","v":""},null,null,{"$f":"IF(Input_Output!GW153=\"\",T(Input_Output!GX153),\"\")","v":""},null,null,{"$f":"IF(Input_Output!GZ153=\"\",T(Input_Output!HA153),\"\")","v":""},null,null,{"$f":"IF(Input_Output!HC153=\"\",T(Input_Output!HD153),\"\")","v":""},null,null,{"$f":"IF(Input_Output!HF153=\"\",T(Input_Output!HG153),\"\")","v":""},null,null,{"$f":"IF(Input_Output!HI153=\"\",T(Input_Output!HJ153),\"\")","v":""},null,null,{"$f":"IF(Input_Output!HL153=\"\",T(Input_Output!HM153),\"\")","v":""},null,null,{"$f":"IF(Input_Output!HO153=\"\",T(Input_Output!HP153),\"\")","v":""},null,null,{"$f":"IF(Input_Output!HR153=\"\",T(Input_Output!HS153),\"\")","v":""},null,null,{"$f":"IF(Input_Output!HU153=\"\",T(Input_Output!HV153),\"\")","v":""},null,null,{"$f":"IF(Input_Output!HX153=\"\",T(Input_Output!HY153),\"\")","v":""},null,null,{"$f":"IF(Input_Output!IA153=\"\",T(Input_Output!IB153),\"\")","v":""},null,null,{"$f":"IF(Input_Output!ID153=\"\",T(Input_Output!IE153),\"\")","v":""},null,null,{"$f":"IF(Input_Output!IG153=\"\",T(Input_Output!IH153),\"\")","v":""},null,null,{"$f":"IF(Input_Output!IJ153=\"\",T(Input_Output!IK153),\"\")","v":""},null,null,{"$f":"IF(Input_Output!IM153=\"\",T(Input_Output!IN153),\"\")","v":""},null,null,{"$f":"IF(Input_Output!IP153=\"\",T(Input_Output!IQ153),\"\")","v":""},null,null,{"$f":"IF(Input_Output!IS153=\"\",T(Input_Output!IT153),\"\")","v":""}]
[null,null,null,null,{"$f":"IF(Input_Output!D154=\"\",T(Input_Output!E154),\"\")","v":""},null,null,{"$f":"IF(Input_Output!G154=\"\",T(Input_Output!H154),\"\")","v":""},null,null,{"$f":"IF(Input_Output!J154=\"\",T(Input_Output!K154),\"\")","v":""},null,null,{"$f":"IF(Input_Output!M154=\"\",T(Input_Output!N154),\"\")","v":""},null,null,{"$f":"IF(Input_Output!P154=\"\",T(Input_Output!Q154),\"\")","v":""},null,null,{"$f":"IF(Input_Output!S154=\"\",T(Input_Output!T154),\"\")","v":""},null,null,{"$f":"IF(Input_Output!V154=\"\",T(Input_Output!W154),\"\")","v":""},null,null,{"$f":"IF(Input_Output!Y154=\"\",T(Input_Output!Z154),\"\")","v":""},null,null,{"$f":"IF(Input_Output!AB154=\"\",T(Input_Output!AC154),\"\")","v":""},null,null,{"$f":"IF(Input_Output!AE154=\"\",T(Input_Output!AF154),\"\")","v":""},null,null,{"$f":"IF(Input_Output!AH154=\"\",T(Input_Output!AI154),\"\")","v":""},null,null,{"$f":"IF(Input_Output!AK154=\"\",T(Input_Output!AL154),\"\")","v":""},null,null,{"$f":"IF(Input_Output!AN154=\"\",T(Input_Output!AO154),\"\")","v":""},null,null,{"$f":"IF(Input_Output!AQ154=\"\",T(Input_Output!AR154),\"\")","v":""},null,null,{"$f":"IF(Input_Output!AT154=\"\",T(Input_Output!AU154),\"\")","v":""},null,null,{"$f":"IF(Input_Output!AW154=\"\",T(Input_Output!AX154),\"\")","v":""},null,null,{"$f":"IF(Input_Output!AZ154=\"\",T(Input_Output!BA154),\"\")","v":""},null,null,{"$f":"IF(Input_Output!BC154=\"\",T(Input_Output!BD154),\"\")","v":""},null,null,{"$f":"IF(Input_Output!BF154=\"\",T(Input_Output!BG154),\"\")","v":""},null,null,{"$f":"IF(Input_Output!BI154=\"\",T(Input_Output!BJ154),\"\")","v":""},null,null,{"$f":"IF(Input_Output!BL154=\"\",T(Input_Output!BM154),\"\")","v":""},null,null,{"$f":"IF(Input_Output!BO154=\"\",T(Input_Output!BP154),\"\")","v":""},null,null,{"$f":"IF(Input_Output!BR154=\"\",T(Input_Output!BS154),\"\")","v":""},null,null,{"$f":"IF(Input_Output!BU154=\"\",T(Input_Output!BV154),\"\")","v":""},null,null,{"$f":"IF(Input_Output!BX154=\"\",T(Input_Output!BY154),\"\")","v":""},null,null,{"$f":"IF(Input_Output!CA154=\"\",T(Input_Output!CB154),\"\")","v":""},null,null,{"$f":"IF(Input_Output!CD154=\"\",T(Input_Output!CE154),\"\")","v":""},null,null,{"$f":"IF(Input_Output!CG154=\"\",T(Input_Output!CH154),\"\")","v":""},null,null,{"$f":"IF(Input_Output!CJ154=\"\",T(Input_Output!CK154),\"\")","v":""},null,null,{"$f":"IF(Input_Output!CM154=\"\",T(Input_Output!CN154),\"\")","v":""},null,null,{"$f":"IF(Input_Output!CP154=\"\",T(Input_Output!CQ154),\"\")","v":""},null,null,{"$f":"IF(Input_Output!CS154=\"\",T(Input_Output!CT154),\"\")","v":""},null,null,{"$f":"IF(Input_Output!CV154=\"\",T(Input_Output!CW154),\"\")","v":""},null,null,{"$f":"IF(Input_Output!CY154=\"\",T(Input_Output!CZ154),\"\")","v":""},null,null,{"$f":"IF(Input_Output!DB154=\"\",T(Input_Output!DC154),\"\")","v":""},null,null,{"$f":"IF(Input_Output!DE154=\"\",T(Input_Output!DF154),\"\")","v":""},null,null,{"$f":"IF(Input_Output!DH154=\"\",T(Input_Output!DI154),\"\")","v":""},null,null,{"$f":"IF(Input_Output!DK154=\"\",T(Input_Output!DL154),\"\")","v":""},null,null,{"$f":"IF(Input_Output!DN154=\"\",T(Input_Output!DO154),\"\")","v":""},null,null,{"$f":"IF(Input_Output!DQ154=\"\",T(Input_Output!DR154),\"\")","v":""},null,null,{"$f":"IF(Input_Output!DT154=\"\",T(Input_Output!DU154),\"\")","v":""},null,null,{"$f":"IF(Input_Output!DW154=\"\",T(Input_Output!DX154),\"\")","v":""},null,null,{"$f":"IF(Input_Output!DZ154=\"\",T(Input_Output!EA154),\"\")","v":""},null,null,{"$f":"IF(Input_Output!EC154=\"\",T(Input_Output!ED154),\"\")","v":""},null,null,{"$f":"IF(Input_Output!EF154=\"\",T(Input_Output!EG154),\"\")","v":""},null,null,{"$f":"IF(Input_Output!EI154=\"\",T(Input_Output!EJ154),\"\")","v":""},null,null,{"$f":"IF(Input_Output!EL154=\"\",T(Input_Output!EM154),\"\")","v":""},null,null,{"$f":"IF(Input_Output!EO154=\"\",T(Input_Output!EP154),\"\")","v":""},null,null,{"$f":"IF(Input_Output!ER154=\"\",T(Input_Output!ES154),\"\")","v":""},null,null,{"$f":"IF(Input_Output!EU154=\"\",T(Input_Output!EV154),\"\")","v":""},null,null,{"$f":"IF(Input_Output!EX154=\"\",T(Input_Output!EY154),\"\")","v":""},null,null,{"$f":"IF(Input_Output!FA154=\"\",T(Input_Output!FB154),\"\")","v":""},null,null,{"$f":"IF(Input_Output!FD154=\"\",T(Input_Output!FE154),\"\")","v":""},null,null,{"$f":"IF(Input_Output!FG154=\"\",T(Input_Output!FH154),\"\")","v":""},null,null,{"$f":"IF(Input_Output!FJ154=\"\",T(Input_Output!FK154),\"\")","v":""},null,null,{"$f":"IF(Input_Output!FM154=\"\",T(Input_Output!FN154),\"\")","v":""},null,null,{"$f":"IF(Input_Output!FP154=\"\",T(Input_Output!FQ154),\"\")","v":""},null,null,{"$f":"IF(Input_Output!FS154=\"\",T(Input_Output!FT154),\"\")","v":""},null,null,{"$f":"IF(Input_Output!FV154=\"\",T(Input_Output!FW154),\"\")","v":""},null,null,{"$f":"IF(Input_Output!FY154=\"\",T(Input_Output!FZ154),\"\")","v":""},null,null,{"$f":"IF(Input_Output!GB154=\"\",T(Input_Output!GC154),\"\")","v":""},null,null,{"$f":"IF(Input_Output!GE154=\"\",T(Input_Output!GF154),\"\")","v":""},null,null,{"$f":"IF(Input_Output!GH154=\"\",T(Input_Output!GI154),\"\")","v":""},null,null,{"$f":"IF(Input_Output!GK154=\"\",T(Input_Output!GL154),\"\")","v":""},null,null,{"$f":"IF(Input_Output!GN154=\"\",T(Input_Output!GO154),\"\")","v":""},null,null,{"$f":"IF(Input_Output!GQ154=\"\",T(Input_Output!GR154),\"\")","v":""},null,null,{"$f":"IF(Input_Output!GT154=\"\",T(Input_Output!GU154),\"\")","v":""},null,null,{"$f":"IF(Input_Output!GW154=\"\",T(Input_Output!GX154),\"\")","v":""},null,null,{"$f":"IF(Input_Output!GZ154=\"\",T(Input_Output!HA154),\"\")","v":""},null,null,{"$f":"IF(Input_Output!HC154=\"\",T(Input_Output!HD154),\"\")","v":""},null,null,{"$f":"IF(Input_Output!HF154=\"\",T(Input_Output!HG154),\"\")","v":""},null,null,{"$f":"IF(Input_Output!HI154=\"\",T(Input_Output!HJ154),\"\")","v":""},null,null,{"$f":"IF(Input_Output!HL154=\"\",T(Input_Output!HM154),\"\")","v":""},null,null,{"$f":"IF(Input_Output!HO154=\"\",T(Input_Output!HP154),\"\")","v":""},null,null,{"$f":"IF(Input_Output!HR154=\"\",T(Input_Output!HS154),\"\")","v":""},null,null,{"$f":"IF(Input_Output!HU154=\"\",T(Input_Output!HV154),\"\")","v":""},null,null,{"$f":"IF(Input_Output!HX154=\"\",T(Input_Output!HY154),\"\")","v":""},null,null,{"$f":"IF(Input_Output!IA154=\"\",T(Input_Output!IB154),\"\")","v":""},null,null,{"$f":"IF(Input_Output!ID154=\"\",T(Input_Output!IE154),\"\")","v":""},null,null,{"$f":"IF(Input_Output!IG154=\"\",T(Input_Output!IH154),\"\")","v":""},null,null,{"$f":"IF(Input_Output!IJ154=\"\",T(Input_Output!IK154),\"\")","v":""},null,null,{"$f":"IF(Input_Output!IM154=\"\",T(Input_Output!IN154),\"\")","v":""},null,null,{"$f":"IF(Input_Output!IP154=\"\",T(Input_Output!IQ154),\"\")","v":""},null,null,{"$f":"IF(Input_Output!IS154=\"\",T(Input_Output!IT154),\"\")","v":""}]
[null,null,null,null,{"$f":"IF(Input_Output!D155=\"\",T(Input_Output!E155),\"\")","v":""},null,null,{"$f":"IF(Input_Output!G155=\"\",T(Input_Output!H155),\"\")","v":""},null,null,{"$f":"IF(Input_Output!J155=\"\",T(Input_Output!K155),\"\")","v":""},null,null,{"$f":"IF(Input_Output!M155=\"\",T(Input_Output!N155),\"\")","v":""},null,null,{"$f":"IF(Input_Output!P155=\"\",T(Input_Output!Q155),\"\")","v":""},null,null,{"$f":"IF(Input_Output!S155=\"\",T(Input_Output!T155),\"\")","v":""},null,null,{"$f":"IF(Input_Output!V155=\"\",T(Input_Output!W155),\"\")","v":""},null,null,{"$f":"IF(Input_Output!Y155=\"\",T(Input_Output!Z155),\"\")","v":""},null,null,{"$f":"IF(Input_Output!AB155=\"\",T(Input_Output!AC155),\"\")","v":""},null,null,{"$f":"IF(Input_Output!AE155=\"\",T(Input_Output!AF155),\"\")","v":""},null,null,{"$f":"IF(Input_Output!AH155=\"\",T(Input_Output!AI155),\"\")","v":""},null,null,{"$f":"IF(Input_Output!AK155=\"\",T(Input_Output!AL155),\"\")","v":""},null,null,{"$f":"IF(Input_Output!AN155=\"\",T(Input_Output!AO155),\"\")","v":""},null,null,{"$f":"IF(Input_Output!AQ155=\"\",T(Input_Output!AR155),\"\")","v":""},null,null,{"$f":"IF(Input_Output!AT155=\"\",T(Input_Output!AU155),\"\")","v":""},null,null,{"$f":"IF(Input_Output!AW155=\"\",T(Input_Output!AX155),\"\")","v":""},null,null,{"$f":"IF(Input_Output!AZ155=\"\",T(Input_Output!BA155),\"\")","v":""},null,null,{"$f":"IF(Input_Output!BC155=\"\",T(Input_Output!BD155),\"\")","v":""},null,null,{"$f":"IF(Input_Output!BF155=\"\",T(Input_Output!BG155),\"\")","v":""},null,null,{"$f":"IF(Input_Output!BI155=\"\",T(Input_Output!BJ155),\"\")","v":""},null,null,{"$f":"IF(Input_Output!BL155=\"\",T(Input_Output!BM155),\"\")","v":""},null,null,{"$f":"IF(Input_Output!BO155=\"\",T(Input_Output!BP155),\"\")","v":""},null,null,{"$f":"IF(Input_Output!BR155=\"\",T(Input_Output!BS155),\"\")","v":""},null,null,{"$f":"IF(Input_Output!BU155=\"\",T(Input_Output!BV155),\"\")","v":""},null,null,{"$f":"IF(Input_Output!BX155=\"\",T(Input_Output!BY155),\"\")","v":""},null,null,{"$f":"IF(Input_Output!CA155=\"\",T(Input_Output!CB155),\"\")","v":""},null,null,{"$f":"IF(Input_Output!CD155=\"\",T(Input_Output!CE155),\"\")","v":""},null,null,{"$f":"IF(Input_Output!CG155=\"\",T(Input_Output!CH155),\"\")","v":""},null,null,{"$f":"IF(Input_Output!CJ155=\"\",T(Input_Output!CK155),\"\")","v":""},null,null,{"$f":"IF(Input_Output!CM155=\"\",T(Input_Output!CN155),\"\")","v":""},null,null,{"$f":"IF(Input_Output!CP155=\"\",T(Input_Output!CQ155),\"\")","v":""},null,null,{"$f":"IF(Input_Output!CS155=\"\",T(Input_Output!CT155),\"\")","v":""},null,null,{"$f":"IF(Input_Output!CV155=\"\",T(Input_Output!CW155),\"\")","v":""},null,null,{"$f":"IF(Input_Output!CY155=\"\",T(Input_Output!CZ155),\"\")","v":""},null,null,{"$f":"IF(Input_Output!DB155=\"\",T(Input_Output!DC155),\"\")","v":""},null,null,{"$f":"IF(Input_Output!DE155=\"\",T(Input_Output!DF155),\"\")","v":""},null,null,{"$f":"IF(Input_Output!DH155=\"\",T(Input_Output!DI155),\"\")","v":""},null,null,{"$f":"IF(Input_Output!DK155=\"\",T(Input_Output!DL155),\"\")","v":""},null,null,{"$f":"IF(Input_Output!DN155=\"\",T(Input_Output!DO155),\"\")","v":""},null,null,{"$f":"IF(Input_Output!DQ155=\"\",T(Input_Output!DR155),\"\")","v":""},null,null,{"$f":"IF(Input_Output!DT155=\"\",T(Input_Output!DU155),\"\")","v":""},null,null,{"$f":"IF(Input_Output!DW155=\"\",T(Input_Output!DX155),\"\")","v":""},null,null,{"$f":"IF(Input_Output!DZ155=\"\",T(Input_Output!EA155),\"\")","v":""},null,null,{"$f":"IF(Input_Output!EC155=\"\",T(Input_Output!ED155),\"\")","v":""},null,null,{"$f":"IF(Input_Output!EF155=\"\",T(Input_Output!EG155),\"\")","v":""},null,null,{"$f":"IF(Input_Output!EI155=\"\",T(Input_Output!EJ155),\"\")","v":""},null,null,{"$f":"IF(Input_Output!EL155=\"\",T(Input_Output!EM155),\"\")","v":""},null,null,{"$f":"IF(Input_Output!EO155=\"\",T(Input_Output!EP155),\"\")","v":""},null,null,{"$f":"IF(Input_Output!ER155=\"\",T(Input_Output!ES155),\"\")","v":""},null,null,{"$f":"IF(Input_Output!EU155=\"\",T(Input_Output!EV155),\"\")","v":""},null,null,{"$f":"IF(Input_Output!EX155=\"\",T(Input_Output!EY155),\"\")","v":""},null,null,{"$f":"IF(Input_Output!FA155=\"\",T(Input_Output!FB155),\"\")","v":""},null,null,{"$f":"IF(Input_Output!FD155=\"\",T(Input_Output!FE155),\"\")","v":""},null,null,{"$f":"IF(Input_Output!FG155=\"\",T(Input_Output!FH155),\"\")","v":""},null,null,{"$f":"IF(Input_Output!FJ155=\"\",T(Input_Output!FK155),\"\")","v":""},null,null,{"$f":"IF(Input_Output!FM155=\"\",T(Input_Output!FN155),\"\")","v":""},null,null,{"$f":"IF(Input_Output!FP155=\"\",T(Input_Output!FQ155),\"\")","v":""},null,null,{"$f":"IF(Input_Output!FS155=\"\",T(Input_Output!FT155),\"\")","v":""},null,null,{"$f":"IF(Input_Output!FV155=\"\",T(Input_Output!FW155),\"\")","v":""},null,null,{"$f":"IF(Input_Output!FY155=\"\",T(Input_Output!FZ155),\"\")","v":""},null,null,{"$f":"IF(Input_Output!GB155=\"\",T(Input_Output!GC155),\"\")","v":""},null,null,{"$f":"IF(Input_Output!GE155=\"\",T(Input_Output!GF155),\"\")","v":""},null,null,{"$f":"IF(Input_Output!GH155=\"\",T(Input_Output!GI155),\"\")","v":""},null,null,{"$f":"IF(Input_Output!GK155=\"\",T(Input_Output!GL155),\"\")","v":""},null,null,{"$f":"IF(Input_Output!GN155=\"\",T(Input_Output!GO155),\"\")","v":""},null,null,{"$f":"IF(Input_Output!GQ155=\"\",T(Input_Output!GR155),\"\")","v":""},null,null,{"$f":"IF(Input_Output!GT155=\"\",T(Input_Output!GU155),\"\")","v":""},null,null,{"$f":"IF(Input_Output!GW155=\"\",T(Input_Output!GX155),\"\")","v":""},null,null,{"$f":"IF(Input_Output!GZ155=\"\",T(Input_Output!HA155),\"\")","v":""},null,null,{"$f":"IF(Input_Output!HC155=\"\",T(Input_Output!HD155),\"\")","v":""},null,null,{"$f":"IF(Input_Output!HF155=\"\",T(Input_Output!HG155),\"\")","v":""},null,null,{"$f":"IF(Input_Output!HI155=\"\",T(Input_Output!HJ155),\"\")","v":""},null,null,{"$f":"IF(Input_Output!HL155=\"\",T(Input_Output!HM155),\"\")","v":""},null,null,{"$f":"IF(Input_Output!HO155=\"\",T(Input_Output!HP155),\"\")","v":""},null,null,{"$f":"IF(Input_Output!HR155=\"\",T(Input_Output!HS155),\"\")","v":""},null,null,{"$f":"IF(Input_Output!HU155=\"\",T(Input_Output!HV155),\"\")","v":""},null,null,{"$f":"IF(Input_Output!HX155=\"\",T(Input_Output!HY155),\"\")","v":""},null,null,{"$f":"IF(Input_Output!IA155=\"\",T(Input_Output!IB155),\"\")","v":""},null,null,{"$f":"IF(Input_Output!ID155=\"\",T(Input_Output!IE155),\"\")","v":""},null,null,{"$f":"IF(Input_Output!IG155=\"\",T(Input_Output!IH155),\"\")","v":""},null,null,{"$f":"IF(Input_Output!IJ155=\"\",T(Input_Output!IK155),\"\")","v":""},null,null,{"$f":"IF(Input_Output!IM155=\"\",T(Input_Output!IN155),\"\")","v":""},null,null,{"$f":"IF(Input_Output!IP155=\"\",T(Input_Output!IQ155),\"\")","v":""},null,null,{"$f":"IF(Input_Output!IS155=\"\",T(Input_Output!IT155),\"\")","v":""}]
[null,null,null,null,{"$f":"IF(Input_Output!D156=\"\",T(Input_Output!E156),\"\")","v":""},null,null,{"$f":"IF(Input_Output!G156=\"\",T(Input_Output!H156),\"\")","v":""},null,null,{"$f":"IF(Input_Output!J156=\"\",T(Input_Output!K156),\"\")","v":""},null,null,{"$f":"IF(Input_Output!M156=\"\",T(Input_Output!N156),\"\")","v":""},null,null,{"$f":"IF(Input_Output!P156=\"\",T(Input_Output!Q156),\"\")","v":""},null,null,{"$f":"IF(Input_Output!S156=\"\",T(Input_Output!T156),\"\")","v":""},null,null,{"$f":"IF(Input_Output!V156=\"\",T(Input_Output!W156),\"\")","v":""},null,null,{"$f":"IF(Input_Output!Y156=\"\",T(Input_Output!Z156),\"\")","v":""},null,null,{"$f":"IF(Input_Output!AB156=\"\",T(Input_Output!AC156),\"\")","v":""},null,null,{"$f":"IF(Input_Output!AE156=\"\",T(Input_Output!AF156),\"\")","v":""},null,null,{"$f":"IF(Input_Output!AH156=\"\",T(Input_Output!AI156),\"\")","v":""},null,null,{"$f":"IF(Input_Output!AK156=\"\",T(Input_Output!AL156),\"\")","v":""},null,null,{"$f":"IF(Input_Output!AN156=\"\",T(Input_Output!AO156),\"\")","v":""},null,null,{"$f":"IF(Input_Output!AQ156=\"\",T(Input_Output!AR156),\"\")","v":""},null,null,{"$f":"IF(Input_Output!AT156=\"\",T(Input_Output!AU156),\"\")","v":""},null,null,{"$f":"IF(Input_Output!AW156=\"\",T(Input_Output!AX156),\"\")","v":""},null,null,{"$f":"IF(Input_Output!AZ156=\"\",T(Input_Output!BA156),\"\")","v":""},null,null,{"$f":"IF(Input_Output!BC156=\"\",T(Input_Output!BD156),\"\")","v":""},null,null,{"$f":"IF(Input_Output!BF156=\"\",T(Input_Output!BG156),\"\")","v":""},null,null,{"$f":"IF(Input_Output!BI156=\"\",T(Input_Output!BJ156),\"\")","v":""},null,null,{"$f":"IF(Input_Output!BL156=\"\",T(Input_Output!BM156),\"\")","v":""},null,null,{"$f":"IF(Input_Output!BO156=\"\",T(Input_Output!BP156),\"\")","v":""},null,null,{"$f":"IF(Input_Output!BR156=\"\",T(Input_Output!BS156),\"\")","v":""},null,null,{"$f":"IF(Input_Output!BU156=\"\",T(Input_Output!BV156),\"\")","v":""},null,null,{"$f":"IF(Input_Output!BX156=\"\",T(Input_Output!BY156),\"\")","v":""},null,null,{"$f":"IF(Input_Output!CA156=\"\",T(Input_Output!CB156),\"\")","v":""},null,null,{"$f":"IF(Input_Output!CD156=\"\",T(Input_Output!CE156),\"\")","v":""},null,null,{"$f":"IF(Input_Output!CG156=\"\",T(Input_Output!CH156),\"\")","v":""},null,null,{"$f":"IF(Input_Output!CJ156=\"\",T(Input_Output!CK156),\"\")","v":""},null,null,{"$f":"IF(Input_Output!CM156=\"\",T(Input_Output!CN156),\"\")","v":""},null,null,{"$f":"IF(Input_Output!CP156=\"\",T(Input_Output!CQ156),\"\")","v":""},null,null,{"$f":"IF(Input_Output!CS156=\"\",T(Input_Output!CT156),\"\")","v":""},null,null,{"$f":"IF(Input_Output!CV156=\"\",T(Input_Output!CW156),\"\")","v":""},null,null,{"$f":"IF(Input_Output!CY156=\"\",T(Input_Output!CZ156),\"\")","v":""},null,null,{"$f":"IF(Input_Output!DB156=\"\",T(Input_Output!DC156),\"\")","v":""},null,null,{"$f":"IF(Input_Output!DE156=\"\",T(Input_Output!DF156),\"\")","v":""},null,null,{"$f":"IF(Input_Output!DH156=\"\",T(Input_Output!DI156),\"\")","v":""},null,null,{"$f":"IF(Input_Output!DK156=\"\",T(Input_Output!DL156),\"\")","v":""},null,null,{"$f":"IF(Input_Output!DN156=\"\",T(Input_Output!DO156),\"\")","v":""},null,null,{"$f":"IF(Input_Output!DQ156=\"\",T(Input_Output!DR156),\"\")","v":""},null,null,{"$f":"IF(Input_Output!DT156=\"\",T(Input_Output!DU156),\"\")","v":""},null,null,{"$f":"IF(Input_Output!DW156=\"\",T(Input_Output!DX156),\"\")","v":""},null,null,{"$f":"IF(Input_Output!DZ156=\"\",T(Input_Output!EA156),\"\")","v":""},null,null,{"$f":"IF(Input_Output!EC156=\"\",T(Input_Output!ED156),\"\")","v":""},null,null,{"$f":"IF(Input_Output!EF156=\"\",T(Input_Output!EG156),\"\")","v":""},null,null,{"$f":"IF(Input_Output!EI156=\"\",T(Input_Output!EJ156),\"\")","v":""},null,null,{"$f":"IF(Input_Output!EL156=\"\",T(Input_Output!EM156),\"\")","v":""},null,null,{"$f":"IF(Input_Output!EO156=\"\",T(Input_Output!EP156),\"\")","v":""},null,null,{"$f":"IF(Input_Output!ER156=\"\",T(Input_Output!ES156),\"\")","v":""},null,null,{"$f":"IF(Input_Output!EU156=\"\",T(Input_Output!EV156),\"\")","v":""},null,null,{"$f":"IF(Input_Output!EX156=\"\",T(Input_Output!EY156),\"\")","v":""},null,null,{"$f":"IF(Input_Output!FA156=\"\",T(Input_Output!FB156),\"\")","v":""},null,null,{"$f":"IF(Input_Output!FD156=\"\",T(Input_Output!FE156),\"\")","v":""},null,null,{"$f":"IF(Input_Output!FG156=\"\",T(Input_Output!FH156),\"\")","v":""},null,null,{"$f":"IF(Input_Output!FJ156=\"\",T(Input_Output!FK156),\"\")","v":""},null,null,{"$f":"IF(Input_Output!FM156=\"\",T(Input_Output!FN156),\"\")","v":""},null,null,{"$f":"IF(Input_Output!FP156=\"\",T(Input_Output!FQ156),\"\")","v":""},null,null,{"$f":"IF(Input_Output!FS156=\"\",T(Input_Output!FT156),\"\")","v":""},null,null,{"$f":"IF(Input_Output!FV156=\"\",T(Input_Output!FW156),\"\")","v":""},null,null,{"$f":"IF(Input_Output!FY156=\"\",T(Input_Output!FZ156),\"\")","v":""},null,null,{"$f":"IF(Input_Output!GB156=\"\",T(Input_Output!GC156),\"\")","v":""},null,null,{"$f":"IF(Input_Output!GE156=\"\",T(Input_Output!GF156),\"\")","v":""},null,null,{"$f":"IF(Input_Output!GH156=\"\",T(Input_Output!GI156),\"\")","v":""},null,null,{"$f":"IF(Input_Output!GK156=\"\",T(Input_Output!GL156),\"\")","v":""},null,null,{"$f":"IF(Input_Output!GN156=\"\",T(Input_Output!GO156),\"\")","v":""},null,null,{"$f":"IF(Input_Output!GQ156=\"\",T(Input_Output!GR156),\"\")","v":""},null,null,{"$f":"IF(Input_Output!GT156=\"\",T(Input_Output!GU156),\"\")","v":""},null,null,{"$f":"IF(Input_Output!GW156=\"\",T(Input_Output!GX156),\"\")","v":""},null,null,{"$f":"IF(Input_Output!GZ156=\"\",T(Input_Output!HA156),\"\")","v":""},null,null,{"$f":"IF(Input_Output!HC156=\"\",T(Input_Output!HD156),\"\")","v":""},null,null,{"$f":"IF(Input_Output!HF156=\"\",T(Input_Output!HG156),\"\")","v":""},null,null,{"$f":"IF(Input_Output!HI156=\"\",T(Input_Output!HJ156),\"\")","v":""},null,null,{"$f":"IF(Input_Output!HL156=\"\",T(Input_Output!HM156),\"\")","v":""},null,null,{"$f":"IF(Input_Output!HO156=\"\",T(Input_Output!HP156),\"\")","v":""},null,null,{"$f":"IF(Input_Output!HR156=\"\",T(Input_Output!HS156),\"\")","v":""},null,null,{"$f":"IF(Input_Output!HU156=\"\",T(Input_Output!HV156),\"\")","v":""},null,null,{"$f":"IF(Input_Output!HX156=\"\",T(Input_Output!HY156),\"\")","v":""},null,null,{"$f":"IF(Input_Output!IA156=\"\",T(Input_Output!IB156),\"\")","v":""},null,null,{"$f":"IF(Input_Output!ID156=\"\",T(Input_Output!IE156),\"\")","v":""},null,null,{"$f":"IF(Input_Output!IG156=\"\",T(Input_Output!IH156),\"\")","v":""},null,null,{"$f":"IF(Input_Output!IJ156=\"\",T(Input_Output!IK156),\"\")","v":""},null,null,{"$f":"IF(Input_Output!IM156=\"\",T(Input_Output!IN156),\"\")","v":""},null,null,{"$f":"IF(Input_Output!IP156=\"\",T(Input_Output!IQ156),\"\")","v":""},null,null,{"$f":"IF(Input_Output!IS156=\"\",T(Input_Output!IT156),\"\")","v":""}]
[null,null,null,null,{"$f":"IF(Input_Output!D157=\"\",T(Input_Output!E157),\"\")","v":""},null,null,{"$f":"IF(Input_Output!G157=\"\",T(Input_Output!H157),\"\")","v":""},null,null,{"$f":"IF(Input_Output!J157=\"\",T(Input_Output!K157),\"\")","v":""},null,null,{"$f":"IF(Input_Output!M157=\"\",T(Input_Output!N157),\"\")","v":""},null,null,{"$f":"IF(Input_Output!P157=\"\",T(Input_Output!Q157),\"\")","v":""},null,null,{"$f":"IF(Input_Output!S157=\"\",T(Input_Output!T157),\"\")","v":""},null,null,{"$f":"IF(Input_Output!V157=\"\",T(Input_Output!W157),\"\")","v":""},null,null,{"$f":"IF(Input_Output!Y157=\"\",T(Input_Output!Z157),\"\")","v":""},null,null,{"$f":"IF(Input_Output!AB157=\"\",T(Input_Output!AC157),\"\")","v":""},null,null,{"$f":"IF(Input_Output!AE157=\"\",T(Input_Output!AF157),\"\")","v":""},null,null,{"$f":"IF(Input_Output!AH157=\"\",T(Input_Output!AI157),\"\")","v":""},null,null,{"$f":"IF(Input_Output!AK157=\"\",T(Input_Output!AL157),\"\")","v":""},null,null,{"$f":"IF(Input_Output!AN157=\"\",T(Input_Output!AO157),\"\")","v":""},null,null,{"$f":"IF(Input_Output!AQ157=\"\",T(Input_Output!AR157),\"\")","v":""},null,null,{"$f":"IF(Input_Output!AT157=\"\",T(Input_Output!AU157),\"\")","v":""},null,null,{"$f":"IF(Input_Output!AW157=\"\",T(Input_Output!AX157),\"\")","v":""},null,null,{"$f":"IF(Input_Output!AZ157=\"\",T(Input_Output!BA157),\"\")","v":""},null,null,{"$f":"IF(Input_Output!BC157=\"\",T(Input_Output!BD157),\"\")","v":""},null,null,{"$f":"IF(Input_Output!BF157=\"\",T(Input_Output!BG157),\"\")","v":""},null,null,{"$f":"IF(Input_Output!BI157=\"\",T(Input_Output!BJ157),\"\")","v":""},null,null,{"$f":"IF(Input_Output!BL157=\"\",T(Input_Output!BM157),\"\")","v":""},null,null,{"$f":"IF(Input_Output!BO157=\"\",T(Input_Output!BP157),\"\")","v":""},null,null,{"$f":"IF(Input_Output!BR157=\"\",T(Input_Output!BS157),\"\")","v":""},null,null,{"$f":"IF(Input_Output!BU157=\"\",T(Input_Output!BV157),\"\")","v":""},null,null,{"$f":"IF(Input_Output!BX157=\"\",T(Input_Output!BY157),\"\")","v":""},null,null,{"$f":"IF(Input_Output!CA157=\"\",T(Input_Output!CB157),\"\")","v":""},null,null,{"$f":"IF(Input_Output!CD157=\"\",T(Input_Output!CE157),\"\")","v":""},null,null,{"$f":"IF(Input_Output!CG157=\"\",T(Input_Output!CH157),\"\")","v":""},null,null,{"$f":"IF(Input_Output!CJ157=\"\",T(Input_Output!CK157),\"\")","v":""},null,null,{"$f":"IF(Input_Output!CM157=\"\",T(Input_Output!CN157),\"\")","v":""},null,null,{"$f":"IF(Input_Output!CP157=\"\",T(Input_Output!CQ157),\"\")","v":""},null,null,{"$f":"IF(Input_Output!CS157=\"\",T(Input_Output!CT157),\"\")","v":""},null,null,{"$f":"IF(Input_Output!CV157=\"\",T(Input_Output!CW157),\"\")","v":""},null,null,{"$f":"IF(Input_Output!CY157=\"\",T(Input_Output!CZ157),\"\")","v":""},null,null,{"$f":"IF(Input_Output!DB157=\"\",T(Input_Output!DC157),\"\")","v":""},null,null,{"$f":"IF(Input_Output!DE157=\"\",T(Input_Output!DF157),\"\")","v":""},null,null,{"$f":"IF(Input_Output!DH157=\"\",T(Input_Output!DI157),\"\")","v":""},null,null,{"$f":"IF(Input_Output!DK157=\"\",T(Input_Output!DL157),\"\")","v":""},null,null,{"$f":"IF(Input_Output!DN157=\"\",T(Input_Output!DO157),\"\")","v":""},null,null,{"$f":"IF(Input_Output!DQ157=\"\",T(Input_Output!DR157),\"\")","v":""},null,null,{"$f":"IF(Input_Output!DT157=\"\",T(Input_Output!DU157),\"\")","v":""},null,null,{"$f":"IF(Input_Output!DW157=\"\",T(Input_Output!DX157),\"\")","v":""},null,null,{"$f":"IF(Input_Output!DZ157=\"\",T(Input_Output!EA157),\"\")","v":""},null,null,{"$f":"IF(Input_Output!EC157=\"\",T(Input_Output!ED157),\"\")","v":""},null,null,{"$f":"IF(Input_Output!EF157=\"\",T(Input_Output!EG157),\"\")","v":""},null,null,{"$f":"IF(Input_Output!EI157=\"\",T(Input_Output!EJ157),\"\")","v":""},null,null,{"$f":"IF(Input_Output!EL157=\"\",T(Input_Output!EM157),\"\")","v":""},null,null,{"$f":"IF(Input_Output!EO157=\"\",T(Input_Output!EP157),\"\")","v":""},null,null,{"$f":"IF(Input_Output!ER157=\"\",T(Input_Output!ES157),\"\")","v":""},null,null,{"$f":"IF(Input_Output!EU157=\"\",T(Input_Output!EV157),\"\")","v":""},null,null,{"$f":"IF(Input_Output!EX157=\"\",T(Input_Output!EY157),\"\")","v":""},null,null,{"$f":"IF(Input_Output!FA157=\"\",T(Input_Output!FB157),\"\")","v":""},null,null,{"$f":"IF(Input_Output!FD157=\"\",T(Input_Output!FE157),\"\")","v":""},null,null,{"$f":"IF(Input_Output!FG157=\"\",T(Input_Output!FH157),\"\")","v":""},null,null,{"$f":"IF(Input_Output!FJ157=\"\",T(Input_Output!FK157),\"\")","v":""},null,null,{"$f":"IF(Input_Output!FM157=\"\",T(Input_Output!FN157),\"\")","v":""},null,null,{"$f":"IF(Input_Output!FP157=\"\",T(Input_Output!FQ157),\"\")","v":""},null,null,{"$f":"IF(Input_Output!FS157=\"\",T(Input_Output!FT157),\"\")","v":""},null,null,{"$f":"IF(Input_Output!FV157=\"\",T(Input_Output!FW157),\"\")","v":""},null,null,{"$f":"IF(Input_Output!FY157=\"\",T(Input_Output!FZ157),\"\")","v":""},null,null,{"$f":"IF(Input_Output!GB157=\"\",T(Input_Output!GC157),\"\")","v":""},null,null,{"$f":"IF(Input_Output!GE157=\"\",T(Input_Output!GF157),\"\")","v":""},null,null,{"$f":"IF(Input_Output!GH157=\"\",T(Input_Output!GI157),\"\")","v":""},null,null,{"$f":"IF(Input_Output!GK157=\"\",T(Input_Output!GL157),\"\")","v":""},null,null,{"$f":"IF(Input_Output!GN157=\"\",T(Input_Output!GO157),\"\")","v":""},null,null,{"$f":"IF(Input_Output!GQ157=\"\",T(Input_Output!GR157),\"\")","v":""},null,null,{"$f":"IF(Input_Output!GT157=\"\",T(Input_Output!GU157),\"\")","v":""},null,null,{"$f":"IF(Input_Output!GW157=\"\",T(Input_Output!GX157),\"\")","v":""},null,null,{"$f":"IF(Input_Output!GZ157=\"\",T(Input_Output!HA157),\"\")","v":""},null,null,{"$f":"IF(Input_Output!HC157=\"\",T(Input_Output!HD157),\"\")","v":""},null,null,{"$f":"IF(Input_Output!HF157=\"\",T(Input_Output!HG157),\"\")","v":""},null,null,{"$f":"IF(Input_Output!HI157=\"\",T(Input_Output!HJ157),\"\")","v":""},null,null,{"$f":"IF(Input_Output!HL157=\"\",T(Input_Output!HM157),\"\")","v":""},null,null,{"$f":"IF(Input_Output!HO157=\"\",T(Input_Output!HP157),\"\")","v":""},null,null,{"$f":"IF(Input_Output!HR157=\"\",T(Input_Output!HS157),\"\")","v":""},null,null,{"$f":"IF(Input_Output!HU157=\"\",T(Input_Output!HV157),\"\")","v":""},null,null,{"$f":"IF(Input_Output!HX157=\"\",T(Input_Output!HY157),\"\")","v":""},null,null,{"$f":"IF(Input_Output!IA157=\"\",T(Input_Output!IB157),\"\")","v":""},null,null,{"$f":"IF(Input_Output!ID157=\"\",T(Input_Output!IE157),\"\")","v":""},null,null,{"$f":"IF(Input_Output!IG157=\"\",T(Input_Output!IH157),\"\")","v":""},null,null,{"$f":"IF(Input_Output!IJ157=\"\",T(Input_Output!IK157),\"\")","v":""},null,null,{"$f":"IF(Input_Output!IM157=\"\",T(Input_Output!IN157),\"\")","v":""},null,null,{"$f":"IF(Input_Output!IP157=\"\",T(Input_Output!IQ157),\"\")","v":""},null,null,{"$f":"IF(Input_Output!IS157=\"\",T(Input_Output!IT157),\"\")","v":""}]
[null,null,null,null,{"$f":"IF(Input_Output!D158=\"\",T(Input_Output!E158),\"\")","v":""},null,null,{"$f":"IF(Input_Output!G158=\"\",T(Input_Output!H158),\"\")","v":""},null,null,{"$f":"IF(Input_Output!J158=\"\",T(Input_Output!K158),\"\")","v":""},null,null,{"$f":"IF(Input_Output!M158=\"\",T(Input_Output!N158),\"\")","v":""},null,null,{"$f":"IF(Input_Output!P158=\"\",T(Input_Output!Q158),\"\")","v":""},null,null,{"$f":"IF(Input_Output!S158=\"\",T(Input_Output!T158),\"\")","v":""},null,null,{"$f":"IF(Input_Output!V158=\"\",T(Input_Output!W158),\"\")","v":""},null,null,{"$f":"IF(Input_Output!Y158=\"\",T(Input_Output!Z158),\"\")","v":""},null,null,{"$f":"IF(Input_Output!AB158=\"\",T(Input_Output!AC158),\"\")","v":""},null,null,{"$f":"IF(Input_Output!AE158=\"\",T(Input_Output!AF158),\"\")","v":""},null,null,{"$f":"IF(Input_Output!AH158=\"\",T(Input_Output!AI158),\"\")","v":""},null,null,{"$f":"IF(Input_Output!AK158=\"\",T(Input_Output!AL158),\"\")","v":""},null,null,{"$f":"IF(Input_Output!AN158=\"\",T(Input_Output!AO158),\"\")","v":""},null,null,{"$f":"IF(Input_Output!AQ158=\"\",T(Input_Output!AR158),\"\")","v":""},null,null,{"$f":"IF(Input_Output!AT158=\"\",T(Input_Output!AU158),\"\")","v":""},null,null,{"$f":"IF(Input_Output!AW158=\"\",T(Input_Output!AX158),\"\")","v":""},null,null,{"$f":"IF(Input_Output!AZ158=\"\",T(Input_Output!BA158),\"\")","v":""},null,null,{"$f":"IF(Input_Output!BC158=\"\",T(Input_Output!BD158),\"\")","v":""},null,null,{"$f":"IF(Input_Output!BF158=\"\",T(Input_Output!BG158),\"\")","v":""},null,null,{"$f":"IF(Input_Output!BI158=\"\",T(Input_Output!BJ158),\"\")","v":""},null,null,{"$f":"IF(Input_Output!BL158=\"\",T(Input_Output!BM158),\"\")","v":""},null,null,{"$f":"IF(Input_Output!BO158=\"\",T(Input_Output!BP158),\"\")","v":""},null,null,{"$f":"IF(Input_Output!BR158=\"\",T(Input_Output!BS158),\"\")","v":""},null,null,{"$f":"IF(Input_Output!BU158=\"\",T(Input_Output!BV158),\"\")","v":""},null,null,{"$f":"IF(Input_Output!BX158=\"\",T(Input_Output!BY158),\"\")","v":""},null,null,{"$f":"IF(Input_Output!CA158=\"\",T(Input_Output!CB158),\"\")","v":""},null,null,{"$f":"IF(Input_Output!CD158=\"\",T(Input_Output!CE158),\"\")","v":""},null,null,{"$f":"IF(Input_Output!CG158=\"\",T(Input_Output!CH158),\"\")","v":""},null,null,{"$f":"IF(Input_Output!CJ158=\"\",T(Input_Output!CK158),\"\")","v":""},null,null,{"$f":"IF(Input_Output!CM158=\"\",T(Input_Output!CN158),\"\")","v":""},null,null,{"$f":"IF(Input_Output!CP158=\"\",T(Input_Output!CQ158),\"\")","v":""},null,null,{"$f":"IF(Input_Output!CS158=\"\",T(Input_Output!CT158),\"\")","v":""},null,null,{"$f":"IF(Input_Output!CV158=\"\",T(Input_Output!CW158),\"\")","v":""},null,null,{"$f":"IF(Input_Output!CY158=\"\",T(Input_Output!CZ158),\"\")","v":""},null,null,{"$f":"IF(Input_Output!DB158=\"\",T(Input_Output!DC158),\"\")","v":""},null,null,{"$f":"IF(Input_Output!DE158=\"\",T(Input_Output!DF158),\"\")","v":""},null,null,{"$f":"IF(Input_Output!DH158=\"\",T(Input_Output!DI158),\"\")","v":""},null,null,{"$f":"IF(Input_Output!DK158=\"\",T(Input_Output!DL158),\"\")","v":""},null,null,{"$f":"IF(Input_Output!DN158=\"\",T(Input_Output!DO158),\"\")","v":""},null,null,{"$f":"IF(Input_Output!DQ158=\"\",T(Input_Output!DR158),\"\")","v":""},null,null,{"$f":"IF(Input_Output!DT158=\"\",T(Input_Output!DU158),\"\")","v":""},null,null,{"$f":"IF(Input_Output!DW158=\"\",T(Input_Output!DX158),\"\")","v":""},null,null,{"$f":"IF(Input_Output!DZ158=\"\",T(Input_Output!EA158),\"\")","v":""},null,null,{"$f":"IF(Input_Output!EC158=\"\",T(Input_Output!ED158),\"\")","v":""},null,null,{"$f":"IF(Input_Output!EF158=\"\",T(Input_Output!EG158),\"\")","v":""},null,null,{"$f":"IF(Input_Output!EI158=\"\",T(Input_Output!EJ158),\"\")","v":""},null,null,{"$f":"IF(Input_Output!EL158=\"\",T(Input_Output!EM158),\"\")","v":""},null,null,{"$f":"IF(Input_Output!EO158=\"\",T(Input_Output!EP158),\"\")","v":""},null,null,{"$f":"IF(Input_Output!ER158=\"\",T(Input_Output!ES158),\"\")","v":""},null,null,{"$f":"IF(Input_Output!EU158=\"\",T(Input_Output!EV158),\"\")","v":""},null,null,{"$f":"IF(Input_Output!EX158=\"\",T(Input_Output!EY158),\"\")","v":""},null,null,{"$f":"IF(Input_Output!FA158=\"\",T(Input_Output!FB158),\"\")","v":""},null,null,{"$f":"IF(Input_Output!FD158=\"\",T(Input_Output!FE158),\"\")","v":""},null,null,{"$f":"IF(Input_Output!FG158=\"\",T(Input_Output!FH158),\"\")","v":""},null,null,{"$f":"IF(Input_Output!FJ158=\"\",T(Input_Output!FK158),\"\")","v":""},null,null,{"$f":"IF(Input_Output!FM158=\"\",T(Input_Output!FN158),\"\")","v":""},null,null,{"$f":"IF(Input_Output!FP158=\"\",T(Input_Output!FQ158),\"\")","v":""},null,null,{"$f":"IF(Input_Output!FS158=\"\",T(Input_Output!FT158),\"\")","v":""},null,null,{"$f":"IF(Input_Output!FV158=\"\",T(Input_Output!FW158),\"\")","v":""},null,null,{"$f":"IF(Input_Output!FY158=\"\",T(Input_Output!FZ158),\"\")","v":""},null,null,{"$f":"IF(Input_Output!GB158=\"\",T(Input_Output!GC158),\"\")","v":""},null,null,{"$f":"IF(Input_Output!GE158=\"\",T(Input_Output!GF158),\"\")","v":""},null,null,{"$f":"IF(Input_Output!GH158=\"\",T(Input_Output!GI158),\"\")","v":""},null,null,{"$f":"IF(Input_Output!GK158=\"\",T(Input_Output!GL158),\"\")","v":""},null,null,{"$f":"IF(Input_Output!GN158=\"\",T(Input_Output!GO158),\"\")","v":""},null,null,{"$f":"IF(Input_Output!GQ158=\"\",T(Input_Output!GR158),\"\")","v":""},null,null,{"$f":"IF(Input_Output!GT158=\"\",T(Input_Output!GU158),\"\")","v":""},null,null,{"$f":"IF(Input_Output!GW158=\"\",T(Input_Output!GX158),\"\")","v":""},null,null,{"$f":"IF(Input_Output!GZ158=\"\",T(Input_Output!HA158),\"\")","v":""},null,null,{"$f":"IF(Input_Output!HC158=\"\",T(Input_Output!HD158),\"\")","v":""},null,null,{"$f":"IF(Input_Output!HF158=\"\",T(Input_Output!HG158),\"\")","v":""},null,null,{"$f":"IF(Input_Output!HI158=\"\",T(Input_Output!HJ158),\"\")","v":""},null,null,{"$f":"IF(Input_Output!HL158=\"\",T(Input_Output!HM158),\"\")","v":""},null,null,{"$f":"IF(Input_Output!HO158=\"\",T(Input_Output!HP158),\"\")","v":""},null,null,{"$f":"IF(Input_Output!HR158=\"\",T(Input_Output!HS158),\"\")","v":""},null,null,{"$f":"IF(Input_Output!HU158=\"\",T(Input_Output!HV158),\"\")","v":""},null,null,{"$f":"IF(Input_Output!HX158=\"\",T(Input_Output!HY158),\"\")","v":""},null,null,{"$f":"IF(Input_Output!IA158=\"\",T(Input_Output!IB158),\"\")","v":""},null,null,{"$f":"IF(Input_Output!ID158=\"\",T(Input_Output!IE158),\"\")","v":""},null,null,{"$f":"IF(Input_Output!IG158=\"\",T(Input_Output!IH158),\"\")","v":""},null,null,{"$f":"IF(Input_Output!IJ158=\"\",T(Input_Output!IK158),\"\")","v":""},null,null,{"$f":"IF(Input_Output!IM158=\"\",T(Input_Output!IN158),\"\")","v":""},null,null,{"$f":"IF(Input_Output!IP158=\"\",T(Input_Output!IQ158),\"\")","v":""},null,null,{"$f":"IF(Input_Output!IS158=\"\",T(Input_Output!IT158),\"\")","v":""}]
[null,null,null,null,{"$f":"IF(Input_Output!D159=\"\",T(Input_Output!E159),\"\")","v":""},null,null,{"$f":"IF(Input_Output!G159=\"\",T(Input_Output!H159),\"\")","v":""},null,null,{"$f":"IF(Input_Output!J159=\"\",T(Input_Output!K159),\"\")","v":""},null,null,{"$f":"IF(Input_Output!M159=\"\",T(Input_Output!N159),\"\")","v":""},null,null,{"$f":"IF(Input_Output!P159=\"\",T(Input_Output!Q159),\"\")","v":""},null,null,{"$f":"IF(Input_Output!S159=\"\",T(Input_Output!T159),\"\")","v":""},null,null,{"$f":"IF(Input_Output!V159=\"\",T(Input_Output!W159),\"\")","v":""},null,null,{"$f":"IF(Input_Output!Y159=\"\",T(Input_Output!Z159),\"\")","v":""},null,null,{"$f":"IF(Input_Output!AB159=\"\",T(Input_Output!AC159),\"\")","v":""},null,null,{"$f":"IF(Input_Output!AE159=\"\",T(Input_Output!AF159),\"\")","v":""},null,null,{"$f":"IF(Input_Output!AH159=\"\",T(Input_Output!AI159),\"\")","v":""},null,null,{"$f":"IF(Input_Output!AK159=\"\",T(Input_Output!AL159),\"\")","v":""},null,null,{"$f":"IF(Input_Output!AN159=\"\",T(Input_Output!AO159),\"\")","v":""},null,null,{"$f":"IF(Input_Output!AQ159=\"\",T(Input_Output!AR159),\"\")","v":""},null,null,{"$f":"IF(Input_Output!AT159=\"\",T(Input_Output!AU159),\"\")","v":""},null,null,{"$f":"IF(Input_Output!AW159=\"\",T(Input_Output!AX159),\"\")","v":""},null,null,{"$f":"IF(Input_Output!AZ159=\"\",T(Input_Output!BA159),\"\")","v":""},null,null,{"$f":"IF(Input_Output!BC159=\"\",T(Input_Output!BD159),\"\")","v":""},null,null,{"$f":"IF(Input_Output!BF159=\"\",T(Input_Output!BG159),\"\")","v":""},null,null,{"$f":"IF(Input_Output!BI159=\"\",T(Input_Output!BJ159),\"\")","v":""},null,null,{"$f":"IF(Input_Output!BL159=\"\",T(Input_Output!BM159),\"\")","v":""},null,null,{"$f":"IF(Input_Output!BO159=\"\",T(Input_Output!BP159),\"\")","v":""},null,null,{"$f":"IF(Input_Output!BR159=\"\",T(Input_Output!BS159),\"\")","v":""},null,null,{"$f":"IF(Input_Output!BU159=\"\",T(Input_Output!BV159),\"\")","v":""},null,null,{"$f":"IF(Input_Output!BX159=\"\",T(Input_Output!BY159),\"\")","v":""},null,null,{"$f":"IF(Input_Output!CA159=\"\",T(Input_Output!CB159),\"\")","v":""},null,null,{"$f":"IF(Input_Output!CD159=\"\",T(Input_Output!CE159),\"\")","v":""},null,null,{"$f":"IF(Input_Output!CG159=\"\",T(Input_Output!CH159),\"\")","v":""},null,null,{"$f":"IF(Input_Output!CJ159=\"\",T(Input_Output!CK159),\"\")","v":""},null,null,{"$f":"IF(Input_Output!CM159=\"\",T(Input_Output!CN159),\"\")","v":""},null,null,{"$f":"IF(Input_Output!CP159=\"\",T(Input_Output!CQ159),\"\")","v":""},null,null,{"$f":"IF(Input_Output!CS159=\"\",T(Input_Output!CT159),\"\")","v":""},null,null,{"$f":"IF(Input_Output!CV159=\"\",T(Input_Output!CW159),\"\")","v":""},null,null,{"$f":"IF(Input_Output!CY159=\"\",T(Input_Output!CZ159),\"\")","v":""},null,null,{"$f":"IF(Input_Output!DB159=\"\",T(Input_Output!DC159),\"\")","v":""},null,null,{"$f":"IF(Input_Output!DE159=\"\",T(Input_Output!DF159),\"\")","v":""},null,null,{"$f":"IF(Input_Output!DH159=\"\",T(Input_Output!DI159),\"\")","v":""},null,null,{"$f":"IF(Input_Output!DK159=\"\",T(Input_Output!DL159),\"\")","v":""},null,null,{"$f":"IF(Input_Output!DN159=\"\",T(Input_Output!DO159),\"\")","v":""},null,null,{"$f":"IF(Input_Output!DQ159=\"\",T(Input_Output!DR159),\"\")","v":""},null,null,{"$f":"IF(Input_Output!DT159=\"\",T(Input_Output!DU159),\"\")","v":""},null,null,{"$f":"IF(Input_Output!DW159=\"\",T(Input_Output!DX159),\"\")","v":""},null,null,{"$f":"IF(Input_Output!DZ159=\"\",T(Input_Output!EA159),\"\")","v":""},null,null,{"$f":"IF(Input_Output!EC159=\"\",T(Input_Output!ED159),\"\")","v":""},null,null,{"$f":"IF(Input_Output!EF159=\"\",T(Input_Output!EG159),\"\")","v":""},null,null,{"$f":"IF(Input_Output!EI159=\"\",T(Input_Output!EJ159),\"\")","v":""},null,null,{"$f":"IF(Input_Output!EL159=\"\",T(Input_Output!EM159),\"\")","v":""},null,null,{"$f":"IF(Input_Output!EO159=\"\",T(Input_Output!EP159),\"\")","v":""},null,null,{"$f":"IF(Input_Output!ER159=\"\",T(Input_Output!ES159),\"\")","v":""},null,null,{"$f":"IF(Input_Output!EU159=\"\",T(Input_Output!EV159),\"\")","v":""},null,null,{"$f":"IF(Input_Output!EX159=\"\",T(Input_Output!EY159),\"\")","v":""},null,null,{"$f":"IF(Input_Output!FA159=\"\",T(Input_Output!FB159),\"\")","v":""},null,null,{"$f":"IF(Input_Output!FD159=\"\",T(Input_Output!FE159),\"\")","v":""},null,null,{"$f":"IF(Input_Output!FG159=\"\",T(Input_Output!FH159),\"\")","v":""},null,null,{"$f":"IF(Input_Output!FJ159=\"\",T(Input_Output!FK159),\"\")","v":""},null,null,{"$f":"IF(Input_Output!FM159=\"\",T(Input_Output!FN159),\"\")","v":""},null,null,{"$f":"IF(Input_Output!FP159=\"\",T(Input_Output!FQ159),\"\")","v":""},null,null,{"$f":"IF(Input_Output!FS159=\"\",T(Input_Output!FT159),\"\")","v":""},null,null,{"$f":"IF(Input_Output!FV159=\"\",T(Input_Output!FW159),\"\")","v":""},null,null,{"$f":"IF(Input_Output!FY159=\"\",T(Input_Output!FZ159),\"\")","v":""},null,null,{"$f":"IF(Input_Output!GB159=\"\",T(Input_Output!GC159),\"\")","v":""},null,null,{"$f":"IF(Input_Output!GE159=\"\",T(Input_Output!GF159),\"\")","v":""},null,null,{"$f":"IF(Input_Output!GH159=\"\",T(Input_Output!GI159),\"\")","v":""},null,null,{"$f":"IF(Input_Output!GK159=\"\",T(Input_Output!GL159),\"\")","v":""},null,null,{"$f":"IF(Input_Output!GN159=\"\",T(Input_Output!GO159),\"\")","v":""},null,null,{"$f":"IF(Input_Output!GQ159=\"\",T(Input_Output!GR159),\"\")","v":""},null,null,{"$f":"IF(Input_Output!GT159=\"\",T(Input_Output!GU159),\"\")","v":""},null,null,{"$f":"IF(Input_Output!GW159=\"\",T(Input_Output!GX159),\"\")","v":""},null,null,{"$f":"IF(Input_Output!GZ159=\"\",T(Input_Output!HA159),\"\")","v":""},null,null,{"$f":"IF(Input_Output!HC159=\"\",T(Input_Output!HD159),\"\")","v":""},null,null,{"$f":"IF(Input_Output!HF159=\"\",T(Input_Output!HG159),\"\")","v":""},null,null,{"$f":"IF(Input_Output!HI159=\"\",T(Input_Output!HJ159),\"\")","v":""},null,null,{"$f":"IF(Input_Output!HL159=\"\",T(Input_Output!HM159),\"\")","v":""},null,null,{"$f":"IF(Input_Output!HO159=\"\",T(Input_Output!HP159),\"\")","v":""},null,null,{"$f":"IF(Input_Output!HR159=\"\",T(Input_Output!HS159),\"\")","v":""},null,null,{"$f":"IF(Input_Output!HU159=\"\",T(Input_Output!HV159),\"\")","v":""},null,null,{"$f":"IF(Input_Output!HX159=\"\",T(Input_Output!HY159),\"\")","v":""},null,null,{"$f":"IF(Input_Output!IA159=\"\",T(Input_Output!IB159),\"\")","v":""},null,null,{"$f":"IF(Input_Output!ID159=\"\",T(Input_Output!IE159),\"\")","v":""},null,null,{"$f":"IF(Input_Output!IG159=\"\",T(Input_Output!IH159),\"\")","v":""},null,null,{"$f":"IF(Input_Output!IJ159=\"\",T(Input_Output!IK159),\"\")","v":""},null,null,{"$f":"IF(Input_Output!IM159=\"\",T(Input_Output!IN159),\"\")","v":""},null,null,{"$f":"IF(Input_Output!IP159=\"\",T(Input_Output!IQ159),\"\")","v":""},null,null,{"$f":"IF(Input_Output!IS159=\"\",T(Input_Output!IT159),\"\")","v":""}]
[null,null,null,null,{"$f":"IF(Input_Output!D160=\"\",T(Input_Output!E160),\"\")","v":""},null,null,{"$f":"IF(Input_Output!G160=\"\",T(Input_Output!H160),\"\")","v":""},null,null,{"$f":"IF(Input_Output!J160=\"\",T(Input_Output!K160),\"\")","v":""},null,null,{"$f":"IF(Input_Output!M160=\"\",T(Input_Output!N160),\"\")","v":""},null,null,{"$f":"IF(Input_Output!P160=\"\",T(Input_Output!Q160),\"\")","v":""},null,null,{"$f":"IF(Input_Output!S160=\"\",T(Input_Output!T160),\"\")","v":""},null,null,{"$f":"IF(Input_Output!V160=\"\",T(Input_Output!W160),\"\")","v":""},null,null,{"$f":"IF(Input_Output!Y160=\"\",T(Input_Output!Z160),\"\")","v":""},null,null,{"$f":"IF(Input_Output!AB160=\"\",T(Input_Output!AC160),\"\")","v":""},null,null,{"$f":"IF(Input_Output!AE160=\"\",T(Input_Output!AF160),\"\")","v":""},null,null,{"$f":"IF(Input_Output!AH160=\"\",T(Input_Output!AI160),\"\")","v":""},null,null,{"$f":"IF(Input_Output!AK160=\"\",T(Input_Output!AL160),\"\")","v":""},null,null,{"$f":"IF(Input_Output!AN160=\"\",T(Input_Output!AO160),\"\")","v":""},null,null,{"$f":"IF(Input_Output!AQ160=\"\",T(Input_Output!AR160),\"\")","v":""},null,null,{"$f":"IF(Input_Output!AT160=\"\",T(Input_Output!AU160),\"\")","v":""},null,null,{"$f":"IF(Input_Output!AW160=\"\",T(Input_Output!AX160),\"\")","v":""},null,null,{"$f":"IF(Input_Output!AZ160=\"\",T(Input_Output!BA160),\"\")","v":""},null,null,{"$f":"IF(Input_Output!BC160=\"\",T(Input_Output!BD160),\"\")","v":""},null,null,{"$f":"IF(Input_Output!BF160=\"\",T(Input_Output!BG160),\"\")","v":""},null,null,{"$f":"IF(Input_Output!BI160=\"\",T(Input_Output!BJ160),\"\")","v":""},null,null,{"$f":"IF(Input_Output!BL160=\"\",T(Input_Output!BM160),\"\")","v":""},null,null,{"$f":"IF(Input_Output!BO160=\"\",T(Input_Output!BP160),\"\")","v":""},null,null,{"$f":"IF(Input_Output!BR160=\"\",T(Input_Output!BS160),\"\")","v":""},null,null,{"$f":"IF(Input_Output!BU160=\"\",T(Input_Output!BV160),\"\")","v":""},null,null,{"$f":"IF(Input_Output!BX160=\"\",T(Input_Output!BY160),\"\")","v":""},null,null,{"$f":"IF(Input_Output!CA160=\"\",T(Input_Output!CB160),\"\")","v":""},null,null,{"$f":"IF(Input_Output!CD160=\"\",T(Input_Output!CE160),\"\")","v":""},null,null,{"$f":"IF(Input_Output!CG160=\"\",T(Input_Output!CH160),\"\")","v":""},null,null,{"$f":"IF(Input_Output!CJ160=\"\",T(Input_Output!CK160),\"\")","v":""},null,null,{"$f":"IF(Input_Output!CM160=\"\",T(Input_Output!CN160),\"\")","v":""},null,null,{"$f":"IF(Input_Output!CP160=\"\",T(Input_Output!CQ160),\"\")","v":""},null,null,{"$f":"IF(Input_Output!CS160=\"\",T(Input_Output!CT160),\"\")","v":""},null,null,{"$f":"IF(Input_Output!CV160=\"\",T(Input_Output!CW160),\"\")","v":""},null,null,{"$f":"IF(Input_Output!CY160=\"\",T(Input_Output!CZ160),\"\")","v":""},null,null,{"$f":"IF(Input_Output!DB160=\"\",T(Input_Output!DC160),\"\")","v":""},null,null,{"$f":"IF(Input_Output!DE160=\"\",T(Input_Output!DF160),\"\")","v":""},null,null,{"$f":"IF(Input_Output!DH160=\"\",T(Input_Output!DI160),\"\")","v":""},null,null,{"$f":"IF(Input_Output!DK160=\"\",T(Input_Output!DL160),\"\")","v":""},null,null,{"$f":"IF(Input_Output!DN160=\"\",T(Input_Output!DO160),\"\")","v":""},null,null,{"$f":"IF(Input_Output!DQ160=\"\",T(Input_Output!DR160),\"\")","v":""},null,null,{"$f":"IF(Input_Output!DT160=\"\",T(Input_Output!DU160),\"\")","v":""},null,null,{"$f":"IF(Input_Output!DW160=\"\",T(Input_Output!DX160),\"\")","v":""},null,null,{"$f":"IF(Input_Output!DZ160=\"\",T(Input_Output!EA160),\"\")","v":""},null,null,{"$f":"IF(Input_Output!EC160=\"\",T(Input_Output!ED160),\"\")","v":""},null,null,{"$f":"IF(Input_Output!EF160=\"\",T(Input_Output!EG160),\"\")","v":""},null,null,{"$f":"IF(Input_Output!EI160=\"\",T(Input_Output!EJ160),\"\")","v":""},null,null,{"$f":"IF(Input_Output!EL160=\"\",T(Input_Output!EM160),\"\")","v":""},null,null,{"$f":"IF(Input_Output!EO160=\"\",T(Input_Output!EP160),\"\")","v":""},null,null,{"$f":"IF(Input_Output!ER160=\"\",T(Input_Output!ES160),\"\")","v":""},null,null,{"$f":"IF(Input_Output!EU160=\"\",T(Input_Output!EV160),\"\")","v":""},null,null,{"$f":"IF(Input_Output!EX160=\"\",T(Input_Output!EY160),\"\")","v":""},null,null,{"$f":"IF(Input_Output!FA160=\"\",T(Input_Output!FB160),\"\")","v":""},null,null,{"$f":"IF(Input_Output!FD160=\"\",T(Input_Output!FE160),\"\")","v":""},null,null,{"$f":"IF(Input_Output!FG160=\"\",T(Input_Output!FH160),\"\")","v":""},null,null,{"$f":"IF(Input_Output!FJ160=\"\",T(Input_Output!FK160),\"\")","v":""},null,null,{"$f":"IF(Input_Output!FM160=\"\",T(Input_Output!FN160),\"\")","v":""},null,null,{"$f":"IF(Input_Output!FP160=\"\",T(Input_Output!FQ160),\"\")","v":""},null,null,{"$f":"IF(Input_Output!FS160=\"\",T(Input_Output!FT160),\"\")","v":""},null,null,{"$f":"IF(Input_Output!FV160=\"\",T(Input_Output!FW160),\"\")","v":""},null,null,{"$f":"IF(Input_Output!FY160=\"\",T(Input_Output!FZ160),\"\")","v":""},null,null,{"$f":"IF(Input_Output!GB160=\"\",T(Input_Output!GC160),\"\")","v":""},null,null,{"$f":"IF(Input_Output!GE160=\"\",T(Input_Output!GF160),\"\")","v":""},null,null,{"$f":"IF(Input_Output!GH160=\"\",T(Input_Output!GI160),\"\")","v":""},null,null,{"$f":"IF(Input_Output!GK160=\"\",T(Input_Output!GL160),\"\")","v":""},null,null,{"$f":"IF(Input_Output!GN160=\"\",T(Input_Output!GO160),\"\")","v":""},null,null,{"$f":"IF(Input_Output!GQ160=\"\",T(Input_Output!GR160),\"\")","v":""},null,null,{"$f":"IF(Input_Output!GT160=\"\",T(Input_Output!GU160),\"\")","v":""},null,null,{"$f":"IF(Input_Output!GW160=\"\",T(Input_Output!GX160),\"\")","v":""},null,null,{"$f":"IF(Input_Output!GZ160=\"\",T(Input_Output!HA160),\"\")","v":""},null,null,{"$f":"IF(Input_Output!HC160=\"\",T(Input_Output!HD160),\"\")","v":""},null,null,{"$f":"IF(Input_Output!HF160=\"\",T(Input_Output!HG160),\"\")","v":""},null,null,{"$f":"IF(Input_Output!HI160=\"\",T(Input_Output!HJ160),\"\")","v":""},null,null,{"$f":"IF(Input_Output!HL160=\"\",T(Input_Output!HM160),\"\")","v":""},null,null,{"$f":"IF(Input_Output!HO160=\"\",T(Input_Output!HP160),\"\")","v":""},null,null,{"$f":"IF(Input_Output!HR160=\"\",T(Input_Output!HS160),\"\")","v":""},null,null,{"$f":"IF(Input_Output!HU160=\"\",T(Input_Output!HV160),\"\")","v":""},null,null,{"$f":"IF(Input_Output!HX160=\"\",T(Input_Output!HY160),\"\")","v":""},null,null,{"$f":"IF(Input_Output!IA160=\"\",T(Input_Output!IB160),\"\")","v":""},null,null,{"$f":"IF(Input_Output!ID160=\"\",T(Input_Output!IE160),\"\")","v":""},null,null,{"$f":"IF(Input_Output!IG160=\"\",T(Input_Output!IH160),\"\")","v":""},null,null,{"$f":"IF(Input_Output!IJ160=\"\",T(Input_Output!IK160),\"\")","v":""},null,null,{"$f":"IF(Input_Output!IM160=\"\",T(Input_Output!IN160),\"\")","v":""},null,null,{"$f":"IF(Input_Output!IP160=\"\",T(Input_Output!IQ160),\"\")","v":""},null,null,{"$f":"IF(Input_Output!IS160=\"\",T(Input_Output!IT160),\"\")","v":""}]
[null,null,null,null,{"$f":"IF(Input_Output!D161=\"\",T(Input_Output!E161),\"\")","v":""},null,null,{"$f":"IF(Input_Output!G161=\"\",T(Input_Output!H161),\"\")","v":""},null,null,{"$f":"IF(Input_Output!J161=\"\",T(Input_Output!K161),\"\")","v":""},null,null,{"$f":"IF(Input_Output!M161=\"\",T(Input_Output!N161),\"\")","v":""},null,null,{"$f":"IF(Input_Output!P161=\"\",T(Input_Output!Q161),\"\")","v":""},null,null,{"$f":"IF(Input_Output!S161=\"\",T(Input_Output!T161),\"\")","v":""},null,null,{"$f":"IF(Input_Output!V161=\"\",T(Input_Output!W161),\"\")","v":""},null,null,{"$f":"IF(Input_Output!Y161=\"\",T(Input_Output!Z161),\"\")","v":""},null,null,{"$f":"IF(Input_Output!AB161=\"\",T(Input_Output!AC161),\"\")","v":""},null,null,{"$f":"IF(Input_Output!AE161=\"\",T(Input_Output!AF161),\"\")","v":""},null,null,{"$f":"IF(Input_Output!AH161=\"\",T(Input_Output!AI161),\"\")","v":""},null,null,{"$f":"IF(Input_Output!AK161=\"\",T(Input_Output!AL161),\"\")","v":""},null,null,{"$f":"IF(Input_Output!AN161=\"\",T(Input_Output!AO161),\"\")","v":""},null,null,{"$f":"IF(Input_Output!AQ161=\"\",T(Input_Output!AR161),\"\")","v":""},null,null,{"$f":"IF(Input_Output!AT161=\"\",T(Input_Output!AU161),\"\")","v":""},null,null,{"$f":"IF(Input_Output!AW161=\"\",T(Input_Output!AX161),\"\")","v":""},null,null,{"$f":"IF(Input_Output!AZ161=\"\",T(Input_Output!BA161),\"\")","v":""},null,null,{"$f":"IF(Input_Output!BC161=\"\",T(Input_Output!BD161),\"\")","v":""},null,null,{"$f":"IF(Input_Output!BF161=\"\",T(Input_Output!BG161),\"\")","v":""},null,null,{"$f":"IF(Input_Output!BI161=\"\",T(Input_Output!BJ161),\"\")","v":""},null,null,{"$f":"IF(Input_Output!BL161=\"\",T(Input_Output!BM161),\"\")","v":""},null,null,{"$f":"IF(Input_Output!BO161=\"\",T(Input_Output!BP161),\"\")","v":""},null,null,{"$f":"IF(Input_Output!BR161=\"\",T(Input_Output!BS161),\"\")","v":""},null,null,{"$f":"IF(Input_Output!BU161=\"\",T(Input_Output!BV161),\"\")","v":""},null,null,{"$f":"IF(Input_Output!BX161=\"\",T(Input_Output!BY161),\"\")","v":""},null,null,{"$f":"IF(Input_Output!CA161=\"\",T(Input_Output!CB161),\"\")","v":""},null,null,{"$f":"IF(Input_Output!CD161=\"\",T(Input_Output!CE161),\"\")","v":""},null,null,{"$f":"IF(Input_Output!CG161=\"\",T(Input_Output!CH161),\"\")","v":""},null,null,{"$f":"IF(Input_Output!CJ161=\"\",T(Input_Output!CK161),\"\")","v":""},null,null,{"$f":"IF(Input_Output!CM161=\"\",T(Input_Output!CN161),\"\")","v":""},null,null,{"$f":"IF(Input_Output!CP161=\"\",T(Input_Output!CQ161),\"\")","v":""},null,null,{"$f":"IF(Input_Output!CS161=\"\",T(Input_Output!CT161),\"\")","v":""},null,null,{"$f":"IF(Input_Output!CV161=\"\",T(Input_Output!CW161),\"\")","v":""},null,null,{"$f":"IF(Input_Output!CY161=\"\",T(Input_Output!CZ161),\"\")","v":""},null,null,{"$f":"IF(Input_Output!DB161=\"\",T(Input_Output!DC161),\"\")","v":""},null,null,{"$f":"IF(Input_Output!DE161=\"\",T(Input_Output!DF161),\"\")","v":""},null,null,{"$f":"IF(Input_Output!DH161=\"\",T(Input_Output!DI161),\"\")","v":""},null,null,{"$f":"IF(Input_Output!DK161=\"\",T(Input_Output!DL161),\"\")","v":""},null,null,{"$f":"IF(Input_Output!DN161=\"\",T(Input_Output!DO161),\"\")","v":""},null,null,{"$f":"IF(Input_Output!DQ161=\"\",T(Input_Output!DR161),\"\")","v":""},null,null,{"$f":"IF(Input_Output!DT161=\"\",T(Input_Output!DU161),\"\")","v":""},null,null,{"$f":"IF(Input_Output!DW161=\"\",T(Input_Output!DX161),\"\")","v":""},null,null,{"$f":"IF(Input_Output!DZ161=\"\",T(Input_Output!EA161),\"\")","v":""},null,null,{"$f":"IF(Input_Output!EC161=\"\",T(Input_Output!ED161),\"\")","v":""},null,null,{"$f":"IF(Input_Output!EF161=\"\",T(Input_Output!EG161),\"\")","v":""},null,null,{"$f":"IF(Input_Output!EI161=\"\",T(Input_Output!EJ161),\"\")","v":""},null,null,{"$f":"IF(Input_Output!EL161=\"\",T(Input_Output!EM161),\"\")","v":""},null,null,{"$f":"IF(Input_Output!EO161=\"\",T(Input_Output!EP161),\"\")","v":""},null,null,{"$f":"IF(Input_Output!ER161=\"\",T(Input_Output!ES161),\"\")","v":""},null,null,{"$f":"IF(Input_Output!EU161=\"\",T(Input_Output!EV161),\"\")","v":""},null,null,{"$f":"IF(Input_Output!EX161=\"\",T(Input_Output!EY161),\"\")","v":""},null,null,{"$f":"IF(Input_Output!FA161=\"\",T(Input_Output!FB161),\"\")","v":""},null,null,{"$f":"IF(Input_Output!FD161=\"\",T(Input_Output!FE161),\"\")","v":""},null,null,{"$f":"IF(Input_Output!FG161=\"\",T(Input_Output!FH161),\"\")","v":""},null,null,{"$f":"IF(Input_Output!FJ161=\"\",T(Input_Output!FK161),\"\")","v":""},null,null,{"$f":"IF(Input_Output!FM161=\"\",T(Input_Output!FN161),\"\")","v":""},null,null,{"$f":"IF(Input_Output!FP161=\"\",T(Input_Output!FQ161),\"\")","v":""},null,null,{"$f":"IF(Input_Output!FS161=\"\",T(Input_Output!FT161),\"\")","v":""},null,null,{"$f":"IF(Input_Output!FV161=\"\",T(Input_Output!FW161),\"\")","v":""},null,null,{"$f":"IF(Input_Output!FY161=\"\",T(Input_Output!FZ161),\"\")","v":""},null,null,{"$f":"IF(Input_Output!GB161=\"\",T(Input_Output!GC161),\"\")","v":""},null,null,{"$f":"IF(Input_Output!GE161=\"\",T(Input_Output!GF161),\"\")","v":""},null,null,{"$f":"IF(Input_Output!GH161=\"\",T(Input_Output!GI161),\"\")","v":""},null,null,{"$f":"IF(Input_Output!GK161=\"\",T(Input_Output!GL161),\"\")","v":""},null,null,{"$f":"IF(Input_Output!GN161=\"\",T(Input_Output!GO161),\"\")","v":""},null,null,{"$f":"IF(Input_Output!GQ161=\"\",T(Input_Output!GR161),\"\")","v":""},null,null,{"$f":"IF(Input_Output!GT161=\"\",T(Input_Output!GU161),\"\")","v":""},null,null,{"$f":"IF(Input_Output!GW161=\"\",T(Input_Output!GX161),\"\")","v":""},null,null,{"$f":"IF(Input_Output!GZ161=\"\",T(Input_Output!HA161),\"\")","v":""},null,null,{"$f":"IF(Input_Output!HC161=\"\",T(Input_Output!HD161),\"\")","v":""},null,null,{"$f":"IF(Input_Output!HF161=\"\",T(Input_Output!HG161),\"\")","v":""},null,null,{"$f":"IF(Input_Output!HI161=\"\",T(Input_Output!HJ161),\"\")","v":""},null,null,{"$f":"IF(Input_Output!HL161=\"\",T(Input_Output!HM161),\"\")","v":""},null,null,{"$f":"IF(Input_Output!HO161=\"\",T(Input_Output!HP161),\"\")","v":""},null,null,{"$f":"IF(Input_Output!HR161=\"\",T(Input_Output!HS161),\"\")","v":""},null,null,{"$f":"IF(Input_Output!HU161=\"\",T(Input_Output!HV161),\"\")","v":""},null,null,{"$f":"IF(Input_Output!HX161=\"\",T(Input_Output!HY161),\"\")","v":""},null,null,{"$f":"IF(Input_Output!IA161=\"\",T(Input_Output!IB161),\"\")","v":""},null,null,{"$f":"IF(Input_Output!ID161=\"\",T(Input_Output!IE161),\"\")","v":""},null,null,{"$f":"IF(Input_Output!IG161=\"\",T(Input_Output!IH161),\"\")","v":""},null,null,{"$f":"IF(Input_Output!IJ161=\"\",T(Input_Output!IK161),\"\")","v":""},null,null,{"$f":"IF(Input_Output!IM161=\"\",T(Input_Output!IN161),\"\")","v":""},null,null,{"$f":"IF(Input_Output!IP161=\"\",T(Input_Output!IQ161),\"\")","v":""},null,null,{"$f":"IF(Input_Output!IS161=\"\",T(Input_Output!IT161),\"\")","v":""}]
[null,null,null,null,{"$f":"IF(Input_Output!D162=\"\",T(Input_Output!E162),\"\")","v":""},null,null,{"$f":"IF(Input_Output!G162=\"\",T(Input_Output!H162),\"\")","v":""},null,null,{"$f":"IF(Input_Output!J162=\"\",T(Input_Output!K162),\"\")","v":""},null,null,{"$f":"IF(Input_Output!M162=\"\",T(Input_Output!N162),\"\")","v":""},null,null,{"$f":"IF(Input_Output!P162=\"\",T(Input_Output!Q162),\"\")","v":""},null,null,{"$f":"IF(Input_Output!S162=\"\",T(Input_Output!T162),\"\")","v":""},null,null,{"$f":"IF(Input_Output!V162=\"\",T(Input_Output!W162),\"\")","v":""},null,null,{"$f":"IF(Input_Output!Y162=\"\",T(Input_Output!Z162),\"\")","v":""},null,null,{"$f":"IF(Input_Output!AB162=\"\",T(Input_Output!AC162),\"\")","v":""},null,null,{"$f":"IF(Input_Output!AE162=\"\",T(Input_Output!AF162),\"\")","v":""},null,null,{"$f":"IF(Input_Output!AH162=\"\",T(Input_Output!AI162),\"\")","v":""},null,null,{"$f":"IF(Input_Output!AK162=\"\",T(Input_Output!AL162),\"\")","v":""},null,null,{"$f":"IF(Input_Output!AN162=\"\",T(Input_Output!AO162),\"\")","v":""},null,null,{"$f":"IF(Input_Output!AQ162=\"\",T(Input_Output!AR162),\"\")","v":""},null,null,{"$f":"IF(Input_Output!AT162=\"\",T(Input_Output!AU162),\"\")","v":""},null,null,{"$f":"IF(Input_Output!AW162=\"\",T(Input_Output!AX162),\"\")","v":""},null,null,{"$f":"IF(Input_Output!AZ162=\"\",T(Input_Output!BA162),\"\")","v":""},null,null,{"$f":"IF(Input_Output!BC162=\"\",T(Input_Output!BD162),\"\")","v":""},null,null,{"$f":"IF(Input_Output!BF162=\"\",T(Input_Output!BG162),\"\")","v":""},null,null,{"$f":"IF(Input_Output!BI162=\"\",T(Input_Output!BJ162),\"\")","v":""},null,null,{"$f":"IF(Input_Output!BL162=\"\",T(Input_Output!BM162),\"\")","v":""},null,null,{"$f":"IF(Input_Output!BO162=\"\",T(Input_Output!BP162),\"\")","v":""},null,null,{"$f":"IF(Input_Output!BR162=\"\",T(Input_Output!BS162),\"\")","v":""},null,null,{"$f":"IF(Input_Output!BU162=\"\",T(Input_Output!BV162),\"\")","v":""},null,null,{"$f":"IF(Input_Output!BX162=\"\",T(Input_Output!BY162),\"\")","v":""},null,null,{"$f":"IF(Input_Output!CA162=\"\",T(Input_Output!CB162),\"\")","v":""},null,null,{"$f":"IF(Input_Output!CD162=\"\",T(Input_Output!CE162),\"\")","v":""},null,null,{"$f":"IF(Input_Output!CG162=\"\",T(Input_Output!CH162),\"\")","v":""},null,null,{"$f":"IF(Input_Output!CJ162=\"\",T(Input_Output!CK162),\"\")","v":""},null,null,{"$f":"IF(Input_Output!CM162=\"\",T(Input_Output!CN162),\"\")","v":""},null,null,{"$f":"IF(Input_Output!CP162=\"\",T(Input_Output!CQ162),\"\")","v":""},null,null,{"$f":"IF(Input_Output!CS162=\"\",T(Input_Output!CT162),\"\")","v":""},null,null,{"$f":"IF(Input_Output!CV162=\"\",T(Input_Output!CW162),\"\")","v":""},null,null,{"$f":"IF(Input_Output!CY162=\"\",T(Input_Output!CZ162),\"\")","v":""},null,null,{"$f":"IF(Input_Output!DB162=\"\",T(Input_Output!DC162),\"\")","v":""},null,null,{"$f":"IF(Input_Output!DE162=\"\",T(Input_Output!DF162),\"\")","v":""},null,null,{"$f":"IF(Input_Output!DH162=\"\",T(Input_Output!DI162),\"\")","v":""},null,null,{"$f":"IF(Input_Output!DK162=\"\",T(Input_Output!DL162),\"\")","v":""},null,null,{"$f":"IF(Input_Output!DN162=\"\",T(Input_Output!DO162),\"\")","v":""},null,null,{"$f":"IF(Input_Output!DQ162=\"\",T(Input_Output!DR162),\"\")","v":""},null,null,{"$f":"IF(Input_Output!DT162=\"\",T(Input_Output!DU162),\"\")","v":""},null,null,{"$f":"IF(Input_Output!DW162=\"\",T(Input_Output!DX162),\"\")","v":""},null,null,{"$f":"IF(Input_Output!DZ162=\"\",T(Input_Output!EA162),\"\")","v":""},null,null,{"$f":"IF(Input_Output!EC162=\"\",T(Input_Output!ED162),\"\")","v":""},null,null,{"$f":"IF(Input_Output!EF162=\"\",T(Input_Output!EG162),\"\")","v":""},null,null,{"$f":"IF(Input_Output!EI162=\"\",T(Input_Output!EJ162),\"\")","v":""},null,null,{"$f":"IF(Input_Output!EL162=\"\",T(Input_Output!EM162),\"\")","v":""},null,null,{"$f":"IF(Input_Output!EO162=\"\",T(Input_Output!EP162),\"\")","v":""},null,null,{"$f":"IF(Input_Output!ER162=\"\",T(Input_Output!ES162),\"\")","v":""},null,null,{"$f":"IF(Input_Output!EU162=\"\",T(Input_Output!EV162),\"\")","v":""},null,null,{"$f":"IF(Input_Output!EX162=\"\",T(Input_Output!EY162),\"\")","v":""},null,null,{"$f":"IF(Input_Output!FA162=\"\",T(Input_Output!FB162),\"\")","v":""},null,null,{"$f":"IF(Input_Output!FD162=\"\",T(Input_Output!FE162),\"\")","v":""},null,null,{"$f":"IF(Input_Output!FG162=\"\",T(Input_Output!FH162),\"\")","v":""},null,null,{"$f":"IF(Input_Output!FJ162=\"\",T(Input_Output!FK162),\"\")","v":""},null,null,{"$f":"IF(Input_Output!FM162=\"\",T(Input_Output!FN162),\"\")","v":""},null,null,{"$f":"IF(Input_Output!FP162=\"\",T(Input_Output!FQ162),\"\")","v":""},null,null,{"$f":"IF(Input_Output!FS162=\"\",T(Input_Output!FT162),\"\")","v":""},null,null,{"$f":"IF(Input_Output!FV162=\"\",T(Input_Output!FW162),\"\")","v":""},null,null,{"$f":"IF(Input_Output!FY162=\"\",T(Input_Output!FZ162),\"\")","v":""},null,null,{"$f":"IF(Input_Output!GB162=\"\",T(Input_Output!GC162),\"\")","v":""},null,null,{"$f":"IF(Input_Output!GE162=\"\",T(Input_Output!GF162),\"\")","v":""},null,null,{"$f":"IF(Input_Output!GH162=\"\",T(Input_Output!GI162),\"\")","v":""},null,null,{"$f":"IF(Input_Output!GK162=\"\",T(Input_Output!GL162),\"\")","v":""},null,null,{"$f":"IF(Input_Output!GN162=\"\",T(Input_Output!GO162),\"\")","v":""},null,null,{"$f":"IF(Input_Output!GQ162=\"\",T(Input_Output!GR162),\"\")","v":""},null,null,{"$f":"IF(Input_Output!GT162=\"\",T(Input_Output!GU162),\"\")","v":""},null,null,{"$f":"IF(Input_Output!GW162=\"\",T(Input_Output!GX162),\"\")","v":""},null,null,{"$f":"IF(Input_Output!GZ162=\"\",T(Input_Output!HA162),\"\")","v":""},null,null,{"$f":"IF(Input_Output!HC162=\"\",T(Input_Output!HD162),\"\")","v":""},null,null,{"$f":"IF(Input_Output!HF162=\"\",T(Input_Output!HG162),\"\")","v":""},null,null,{"$f":"IF(Input_Output!HI162=\"\",T(Input_Output!HJ162),\"\")","v":""},null,null,{"$f":"IF(Input_Output!HL162=\"\",T(Input_Output!HM162),\"\")","v":""},null,null,{"$f":"IF(Input_Output!HO162=\"\",T(Input_Output!HP162),\"\")","v":""},null,null,{"$f":"IF(Input_Output!HR162=\"\",T(Input_Output!HS162),\"\")","v":""},null,null,{"$f":"IF(Input_Output!HU162=\"\",T(Input_Output!HV162),\"\")","v":""},null,null,{"$f":"IF(Input_Output!HX162=\"\",T(Input_Output!HY162),\"\")","v":""},null,null,{"$f":"IF(Input_Output!IA162=\"\",T(Input_Output!IB162),\"\")","v":""},null,null,{"$f":"IF(Input_Output!ID162=\"\",T(Input_Output!IE162),\"\")","v":""},null,null,{"$f":"IF(Input_Output!IG162=\"\",T(Input_Output!IH162),\"\")","v":""},null,null,{"$f":"IF(Input_Output!IJ162=\"\",T(Input_Output!IK162),\"\")","v":""},null,null,{"$f":"IF(Input_Output!IM162=\"\",T(Input_Output!IN162),\"\")","v":""},null,null,{"$f":"IF(Input_Output!IP162=\"\",T(Input_Output!IQ162),\"\")","v":""},null,null,{"$f":"IF(Input_Output!IS162=\"\",T(Input_Output!IT162),\"\")","v":""}]
[null,null,null,null,{"$f":"IF(Input_Output!D163=\"\",T(Input_Output!E163),\"\")","v":""},null,null,{"$f":"IF(Input_Output!G163=\"\",T(Input_Output!H163),\"\")","v":""},null,null,{"$f":"IF(Input_Output!J163=\"\",T(Input_Output!K163),\"\")","v":""},null,null,{"$f":"IF(Input_Output!M163=\"\",T(Input_Output!N163),\"\")","v":""},null,null,{"$f":"IF(Input_Output!P163=\"\",T(Input_Output!Q163),\"\")","v":""},null,null,{"$f":"IF(Input_Output!S163=\"\",T(Input_Output!T163),\"\")","v":""},null,null,{"$f":"IF(Input_Output!V163=\"\",T(Input_Output!W163),\"\")","v":""},null,null,{"$f":"IF(Input_Output!Y163=\"\",T(Input_Output!Z163),\"\")","v":""},null,null,{"$f":"IF(Input_Output!AB163=\"\",T(Input_Output!AC163),\"\")","v":""},null,null,{"$f":"IF(Input_Output!AE163=\"\",T(Input_Output!AF163),\"\")","v":""},null,null,{"$f":"IF(Input_Output!AH163=\"\",T(Input_Output!AI163),\"\")","v":""},null,null,{"$f":"IF(Input_Output!AK163=\"\",T(Input_Output!AL163),\"\")","v":""},null,null,{"$f":"IF(Input_Output!AN163=\"\",T(Input_Output!AO163),\"\")","v":""},null,null,{"$f":"IF(Input_Output!AQ163=\"\",T(Input_Output!AR163),\"\")","v":""},null,null,{"$f":"IF(Input_Output!AT163=\"\",T(Input_Output!AU163),\"\")","v":""},null,null,{"$f":"IF(Input_Output!AW163=\"\",T(Input_Output!AX163),\"\")","v":""},null,null,{"$f":"IF(Input_Output!AZ163=\"\",T(Input_Output!BA163),\"\")","v":""},null,null,{"$f":"IF(Input_Output!BC163=\"\",T(Input_Output!BD163),\"\")","v":""},null,null,{"$f":"IF(Input_Output!BF163=\"\",T(Input_Output!BG163),\"\")","v":""},null,null,{"$f":"IF(Input_Output!BI163=\"\",T(Input_Output!BJ163),\"\")","v":""},null,null,{"$f":"IF(Input_Output!BL163=\"\",T(Input_Output!BM163),\"\")","v":""},null,null,{"$f":"IF(Input_Output!BO163=\"\",T(Input_Output!BP163),\"\")","v":""},null,null,{"$f":"IF(Input_Output!BR163=\"\",T(Input_Output!BS163),\"\")","v":""},null,null,{"$f":"IF(Input_Output!BU163=\"\",T(Input_Output!BV163),\"\")","v":""},null,null,{"$f":"IF(Input_Output!BX163=\"\",T(Input_Output!BY163),\"\")","v":""},null,null,{"$f":"IF(Input_Output!CA163=\"\",T(Input_Output!CB163),\"\")","v":""},null,null,{"$f":"IF(Input_Output!CD163=\"\",T(Input_Output!CE163),\"\")","v":""},null,null,{"$f":"IF(Input_Output!CG163=\"\",T(Input_Output!CH163),\"\")","v":""},null,null,{"$f":"IF(Input_Output!CJ163=\"\",T(Input_Output!CK163),\"\")","v":""},null,null,{"$f":"IF(Input_Output!CM163=\"\",T(Input_Output!CN163),\"\")","v":""},null,null,{"$f":"IF(Input_Output!CP163=\"\",T(Input_Output!CQ163),\"\")","v":""},null,null,{"$f":"IF(Input_Output!CS163=\"\",T(Input_Output!CT163),\"\")","v":""},null,null,{"$f":"IF(Input_Output!CV163=\"\",T(Input_Output!CW163),\"\")","v":""},null,null,{"$f":"IF(Input_Output!CY163=\"\",T(Input_Output!CZ163),\"\")","v":""},null,null,{"$f":"IF(Input_Output!DB163=\"\",T(Input_Output!DC163),\"\")","v":""},null,null,{"$f":"IF(Input_Output!DE163=\"\",T(Input_Output!DF163),\"\")","v":""},null,null,{"$f":"IF(Input_Output!DH163=\"\",T(Input_Output!DI163),\"\")","v":""},null,null,{"$f":"IF(Input_Output!DK163=\"\",T(Input_Output!DL163),\"\")","v":""},null,null,{"$f":"IF(Input_Output!DN163=\"\",T(Input_Output!DO163),\"\")","v":""},null,null,{"$f":"IF(Input_Output!DQ163=\"\",T(Input_Output!DR163),\"\")","v":""},null,null,{"$f":"IF(Input_Output!DT163=\"\",T(Input_Output!DU163),\"\")","v":""},null,null,{"$f":"IF(Input_Output!DW163=\"\",T(Input_Output!DX163),\"\")","v":""},null,null,{"$f":"IF(Input_Output!DZ163=\"\",T(Input_Output!EA163),\"\")","v":""},null,null,{"$f":"IF(Input_Output!EC163=\"\",T(Input_Output!ED163),\"\")","v":""},null,null,{"$f":"IF(Input_Output!EF163=\"\",T(Input_Output!EG163),\"\")","v":""},null,null,{"$f":"IF(Input_Output!EI163=\"\",T(Input_Output!EJ163),\"\")","v":""},null,null,{"$f":"IF(Input_Output!EL163=\"\",T(Input_Output!EM163),\"\")","v":""},null,null,{"$f":"IF(Input_Output!EO163=\"\",T(Input_Output!EP163),\"\")","v":""},null,null,{"$f":"IF(Input_Output!ER163=\"\",T(Input_Output!ES163),\"\")","v":""},null,null,{"$f":"IF(Input_Output!EU163=\"\",T(Input_Output!EV163),\"\")","v":""},null,null,{"$f":"IF(Input_Output!EX163=\"\",T(Input_Output!EY163),\"\")","v":""},null,null,{"$f":"IF(Input_Output!FA163=\"\",T(Input_Output!FB163),\"\")","v":""},null,null,{"$f":"IF(Input_Output!FD163=\"\",T(Input_Output!FE163),\"\")","v":""},null,null,{"$f":"IF(Input_Output!FG163=\"\",T(Input_Output!FH163),\"\")","v":""},null,null,{"$f":"IF(Input_Output!FJ163=\"\",T(Input_Output!FK163),\"\")","v":""},null,null,{"$f":"IF(Input_Output!FM163=\"\",T(Input_Output!FN163),\"\")","v":""},null,null,{"$f":"IF(Input_Output!FP163=\"\",T(Input_Output!FQ163),\"\")","v":""},null,null,{"$f":"IF(Input_Output!FS163=\"\",T(Input_Output!FT163),\"\")","v":""},null,null,{"$f":"IF(Input_Output!FV163=\"\",T(Input_Output!FW163),\"\")","v":""},null,null,{"$f":"IF(Input_Output!FY163=\"\",T(Input_Output!FZ163),\"\")","v":""},null,null,{"$f":"IF(Input_Output!GB163=\"\",T(Input_Output!GC163),\"\")","v":""},null,null,{"$f":"IF(Input_Output!GE163=\"\",T(Input_Output!GF163),\"\")","v":""},null,null,{"$f":"IF(Input_Output!GH163=\"\",T(Input_Output!GI163),\"\")","v":""},null,null,{"$f":"IF(Input_Output!GK163=\"\",T(Input_Output!GL163),\"\")","v":""},null,null,{"$f":"IF(Input_Output!GN163=\"\",T(Input_Output!GO163),\"\")","v":""},null,null,{"$f":"IF(Input_Output!GQ163=\"\",T(Input_Output!GR163),\"\")","v":""},null,null,{"$f":"IF(Input_Output!GT163=\"\",T(Input_Output!GU163),\"\")","v":""},null,null,{"$f":"IF(Input_Output!GW163=\"\",T(Input_Output!GX163),\"\")","v":""},null,null,{"$f":"IF(Input_Output!GZ163=\"\",T(Input_Output!HA163),\"\")","v":""},null,null,{"$f":"IF(Input_Output!HC163=\"\",T(Input_Output!HD163),\"\")","v":""},null,null,{"$f":"IF(Input_Output!HF163=\"\",T(Input_Output!HG163),\"\")","v":""},null,null,{"$f":"IF(Input_Output!HI163=\"\",T(Input_Output!HJ163),\"\")","v":""},null,null,{"$f":"IF(Input_Output!HL163=\"\",T(Input_Output!HM163),\"\")","v":""},null,null,{"$f":"IF(Input_Output!HO163=\"\",T(Input_Output!HP163),\"\")","v":""},null,null,{"$f":"IF(Input_Output!HR163=\"\",T(Input_Output!HS163),\"\")","v":""},null,null,{"$f":"IF(Input_Output!HU163=\"\",T(Input_Output!HV163),\"\")","v":""},null,null,{"$f":"IF(Input_Output!HX163=\"\",T(Input_Output!HY163),\"\")","v":""},null,null,{"$f":"IF(Input_Output!IA163=\"\",T(Input_Output!IB163),\"\")","v":""},null,null,{"$f":"IF(Input_Output!ID163=\"\",T(Input_Output!IE163),\"\")","v":""},null,null,{"$f":"IF(Input_Output!IG163=\"\",T(Input_Output!IH163),\"\")","v":""},null,null,{"$f":"IF(Input_Output!IJ163=\"\",T(Input_Output!IK163),\"\")","v":""},null,null,{"$f":"IF(Input_Output!IM163=\"\",T(Input_Output!IN163),\"\")","v":""},null,null,{"$f":"IF(Input_Output!IP163=\"\",T(Input_Output!IQ163),\"\")","v":""},null,null,{"$f":"IF(Input_Output!IS163=\"\",T(Input_Output!IT163),\"\")","v":""}]
[null,null,null,null,{"$f":"IF(Input_Output!D164=\"\",T(Input_Output!E164),\"\")","v":""},null,null,{"$f":"IF(Input_Output!G164=\"\",T(Input_Output!H164),\"\")","v":""},null,null,{"$f":"IF(Input_Output!J164=\"\",T(Input_Output!K164),\"\")","v":""},null,null,{"$f":"IF(Input_Output!M164=\"\",T(Input_Output!N164),\"\")","v":""},null,null,{"$f":"IF(Input_Output!P164=\"\",T(Input_Output!Q164),\"\")","v":""},null,null,{"$f":"IF(Input_Output!S164=\"\",T(Input_Output!T164),\"\")","v":""},null,null,{"$f":"IF(Input_Output!V164=\"\",T(Input_Output!W164),\"\")","v":""},null,null,{"$f":"IF(Input_Output!Y164=\"\",T(Input_Output!Z164),\"\")","v":""},null,null,{"$f":"IF(Input_Output!AB164=\"\",T(Input_Output!AC164),\"\")","v":""},null,null,{"$f":"IF(Input_Output!AE164=\"\",T(Input_Output!AF164),\"\")","v":""},null,null,{"$f":"IF(Input_Output!AH164=\"\",T(Input_Output!AI164),\"\")","v":""},null,null,{"$f":"IF(Input_Output!AK164=\"\",T(Input_Output!AL164),\"\")","v":""},null,null,{"$f":"IF(Input_Output!AN164=\"\",T(Input_Output!AO164),\"\")","v":""},null,null,{"$f":"IF(Input_Output!AQ164=\"\",T(Input_Output!AR164),\"\")","v":""},null,null,{"$f":"IF(Input_Output!AT164=\"\",T(Input_Output!AU164),\"\")","v":""},null,null,{"$f":"IF(Input_Output!AW164=\"\",T(Input_Output!AX164),\"\")","v":""},null,null,{"$f":"IF(Input_Output!AZ164=\"\",T(Input_Output!BA164),\"\")","v":""},null,null,{"$f":"IF(Input_Output!BC164=\"\",T(Input_Output!BD164),\"\")","v":""},null,null,{"$f":"IF(Input_Output!BF164=\"\",T(Input_Output!BG164),\"\")","v":""},null,null,{"$f":"IF(Input_Output!BI164=\"\",T(Input_Output!BJ164),\"\")","v":""},null,null,{"$f":"IF(Input_Output!BL164=\"\",T(Input_Output!BM164),\"\")","v":""},null,null,{"$f":"IF(Input_Output!BO164=\"\",T(Input_Output!BP164),\"\")","v":""},null,null,{"$f":"IF(Input_Output!BR164=\"\",T(Input_Output!BS164),\"\")","v":""},null,null,{"$f":"IF(Input_Output!BU164=\"\",T(Input_Output!BV164),\"\")","v":""},null,null,{"$f":"IF(Input_Output!BX164=\"\",T(Input_Output!BY164),\"\")","v":""},null,null,{"$f":"IF(Input_Output!CA164=\"\",T(Input_Output!CB164),\"\")","v":""},null,null,{"$f":"IF(Input_Output!CD164=\"\",T(Input_Output!CE164),\"\")","v":""},null,null,{"$f":"IF(Input_Output!CG164=\"\",T(Input_Output!CH164),\"\")","v":""},null,null,{"$f":"IF(Input_Output!CJ164=\"\",T(Input_Output!CK164),\"\")","v":""},null,null,{"$f":"IF(Input_Output!CM164=\"\",T(Input_Output!CN164),\"\")","v":""},null,null,{"$f":"IF(Input_Output!CP164=\"\",T(Input_Output!CQ164),\"\")","v":""},null,null,{"$f":"IF(Input_Output!CS164=\"\",T(Input_Output!CT164),\"\")","v":""},null,null,{"$f":"IF(Input_Output!CV164=\"\",T(Input_Output!CW164),\"\")","v":""},null,null,{"$f":"IF(Input_Output!CY164=\"\",T(Input_Output!CZ164),\"\")","v":""},null,null,{"$f":"IF(Input_Output!DB164=\"\",T(Input_Output!DC164),\"\")","v":""},null,null,{"$f":"IF(Input_Output!DE164=\"\",T(Input_Output!DF164),\"\")","v":""},null,null,{"$f":"IF(Input_Output!DH164=\"\",T(Input_Output!DI164),\"\")","v":""},null,null,{"$f":"IF(Input_Output!DK164=\"\",T(Input_Output!DL164),\"\")","v":""},null,null,{"$f":"IF(Input_Output!DN164=\"\",T(Input_Output!DO164),\"\")","v":""},null,null,{"$f":"IF(Input_Output!DQ164=\"\",T(Input_Output!DR164),\"\")","v":""},null,null,{"$f":"IF(Input_Output!DT164=\"\",T(Input_Output!DU164),\"\")","v":""},null,null,{"$f":"IF(Input_Output!DW164=\"\",T(Input_Output!DX164),\"\")","v":""},null,null,{"$f":"IF(Input_Output!DZ164=\"\",T(Input_Output!EA164),\"\")","v":""},null,null,{"$f":"IF(Input_Output!EC164=\"\",T(Input_Output!ED164),\"\")","v":""},null,null,{"$f":"IF(Input_Output!EF164=\"\",T(Input_Output!EG164),\"\")","v":""},null,null,{"$f":"IF(Input_Output!EI164=\"\",T(Input_Output!EJ164),\"\")","v":""},null,null,{"$f":"IF(Input_Output!EL164=\"\",T(Input_Output!EM164),\"\")","v":""},null,null,{"$f":"IF(Input_Output!EO164=\"\",T(Input_Output!EP164),\"\")","v":""},null,null,{"$f":"IF(Input_Output!ER164=\"\",T(Input_Output!ES164),\"\")","v":""},null,null,{"$f":"IF(Input_Output!EU164=\"\",T(Input_Output!EV164),\"\")","v":""},null,null,{"$f":"IF(Input_Output!EX164=\"\",T(Input_Output!EY164),\"\")","v":""},null,null,{"$f":"IF(Input_Output!FA164=\"\",T(Input_Output!FB164),\"\")","v":""},null,null,{"$f":"IF(Input_Output!FD164=\"\",T(Input_Output!FE164),\"\")","v":""},null,null,{"$f":"IF(Input_Output!FG164=\"\",T(Input_Output!FH164),\"\")","v":""},null,null,{"$f":"IF(Input_Output!FJ164=\"\",T(Input_Output!FK164),\"\")","v":""},null,null,{"$f":"IF(Input_Output!FM164=\"\",T(Input_Output!FN164),\"\")","v":""},null,null,{"$f":"IF(Input_Output!FP164=\"\",T(Input_Output!FQ164),\"\")","v":""},null,null,{"$f":"IF(Input_Output!FS164=\"\",T(Input_Output!FT164),\"\")","v":""},null,null,{"$f":"IF(Input_Output!FV164=\"\",T(Input_Output!FW164),\"\")","v":""},null,null,{"$f":"IF(Input_Output!FY164=\"\",T(Input_Output!FZ164),\"\")","v":""},null,null,{"$f":"IF(Input_Output!GB164=\"\",T(Input_Output!GC164),\"\")","v":""},null,null,{"$f":"IF(Input_Output!GE164=\"\",T(Input_Output!GF164),\"\")","v":""},null,null,{"$f":"IF(Input_Output!GH164=\"\",T(Input_Output!GI164),\"\")","v":""},null,null,{"$f":"IF(Input_Output!GK164=\"\",T(Input_Output!GL164),\"\")","v":""},null,null,{"$f":"IF(Input_Output!GN164=\"\",T(Input_Output!GO164),\"\")","v":""},null,null,{"$f":"IF(Input_Output!GQ164=\"\",T(Input_Output!GR164),\"\")","v":""},null,null,{"$f":"IF(Input_Output!GT164=\"\",T(Input_Output!GU164),\"\")","v":""},null,null,{"$f":"IF(Input_Output!GW164=\"\",T(Input_Output!GX164),\"\")","v":""},null,null,{"$f":"IF(Input_Output!GZ164=\"\",T(Input_Output!HA164),\"\")","v":""},null,null,{"$f":"IF(Input_Output!HC164=\"\",T(Input_Output!HD164),\"\")","v":""},null,null,{"$f":"IF(Input_Output!HF164=\"\",T(Input_Output!HG164),\"\")","v":""},null,null,{"$f":"IF(Input_Output!HI164=\"\",T(Input_Output!HJ164),\"\")","v":""},null,null,{"$f":"IF(Input_Output!HL164=\"\",T(Input_Output!HM164),\"\")","v":""},null,null,{"$f":"IF(Input_Output!HO164=\"\",T(Input_Output!HP164),\"\")","v":""},null,null,{"$f":"IF(Input_Output!HR164=\"\",T(Input_Output!HS164),\"\")","v":""},null,null,{"$f":"IF(Input_Output!HU164=\"\",T(Input_Output!HV164),\"\")","v":""},null,null,{"$f":"IF(Input_Output!HX164=\"\",T(Input_Output!HY164),\"\")","v":""},null,null,{"$f":"IF(Input_Output!IA164=\"\",T(Input_Output!IB164),\"\")","v":""},null,null,{"$f":"IF(Input_Output!ID164=\"\",T(Input_Output!IE164),\"\")","v":""},null,null,{"$f":"IF(Input_Output!IG164=\"\",T(Input_Output!IH164),\"\")","v":""},null,null,{"$f":"IF(Input_Output!IJ164=\"\",T(Input_Output!IK164),\"\")","v":""},null,null,{"$f":"IF(Input_Output!IM164=\"\",T(Input_Output!IN164),\"\")","v":""},null,null,{"$f":"IF(Input_Output!IP164=\"\",T(Input_Output!IQ164),\"\")","v":""},null,null,{"$f":"IF(Input_Output!IS164=\"\",T(Input_Output!IT164),\"\")","v":""}]
[null,null,null,null,{"$f":"IF(Input_Output!D165=\"\",T(Input_Output!E165),\"\")","v":""},null,null,{"$f":"IF(Input_Output!G165=\"\",T(Input_Output!H165),\"\")","v":""},null,null,{"$f":"IF(Input_Output!J165=\"\",T(Input_Output!K165),\"\")","v":""},null,null,{"$f":"IF(Input_Output!M165=\"\",T(Input_Output!N165),\"\")","v":""},null,null,{"$f":"IF(Input_Output!P165=\"\",T(Input_Output!Q165),\"\")","v":""},null,null,{"$f":"IF(Input_Output!S165=\"\",T(Input_Output!T165),\"\")","v":""},null,null,{"$f":"IF(Input_Output!V165=\"\",T(Input_Output!W165),\"\")","v":""},null,null,{"$f":"IF(Input_Output!Y165=\"\",T(Input_Output!Z165),\"\")","v":""},null,null,{"$f":"IF(Input_Output!AB165=\"\",T(Input_Output!AC165),\"\")","v":""},null,null,{"$f":"IF(Input_Output!AE165=\"\",T(Input_Output!AF165),\"\")","v":""},null,null,{"$f":"IF(Input_Output!AH165=\"\",T(Input_Output!AI165),\"\")","v":""},null,null,{"$f":"IF(Input_Output!AK165=\"\",T(Input_Output!AL165),\"\")","v":""},null,null,{"$f":"IF(Input_Output!AN165=\"\",T(Input_Output!AO165),\"\")","v":""},null,null,{"$f":"IF(Input_Output!AQ165=\"\",T(Input_Output!AR165),\"\")","v":""},null,null,{"$f":"IF(Input_Output!AT165=\"\",T(Input_Output!AU165),\"\")","v":""},null,null,{"$f":"IF(Input_Output!AW165=\"\",T(Input_Output!AX165),\"\")","v":""},null,null,{"$f":"IF(Input_Output!AZ165=\"\",T(Input_Output!BA165),\"\")","v":""},null,null,{"$f":"IF(Input_Output!BC165=\"\",T(Input_Output!BD165),\"\")","v":""},null,null,{"$f":"IF(Input_Output!BF165=\"\",T(Input_Output!BG165),\"\")","v":""},null,null,{"$f":"IF(Input_Output!BI165=\"\",T(Input_Output!BJ165),\"\")","v":""},null,null,{"$f":"IF(Input_Output!BL165=\"\",T(Input_Output!BM165),\"\")","v":""},null,null,{"$f":"IF(Input_Output!BO165=\"\",T(Input_Output!BP165),\"\")","v":""},null,null,{"$f":"IF(Input_Output!BR165=\"\",T(Input_Output!BS165),\"\")","v":""},null,null,{"$f":"IF(Input_Output!BU165=\"\",T(Input_Output!BV165),\"\")","v":""},null,null,{"$f":"IF(Input_Output!BX165=\"\",T(Input_Output!BY165),\"\")","v":""},null,null,{"$f":"IF(Input_Output!CA165=\"\",T(Input_Output!CB165),\"\")","v":""},null,null,{"$f":"IF(Input_Output!CD165=\"\",T(Input_Output!CE165),\"\")","v":""},null,null,{"$f":"IF(Input_Output!CG165=\"\",T(Input_Output!CH165),\"\")","v":""},null,null,{"$f":"IF(Input_Output!CJ165=\"\",T(Input_Output!CK165),\"\")","v":""},null,null,{"$f":"IF(Input_Output!CM165=\"\",T(Input_Output!CN165),\"\")","v":""},null,null,{"$f":"IF(Input_Output!CP165=\"\",T(Input_Output!CQ165),\"\")","v":""},null,null,{"$f":"IF(Input_Output!CS165=\"\",T(Input_Output!CT165),\"\")","v":""},null,null,{"$f":"IF(Input_Output!CV165=\"\",T(Input_Output!CW165),\"\")","v":""},null,null,{"$f":"IF(Input_Output!CY165=\"\",T(Input_Output!CZ165),\"\")","v":""},null,null,{"$f":"IF(Input_Output!DB165=\"\",T(Input_Output!DC165),\"\")","v":""},null,null,{"$f":"IF(Input_Output!DE165=\"\",T(Input_Output!DF165),\"\")","v":""},null,null,{"$f":"IF(Input_Output!DH165=\"\",T(Input_Output!DI165),\"\")","v":""},null,null,{"$f":"IF(Input_Output!DK165=\"\",T(Input_Output!DL165),\"\")","v":""},null,null,{"$f":"IF(Input_Output!DN165=\"\",T(Input_Output!DO165),\"\")","v":""},null,null,{"$f":"IF(Input_Output!DQ165=\"\",T(Input_Output!DR165),\"\")","v":""},null,null,{"$f":"IF(Input_Output!DT165=\"\",T(Input_Output!DU165),\"\")","v":""},null,null,{"$f":"IF(Input_Output!DW165=\"\",T(Input_Output!DX165),\"\")","v":""},null,null,{"$f":"IF(Input_Output!DZ165=\"\",T(Input_Output!EA165),\"\")","v":""},null,null,{"$f":"IF(Input_Output!EC165=\"\",T(Input_Output!ED165),\"\")","v":""},null,null,{"$f":"IF(Input_Output!EF165=\"\",T(Input_Output!EG165),\"\")","v":""},null,null,{"$f":"IF(Input_Output!EI165=\"\",T(Input_Output!EJ165),\"\")","v":""},null,null,{"$f":"IF(Input_Output!EL165=\"\",T(Input_Output!EM165),\"\")","v":""},null,null,{"$f":"IF(Input_Output!EO165=\"\",T(Input_Output!EP165),\"\")","v":""},null,null,{"$f":"IF(Input_Output!ER165=\"\",T(Input_Output!ES165),\"\")","v":""},null,null,{"$f":"IF(Input_Output!EU165=\"\",T(Input_Output!EV165),\"\")","v":""},null,null,{"$f":"IF(Input_Output!EX165=\"\",T(Input_Output!EY165),\"\")","v":""},null,null,{"$f":"IF(Input_Output!FA165=\"\",T(Input_Output!FB165),\"\")","v":""},null,null,{"$f":"IF(Input_Output!FD165=\"\",T(Input_Output!FE165),\"\")","v":""},null,null,{"$f":"IF(Input_Output!FG165=\"\",T(Input_Output!FH165),\"\")","v":""},null,null,{"$f":"IF(Input_Output!FJ165=\"\",T(Input_Output!FK165),\"\")","v":""},null,null,{"$f":"IF(Input_Output!FM165=\"\",T(Input_Output!FN165),\"\")","v":""},null,null,{"$f":"IF(Input_Output!FP165=\"\",T(Input_Output!FQ165),\"\")","v":""},null,null,{"$f":"IF(Input_Output!FS165=\"\",T(Input_Output!FT165),\"\")","v":""},null,null,{"$f":"IF(Input_Output!FV165=\"\",T(Input_Output!FW165),\"\")","v":""},null,null,{"$f":"IF(Input_Output!FY165=\"\",T(Input_Output!FZ165),\"\")","v":""},null,null,{"$f":"IF(Input_Output!GB165=\"\",T(Input_Output!GC165),\"\")","v":""},null,null,{"$f":"IF(Input_Output!GE165=\"\",T(Input_Output!GF165),\"\")","v":""},null,null,{"$f":"IF(Input_Output!GH165=\"\",T(Input_Output!GI165),\"\")","v":""},null,null,{"$f":"IF(Input_Output!GK165=\"\",T(Input_Output!GL165),\"\")","v":""},null,null,{"$f":"IF(Input_Output!GN165=\"\",T(Input_Output!GO165),\"\")","v":""},null,null,{"$f":"IF(Input_Output!GQ165=\"\",T(Input_Output!GR165),\"\")","v":""},null,null,{"$f":"IF(Input_Output!GT165=\"\",T(Input_Output!GU165),\"\")","v":""},null,null,{"$f":"IF(Input_Output!GW165=\"\",T(Input_Output!GX165),\"\")","v":""},null,null,{"$f":"IF(Input_Output!GZ165=\"\",T(Input_Output!HA165),\"\")","v":""},null,null,{"$f":"IF(Input_Output!HC165=\"\",T(Input_Output!HD165),\"\")","v":""},null,null,{"$f":"IF(Input_Output!HF165=\"\",T(Input_Output!HG165),\"\")","v":""},null,null,{"$f":"IF(Input_Output!HI165=\"\",T(Input_Output!HJ165),\"\")","v":""},null,null,{"$f":"IF(Input_Output!HL165=\"\",T(Input_Output!HM165),\"\")","v":""},null,null,{"$f":"IF(Input_Output!HO165=\"\",T(Input_Output!HP165),\"\")","v":""},null,null,{"$f":"IF(Input_Output!HR165=\"\",T(Input_Output!HS165),\"\")","v":""},null,null,{"$f":"IF(Input_Output!HU165=\"\",T(Input_Output!HV165),\"\")","v":""},null,null,{"$f":"IF(Input_Output!HX165=\"\",T(Input_Output!HY165),\"\")","v":""},null,null,{"$f":"IF(Input_Output!IA165=\"\",T(Input_Output!IB165),\"\")","v":""},null,null,{"$f":"IF(Input_Output!ID165=\"\",T(Input_Output!IE165),\"\")","v":""},null,null,{"$f":"IF(Input_Output!IG165=\"\",T(Input_Output!IH165),\"\")","v":""},null,null,{"$f":"IF(Input_Output!IJ165=\"\",T(Input_Output!IK165),\"\")","v":""},null,null,{"$f":"IF(Input_Output!IM165=\"\",T(Input_Output!IN165),\"\")","v":""},null,null,{"$f":"IF(Input_Output!IP165=\"\",T(Input_Output!IQ165),\"\")","v":""},null,null,{"$f":"IF(Input_Output!IS165=\"\",T(Input_Output!IT165),\"\")","v":""}]
[null,null,null,null,{"$f":"IF(Input_Output!D166=\"\",T(Input_Output!E166),\"\")","v":""},null,null,{"$f":"IF(Input_Output!G166=\"\",T(Input_Output!H166),\"\")","v":""},null,null,{"$f":"IF(Input_Output!J166=\"\",T(Input_Output!K166),\"\")","v":""},null,null,{"$f":"IF(Input_Output!M166=\"\",T(Input_Output!N166),\"\")","v":""},null,null,{"$f":"IF(Input_Output!P166=\"\",T(Input_Output!Q166),\"\")","v":""},null,null,{"$f":"IF(Input_Output!S166=\"\",T(Input_Output!T166),\"\")","v":""},null,null,{"$f":"IF(Input_Output!V166=\"\",T(Input_Output!W166),\"\")","v":""},null,null,{"$f":"IF(Input_Output!Y166=\"\",T(Input_Output!Z166),\"\")","v":""},null,null,{"$f":"IF(Input_Output!AB166=\"\",T(Input_Output!AC166),\"\")","v":""},null,null,{"$f":"IF(Input_Output!AE166=\"\",T(Input_Output!AF166),\"\")","v":""},null,null,{"$f":"IF(Input_Output!AH166=\"\",T(Input_Output!AI166),\"\")","v":""},null,null,{"$f":"IF(Input_Output!AK166=\"\",T(Input_Output!AL166),\"\")","v":""},null,null,{"$f":"IF(Input_Output!AN166=\"\",T(Input_Output!AO166),\"\")","v":""},null,null,{"$f":"IF(Input_Output!AQ166=\"\",T(Input_Output!AR166),\"\")","v":""},null,null,{"$f":"IF(Input_Output!AT166=\"\",T(Input_Output!AU166),\"\")","v":""},null,null,{"$f":"IF(Input_Output!AW166=\"\",T(Input_Output!AX166),\"\")","v":""},null,null,{"$f":"IF(Input_Output!AZ166=\"\",T(Input_Output!BA166),\"\")","v":""},null,null,{"$f":"IF(Input_Output!BC166=\"\",T(Input_Output!BD166),\"\")","v":""},null,null,{"$f":"IF(Input_Output!BF166=\"\",T(Input_Output!BG166),\"\")","v":""},null,null,{"$f":"IF(Input_Output!BI166=\"\",T(Input_Output!BJ166),\"\")","v":""},null,null,{"$f":"IF(Input_Output!BL166=\"\",T(Input_Output!BM166),\"\")","v":""},null,null,{"$f":"IF(Input_Output!BO166=\"\",T(Input_Output!BP166),\"\")","v":""},null,null,{"$f":"IF(Input_Output!BR166=\"\",T(Input_Output!BS166),\"\")","v":""},null,null,{"$f":"IF(Input_Output!BU166=\"\",T(Input_Output!BV166),\"\")","v":""},null,null,{"$f":"IF(Input_Output!BX166=\"\",T(Input_Output!BY166),\"\")","v":""},null,null,{"$f":"IF(Input_Output!CA166=\"\",T(Input_Output!CB166),\"\")","v":""},null,null,{"$f":"IF(Input_Output!CD166=\"\",T(Input_Output!CE166),\"\")","v":""},null,null,{"$f":"IF(Input_Output!CG166=\"\",T(Input_Output!CH166),\"\")","v":""},null,null,{"$f":"IF(Input_Output!CJ166=\"\",T(Input_Output!CK166),\"\")","v":""},null,null,{"$f":"IF(Input_Output!CM166=\"\",T(Input_Output!CN166),\"\")","v":""},null,null,{"$f":"IF(Input_Output!CP166=\"\",T(Input_Output!CQ166),\"\")","v":""},null,null,{"$f":"IF(Input_Output!CS166=\"\",T(Input_Output!CT166),\"\")","v":""},null,null,{"$f":"IF(Input_Output!CV166=\"\",T(Input_Output!CW166),\"\")","v":""},null,null,{"$f":"IF(Input_Output!CY166=\"\",T(Input_Output!CZ166),\"\")","v":""},null,null,{"$f":"IF(Input_Output!DB166=\"\",T(Input_Output!DC166),\"\")","v":""},null,null,{"$f":"IF(Input_Output!DE166=\"\",T(Input_Output!DF166),\"\")","v":""},null,null,{"$f":"IF(Input_Output!DH166=\"\",T(Input_Output!DI166),\"\")","v":""},null,null,{"$f":"IF(Input_Output!DK166=\"\",T(Input_Output!DL166),\"\")","v":""},null,null,{"$f":"IF(Input_Output!DN166=\"\",T(Input_Output!DO166),\"\")","v":""},null,null,{"$f":"IF(Input_Output!DQ166=\"\",T(Input_Output!DR166),\"\")","v":""},null,null,{"$f":"IF(Input_Output!DT166=\"\",T(Input_Output!DU166),\"\")","v":""},null,null,{"$f":"IF(Input_Output!DW166=\"\",T(Input_Output!DX166),\"\")","v":""},null,null,{"$f":"IF(Input_Output!DZ166=\"\",T(Input_Output!EA166),\"\")","v":""},null,null,{"$f":"IF(Input_Output!EC166=\"\",T(Input_Output!ED166),\"\")","v":""},null,null,{"$f":"IF(Input_Output!EF166=\"\",T(Input_Output!EG166),\"\")","v":""},null,null,{"$f":"IF(Input_Output!EI166=\"\",T(Input_Output!EJ166),\"\")","v":""},null,null,{"$f":"IF(Input_Output!EL166=\"\",T(Input_Output!EM166),\"\")","v":""},null,null,{"$f":"IF(Input_Output!EO166=\"\",T(Input_Output!EP166),\"\")","v":""},null,null,{"$f":"IF(Input_Output!ER166=\"\",T(Input_Output!ES166),\"\")","v":""},null,null,{"$f":"IF(Input_Output!EU166=\"\",T(Input_Output!EV166),\"\")","v":""},null,null,{"$f":"IF(Input_Output!EX166=\"\",T(Input_Output!EY166),\"\")","v":""},null,null,{"$f":"IF(Input_Output!FA166=\"\",T(Input_Output!FB166),\"\")","v":""},null,null,{"$f":"IF(Input_Output!FD166=\"\",T(Input_Output!FE166),\"\")","v":""},null,null,{"$f":"IF(Input_Output!FG166=\"\",T(Input_Output!FH166),\"\")","v":""},null,null,{"$f":"IF(Input_Output!FJ166=\"\",T(Input_Output!FK166),\"\")","v":""},null,null,{"$f":"IF(Input_Output!FM166=\"\",T(Input_Output!FN166),\"\")","v":""},null,null,{"$f":"IF(Input_Output!FP166=\"\",T(Input_Output!FQ166),\"\")","v":""},null,null,{"$f":"IF(Input_Output!FS166=\"\",T(Input_Output!FT166),\"\")","v":""},null,null,{"$f":"IF(Input_Output!FV166=\"\",T(Input_Output!FW166),\"\")","v":""},null,null,{"$f":"IF(Input_Output!FY166=\"\",T(Input_Output!FZ166),\"\")","v":""},null,null,{"$f":"IF(Input_Output!GB166=\"\",T(Input_Output!GC166),\"\")","v":""},null,null,{"$f":"IF(Input_Output!GE166=\"\",T(Input_Output!GF166),\"\")","v":""},null,null,{"$f":"IF(Input_Output!GH166=\"\",T(Input_Output!GI166),\"\")","v":""},null,null,{"$f":"IF(Input_Output!GK166=\"\",T(Input_Output!GL166),\"\")","v":""},null,null,{"$f":"IF(Input_Output!GN166=\"\",T(Input_Output!GO166),\"\")","v":""},null,null,{"$f":"IF(Input_Output!GQ166=\"\",T(Input_Output!GR166),\"\")","v":""},null,null,{"$f":"IF(Input_Output!GT166=\"\",T(Input_Output!GU166),\"\")","v":""},null,null,{"$f":"IF(Input_Output!GW166=\"\",T(Input_Output!GX166),\"\")","v":""},null,null,{"$f":"IF(Input_Output!GZ166=\"\",T(Input_Output!HA166),\"\")","v":""},null,null,{"$f":"IF(Input_Output!HC166=\"\",T(Input_Output!HD166),\"\")","v":""},null,null,{"$f":"IF(Input_Output!HF166=\"\",T(Input_Output!HG166),\"\")","v":""},null,null,{"$f":"IF(Input_Output!HI166=\"\",T(Input_Output!HJ166),\"\")","v":""},null,null,{"$f":"IF(Input_Output!HL166=\"\",T(Input_Output!HM166),\"\")","v":""},null,null,{"$f":"IF(Input_Output!HO166=\"\",T(Input_Output!HP166),\"\")","v":""},null,null,{"$f":"IF(Input_Output!HR166=\"\",T(Input_Output!HS166),\"\")","v":""},null,null,{"$f":"IF(Input_Output!HU166=\"\",T(Input_Output!HV166),\"\")","v":""},null,null,{"$f":"IF(Input_Output!HX166=\"\",T(Input_Output!HY166),\"\")","v":""},null,null,{"$f":"IF(Input_Output!IA166=\"\",T(Input_Output!IB166),\"\")","v":""},null,null,{"$f":"IF(Input_Output!ID166=\"\",T(Input_Output!IE166),\"\")","v":""},null,null,{"$f":"IF(Input_Output!IG166=\"\",T(Input_Output!IH166),\"\")","v":""},null,null,{"$f":"IF(Input_Output!IJ166=\"\",T(Input_Output!IK166),\"\")","v":""},null,null,{"$f":"IF(Input_Output!IM166=\"\",T(Input_Output!IN166),\"\")","v":""},null,null,{"$f":"IF(Input_Output!IP166=\"\",T(Input_Output!IQ166),\"\")","v":""},null,null,{"$f":"IF(Input_Output!IS166=\"\",T(Input_Output!IT166),\"\")","v":""}]
[null,null,null,null,{"$f":"IF(Input_Output!D167=\"\",T(Input_Output!E167),\"\")","v":""},null,null,{"$f":"IF(Input_Output!G167=\"\",T(Input_Output!H167),\"\")","v":""},null,null,{"$f":"IF(Input_Output!J167=\"\",T(Input_Output!K167),\"\")","v":""},null,null,{"$f":"IF(Input_Output!M167=\"\",T(Input_Output!N167),\"\")","v":""},null,null,{"$f":"IF(Input_Output!P167=\"\",T(Input_Output!Q167),\"\")","v":""},null,null,{"$f":"IF(Input_Output!S167=\"\",T(Input_Output!T167),\"\")","v":""},null,null,{"$f":"IF(Input_Output!V167=\"\",T(Input_Output!W167),\"\")","v":""},null,null,{"$f":"IF(Input_Output!Y167=\"\",T(Input_Output!Z167),\"\")","v":""},null,null,{"$f":"IF(Input_Output!AB167=\"\",T(Input_Output!AC167),\"\")","v":""},null,null,{"$f":"IF(Input_Output!AE167=\"\",T(Input_Output!AF167),\"\")","v":""},null,null,{"$f":"IF(Input_Output!AH167=\"\",T(Input_Output!AI167),\"\")","v":""},null,null,{"$f":"IF(Input_Output!AK167=\"\",T(Input_Output!AL167),\"\")","v":""},null,null,{"$f":"IF(Input_Output!AN167=\"\",T(Input_Output!AO167),\"\")","v":""},null,null,{"$f":"IF(Input_Output!AQ167=\"\",T(Input_Output!AR167),\"\")","v":""},null,null,{"$f":"IF(Input_Output!AT167=\"\",T(Input_Output!AU167),\"\")","v":""},null,null,{"$f":"IF(Input_Output!AW167=\"\",T(Input_Output!AX167),\"\")","v":""},null,null,{"$f":"IF(Input_Output!AZ167=\"\",T(Input_Output!BA167),\"\")","v":""},null,null,{"$f":"IF(Input_Output!BC167=\"\",T(Input_Output!BD167),\"\")","v":""},null,null,{"$f":"IF(Input_Output!BF167=\"\",T(Input_Output!BG167),\"\")","v":""},null,null,{"$f":"IF(Input_Output!BI167=\"\",T(Input_Output!BJ167),\"\")","v":""},null,null,{"$f":"IF(Input_Output!BL167=\"\",T(Input_Output!BM167),\"\")","v":""},null,null,{"$f":"IF(Input_Output!BO167=\"\",T(Input_Output!BP167),\"\")","v":""},null,null,{"$f":"IF(Input_Output!BR167=\"\",T(Input_Output!BS167),\"\")","v":""},null,null,{"$f":"IF(Input_Output!BU167=\"\",T(Input_Output!BV167),\"\")","v":""},null,null,{"$f":"IF(Input_Output!BX167=\"\",T(Input_Output!BY167),\"\")","v":""},null,null,{"$f":"IF(Input_Output!CA167=\"\",T(Input_Output!CB167),\"\")","v":""},null,null,{"$f":"IF(Input_Output!CD167=\"\",T(Input_Output!CE167),\"\")","v":""},null,null,{"$f":"IF(Input_Output!CG167=\"\",T(Input_Output!CH167),\"\")","v":""},null,null,{"$f":"IF(Input_Output!CJ167=\"\",T(Input_Output!CK167),\"\")","v":""},null,null,{"$f":"IF(Input_Output!CM167=\"\",T(Input_Output!CN167),\"\")","v":""},null,null,{"$f":"IF(Input_Output!CP167=\"\",T(Input_Output!CQ167),\"\")","v":""},null,null,{"$f":"IF(Input_Output!CS167=\"\",T(Input_Output!CT167),\"\")","v":""},null,null,{"$f":"IF(Input_Output!CV167=\"\",T(Input_Output!CW167),\"\")","v":""},null,null,{"$f":"IF(Input_Output!CY167=\"\",T(Input_Output!CZ167),\"\")","v":""},null,null,{"$f":"IF(Input_Output!DB167=\"\",T(Input_Output!DC167),\"\")","v":""},null,null,{"$f":"IF(Input_Output!DE167=\"\",T(Input_Output!DF167),\"\")","v":""},null,null,{"$f":"IF(Input_Output!DH167=\"\",T(Input_Output!DI167),\"\")","v":""},null,null,{"$f":"IF(Input_Output!DK167=\"\",T(Input_Output!DL167),\"\")","v":""},null,null,{"$f":"IF(Input_Output!DN167=\"\",T(Input_Output!DO167),\"\")","v":""},null,null,{"$f":"IF(Input_Output!DQ167=\"\",T(Input_Output!DR167),\"\")","v":""},null,null,{"$f":"IF(Input_Output!DT167=\"\",T(Input_Output!DU167),\"\")","v":""},null,null,{"$f":"IF(Input_Output!DW167=\"\",T(Input_Output!DX167),\"\")","v":""},null,null,{"$f":"IF(Input_Output!DZ167=\"\",T(Input_Output!EA167),\"\")","v":""},null,null,{"$f":"IF(Input_Output!EC167=\"\",T(Input_Output!ED167),\"\")","v":""},null,null,{"$f":"IF(Input_Output!EF167=\"\",T(Input_Output!EG167),\"\")","v":""},null,null,{"$f":"IF(Input_Output!EI167=\"\",T(Input_Output!EJ167),\"\")","v":""},null,null,{"$f":"IF(Input_Output!EL167=\"\",T(Input_Output!EM167),\"\")","v":""},null,null,{"$f":"IF(Input_Output!EO167=\"\",T(Input_Output!EP167),\"\")","v":""},null,null,{"$f":"IF(Input_Output!ER167=\"\",T(Input_Output!ES167),\"\")","v":""},null,null,{"$f":"IF(Input_Output!EU167=\"\",T(Input_Output!EV167),\"\")","v":""},null,null,{"$f":"IF(Input_Output!EX167=\"\",T(Input_Output!EY167),\"\")","v":""},null,null,{"$f":"IF(Input_Output!FA167=\"\",T(Input_Output!FB167),\"\")","v":""},null,null,{"$f":"IF(Input_Output!FD167=\"\",T(Input_Output!FE167),\"\")","v":""},null,null,{"$f":"IF(Input_Output!FG167=\"\",T(Input_Output!FH167),\"\")","v":""},null,null,{"$f":"IF(Input_Output!FJ167=\"\",T(Input_Output!FK167),\"\")","v":""},null,null,{"$f":"IF(Input_Output!FM167=\"\",T(Input_Output!FN167),\"\")","v":""},null,null,{"$f":"IF(Input_Output!FP167=\"\",T(Input_Output!FQ167),\"\")","v":""},null,null,{"$f":"IF(Input_Output!FS167=\"\",T(Input_Output!FT167),\"\")","v":""},null,null,{"$f":"IF(Input_Output!FV167=\"\",T(Input_Output!FW167),\"\")","v":""},null,null,{"$f":"IF(Input_Output!FY167=\"\",T(Input_Output!FZ167),\"\")","v":""},null,null,{"$f":"IF(Input_Output!GB167=\"\",T(Input_Output!GC167),\"\")","v":""},null,null,{"$f":"IF(Input_Output!GE167=\"\",T(Input_Output!GF167),\"\")","v":""},null,null,{"$f":"IF(Input_Output!GH167=\"\",T(Input_Output!GI167),\"\")","v":""},null,null,{"$f":"IF(Input_Output!GK167=\"\",T(Input_Output!GL167),\"\")","v":""},null,null,{"$f":"IF(Input_Output!GN167=\"\",T(Input_Output!GO167),\"\")","v":""},null,null,{"$f":"IF(Input_Output!GQ167=\"\",T(Input_Output!GR167),\"\")","v":""},null,null,{"$f":"IF(Input_Output!GT167=\"\",T(Input_Output!GU167),\"\")","v":""},null,null,{"$f":"IF(Input_Output!GW167=\"\",T(Input_Output!GX167),\"\")","v":""},null,null,{"$f":"IF(Input_Output!GZ167=\"\",T(Input_Output!HA167),\"\")","v":""},null,null,{"$f":"IF(Input_Output!HC167=\"\",T(Input_Output!HD167),\"\")","v":""},null,null,{"$f":"IF(Input_Output!HF167=\"\",T(Input_Output!HG167),\"\")","v":""},null,null,{"$f":"IF(Input_Output!HI167=\"\",T(Input_Output!HJ167),\"\")","v":""},null,null,{"$f":"IF(Input_Output!HL167=\"\",T(Input_Output!HM167),\"\")","v":""},null,null,{"$f":"IF(Input_Output!HO167=\"\",T(Input_Output!HP167),\"\")","v":""},null,null,{"$f":"IF(Input_Output!HR167=\"\",T(Input_Output!HS167),\"\")","v":""},null,null,{"$f":"IF(Input_Output!HU167=\"\",T(Input_Output!HV167),\"\")","v":""},null,null,{"$f":"IF(Input_Output!HX167=\"\",T(Input_Output!HY167),\"\")","v":""},null,null,{"$f":"IF(Input_Output!IA167=\"\",T(Input_Output!IB167),\"\")","v":""},null,null,{"$f":"IF(Input_Output!ID167=\"\",T(Input_Output!IE167),\"\")","v":""},null,null,{"$f":"IF(Input_Output!IG167=\"\",T(Input_Output!IH167),\"\")","v":""},null,null,{"$f":"IF(Input_Output!IJ167=\"\",T(Input_Output!IK167),\"\")","v":""},null,null,{"$f":"IF(Input_Output!IM167=\"\",T(Input_Output!IN167),\"\")","v":""},null,null,{"$f":"IF(Input_Output!IP167=\"\",T(Input_Output!IQ167),\"\")","v":""},null,null,{"$f":"IF(Input_Output!IS167=\"\",T(Input_Output!IT167),\"\")","v":""}]
[null,null,null,null,{"$f":"IF(Input_Output!D168=\"\",T(Input_Output!E168),\"\")","v":""},null,null,{"$f":"IF(Input_Output!G168=\"\",T(Input_Output!H168),\"\")","v":""},null,null,{"$f":"IF(Input_Output!J168=\"\",T(Input_Output!K168),\"\")","v":""},null,null,{"$f":"IF(Input_Output!M168=\"\",T(Input_Output!N168),\"\")","v":""},null,null,{"$f":"IF(Input_Output!P168=\"\",T(Input_Output!Q168),\"\")","v":""},null,null,{"$f":"IF(Input_Output!S168=\"\",T(Input_Output!T168),\"\")","v":""},null,null,{"$f":"IF(Input_Output!V168=\"\",T(Input_Output!W168),\"\")","v":""},null,null,{"$f":"IF(Input_Output!Y168=\"\",T(Input_Output!Z168),\"\")","v":""},null,null,{"$f":"IF(Input_Output!AB168=\"\",T(Input_Output!AC168),\"\")","v":""},null,null,{"$f":"IF(Input_Output!AE168=\"\",T(Input_Output!AF168),\"\")","v":""},null,null,{"$f":"IF(Input_Output!AH168=\"\",T(Input_Output!AI168),\"\")","v":""},null,null,{"$f":"IF(Input_Output!AK168=\"\",T(Input_Output!AL168),\"\")","v":""},null,null,{"$f":"IF(Input_Output!AN168=\"\",T(Input_Output!AO168),\"\")","v":""},null,null,{"$f":"IF(Input_Output!AQ168=\"\",T(Input_Output!AR168),\"\")","v":""},null,null,{"$f":"IF(Input_Output!AT168=\"\",T(Input_Output!AU168),\"\")","v":""},null,null,{"$f":"IF(Input_Output!AW168=\"\",T(Input_Output!AX168),\"\")","v":""},null,null,{"$f":"IF(Input_Output!AZ168=\"\",T(Input_Output!BA168),\"\")","v":""},null,null,{"$f":"IF(Input_Output!BC168=\"\",T(Input_Output!BD168),\"\")","v":""},null,null,{"$f":"IF(Input_Output!BF168=\"\",T(Input_Output!BG168),\"\")","v":""},null,null,{"$f":"IF(Input_Output!BI168=\"\",T(Input_Output!BJ168),\"\")","v":""},null,null,{"$f":"IF(Input_Output!BL168=\"\",T(Input_Output!BM168),\"\")","v":""},null,null,{"$f":"IF(Input_Output!BO168=\"\",T(Input_Output!BP168),\"\")","v":""},null,null,{"$f":"IF(Input_Output!BR168=\"\",T(Input_Output!BS168),\"\")","v":""},null,null,{"$f":"IF(Input_Output!BU168=\"\",T(Input_Output!BV168),\"\")","v":""},null,null,{"$f":"IF(Input_Output!BX168=\"\",T(Input_Output!BY168),\"\")","v":""},null,null,{"$f":"IF(Input_Output!CA168=\"\",T(Input_Output!CB168),\"\")","v":""},null,null,{"$f":"IF(Input_Output!CD168=\"\",T(Input_Output!CE168),\"\")","v":""},null,null,{"$f":"IF(Input_Output!CG168=\"\",T(Input_Output!CH168),\"\")","v":""},null,null,{"$f":"IF(Input_Output!CJ168=\"\",T(Input_Output!CK168),\"\")","v":""},null,null,{"$f":"IF(Input_Output!CM168=\"\",T(Input_Output!CN168),\"\")","v":""},null,null,{"$f":"IF(Input_Output!CP168=\"\",T(Input_Output!CQ168),\"\")","v":""},null,null,{"$f":"IF(Input_Output!CS168=\"\",T(Input_Output!CT168),\"\")","v":""},null,null,{"$f":"IF(Input_Output!CV168=\"\",T(Input_Output!CW168),\"\")","v":""},null,null,{"$f":"IF(Input_Output!CY168=\"\",T(Input_Output!CZ168),\"\")","v":""},null,null,{"$f":"IF(Input_Output!DB168=\"\",T(Input_Output!DC168),\"\")","v":""},null,null,{"$f":"IF(Input_Output!DE168=\"\",T(Input_Output!DF168),\"\")","v":""},null,null,{"$f":"IF(Input_Output!DH168=\"\",T(Input_Output!DI168),\"\")","v":""},null,null,{"$f":"IF(Input_Output!DK168=\"\",T(Input_Output!DL168),\"\")","v":""},null,null,{"$f":"IF(Input_Output!DN168=\"\",T(Input_Output!DO168),\"\")","v":""},null,null,{"$f":"IF(Input_Output!DQ168=\"\",T(Input_Output!DR168),\"\")","v":""},null,null,{"$f":"IF(Input_Output!DT168=\"\",T(Input_Output!DU168),\"\")","v":""},null,null,{"$f":"IF(Input_Output!DW168=\"\",T(Input_Output!DX168),\"\")","v":""},null,null,{"$f":"IF(Input_Output!DZ168=\"\",T(Input_Output!EA168),\"\")","v":""},null,null,{"$f":"IF(Input_Output!EC168=\"\",T(Input_Output!ED168),\"\")","v":""},null,null,{"$f":"IF(Input_Output!EF168=\"\",T(Input_Output!EG168),\"\")","v":""},null,null,{"$f":"IF(Input_Output!EI168=\"\",T(Input_Output!EJ168),\"\")","v":""},null,null,{"$f":"IF(Input_Output!EL168=\"\",T(Input_Output!EM168),\"\")","v":""},null,null,{"$f":"IF(Input_Output!EO168=\"\",T(Input_Output!EP168),\"\")","v":""},null,null,{"$f":"IF(Input_Output!ER168=\"\",T(Input_Output!ES168),\"\")","v":""},null,null,{"$f":"IF(Input_Output!EU168=\"\",T(Input_Output!EV168),\"\")","v":""},null,null,{"$f":"IF(Input_Output!EX168=\"\",T(Input_Output!EY168),\"\")","v":""},null,null,{"$f":"IF(Input_Output!FA168=\"\",T(Input_Output!FB168),\"\")","v":""},null,null,{"$f":"IF(Input_Output!FD168=\"\",T(Input_Output!FE168),\"\")","v":""},null,null,{"$f":"IF(Input_Output!FG168=\"\",T(Input_Output!FH168),\"\")","v":""},null,null,{"$f":"IF(Input_Output!FJ168=\"\",T(Input_Output!FK168),\"\")","v":""},null,null,{"$f":"IF(Input_Output!FM168=\"\",T(Input_Output!FN168),\"\")","v":""},null,null,{"$f":"IF(Input_Output!FP168=\"\",T(Input_Output!FQ168),\"\")","v":""},null,null,{"$f":"IF(Input_Output!FS168=\"\",T(Input_Output!FT168),\"\")","v":""},null,null,{"$f":"IF(Input_Output!FV168=\"\",T(Input_Output!FW168),\"\")","v":""},null,null,{"$f":"IF(Input_Output!FY168=\"\",T(Input_Output!FZ168),\"\")","v":""},null,null,{"$f":"IF(Input_Output!GB168=\"\",T(Input_Output!GC168),\"\")","v":""},null,null,{"$f":"IF(Input_Output!GE168=\"\",T(Input_Output!GF168),\"\")","v":""},null,null,{"$f":"IF(Input_Output!GH168=\"\",T(Input_Output!GI168),\"\")","v":""},null,null,{"$f":"IF(Input_Output!GK168=\"\",T(Input_Output!GL168),\"\")","v":""},null,null,{"$f":"IF(Input_Output!GN168=\"\",T(Input_Output!GO168),\"\")","v":""},null,null,{"$f":"IF(Input_Output!GQ168=\"\",T(Input_Output!GR168),\"\")","v":""},null,null,{"$f":"IF(Input_Output!GT168=\"\",T(Input_Output!GU168),\"\")","v":""},null,null,{"$f":"IF(Input_Output!GW168=\"\",T(Input_Output!GX168),\"\")","v":""},null,null,{"$f":"IF(Input_Output!GZ168=\"\",T(Input_Output!HA168),\"\")","v":""},null,null,{"$f":"IF(Input_Output!HC168=\"\",T(Input_Output!HD168),\"\")","v":""},null,null,{"$f":"IF(Input_Output!HF168=\"\",T(Input_Output!HG168),\"\")","v":""},null,null,{"$f":"IF(Input_Output!HI168=\"\",T(Input_Output!HJ168),\"\")","v":""},null,null,{"$f":"IF(Input_Output!HL168=\"\",T(Input_Output!HM168),\"\")","v":""},null,null,{"$f":"IF(Input_Output!HO168=\"\",T(Input_Output!HP168),\"\")","v":""},null,null,{"$f":"IF(Input_Output!HR168=\"\",T(Input_Output!HS168),\"\")","v":""},null,null,{"$f":"IF(Input_Output!HU168=\"\",T(Input_Output!HV168),\"\")","v":""},null,null,{"$f":"IF(Input_Output!HX168=\"\",T(Input_Output!HY168),\"\")","v":""},null,null,{"$f":"IF(Input_Output!IA168=\"\",T(Input_Output!IB168),\"\")","v":""},null,null,{"$f":"IF(Input_Output!ID168=\"\",T(Input_Output!IE168),\"\")","v":""},null,null,{"$f":"IF(Input_Output!IG168=\"\",T(Input_Output!IH168),\"\")","v":""},null,null,{"$f":"IF(Input_Output!IJ168=\"\",T(Input_Output!IK168),\"\")","v":""},null,null,{"$f":"IF(Input_Output!IM168=\"\",T(Input_Output!IN168),\"\")","v":""},null,null,{"$f":"IF(Input_Output!IP168=\"\",T(Input_Output!IQ168),\"\")","v":""},null,null,{"$f":"IF(Input_Output!IS168=\"\",T(Input_Output!IT168),\"\")","v":""}]
[null,null,null,null,{"$f":"IF(Input_Output!D169=\"\",T(Input_Output!E169),\"\")","v":""},null,null,{"$f":"IF(Input_Output!G169=\"\",T(Input_Output!H169),\"\")","v":""},null,null,{"$f":"IF(Input_Output!J169=\"\",T(Input_Output!K169),\"\")","v":""},null,null,{"$f":"IF(Input_Output!M169=\"\",T(Input_Output!N169),\"\")","v":""},null,null,{"$f":"IF(Input_Output!P169=\"\",T(Input_Output!Q169),\"\")","v":""},null,null,{"$f":"IF(Input_Output!S169=\"\",T(Input_Output!T169),\"\")","v":""},null,null,{"$f":"IF(Input_Output!V169=\"\",T(Input_Output!W169),\"\")","v":""},null,null,{"$f":"IF(Input_Output!Y169=\"\",T(Input_Output!Z169),\"\")","v":""},null,null,{"$f":"IF(Input_Output!AB169=\"\",T(Input_Output!AC169),\"\")","v":""},null,null,{"$f":"IF(Input_Output!AE169=\"\",T(Input_Output!AF169),\"\")","v":""},null,null,{"$f":"IF(Input_Output!AH169=\"\",T(Input_Output!AI169),\"\")","v":""},null,null,{"$f":"IF(Input_Output!AK169=\"\",T(Input_Output!AL169),\"\")","v":""},null,null,{"$f":"IF(Input_Output!AN169=\"\",T(Input_Output!AO169),\"\")","v":""},null,null,{"$f":"IF(Input_Output!AQ169=\"\",T(Input_Output!AR169),\"\")","v":""},null,null,{"$f":"IF(Input_Output!AT169=\"\",T(Input_Output!AU169),\"\")","v":""},null,null,{"$f":"IF(Input_Output!AW169=\"\",T(Input_Output!AX169),\"\")","v":""},null,null,{"$f":"IF(Input_Output!AZ169=\"\",T(Input_Output!BA169),\"\")","v":""},null,null,{"$f":"IF(Input_Output!BC169=\"\",T(Input_Output!BD169),\"\")","v":""},null,null,{"$f":"IF(Input_Output!BF169=\"\",T(Input_Output!BG169),\"\")","v":""},null,null,{"$f":"IF(Input_Output!BI169=\"\",T(Input_Output!BJ169),\"\")","v":""},null,null,{"$f":"IF(Input_Output!BL169=\"\",T(Input_Output!BM169),\"\")","v":""},null,null,{"$f":"IF(Input_Output!BO169=\"\",T(Input_Output!BP169),\"\")","v":""},null,null,{"$f":"IF(Input_Output!BR169=\"\",T(Input_Output!BS169),\"\")","v":""},null,null,{"$f":"IF(Input_Output!BU169=\"\",T(Input_Output!BV169),\"\")","v":""},null,null,{"$f":"IF(Input_Output!BX169=\"\",T(Input_Output!BY169),\"\")","v":""},null,null,{"$f":"IF(Input_Output!CA169=\"\",T(Input_Output!CB169),\"\")","v":""},null,null,{"$f":"IF(Input_Output!CD169=\"\",T(Input_Output!CE169),\"\")","v":""},null,null,{"$f":"IF(Input_Output!CG169=\"\",T(Input_Output!CH169),\"\")","v":""},null,null,{"$f":"IF(Input_Output!CJ169=\"\",T(Input_Output!CK169),\"\")","v":""},null,null,{"$f":"IF(Input_Output!CM169=\"\",T(Input_Output!CN169),\"\")","v":""},null,null,{"$f":"IF(Input_Output!CP169=\"\",T(Input_Output!CQ169),\"\")","v":""},null,null,{"$f":"IF(Input_Output!CS169=\"\",T(Input_Output!CT169),\"\")","v":""},null,null,{"$f":"IF(Input_Output!CV169=\"\",T(Input_Output!CW169),\"\")","v":""},null,null,{"$f":"IF(Input_Output!CY169=\"\",T(Input_Output!CZ169),\"\")","v":""},null,null,{"$f":"IF(Input_Output!DB169=\"\",T(Input_Output!DC169),\"\")","v":""},null,null,{"$f":"IF(Input_Output!DE169=\"\",T(Input_Output!DF169),\"\")","v":""},null,null,{"$f":"IF(Input_Output!DH169=\"\",T(Input_Output!DI169),\"\")","v":""},null,null,{"$f":"IF(Input_Output!DK169=\"\",T(Input_Output!DL169),\"\")","v":""},null,null,{"$f":"IF(Input_Output!DN169=\"\",T(Input_Output!DO169),\"\")","v":""},null,null,{"$f":"IF(Input_Output!DQ169=\"\",T(Input_Output!DR169),\"\")","v":""},null,null,{"$f":"IF(Input_Output!DT169=\"\",T(Input_Output!DU169),\"\")","v":""},null,null,{"$f":"IF(Input_Output!DW169=\"\",T(Input_Output!DX169),\"\")","v":""},null,null,{"$f":"IF(Input_Output!DZ169=\"\",T(Input_Output!EA169),\"\")","v":""},null,null,{"$f":"IF(Input_Output!EC169=\"\",T(Input_Output!ED169),\"\")","v":""},null,null,{"$f":"IF(Input_Output!EF169=\"\",T(Input_Output!EG169),\"\")","v":""},null,null,{"$f":"IF(Input_Output!EI169=\"\",T(Input_Output!EJ169),\"\")","v":""},null,null,{"$f":"IF(Input_Output!EL169=\"\",T(Input_Output!EM169),\"\")","v":""},null,null,{"$f":"IF(Input_Output!EO169=\"\",T(Input_Output!EP169),\"\")","v":""},null,null,{"$f":"IF(Input_Output!ER169=\"\",T(Input_Output!ES169),\"\")","v":""},null,null,{"$f":"IF(Input_Output!EU169=\"\",T(Input_Output!EV169),\"\")","v":""},null,null,{"$f":"IF(Input_Output!EX169=\"\",T(Input_Output!EY169),\"\")","v":""},null,null,{"$f":"IF(Input_Output!FA169=\"\",T(Input_Output!FB169),\"\")","v":""},null,null,{"$f":"IF(Input_Output!FD169=\"\",T(Input_Output!FE169),\"\")","v":""},null,null,{"$f":"IF(Input_Output!FG169=\"\",T(Input_Output!FH169),\"\")","v":""},null,null,{"$f":"IF(Input_Output!FJ169=\"\",T(Input_Output!FK169),\"\")","v":""},null,null,{"$f":"IF(Input_Output!FM169=\"\",T(Input_Output!FN169),\"\")","v":""},null,null,{"$f":"IF(Input_Output!FP169=\"\",T(Input_Output!FQ169),\"\")","v":""},null,null,{"$f":"IF(Input_Output!FS169=\"\",T(Input_Output!FT169),\"\")","v":""},null,null,{"$f":"IF(Input_Output!FV169=\"\",T(Input_Output!FW169),\"\")","v":""},null,null,{"$f":"IF(Input_Output!FY169=\"\",T(Input_Output!FZ169),\"\")","v":""},null,null,{"$f":"IF(Input_Output!GB169=\"\",T(Input_Output!GC169),\"\")","v":""},null,null,{"$f":"IF(Input_Output!GE169=\"\",T(Input_Output!GF169),\"\")","v":""},null,null,{"$f":"IF(Input_Output!GH169=\"\",T(Input_Output!GI169),\"\")","v":""},null,null,{"$f":"IF(Input_Output!GK169=\"\",T(Input_Output!GL169),\"\")","v":""},null,null,{"$f":"IF(Input_Output!GN169=\"\",T(Input_Output!GO169),\"\")","v":""},null,null,{"$f":"IF(Input_Output!GQ169=\"\",T(Input_Output!GR169),\"\")","v":""},null,null,{"$f":"IF(Input_Output!GT169=\"\",T(Input_Output!GU169),\"\")","v":""},null,null,{"$f":"IF(Input_Output!GW169=\"\",T(Input_Output!GX169),\"\")","v":""},null,null,{"$f":"IF(Input_Output!GZ169=\"\",T(Input_Output!HA169),\"\")","v":""},null,null,{"$f":"IF(Input_Output!HC169=\"\",T(Input_Output!HD169),\"\")","v":""},null,null,{"$f":"IF(Input_Output!HF169=\"\",T(Input_Output!HG169),\"\")","v":""},null,null,{"$f":"IF(Input_Output!HI169=\"\",T(Input_Output!HJ169),\"\")","v":""},null,null,{"$f":"IF(Input_Output!HL169=\"\",T(Input_Output!HM169),\"\")","v":""},null,null,{"$f":"IF(Input_Output!HO169=\"\",T(Input_Output!HP169),\"\")","v":""},null,null,{"$f":"IF(Input_Output!HR169=\"\",T(Input_Output!HS169),\"\")","v":""},null,null,{"$f":"IF(Input_Output!HU169=\"\",T(Input_Output!HV169),\"\")","v":""},null,null,{"$f":"IF(Input_Output!HX169=\"\",T(Input_Output!HY169),\"\")","v":""},null,null,{"$f":"IF(Input_Output!IA169=\"\",T(Input_Output!IB169),\"\")","v":""},null,null,{"$f":"IF(Input_Output!ID169=\"\",T(Input_Output!IE169),\"\")","v":""},null,null,{"$f":"IF(Input_Output!IG169=\"\",T(Input_Output!IH169),\"\")","v":""},null,null,{"$f":"IF(Input_Output!IJ169=\"\",T(Input_Output!IK169),\"\")","v":""},null,null,{"$f":"IF(Input_Output!IM169=\"\",T(Input_Output!IN169),\"\")","v":""},null,null,{"$f":"IF(Input_Output!IP169=\"\",T(Input_Output!IQ169),\"\")","v":""},null,null,{"$f":"IF(Input_Output!IS169=\"\",T(Input_Output!IT169),\"\")","v":""}]
[null,null,null,null,{"$f":"IF(Input_Output!D170=\"\",T(Input_Output!E170),\"\")","v":""},null,null,{"$f":"IF(Input_Output!G170=\"\",T(Input_Output!H170),\"\")","v":""},null,null,{"$f":"IF(Input_Output!J170=\"\",T(Input_Output!K170),\"\")","v":""},null,null,{"$f":"IF(Input_Output!M170=\"\",T(Input_Output!N170),\"\")","v":""},null,null,{"$f":"IF(Input_Output!P170=\"\",T(Input_Output!Q170),\"\")","v":""},null,null,{"$f":"IF(Input_Output!S170=\"\",T(Input_Output!T170),\"\")","v":""},null,null,{"$f":"IF(Input_Output!V170=\"\",T(Input_Output!W170),\"\")","v":""},null,null,{"$f":"IF(Input_Output!Y170=\"\",T(Input_Output!Z170),\"\")","v":""},null,null,{"$f":"IF(Input_Output!AB170=\"\",T(Input_Output!AC170),\"\")","v":""},null,null,{"$f":"IF(Input_Output!AE170=\"\",T(Input_Output!AF170),\"\")","v":""},null,null,{"$f":"IF(Input_Output!AH170=\"\",T(Input_Output!AI170),\"\")","v":""},null,null,{"$f":"IF(Input_Output!AK170=\"\",T(Input_Output!AL170),\"\")","v":""},null,null,{"$f":"IF(Input_Output!AN170=\"\",T(Input_Output!AO170),\"\")","v":""},null,null,{"$f":"IF(Input_Output!AQ170=\"\",T(Input_Output!AR170),\"\")","v":""},null,null,{"$f":"IF(Input_Output!AT170=\"\",T(Input_Output!AU170),\"\")","v":""},null,null,{"$f":"IF(Input_Output!AW170=\"\",T(Input_Output!AX170),\"\")","v":""},null,null,{"$f":"IF(Input_Output!AZ170=\"\",T(Input_Output!BA170),\"\")","v":""},null,null,{"$f":"IF(Input_Output!BC170=\"\",T(Input_Output!BD170),\"\")","v":""},null,null,{"$f":"IF(Input_Output!BF170=\"\",T(Input_Output!BG170),\"\")","v":""},null,null,{"$f":"IF(Input_Output!BI170=\"\",T(Input_Output!BJ170),\"\")","v":""},null,null,{"$f":"IF(Input_Output!BL170=\"\",T(Input_Output!BM170),\"\")","v":""},null,null,{"$f":"IF(Input_Output!BO170=\"\",T(Input_Output!BP170),\"\")","v":""},null,null,{"$f":"IF(Input_Output!BR170=\"\",T(Input_Output!BS170),\"\")","v":""},null,null,{"$f":"IF(Input_Output!BU170=\"\",T(Input_Output!BV170),\"\")","v":""},null,null,{"$f":"IF(Input_Output!BX170=\"\",T(Input_Output!BY170),\"\")","v":""},null,null,{"$f":"IF(Input_Output!CA170=\"\",T(Input_Output!CB170),\"\")","v":""},null,null,{"$f":"IF(Input_Output!CD170=\"\",T(Input_Output!CE170),\"\")","v":""},null,null,{"$f":"IF(Input_Output!CG170=\"\",T(Input_Output!CH170),\"\")","v":""},null,null,{"$f":"IF(Input_Output!CJ170=\"\",T(Input_Output!CK170),\"\")","v":""},null,null,{"$f":"IF(Input_Output!CM170=\"\",T(Input_Output!CN170),\"\")","v":""},null,null,{"$f":"IF(Input_Output!CP170=\"\",T(Input_Output!CQ170),\"\")","v":""},null,null,{"$f":"IF(Input_Output!CS170=\"\",T(Input_Output!CT170),\"\")","v":""},null,null,{"$f":"IF(Input_Output!CV170=\"\",T(Input_Output!CW170),\"\")","v":""},null,null,{"$f":"IF(Input_Output!CY170=\"\",T(Input_Output!CZ170),\"\")","v":""},null,null,{"$f":"IF(Input_Output!DB170=\"\",T(Input_Output!DC170),\"\")","v":""},null,null,{"$f":"IF(Input_Output!DE170=\"\",T(Input_Output!DF170),\"\")","v":""},null,null,{"$f":"IF(Input_Output!DH170=\"\",T(Input_Output!DI170),\"\")","v":""},null,null,{"$f":"IF(Input_Output!DK170=\"\",T(Input_Output!DL170),\"\")","v":""},null,null,{"$f":"IF(Input_Output!DN170=\"\",T(Input_Output!DO170),\"\")","v":""},null,null,{"$f":"IF(Input_Output!DQ170=\"\",T(Input_Output!DR170),\"\")","v":""},null,null,{"$f":"IF(Input_Output!DT170=\"\",T(Input_Output!DU170),\"\")","v":""},null,null,{"$f":"IF(Input_Output!DW170=\"\",T(Input_Output!DX170),\"\")","v":""},null,null,{"$f":"IF(Input_Output!DZ170=\"\",T(Input_Output!EA170),\"\")","v":""},null,null,{"$f":"IF(Input_Output!EC170=\"\",T(Input_Output!ED170),\"\")","v":""},null,null,{"$f":"IF(Input_Output!EF170=\"\",T(Input_Output!EG170),\"\")","v":""},null,null,{"$f":"IF(Input_Output!EI170=\"\",T(Input_Output!EJ170),\"\")","v":""},null,null,{"$f":"IF(Input_Output!EL170=\"\",T(Input_Output!EM170),\"\")","v":""},null,null,{"$f":"IF(Input_Output!EO170=\"\",T(Input_Output!EP170),\"\")","v":""},null,null,{"$f":"IF(Input_Output!ER170=\"\",T(Input_Output!ES170),\"\")","v":""},null,null,{"$f":"IF(Input_Output!EU170=\"\",T(Input_Output!EV170),\"\")","v":""},null,null,{"$f":"IF(Input_Output!EX170=\"\",T(Input_Output!EY170),\"\")","v":""},null,null,{"$f":"IF(Input_Output!FA170=\"\",T(Input_Output!FB170),\"\")","v":""},null,null,{"$f":"IF(Input_Output!FD170=\"\",T(Input_Output!FE170),\"\")","v":""},null,null,{"$f":"IF(Input_Output!FG170=\"\",T(Input_Output!FH170),\"\")","v":""},null,null,{"$f":"IF(Input_Output!FJ170=\"\",T(Input_Output!FK170),\"\")","v":""},null,null,{"$f":"IF(Input_Output!FM170=\"\",T(Input_Output!FN170),\"\")","v":""},null,null,{"$f":"IF(Input_Output!FP170=\"\",T(Input_Output!FQ170),\"\")","v":""},null,null,{"$f":"IF(Input_Output!FS170=\"\",T(Input_Output!FT170),\"\")","v":""},null,null,{"$f":"IF(Input_Output!FV170=\"\",T(Input_Output!FW170),\"\")","v":""},null,null,{"$f":"IF(Input_Output!FY170=\"\",T(Input_Output!FZ170),\"\")","v":""},null,null,{"$f":"IF(Input_Output!GB170=\"\",T(Input_Output!GC170),\"\")","v":""},null,null,{"$f":"IF(Input_Output!GE170=\"\",T(Input_Output!GF170),\"\")","v":""},null,null,{"$f":"IF(Input_Output!GH170=\"\",T(Input_Output!GI170),\"\")","v":""},null,null,{"$f":"IF(Input_Output!GK170=\"\",T(Input_Output!GL170),\"\")","v":""},null,null,{"$f":"IF(Input_Output!GN170=\"\",T(Input_Output!GO170),\"\")","v":""},null,null,{"$f":"IF(Input_Output!GQ170=\"\",T(Input_Output!GR170),\"\")","v":""},null,null,{"$f":"IF(Input_Output!GT170=\"\",T(Input_Output!GU170),\"\")","v":""},null,null,{"$f":"IF(Input_Output!GW170=\"\",T(Input_Output!GX170),\"\")","v":""},null,null,{"$f":"IF(Input_Output!GZ170=\"\",T(Input_Output!HA170),\"\")","v":""},null,null,{"$f":"IF(Input_Output!HC170=\"\",T(Input_Output!HD170),\"\")","v":""},null,null,{"$f":"IF(Input_Output!HF170=\"\",T(Input_Output!HG170),\"\")","v":""},null,null,{"$f":"IF(Input_Output!HI170=\"\",T(Input_Output!HJ170),\"\")","v":""},null,null,{"$f":"IF(Input_Output!HL170=\"\",T(Input_Output!HM170),\"\")","v":""},null,null,{"$f":"IF(Input_Output!HO170=\"\",T(Input_Output!HP170),\"\")","v":""},null,null,{"$f":"IF(Input_Output!HR170=\"\",T(Input_Output!HS170),\"\")","v":""},null,null,{"$f":"IF(Input_Output!HU170=\"\",T(Input_Output!HV170),\"\")","v":""},null,null,{"$f":"IF(Input_Output!HX170=\"\",T(Input_Output!HY170),\"\")","v":""},null,null,{"$f":"IF(Input_Output!IA170=\"\",T(Input_Output!IB170),\"\")","v":""},null,null,{"$f":"IF(Input_Output!ID170=\"\",T(Input_Output!IE170),\"\")","v":""},null,null,{"$f":"IF(Input_Output!IG170=\"\",T(Input_Output!IH170),\"\")","v":""},null,null,{"$f":"IF(Input_Output!IJ170=\"\",T(Input_Output!IK170),\"\")","v":""},null,null,{"$f":"IF(Input_Output!IM170=\"\",T(Input_Output!IN170),\"\")","v":""},null,null,{"$f":"IF(Input_Output!IP170=\"\",T(Input_Output!IQ170),\"\")","v":""},null,null,{"$f":"IF(Input_Output!IS170=\"\",T(Input_Output!IT170),\"\")","v":""}]
[null,null,null,null,{"$f":"IF(Input_Output!D171=\"\",T(Input_Output!E171),\"\")","v":""},null,null,{"$f":"IF(Input_Output!G171=\"\",T(Input_Output!H171),\"\")","v":""},null,null,{"$f":"IF(Input_Output!J171=\"\",T(Input_Output!K171),\"\")","v":""},null,null,{"$f":"IF(Input_Output!M171=\"\",T(Input_Output!N171),\"\")","v":""},null,null,{"$f":"IF(Input_Output!P171=\"\",T(Input_Output!Q171),\"\")","v":""},null,null,{"$f":"IF(Input_Output!S171=\"\",T(Input_Output!T171),\"\")","v":""},null,null,{"$f":"IF(Input_Output!V171=\"\",T(Input_Output!W171),\"\")","v":""},null,null,{"$f":"IF(Input_Output!Y171=\"\",T(Input_Output!Z171),\"\")","v":""},null,null,{"$f":"IF(Input_Output!AB171=\"\",T(Input_Output!AC171),\"\")","v":""},null,null,{"$f":"IF(Input_Output!AE171=\"\",T(Input_Output!AF171),\"\")","v":""},null,null,{"$f":"IF(Input_Output!AH171=\"\",T(Input_Output!AI171),\"\")","v":""},null,null,{"$f":"IF(Input_Output!AK171=\"\",T(Input_Output!AL171),\"\")","v":""},null,null,{"$f":"IF(Input_Output!AN171=\"\",T(Input_Output!AO171),\"\")","v":""},null,null,{"$f":"IF(Input_Output!AQ171=\"\",T(Input_Output!AR171),\"\")","v":""},null,null,{"$f":"IF(Input_Output!AT171=\"\",T(Input_Output!AU171),\"\")","v":""},null,null,{"$f":"IF(Input_Output!AW171=\"\",T(Input_Output!AX171),\"\")","v":""},null,null,{"$f":"IF(Input_Output!AZ171=\"\",T(Input_Output!BA171),\"\")","v":""},null,null,{"$f":"IF(Input_Output!BC171=\"\",T(Input_Output!BD171),\"\")","v":""},null,null,{"$f":"IF(Input_Output!BF171=\"\",T(Input_Output!BG171),\"\")","v":""},null,null,{"$f":"IF(Input_Output!BI171=\"\",T(Input_Output!BJ171),\"\")","v":""},null,null,{"$f":"IF(Input_Output!BL171=\"\",T(Input_Output!BM171),\"\")","v":""},null,null,{"$f":"IF(Input_Output!BO171=\"\",T(Input_Output!BP171),\"\")","v":""},null,null,{"$f":"IF(Input_Output!BR171=\"\",T(Input_Output!BS171),\"\")","v":""},null,null,{"$f":"IF(Input_Output!BU171=\"\",T(Input_Output!BV171),\"\")","v":""},null,null,{"$f":"IF(Input_Output!BX171=\"\",T(Input_Output!BY171),\"\")","v":""},null,null,{"$f":"IF(Input_Output!CA171=\"\",T(Input_Output!CB171),\"\")","v":""},null,null,{"$f":"IF(Input_Output!CD171=\"\",T(Input_Output!CE171),\"\")","v":""},null,null,{"$f":"IF(Input_Output!CG171=\"\",T(Input_Output!CH171),\"\")","v":""},null,null,{"$f":"IF(Input_Output!CJ171=\"\",T(Input_Output!CK171),\"\")","v":""},null,null,{"$f":"IF(Input_Output!CM171=\"\",T(Input_Output!CN171),\"\")","v":""},null,null,{"$f":"IF(Input_Output!CP171=\"\",T(Input_Output!CQ171),\"\")","v":""},null,null,{"$f":"IF(Input_Output!CS171=\"\",T(Input_Output!CT171),\"\")","v":""},null,null,{"$f":"IF(Input_Output!CV171=\"\",T(Input_Output!CW171),\"\")","v":""},null,null,{"$f":"IF(Input_Output!CY171=\"\",T(Input_Output!CZ171),\"\")","v":""},null,null,{"$f":"IF(Input_Output!DB171=\"\",T(Input_Output!DC171),\"\")","v":""},null,null,{"$f":"IF(Input_Output!DE171=\"\",T(Input_Output!DF171),\"\")","v":""},null,null,{"$f":"IF(Input_Output!DH171=\"\",T(Input_Output!DI171),\"\")","v":""},null,null,{"$f":"IF(Input_Output!DK171=\"\",T(Input_Output!DL171),\"\")","v":""},null,null,{"$f":"IF(Input_Output!DN171=\"\",T(Input_Output!DO171),\"\")","v":""},null,null,{"$f":"IF(Input_Output!DQ171=\"\",T(Input_Output!DR171),\"\")","v":""},null,null,{"$f":"IF(Input_Output!DT171=\"\",T(Input_Output!DU171),\"\")","v":""},null,null,{"$f":"IF(Input_Output!DW171=\"\",T(Input_Output!DX171),\"\")","v":""},null,null,{"$f":"IF(Input_Output!DZ171=\"\",T(Input_Output!EA171),\"\")","v":""},null,null,{"$f":"IF(Input_Output!EC171=\"\",T(Input_Output!ED171),\"\")","v":""},null,null,{"$f":"IF(Input_Output!EF171=\"\",T(Input_Output!EG171),\"\")","v":""},null,null,{"$f":"IF(Input_Output!EI171=\"\",T(Input_Output!EJ171),\"\")","v":""},null,null,{"$f":"IF(Input_Output!EL171=\"\",T(Input_Output!EM171),\"\")","v":""},null,null,{"$f":"IF(Input_Output!EO171=\"\",T(Input_Output!EP171),\"\")","v":""},null,null,{"$f":"IF(Input_Output!ER171=\"\",T(Input_Output!ES171),\"\")","v":""},null,null,{"$f":"IF(Input_Output!EU171=\"\",T(Input_Output!EV171),\"\")","v":""},null,null,{"$f":"IF(Input_Output!EX171=\"\",T(Input_Output!EY171),\"\")","v":""},null,null,{"$f":"IF(Input_Output!FA171=\"\",T(Input_Output!FB171),\"\")","v":""},null,null,{"$f":"IF(Input_Output!FD171=\"\",T(Input_Output!FE171),\"\")","v":""},null,null,{"$f":"IF(Input_Output!FG171=\"\",T(Input_Output!FH171),\"\")","v":""},null,null,{"$f":"IF(Input_Output!FJ171=\"\",T(Input_Output!FK171),\"\")","v":""},null,null,{"$f":"IF(Input_Output!FM171=\"\",T(Input_Output!FN171),\"\")","v":""},null,null,{"$f":"IF(Input_Output!FP171=\"\",T(Input_Output!FQ171),\"\")","v":""},null,null,{"$f":"IF(Input_Output!FS171=\"\",T(Input_Output!FT171),\"\")","v":""},null,null,{"$f":"IF(Input_Output!FV171=\"\",T(Input_Output!FW171),\"\")","v":""},null,null,{"$f":"IF(Input_Output!FY171=\"\",T(Input_Output!FZ171),\"\")","v":""},null,null,{"$f":"IF(Input_Output!GB171=\"\",T(Input_Output!GC171),\"\")","v":""},null,null,{"$f":"IF(Input_Output!GE171=\"\",T(Input_Output!GF171),\"\")","v":""},null,null,{"$f":"IF(Input_Output!GH171=\"\",T(Input_Output!GI171),\"\")","v":""},null,null,{"$f":"IF(Input_Output!GK171=\"\",T(Input_Output!GL171),\"\")","v":""},null,null,{"$f":"IF(Input_Output!GN171=\"\",T(Input_Output!GO171),\"\")","v":""},null,null,{"$f":"IF(Input_Output!GQ171=\"\",T(Input_Output!GR171),\"\")","v":""},null,null,{"$f":"IF(Input_Output!GT171=\"\",T(Input_Output!GU171),\"\")","v":""},null,null,{"$f":"IF(Input_Output!GW171=\"\",T(Input_Output!GX171),\"\")","v":""},null,null,{"$f":"IF(Input_Output!GZ171=\"\",T(Input_Output!HA171),\"\")","v":""},null,null,{"$f":"IF(Input_Output!HC171=\"\",T(Input_Output!HD171),\"\")","v":""},null,null,{"$f":"IF(Input_Output!HF171=\"\",T(Input_Output!HG171),\"\")","v":""},null,null,{"$f":"IF(Input_Output!HI171=\"\",T(Input_Output!HJ171),\"\")","v":""},null,null,{"$f":"IF(Input_Output!HL171=\"\",T(Input_Output!HM171),\"\")","v":""},null,null,{"$f":"IF(Input_Output!HO171=\"\",T(Input_Output!HP171),\"\")","v":""},null,null,{"$f":"IF(Input_Output!HR171=\"\",T(Input_Output!HS171),\"\")","v":""},null,null,{"$f":"IF(Input_Output!HU171=\"\",T(Input_Output!HV171),\"\")","v":""},null,null,{"$f":"IF(Input_Output!HX171=\"\",T(Input_Output!HY171),\"\")","v":""},null,null,{"$f":"IF(Input_Output!IA171=\"\",T(Input_Output!IB171),\"\")","v":""},null,null,{"$f":"IF(Input_Output!ID171=\"\",T(Input_Output!IE171),\"\")","v":""},null,null,{"$f":"IF(Input_Output!IG171=\"\",T(Input_Output!IH171),\"\")","v":""},null,null,{"$f":"IF(Input_Output!IJ171=\"\",T(Input_Output!IK171),\"\")","v":""},null,null,{"$f":"IF(Input_Output!IM171=\"\",T(Input_Output!IN171),\"\")","v":""},null,null,{"$f":"IF(Input_Output!IP171=\"\",T(Input_Output!IQ171),\"\")","v":""},null,null,{"$f":"IF(Input_Output!IS171=\"\",T(Input_Output!IT171),\"\")","v":""}]
[null,null,null,null,{"$f":"IF(Input_Output!D172=\"\",T(Input_Output!E172),\"\")","v":""},null,null,{"$f":"IF(Input_Output!G172=\"\",T(Input_Output!H172),\"\")","v":""},null,null,{"$f":"IF(Input_Output!J172=\"\",T(Input_Output!K172),\"\")","v":""},null,null,{"$f":"IF(Input_Output!M172=\"\",T(Input_Output!N172),\"\")","v":""},null,null,{"$f":"IF(Input_Output!P172=\"\",T(Input_Output!Q172),\"\")","v":""},null,null,{"$f":"IF(Input_Output!S172=\"\",T(Input_Output!T172),\"\")","v":""},null,null,{"$f":"IF(Input_Output!V172=\"\",T(Input_Output!W172),\"\")","v":""},null,null,{"$f":"IF(Input_Output!Y172=\"\",T(Input_Output!Z172),\"\")","v":""},null,null,{"$f":"IF(Input_Output!AB172=\"\",T(Input_Output!AC172),\"\")","v":""},null,null,{"$f":"IF(Input_Output!AE172=\"\",T(Input_Output!AF172),\"\")","v":""},null,null,{"$f":"IF(Input_Output!AH172=\"\",T(Input_Output!AI172),\"\")","v":""},null,null,{"$f":"IF(Input_Output!AK172=\"\",T(Input_Output!AL172),\"\")","v":""},null,null,{"$f":"IF(Input_Output!AN172=\"\",T(Input_Output!AO172),\"\")","v":""},null,null,{"$f":"IF(Input_Output!AQ172=\"\",T(Input_Output!AR172),\"\")","v":""},null,null,{"$f":"IF(Input_Output!AT172=\"\",T(Input_Output!AU172),\"\")","v":""},null,null,{"$f":"IF(Input_Output!AW172=\"\",T(Input_Output!AX172),\"\")","v":""},null,null,{"$f":"IF(Input_Output!AZ172=\"\",T(Input_Output!BA172),\"\")","v":""},null,null,{"$f":"IF(Input_Output!BC172=\"\",T(Input_Output!BD172),\"\")","v":""},null,null,{"$f":"IF(Input_Output!BF172=\"\",T(Input_Output!BG172),\"\")","v":""},null,null,{"$f":"IF(Input_Output!BI172=\"\",T(Input_Output!BJ172),\"\")","v":""},null,null,{"$f":"IF(Input_Output!BL172=\"\",T(Input_Output!BM172),\"\")","v":""},null,null,{"$f":"IF(Input_Output!BO172=\"\",T(Input_Output!BP172),\"\")","v":""},null,null,{"$f":"IF(Input_Output!BR172=\"\",T(Input_Output!BS172),\"\")","v":""},null,null,{"$f":"IF(Input_Output!BU172=\"\",T(Input_Output!BV172),\"\")","v":""},null,null,{"$f":"IF(Input_Output!BX172=\"\",T(Input_Output!BY172),\"\")","v":""},null,null,{"$f":"IF(Input_Output!CA172=\"\",T(Input_Output!CB172),\"\")","v":""},null,null,{"$f":"IF(Input_Output!CD172=\"\",T(Input_Output!CE172),\"\")","v":""},null,null,{"$f":"IF(Input_Output!CG172=\"\",T(Input_Output!CH172),\"\")","v":""},null,null,{"$f":"IF(Input_Output!CJ172=\"\",T(Input_Output!CK172),\"\")","v":""},null,null,{"$f":"IF(Input_Output!CM172=\"\",T(Input_Output!CN172),\"\")","v":""},null,null,{"$f":"IF(Input_Output!CP172=\"\",T(Input_Output!CQ172),\"\")","v":""},null,null,{"$f":"IF(Input_Output!CS172=\"\",T(Input_Output!CT172),\"\")","v":""},null,null,{"$f":"IF(Input_Output!CV172=\"\",T(Input_Output!CW172),\"\")","v":""},null,null,{"$f":"IF(Input_Output!CY172=\"\",T(Input_Output!CZ172),\"\")","v":""},null,null,{"$f":"IF(Input_Output!DB172=\"\",T(Input_Output!DC172),\"\")","v":""},null,null,{"$f":"IF(Input_Output!DE172=\"\",T(Input_Output!DF172),\"\")","v":""},null,null,{"$f":"IF(Input_Output!DH172=\"\",T(Input_Output!DI172),\"\")","v":""},null,null,{"$f":"IF(Input_Output!DK172=\"\",T(Input_Output!DL172),\"\")","v":""},null,null,{"$f":"IF(Input_Output!DN172=\"\",T(Input_Output!DO172),\"\")","v":""},null,null,{"$f":"IF(Input_Output!DQ172=\"\",T(Input_Output!DR172),\"\")","v":""},null,null,{"$f":"IF(Input_Output!DT172=\"\",T(Input_Output!DU172),\"\")","v":""},null,null,{"$f":"IF(Input_Output!DW172=\"\",T(Input_Output!DX172),\"\")","v":""},null,null,{"$f":"IF(Input_Output!DZ172=\"\",T(Input_Output!EA172),\"\")","v":""},null,null,{"$f":"IF(Input_Output!EC172=\"\",T(Input_Output!ED172),\"\")","v":""},null,null,{"$f":"IF(Input_Output!EF172=\"\",T(Input_Output!EG172),\"\")","v":""},null,null,{"$f":"IF(Input_Output!EI172=\"\",T(Input_Output!EJ172),\"\")","v":""},null,null,{"$f":"IF(Input_Output!EL172=\"\",T(Input_Output!EM172),\"\")","v":""},null,null,{"$f":"IF(Input_Output!EO172=\"\",T(Input_Output!EP172),\"\")","v":""},null,null,{"$f":"IF(Input_Output!ER172=\"\",T(Input_Output!ES172),\"\")","v":""},null,null,{"$f":"IF(Input_Output!EU172=\"\",T(Input_Output!EV172),\"\")","v":""},null,null,{"$f":"IF(Input_Output!EX172=\"\",T(Input_Output!EY172),\"\")","v":""},null,null,{"$f":"IF(Input_Output!FA172=\"\",T(Input_Output!FB172),\"\")","v":""},null,null,{"$f":"IF(Input_Output!FD172=\"\",T(Input_Output!FE172),\"\")","v":""},null,null,{"$f":"IF(Input_Output!FG172=\"\",T(Input_Output!FH172),\"\")","v":""},null,null,{"$f":"IF(Input_Output!FJ172=\"\",T(Input_Output!FK172),\"\")","v":""},null,null,{"$f":"IF(Input_Output!FM172=\"\",T(Input_Output!FN172),\"\")","v":""},null,null,{"$f":"IF(Input_Output!FP172=\"\",T(Input_Output!FQ172),\"\")","v":""},null,null,{"$f":"IF(Input_Output!FS172=\"\",T(Input_Output!FT172),\"\")","v":""},null,null,{"$f":"IF(Input_Output!FV172=\"\",T(Input_Output!FW172),\"\")","v":""},null,null,{"$f":"IF(Input_Output!FY172=\"\",T(Input_Output!FZ172),\"\")","v":""},null,null,{"$f":"IF(Input_Output!GB172=\"\",T(Input_Output!GC172),\"\")","v":""},null,null,{"$f":"IF(Input_Output!GE172=\"\",T(Input_Output!GF172),\"\")","v":""},null,null,{"$f":"IF(Input_Output!GH172=\"\",T(Input_Output!GI172),\"\")","v":""},null,null,{"$f":"IF(Input_Output!GK172=\"\",T(Input_Output!GL172),\"\")","v":""},null,null,{"$f":"IF(Input_Output!GN172=\"\",T(Input_Output!GO172),\"\")","v":""},null,null,{"$f":"IF(Input_Output!GQ172=\"\",T(Input_Output!GR172),\"\")","v":""},null,null,{"$f":"IF(Input_Output!GT172=\"\",T(Input_Output!GU172),\"\")","v":""},null,null,{"$f":"IF(Input_Output!GW172=\"\",T(Input_Output!GX172),\"\")","v":""},null,null,{"$f":"IF(Input_Output!GZ172=\"\",T(Input_Output!HA172),\"\")","v":""},null,null,{"$f":"IF(Input_Output!HC172=\"\",T(Input_Output!HD172),\"\")","v":""},null,null,{"$f":"IF(Input_Output!HF172=\"\",T(Input_Output!HG172),\"\")","v":""},null,null,{"$f":"IF(Input_Output!HI172=\"\",T(Input_Output!HJ172),\"\")","v":""},null,null,{"$f":"IF(Input_Output!HL172=\"\",T(Input_Output!HM172),\"\")","v":""},null,null,{"$f":"IF(Input_Output!HO172=\"\",T(Input_Output!HP172),\"\")","v":""},null,null,{"$f":"IF(Input_Output!HR172=\"\",T(Input_Output!HS172),\"\")","v":""},null,null,{"$f":"IF(Input_Output!HU172=\"\",T(Input_Output!HV172),\"\")","v":""},null,null,{"$f":"IF(Input_Output!HX172=\"\",T(Input_Output!HY172),\"\")","v":""},null,null,{"$f":"IF(Input_Output!IA172=\"\",T(Input_Output!IB172),\"\")","v":""},null,null,{"$f":"IF(Input_Output!ID172=\"\",T(Input_Output!IE172),\"\")","v":""},null,null,{"$f":"IF(Input_Output!IG172=\"\",T(Input_Output!IH172),\"\")","v":""},null,null,{"$f":"IF(Input_Output!IJ172=\"\",T(Input_Output!IK172),\"\")","v":""},null,null,{"$f":"IF(Input_Output!IM172=\"\",T(Input_Output!IN172),\"\")","v":""},null,null,{"$f":"IF(Input_Output!IP172=\"\",T(Input_Output!IQ172),\"\")","v":""},null,null,{"$f":"IF(Input_Output!IS172=\"\",T(Input_Output!IT172),\"\")","v":""}]
[null,null,null,null,{"$f":"IF(Input_Output!D173=\"\",T(Input_Output!E173),\"\")","v":""},null,null,{"$f":"IF(Input_Output!G173=\"\",T(Input_Output!H173),\"\")","v":""},null,null,{"$f":"IF(Input_Output!J173=\"\",T(Input_Output!K173),\"\")","v":""},null,null,{"$f":"IF(Input_Output!M173=\"\",T(Input_Output!N173),\"\")","v":""},null,null,{"$f":"IF(Input_Output!P173=\"\",T(Input_Output!Q173),\"\")","v":""},null,null,{"$f":"IF(Input_Output!S173=\"\",T(Input_Output!T173),\"\")","v":""},null,null,{"$f":"IF(Input_Output!V173=\"\",T(Input_Output!W173),\"\")","v":""},null,null,{"$f":"IF(Input_Output!Y173=\"\",T(Input_Output!Z173),\"\")","v":""},null,null,{"$f":"IF(Input_Output!AB173=\"\",T(Input_Output!AC173),\"\")","v":""},null,null,{"$f":"IF(Input_Output!AE173=\"\",T(Input_Output!AF173),\"\")","v":""},null,null,{"$f":"IF(Input_Output!AH173=\"\",T(Input_Output!AI173),\"\")","v":""},null,null,{"$f":"IF(Input_Output!AK173=\"\",T(Input_Output!AL173),\"\")","v":""},null,null,{"$f":"IF(Input_Output!AN173=\"\",T(Input_Output!AO173),\"\")","v":""},null,null,{"$f":"IF(Input_Output!AQ173=\"\",T(Input_Output!AR173),\"\")","v":""},null,null,{"$f":"IF(Input_Output!AT173=\"\",T(Input_Output!AU173),\"\")","v":""},null,null,{"$f":"IF(Input_Output!AW173=\"\",T(Input_Output!AX173),\"\")","v":""},null,null,{"$f":"IF(Input_Output!AZ173=\"\",T(Input_Output!BA173),\"\")","v":""},null,null,{"$f":"IF(Input_Output!BC173=\"\",T(Input_Output!BD173),\"\")","v":""},null,null,{"$f":"IF(Input_Output!BF173=\"\",T(Input_Output!BG173),\"\")","v":""},null,null,{"$f":"IF(Input_Output!BI173=\"\",T(Input_Output!BJ173),\"\")","v":""},null,null,{"$f":"IF(Input_Output!BL173=\"\",T(Input_Output!BM173),\"\")","v":""},null,null,{"$f":"IF(Input_Output!BO173=\"\",T(Input_Output!BP173),\"\")","v":""},null,null,{"$f":"IF(Input_Output!BR173=\"\",T(Input_Output!BS173),\"\")","v":""},null,null,{"$f":"IF(Input_Output!BU173=\"\",T(Input_Output!BV173),\"\")","v":""},null,null,{"$f":"IF(Input_Output!BX173=\"\",T(Input_Output!BY173),\"\")","v":""},null,null,{"$f":"IF(Input_Output!CA173=\"\",T(Input_Output!CB173),\"\")","v":""},null,null,{"$f":"IF(Input_Output!CD173=\"\",T(Input_Output!CE173),\"\")","v":""},null,null,{"$f":"IF(Input_Output!CG173=\"\",T(Input_Output!CH173),\"\")","v":""},null,null,{"$f":"IF(Input_Output!CJ173=\"\",T(Input_Output!CK173),\"\")","v":""},null,null,{"$f":"IF(Input_Output!CM173=\"\",T(Input_Output!CN173),\"\")","v":""},null,null,{"$f":"IF(Input_Output!CP173=\"\",T(Input_Output!CQ173),\"\")","v":""},null,null,{"$f":"IF(Input_Output!CS173=\"\",T(Input_Output!CT173),\"\")","v":""},null,null,{"$f":"IF(Input_Output!CV173=\"\",T(Input_Output!CW173),\"\")","v":""},null,null,{"$f":"IF(Input_Output!CY173=\"\",T(Input_Output!CZ173),\"\")","v":""},null,null,{"$f":"IF(Input_Output!DB173=\"\",T(Input_Output!DC173),\"\")","v":""},null,null,{"$f":"IF(Input_Output!DE173=\"\",T(Input_Output!DF173),\"\")","v":""},null,null,{"$f":"IF(Input_Output!DH173=\"\",T(Input_Output!DI173),\"\")","v":""},null,null,{"$f":"IF(Input_Output!DK173=\"\",T(Input_Output!DL173),\"\")","v":""},null,null,{"$f":"IF(Input_Output!DN173=\"\",T(Input_Output!DO173),\"\")","v":""},null,null,{"$f":"IF(Input_Output!DQ173=\"\",T(Input_Output!DR173),\"\")","v":""},null,null,{"$f":"IF(Input_Output!DT173=\"\",T(Input_Output!DU173),\"\")","v":""},null,null,{"$f":"IF(Input_Output!DW173=\"\",T(Input_Output!DX173),\"\")","v":""},null,null,{"$f":"IF(Input_Output!DZ173=\"\",T(Input_Output!EA173),\"\")","v":""},null,null,{"$f":"IF(Input_Output!EC173=\"\",T(Input_Output!ED173),\"\")","v":""},null,null,{"$f":"IF(Input_Output!EF173=\"\",T(Input_Output!EG173),\"\")","v":""},null,null,{"$f":"IF(Input_Output!EI173=\"\",T(Input_Output!EJ173),\"\")","v":""},null,null,{"$f":"IF(Input_Output!EL173=\"\",T(Input_Output!EM173),\"\")","v":""},null,null,{"$f":"IF(Input_Output!EO173=\"\",T(Input_Output!EP173),\"\")","v":""},null,null,{"$f":"IF(Input_Output!ER173=\"\",T(Input_Output!ES173),\"\")","v":""},null,null,{"$f":"IF(Input_Output!EU173=\"\",T(Input_Output!EV173),\"\")","v":""},null,null,{"$f":"IF(Input_Output!EX173=\"\",T(Input_Output!EY173),\"\")","v":""},null,null,{"$f":"IF(Input_Output!FA173=\"\",T(Input_Output!FB173),\"\")","v":""},null,null,{"$f":"IF(Input_Output!FD173=\"\",T(Input_Output!FE173),\"\")","v":""},null,null,{"$f":"IF(Input_Output!FG173=\"\",T(Input_Output!FH173),\"\")","v":""},null,null,{"$f":"IF(Input_Output!FJ173=\"\",T(Input_Output!FK173),\"\")","v":""},null,null,{"$f":"IF(Input_Output!FM173=\"\",T(Input_Output!FN173),\"\")","v":""},null,null,{"$f":"IF(Input_Output!FP173=\"\",T(Input_Output!FQ173),\"\")","v":""},null,null,{"$f":"IF(Input_Output!FS173=\"\",T(Input_Output!FT173),\"\")","v":""},null,null,{"$f":"IF(Input_Output!FV173=\"\",T(Input_Output!FW173),\"\")","v":""},null,null,{"$f":"IF(Input_Output!FY173=\"\",T(Input_Output!FZ173),\"\")","v":""},null,null,{"$f":"IF(Input_Output!GB173=\"\",T(Input_Output!GC173),\"\")","v":""},null,null,{"$f":"IF(Input_Output!GE173=\"\",T(Input_Output!GF173),\"\")","v":""},null,null,{"$f":"IF(Input_Output!GH173=\"\",T(Input_Output!GI173),\"\")","v":""},null,null,{"$f":"IF(Input_Output!GK173=\"\",T(Input_Output!GL173),\"\")","v":""},null,null,{"$f":"IF(Input_Output!GN173=\"\",T(Input_Output!GO173),\"\")","v":""},null,null,{"$f":"IF(Input_Output!GQ173=\"\",T(Input_Output!GR173),\"\")","v":""},null,null,{"$f":"IF(Input_Output!GT173=\"\",T(Input_Output!GU173),\"\")","v":""},null,null,{"$f":"IF(Input_Output!GW173=\"\",T(Input_Output!GX173),\"\")","v":""},null,null,{"$f":"IF(Input_Output!GZ173=\"\",T(Input_Output!HA173),\"\")","v":""},null,null,{"$f":"IF(Input_Output!HC173=\"\",T(Input_Output!HD173),\"\")","v":""},null,null,{"$f":"IF(Input_Output!HF173=\"\",T(Input_Output!HG173),\"\")","v":""},null,null,{"$f":"IF(Input_Output!HI173=\"\",T(Input_Output!HJ173),\"\")","v":""},null,null,{"$f":"IF(Input_Output!HL173=\"\",T(Input_Output!HM173),\"\")","v":""},null,null,{"$f":"IF(Input_Output!HO173=\"\",T(Input_Output!HP173),\"\")","v":""},null,null,{"$f":"IF(Input_Output!HR173=\"\",T(Input_Output!HS173),\"\")","v":""},null,null,{"$f":"IF(Input_Output!HU173=\"\",T(Input_Output!HV173),\"\")","v":""},null,null,{"$f":"IF(Input_Output!HX173=\"\",T(Input_Output!HY173),\"\")","v":""},null,null,{"$f":"IF(Input_Output!IA173=\"\",T(Input_Output!IB173),\"\")","v":""},null,null,{"$f":"IF(Input_Output!ID173=\"\",T(Input_Output!IE173),\"\")","v":""},null,null,{"$f":"IF(Input_Output!IG173=\"\",T(Input_Output!IH173),\"\")","v":""},null,null,{"$f":"IF(Input_Output!IJ173=\"\",T(Input_Output!IK173),\"\")","v":""},null,null,{"$f":"IF(Input_Output!IM173=\"\",T(Input_Output!IN173),\"\")","v":""},null,null,{"$f":"IF(Input_Output!IP173=\"\",T(Input_Output!IQ173),\"\")","v":""},null,null,{"$f":"IF(Input_Output!IS173=\"\",T(Input_Output!IT173),\"\")","v":""}]
[null,null,null,null,{"$f":"IF(Input_Output!D174=\"\",T(Input_Output!E174),\"\")","v":""},null,null,{"$f":"IF(Input_Output!G174=\"\",T(Input_Output!H174),\"\")","v":""},null,null,{"$f":"IF(Input_Output!J174=\"\",T(Input_Output!K174),\"\")","v":""},null,null,{"$f":"IF(Input_Output!M174=\"\",T(Input_Output!N174),\"\")","v":""},null,null,{"$f":"IF(Input_Output!P174=\"\",T(Input_Output!Q174),\"\")","v":""},null,null,{"$f":"IF(Input_Output!S174=\"\",T(Input_Output!T174),\"\")","v":""},null,null,{"$f":"IF(Input_Output!V174=\"\",T(Input_Output!W174),\"\")","v":""},null,null,{"$f":"IF(Input_Output!Y174=\"\",T(Input_Output!Z174),\"\")","v":""},null,null,{"$f":"IF(Input_Output!AB174=\"\",T(Input_Output!AC174),\"\")","v":""},null,null,{"$f":"IF(Input_Output!AE174=\"\",T(Input_Output!AF174),\"\")","v":""},null,null,{"$f":"IF(Input_Output!AH174=\"\",T(Input_Output!AI174),\"\")","v":""},null,null,{"$f":"IF(Input_Output!AK174=\"\",T(Input_Output!AL174),\"\")","v":""},null,null,{"$f":"IF(Input_Output!AN174=\"\",T(Input_Output!AO174),\"\")","v":""},null,null,{"$f":"IF(Input_Output!AQ174=\"\",T(Input_Output!AR174),\"\")","v":""},null,null,{"$f":"IF(Input_Output!AT174=\"\",T(Input_Output!AU174),\"\")","v":""},null,null,{"$f":"IF(Input_Output!AW174=\"\",T(Input_Output!AX174),\"\")","v":""},null,null,{"$f":"IF(Input_Output!AZ174=\"\",T(Input_Output!BA174),\"\")","v":""},null,null,{"$f":"IF(Input_Output!BC174=\"\",T(Input_Output!BD174),\"\")","v":""},null,null,{"$f":"IF(Input_Output!BF174=\"\",T(Input_Output!BG174),\"\")","v":""},null,null,{"$f":"IF(Input_Output!BI174=\"\",T(Input_Output!BJ174),\"\")","v":""},null,null,{"$f":"IF(Input_Output!BL174=\"\",T(Input_Output!BM174),\"\")","v":""},null,null,{"$f":"IF(Input_Output!BO174=\"\",T(Input_Output!BP174),\"\")","v":""},null,null,{"$f":"IF(Input_Output!BR174=\"\",T(Input_Output!BS174),\"\")","v":""},null,null,{"$f":"IF(Input_Output!BU174=\"\",T(Input_Output!BV174),\"\")","v":""},null,null,{"$f":"IF(Input_Output!BX174=\"\",T(Input_Output!BY174),\"\")","v":""},null,null,{"$f":"IF(Input_Output!CA174=\"\",T(Input_Output!CB174),\"\")","v":""},null,null,{"$f":"IF(Input_Output!CD174=\"\",T(Input_Output!CE174),\"\")","v":""},null,null,{"$f":"IF(Input_Output!CG174=\"\",T(Input_Output!CH174),\"\")","v":""},null,null,{"$f":"IF(Input_Output!CJ174=\"\",T(Input_Output!CK174),\"\")","v":""},null,null,{"$f":"IF(Input_Output!CM174=\"\",T(Input_Output!CN174),\"\")","v":""},null,null,{"$f":"IF(Input_Output!CP174=\"\",T(Input_Output!CQ174),\"\")","v":""},null,null,{"$f":"IF(Input_Output!CS174=\"\",T(Input_Output!CT174),\"\")","v":""},null,null,{"$f":"IF(Input_Output!CV174=\"\",T(Input_Output!CW174),\"\")","v":""},null,null,{"$f":"IF(Input_Output!CY174=\"\",T(Input_Output!CZ174),\"\")","v":""},null,null,{"$f":"IF(Input_Output!DB174=\"\",T(Input_Output!DC174),\"\")","v":""},null,null,{"$f":"IF(Input_Output!DE174=\"\",T(Input_Output!DF174),\"\")","v":""},null,null,{"$f":"IF(Input_Output!DH174=\"\",T(Input_Output!DI174),\"\")","v":""},null,null,{"$f":"IF(Input_Output!DK174=\"\",T(Input_Output!DL174),\"\")","v":""},null,null,{"$f":"IF(Input_Output!DN174=\"\",T(Input_Output!DO174),\"\")","v":""},null,null,{"$f":"IF(Input_Output!DQ174=\"\",T(Input_Output!DR174),\"\")","v":""},null,null,{"$f":"IF(Input_Output!DT174=\"\",T(Input_Output!DU174),\"\")","v":""},null,null,{"$f":"IF(Input_Output!DW174=\"\",T(Input_Output!DX174),\"\")","v":""},null,null,{"$f":"IF(Input_Output!DZ174=\"\",T(Input_Output!EA174),\"\")","v":""},null,null,{"$f":"IF(Input_Output!EC174=\"\",T(Input_Output!ED174),\"\")","v":""},null,null,{"$f":"IF(Input_Output!EF174=\"\",T(Input_Output!EG174),\"\")","v":""},null,null,{"$f":"IF(Input_Output!EI174=\"\",T(Input_Output!EJ174),\"\")","v":""},null,null,{"$f":"IF(Input_Output!EL174=\"\",T(Input_Output!EM174),\"\")","v":""},null,null,{"$f":"IF(Input_Output!EO174=\"\",T(Input_Output!EP174),\"\")","v":""},null,null,{"$f":"IF(Input_Output!ER174=\"\",T(Input_Output!ES174),\"\")","v":""},null,null,{"$f":"IF(Input_Output!EU174=\"\",T(Input_Output!EV174),\"\")","v":""},null,null,{"$f":"IF(Input_Output!EX174=\"\",T(Input_Output!EY174),\"\")","v":""},null,null,{"$f":"IF(Input_Output!FA174=\"\",T(Input_Output!FB174),\"\")","v":""},null,null,{"$f":"IF(Input_Output!FD174=\"\",T(Input_Output!FE174),\"\")","v":""},null,null,{"$f":"IF(Input_Output!FG174=\"\",T(Input_Output!FH174),\"\")","v":""},null,null,{"$f":"IF(Input_Output!FJ174=\"\",T(Input_Output!FK174),\"\")","v":""},null,null,{"$f":"IF(Input_Output!FM174=\"\",T(Input_Output!FN174),\"\")","v":""},null,null,{"$f":"IF(Input_Output!FP174=\"\",T(Input_Output!FQ174),\"\")","v":""},null,null,{"$f":"IF(Input_Output!FS174=\"\",T(Input_Output!FT174),\"\")","v":""},null,null,{"$f":"IF(Input_Output!FV174=\"\",T(Input_Output!FW174),\"\")","v":""},null,null,{"$f":"IF(Input_Output!FY174=\"\",T(Input_Output!FZ174),\"\")","v":""},null,null,{"$f":"IF(Input_Output!GB174=\"\",T(Input_Output!GC174),\"\")","v":""},null,null,{"$f":"IF(Input_Output!GE174=\"\",T(Input_Output!GF174),\"\")","v":""},null,null,{"$f":"IF(Input_Output!GH174=\"\",T(Input_Output!GI174),\"\")","v":""},null,null,{"$f":"IF(Input_Output!GK174=\"\",T(Input_Output!GL174),\"\")","v":""},null,null,{"$f":"IF(Input_Output!GN174=\"\",T(Input_Output!GO174),\"\")","v":""},null,null,{"$f":"IF(Input_Output!GQ174=\"\",T(Input_Output!GR174),\"\")","v":""},null,null,{"$f":"IF(Input_Output!GT174=\"\",T(Input_Output!GU174),\"\")","v":""},null,null,{"$f":"IF(Input_Output!GW174=\"\",T(Input_Output!GX174),\"\")","v":""},null,null,{"$f":"IF(Input_Output!GZ174=\"\",T(Input_Output!HA174),\"\")","v":""},null,null,{"$f":"IF(Input_Output!HC174=\"\",T(Input_Output!HD174),\"\")","v":""},null,null,{"$f":"IF(Input_Output!HF174=\"\",T(Input_Output!HG174),\"\")","v":""},null,null,{"$f":"IF(Input_Output!HI174=\"\",T(Input_Output!HJ174),\"\")","v":""},null,null,{"$f":"IF(Input_Output!HL174=\"\",T(Input_Output!HM174),\"\")","v":""},null,null,{"$f":"IF(Input_Output!HO174=\"\",T(Input_Output!HP174),\"\")","v":""},null,null,{"$f":"IF(Input_Output!HR174=\"\",T(Input_Output!HS174),\"\")","v":""},null,null,{"$f":"IF(Input_Output!HU174=\"\",T(Input_Output!HV174),\"\")","v":""},null,null,{"$f":"IF(Input_Output!HX174=\"\",T(Input_Output!HY174),\"\")","v":""},null,null,{"$f":"IF(Input_Output!IA174=\"\",T(Input_Output!IB174),\"\")","v":""},null,null,{"$f":"IF(Input_Output!ID174=\"\",T(Input_Output!IE174),\"\")","v":""},null,null,{"$f":"IF(Input_Output!IG174=\"\",T(Input_Output!IH174),\"\")","v":""},null,null,{"$f":"IF(Input_Output!IJ174=\"\",T(Input_Output!IK174),\"\")","v":""},null,null,{"$f":"IF(Input_Output!IM174=\"\",T(Input_Output!IN174),\"\")","v":""},null,null,{"$f":"IF(Input_Output!IP174=\"\",T(Input_Output!IQ174),\"\")","v":""},null,null,{"$f":"IF(Input_Output!IS174=\"\",T(Input_Output!IT174),\"\")","v":""}]
[null,null,null,null,{"$f":"IF(Input_Output!D175=\"\",T(Input_Output!E175),\"\")","v":""},null,null,{"$f":"IF(Input_Output!G175=\"\",T(Input_Output!H175),\"\")","v":""},null,null,{"$f":"IF(Input_Output!J175=\"\",T(Input_Output!K175),\"\")","v":""},null,null,{"$f":"IF(Input_Output!M175=\"\",T(Input_Output!N175),\"\")","v":""},null,null,{"$f":"IF(Input_Output!P175=\"\",T(Input_Output!Q175),\"\")","v":""},null,null,{"$f":"IF(Input_Output!S175=\"\",T(Input_Output!T175),\"\")","v":""},null,null,{"$f":"IF(Input_Output!V175=\"\",T(Input_Output!W175),\"\")","v":""},null,null,{"$f":"IF(Input_Output!Y175=\"\",T(Input_Output!Z175),\"\")","v":""},null,null,{"$f":"IF(Input_Output!AB175=\"\",T(Input_Output!AC175),\"\")","v":""},null,null,{"$f":"IF(Input_Output!AE175=\"\",T(Input_Output!AF175),\"\")","v":""},null,null,{"$f":"IF(Input_Output!AH175=\"\",T(Input_Output!AI175),\"\")","v":""},null,null,{"$f":"IF(Input_Output!AK175=\"\",T(Input_Output!AL175),\"\")","v":""},null,null,{"$f":"IF(Input_Output!AN175=\"\",T(Input_Output!AO175),\"\")","v":""},null,null,{"$f":"IF(Input_Output!AQ175=\"\",T(Input_Output!AR175),\"\")","v":""},null,null,{"$f":"IF(Input_Output!AT175=\"\",T(Input_Output!AU175),\"\")","v":""},null,null,{"$f":"IF(Input_Output!AW175=\"\",T(Input_Output!AX175),\"\")","v":""},null,null,{"$f":"IF(Input_Output!AZ175=\"\",T(Input_Output!BA175),\"\")","v":""},null,null,{"$f":"IF(Input_Output!BC175=\"\",T(Input_Output!BD175),\"\")","v":""},null,null,{"$f":"IF(Input_Output!BF175=\"\",T(Input_Output!BG175),\"\")","v":""},null,null,{"$f":"IF(Input_Output!BI175=\"\",T(Input_Output!BJ175),\"\")","v":""},null,null,{"$f":"IF(Input_Output!BL175=\"\",T(Input_Output!BM175),\"\")","v":""},null,null,{"$f":"IF(Input_Output!BO175=\"\",T(Input_Output!BP175),\"\")","v":""},null,null,{"$f":"IF(Input_Output!BR175=\"\",T(Input_Output!BS175),\"\")","v":""},null,null,{"$f":"IF(Input_Output!BU175=\"\",T(Input_Output!BV175),\"\")","v":""},null,null,{"$f":"IF(Input_Output!BX175=\"\",T(Input_Output!BY175),\"\")","v":""},null,null,{"$f":"IF(Input_Output!CA175=\"\",T(Input_Output!CB175),\"\")","v":""},null,null,{"$f":"IF(Input_Output!CD175=\"\",T(Input_Output!CE175),\"\")","v":""},null,null,{"$f":"IF(Input_Output!CG175=\"\",T(Input_Output!CH175),\"\")","v":""},null,null,{"$f":"IF(Input_Output!CJ175=\"\",T(Input_Output!CK175),\"\")","v":""},null,null,{"$f":"IF(Input_Output!CM175=\"\",T(Input_Output!CN175),\"\")","v":""},null,null,{"$f":"IF(Input_Output!CP175=\"\",T(Input_Output!CQ175),\"\")","v":""},null,null,{"$f":"IF(Input_Output!CS175=\"\",T(Input_Output!CT175),\"\")","v":""},null,null,{"$f":"IF(Input_Output!CV175=\"\",T(Input_Output!CW175),\"\")","v":""},null,null,{"$f":"IF(Input_Output!CY175=\"\",T(Input_Output!CZ175),\"\")","v":""},null,null,{"$f":"IF(Input_Output!DB175=\"\",T(Input_Output!DC175),\"\")","v":""},null,null,{"$f":"IF(Input_Output!DE175=\"\",T(Input_Output!DF175),\"\")","v":""},null,null,{"$f":"IF(Input_Output!DH175=\"\",T(Input_Output!DI175),\"\")","v":""},null,null,{"$f":"IF(Input_Output!DK175=\"\",T(Input_Output!DL175),\"\")","v":""},null,null,{"$f":"IF(Input_Output!DN175=\"\",T(Input_Output!DO175),\"\")","v":""},null,null,{"$f":"IF(Input_Output!DQ175=\"\",T(Input_Output!DR175),\"\")","v":""},null,null,{"$f":"IF(Input_Output!DT175=\"\",T(Input_Output!DU175),\"\")","v":""},null,null,{"$f":"IF(Input_Output!DW175=\"\",T(Input_Output!DX175),\"\")","v":""},null,null,{"$f":"IF(Input_Output!DZ175=\"\",T(Input_Output!EA175),\"\")","v":""},null,null,{"$f":"IF(Input_Output!EC175=\"\",T(Input_Output!ED175),\"\")","v":""},null,null,{"$f":"IF(Input_Output!EF175=\"\",T(Input_Output!EG175),\"\")","v":""},null,null,{"$f":"IF(Input_Output!EI175=\"\",T(Input_Output!EJ175),\"\")","v":""},null,null,{"$f":"IF(Input_Output!EL175=\"\",T(Input_Output!EM175),\"\")","v":""},null,null,{"$f":"IF(Input_Output!EO175=\"\",T(Input_Output!EP175),\"\")","v":""},null,null,{"$f":"IF(Input_Output!ER175=\"\",T(Input_Output!ES175),\"\")","v":""},null,null,{"$f":"IF(Input_Output!EU175=\"\",T(Input_Output!EV175),\"\")","v":""},null,null,{"$f":"IF(Input_Output!EX175=\"\",T(Input_Output!EY175),\"\")","v":""},null,null,{"$f":"IF(Input_Output!FA175=\"\",T(Input_Output!FB175),\"\")","v":""},null,null,{"$f":"IF(Input_Output!FD175=\"\",T(Input_Output!FE175),\"\")","v":""},null,null,{"$f":"IF(Input_Output!FG175=\"\",T(Input_Output!FH175),\"\")","v":""},null,null,{"$f":"IF(Input_Output!FJ175=\"\",T(Input_Output!FK175),\"\")","v":""},null,null,{"$f":"IF(Input_Output!FM175=\"\",T(Input_Output!FN175),\"\")","v":""},null,null,{"$f":"IF(Input_Output!FP175=\"\",T(Input_Output!FQ175),\"\")","v":""},null,null,{"$f":"IF(Input_Output!FS175=\"\",T(Input_Output!FT175),\"\")","v":""},null,null,{"$f":"IF(Input_Output!FV175=\"\",T(Input_Output!FW175),\"\")","v":""},null,null,{"$f":"IF(Input_Output!FY175=\"\",T(Input_Output!FZ175),\"\")","v":""},null,null,{"$f":"IF(Input_Output!GB175=\"\",T(Input_Output!GC175),\"\")","v":""},null,null,{"$f":"IF(Input_Output!GE175=\"\",T(Input_Output!GF175),\"\")","v":""},null,null,{"$f":"IF(Input_Output!GH175=\"\",T(Input_Output!GI175),\"\")","v":""},null,null,{"$f":"IF(Input_Output!GK175=\"\",T(Input_Output!GL175),\"\")","v":""},null,null,{"$f":"IF(Input_Output!GN175=\"\",T(Input_Output!GO175),\"\")","v":""},null,null,{"$f":"IF(Input_Output!GQ175=\"\",T(Input_Output!GR175),\"\")","v":""},null,null,{"$f":"IF(Input_Output!GT175=\"\",T(Input_Output!GU175),\"\")","v":""},null,null,{"$f":"IF(Input_Output!GW175=\"\",T(Input_Output!GX175),\"\")","v":""},null,null,{"$f":"IF(Input_Output!GZ175=\"\",T(Input_Output!HA175),\"\")","v":""},null,null,{"$f":"IF(Input_Output!HC175=\"\",T(Input_Output!HD175),\"\")","v":""},null,null,{"$f":"IF(Input_Output!HF175=\"\",T(Input_Output!HG175),\"\")","v":""},null,null,{"$f":"IF(Input_Output!HI175=\"\",T(Input_Output!HJ175),\"\")","v":""},null,null,{"$f":"IF(Input_Output!HL175=\"\",T(Input_Output!HM175),\"\")","v":""},null,null,{"$f":"IF(Input_Output!HO175=\"\",T(Input_Output!HP175),\"\")","v":""},null,null,{"$f":"IF(Input_Output!HR175=\"\",T(Input_Output!HS175),\"\")","v":""},null,null,{"$f":"IF(Input_Output!HU175=\"\",T(Input_Output!HV175),\"\")","v":""},null,null,{"$f":"IF(Input_Output!HX175=\"\",T(Input_Output!HY175),\"\")","v":""},null,null,{"$f":"IF(Input_Output!IA175=\"\",T(Input_Output!IB175),\"\")","v":""},null,null,{"$f":"IF(Input_Output!ID175=\"\",T(Input_Output!IE175),\"\")","v":""},null,null,{"$f":"IF(Input_Output!IG175=\"\",T(Input_Output!IH175),\"\")","v":""},null,null,{"$f":"IF(Input_Output!IJ175=\"\",T(Input_Output!IK175),\"\")","v":""},null,null,{"$f":"IF(Input_Output!IM175=\"\",T(Input_Output!IN175),\"\")","v":""},null,null,{"$f":"IF(Input_Output!IP175=\"\",T(Input_Output!IQ175),\"\")","v":""},null,null,{"$f":"IF(Input_Output!IS175=\"\",T(Input_Output!IT175),\"\")","v":""}]
[null,null,null,null,{"$f":"IF(Input_Output!D176=\"\",T(Input_Output!E176),\"\")","v":""},null,null,{"$f":"IF(Input_Output!G176=\"\",T(Input_Output!H176),\"\")","v":""},null,null,{"$f":"IF(Input_Output!J176=\"\",T(Input_Output!K176),\"\")","v":""},null,null,{"$f":"IF(Input_Output!M176=\"\",T(Input_Output!N176),\"\")","v":""},null,null,{"$f":"IF(Input_Output!P176=\"\",T(Input_Output!Q176),\"\")","v":""},null,null,{"$f":"IF(Input_Output!S176=\"\",T(Input_Output!T176),\"\")","v":""},null,null,{"$f":"IF(Input_Output!V176=\"\",T(Input_Output!W176),\"\")","v":""},null,null,{"$f":"IF(Input_Output!Y176=\"\",T(Input_Output!Z176),\"\")","v":""},null,null,{"$f":"IF(Input_Output!AB176=\"\",T(Input_Output!AC176),\"\")","v":""},null,null,{"$f":"IF(Input_Output!AE176=\"\",T(Input_Output!AF176),\"\")","v":""},null,null,{"$f":"IF(Input_Output!AH176=\"\",T(Input_Output!AI176),\"\")","v":""},null,null,{"$f":"IF(Input_Output!AK176=\"\",T(Input_Output!AL176),\"\")","v":""},null,null,{"$f":"IF(Input_Output!AN176=\"\",T(Input_Output!AO176),\"\")","v":""},null,null,{"$f":"IF(Input_Output!AQ176=\"\",T(Input_Output!AR176),\"\")","v":""},null,null,{"$f":"IF(Input_Output!AT176=\"\",T(Input_Output!AU176),\"\")","v":""},null,null,{"$f":"IF(Input_Output!AW176=\"\",T(Input_Output!AX176),\"\")","v":""},null,null,{"$f":"IF(Input_Output!AZ176=\"\",T(Input_Output!BA176),\"\")","v":""},null,null,{"$f":"IF(Input_Output!BC176=\"\",T(Input_Output!BD176),\"\")","v":""},null,null,{"$f":"IF(Input_Output!BF176=\"\",T(Input_Output!BG176),\"\")","v":""},null,null,{"$f":"IF(Input_Output!BI176=\"\",T(Input_Output!BJ176),\"\")","v":""},null,null,{"$f":"IF(Input_Output!BL176=\"\",T(Input_Output!BM176),\"\")","v":""},null,null,{"$f":"IF(Input_Output!BO176=\"\",T(Input_Output!BP176),\"\")","v":""},null,null,{"$f":"IF(Input_Output!BR176=\"\",T(Input_Output!BS176),\"\")","v":""},null,null,{"$f":"IF(Input_Output!BU176=\"\",T(Input_Output!BV176),\"\")","v":""},null,null,{"$f":"IF(Input_Output!BX176=\"\",T(Input_Output!BY176),\"\")","v":""},null,null,{"$f":"IF(Input_Output!CA176=\"\",T(Input_Output!CB176),\"\")","v":""},null,null,{"$f":"IF(Input_Output!CD176=\"\",T(Input_Output!CE176),\"\")","v":""},null,null,{"$f":"IF(Input_Output!CG176=\"\",T(Input_Output!CH176),\"\")","v":""},null,null,{"$f":"IF(Input_Output!CJ176=\"\",T(Input_Output!CK176),\"\")","v":""},null,null,{"$f":"IF(Input_Output!CM176=\"\",T(Input_Output!CN176),\"\")","v":""},null,null,{"$f":"IF(Input_Output!CP176=\"\",T(Input_Output!CQ176),\"\")","v":""},null,null,{"$f":"IF(Input_Output!CS176=\"\",T(Input_Output!CT176),\"\")","v":""},null,null,{"$f":"IF(Input_Output!CV176=\"\",T(Input_Output!CW176),\"\")","v":""},null,null,{"$f":"IF(Input_Output!CY176=\"\",T(Input_Output!CZ176),\"\")","v":""},null,null,{"$f":"IF(Input_Output!DB176=\"\",T(Input_Output!DC176),\"\")","v":""},null,null,{"$f":"IF(Input_Output!DE176=\"\",T(Input_Output!DF176),\"\")","v":""},null,null,{"$f":"IF(Input_Output!DH176=\"\",T(Input_Output!DI176),\"\")","v":""},null,null,{"$f":"IF(Input_Output!DK176=\"\",T(Input_Output!DL176),\"\")","v":""},null,null,{"$f":"IF(Input_Output!DN176=\"\",T(Input_Output!DO176),\"\")","v":""},null,null,{"$f":"IF(Input_Output!DQ176=\"\",T(Input_Output!DR176),\"\")","v":""},null,null,{"$f":"IF(Input_Output!DT176=\"\",T(Input_Output!DU176),\"\")","v":""},null,null,{"$f":"IF(Input_Output!DW176=\"\",T(Input_Output!DX176),\"\")","v":""},null,null,{"$f":"IF(Input_Output!DZ176=\"\",T(Input_Output!EA176),\"\")","v":""},null,null,{"$f":"IF(Input_Output!EC176=\"\",T(Input_Output!ED176),\"\")","v":""},null,null,{"$f":"IF(Input_Output!EF176=\"\",T(Input_Output!EG176),\"\")","v":""},null,null,{"$f":"IF(Input_Output!EI176=\"\",T(Input_Output!EJ176),\"\")","v":""},null,null,{"$f":"IF(Input_Output!EL176=\"\",T(Input_Output!EM176),\"\")","v":""},null,null,{"$f":"IF(Input_Output!EO176=\"\",T(Input_Output!EP176),\"\")","v":""},null,null,{"$f":"IF(Input_Output!ER176=\"\",T(Input_Output!ES176),\"\")","v":""},null,null,{"$f":"IF(Input_Output!EU176=\"\",T(Input_Output!EV176),\"\")","v":""},null,null,{"$f":"IF(Input_Output!EX176=\"\",T(Input_Output!EY176),\"\")","v":""},null,null,{"$f":"IF(Input_Output!FA176=\"\",T(Input_Output!FB176),\"\")","v":""},null,null,{"$f":"IF(Input_Output!FD176=\"\",T(Input_Output!FE176),\"\")","v":""},null,null,{"$f":"IF(Input_Output!FG176=\"\",T(Input_Output!FH176),\"\")","v":""},null,null,{"$f":"IF(Input_Output!FJ176=\"\",T(Input_Output!FK176),\"\")","v":""},null,null,{"$f":"IF(Input_Output!FM176=\"\",T(Input_Output!FN176),\"\")","v":""},null,null,{"$f":"IF(Input_Output!FP176=\"\",T(Input_Output!FQ176),\"\")","v":""},null,null,{"$f":"IF(Input_Output!FS176=\"\",T(Input_Output!FT176),\"\")","v":""},null,null,{"$f":"IF(Input_Output!FV176=\"\",T(Input_Output!FW176),\"\")","v":""},null,null,{"$f":"IF(Input_Output!FY176=\"\",T(Input_Output!FZ176),\"\")","v":""},null,null,{"$f":"IF(Input_Output!GB176=\"\",T(Input_Output!GC176),\"\")","v":""},null,null,{"$f":"IF(Input_Output!GE176=\"\",T(Input_Output!GF176),\"\")","v":""},null,null,{"$f":"IF(Input_Output!GH176=\"\",T(Input_Output!GI176),\"\")","v":""},null,null,{"$f":"IF(Input_Output!GK176=\"\",T(Input_Output!GL176),\"\")","v":""},null,null,{"$f":"IF(Input_Output!GN176=\"\",T(Input_Output!GO176),\"\")","v":""},null,null,{"$f":"IF(Input_Output!GQ176=\"\",T(Input_Output!GR176),\"\")","v":""},null,null,{"$f":"IF(Input_Output!GT176=\"\",T(Input_Output!GU176),\"\")","v":""},null,null,{"$f":"IF(Input_Output!GW176=\"\",T(Input_Output!GX176),\"\")","v":""},null,null,{"$f":"IF(Input_Output!GZ176=\"\",T(Input_Output!HA176),\"\")","v":""},null,null,{"$f":"IF(Input_Output!HC176=\"\",T(Input_Output!HD176),\"\")","v":""},null,null,{"$f":"IF(Input_Output!HF176=\"\",T(Input_Output!HG176),\"\")","v":""},null,null,{"$f":"IF(Input_Output!HI176=\"\",T(Input_Output!HJ176),\"\")","v":""},null,null,{"$f":"IF(Input_Output!HL176=\"\",T(Input_Output!HM176),\"\")","v":""},null,null,{"$f":"IF(Input_Output!HO176=\"\",T(Input_Output!HP176),\"\")","v":""},null,null,{"$f":"IF(Input_Output!HR176=\"\",T(Input_Output!HS176),\"\")","v":""},null,null,{"$f":"IF(Input_Output!HU176=\"\",T(Input_Output!HV176),\"\")","v":""},null,null,{"$f":"IF(Input_Output!HX176=\"\",T(Input_Output!HY176),\"\")","v":""},null,null,{"$f":"IF(Input_Output!IA176=\"\",T(Input_Output!IB176),\"\")","v":""},null,null,{"$f":"IF(Input_Output!ID176=\"\",T(Input_Output!IE176),\"\")","v":""},null,null,{"$f":"IF(Input_Output!IG176=\"\",T(Input_Output!IH176),\"\")","v":""},null,null,{"$f":"IF(Input_Output!IJ176=\"\",T(Input_Output!IK176),\"\")","v":""},null,null,{"$f":"IF(Input_Output!IM176=\"\",T(Input_Output!IN176),\"\")","v":""},null,null,{"$f":"IF(Input_Output!IP176=\"\",T(Input_Output!IQ176),\"\")","v":""},null,null,{"$f":"IF(Input_Output!IS176=\"\",T(Input_Output!IT176),\"\")","v":""}]
[null,null,null,null,{"$f":"IF(Input_Output!D177=\"\",T(Input_Output!E177),\"\")","v":""},null,null,{"$f":"IF(Input_Output!G177=\"\",T(Input_Output!H177),\"\")","v":""},null,null,{"$f":"IF(Input_Output!J177=\"\",T(Input_Output!K177),\"\")","v":""},null,null,{"$f":"IF(Input_Output!M177=\"\",T(Input_Output!N177),\"\")","v":""},null,null,{"$f":"IF(Input_Output!P177=\"\",T(Input_Output!Q177),\"\")","v":""},null,null,{"$f":"IF(Input_Output!S177=\"\",T(Input_Output!T177),\"\")","v":""},null,null,{"$f":"IF(Input_Output!V177=\"\",T(Input_Output!W177),\"\")","v":""},null,null,{"$f":"IF(Input_Output!Y177=\"\",T(Input_Output!Z177),\"\")","v":""},null,null,{"$f":"IF(Input_Output!AB177=\"\",T(Input_Output!AC177),\"\")","v":""},null,null,{"$f":"IF(Input_Output!AE177=\"\",T(Input_Output!AF177),\"\")","v":""},null,null,{"$f":"IF(Input_Output!AH177=\"\",T(Input_Output!AI177),\"\")","v":""},null,null,{"$f":"IF(Input_Output!AK177=\"\",T(Input_Output!AL177),\"\")","v":""},null,null,{"$f":"IF(Input_Output!AN177=\"\",T(Input_Output!AO177),\"\")","v":""},null,null,{"$f":"IF(Input_Output!AQ177=\"\",T(Input_Output!AR177),\"\")","v":""},null,null,{"$f":"IF(Input_Output!AT177=\"\",T(Input_Output!AU177),\"\")","v":""},null,null,{"$f":"IF(Input_Output!AW177=\"\",T(Input_Output!AX177),\"\")","v":""},null,null,{"$f":"IF(Input_Output!AZ177=\"\",T(Input_Output!BA177),\"\")","v":""},null,null,{"$f":"IF(Input_Output!BC177=\"\",T(Input_Output!BD177),\"\")","v":""},null,null,{"$f":"IF(Input_Output!BF177=\"\",T(Input_Output!BG177),\"\")","v":""},null,null,{"$f":"IF(Input_Output!BI177=\"\",T(Input_Output!BJ177),\"\")","v":""},null,null,{"$f":"IF(Input_Output!BL177=\"\",T(Input_Output!BM177),\"\")","v":""},null,null,{"$f":"IF(Input_Output!BO177=\"\",T(Input_Output!BP177),\"\")","v":""},null,null,{"$f":"IF(Input_Output!BR177=\"\",T(Input_Output!BS177),\"\")","v":""},null,null,{"$f":"IF(Input_Output!BU177=\"\",T(Input_Output!BV177),\"\")","v":""},null,null,{"$f":"IF(Input_Output!BX177=\"\",T(Input_Output!BY177),\"\")","v":""},null,null,{"$f":"IF(Input_Output!CA177=\"\",T(Input_Output!CB177),\"\")","v":""},null,null,{"$f":"IF(Input_Output!CD177=\"\",T(Input_Output!CE177),\"\")","v":""},null,null,{"$f":"IF(Input_Output!CG177=\"\",T(Input_Output!CH177),\"\")","v":""},null,null,{"$f":"IF(Input_Output!CJ177=\"\",T(Input_Output!CK177),\"\")","v":""},null,null,{"$f":"IF(Input_Output!CM177=\"\",T(Input_Output!CN177),\"\")","v":""},null,null,{"$f":"IF(Input_Output!CP177=\"\",T(Input_Output!CQ177),\"\")","v":""},null,null,{"$f":"IF(Input_Output!CS177=\"\",T(Input_Output!CT177),\"\")","v":""},null,null,{"$f":"IF(Input_Output!CV177=\"\",T(Input_Output!CW177),\"\")","v":""},null,null,{"$f":"IF(Input_Output!CY177=\"\",T(Input_Output!CZ177),\"\")","v":""},null,null,{"$f":"IF(Input_Output!DB177=\"\",T(Input_Output!DC177),\"\")","v":""},null,null,{"$f":"IF(Input_Output!DE177=\"\",T(Input_Output!DF177),\"\")","v":""},null,null,{"$f":"IF(Input_Output!DH177=\"\",T(Input_Output!DI177),\"\")","v":""},null,null,{"$f":"IF(Input_Output!DK177=\"\",T(Input_Output!DL177),\"\")","v":""},null,null,{"$f":"IF(Input_Output!DN177=\"\",T(Input_Output!DO177),\"\")","v":""},null,null,{"$f":"IF(Input_Output!DQ177=\"\",T(Input_Output!DR177),\"\")","v":""},null,null,{"$f":"IF(Input_Output!DT177=\"\",T(Input_Output!DU177),\"\")","v":""},null,null,{"$f":"IF(Input_Output!DW177=\"\",T(Input_Output!DX177),\"\")","v":""},null,null,{"$f":"IF(Input_Output!DZ177=\"\",T(Input_Output!EA177),\"\")","v":""},null,null,{"$f":"IF(Input_Output!EC177=\"\",T(Input_Output!ED177),\"\")","v":""},null,null,{"$f":"IF(Input_Output!EF177=\"\",T(Input_Output!EG177),\"\")","v":""},null,null,{"$f":"IF(Input_Output!EI177=\"\",T(Input_Output!EJ177),\"\")","v":""},null,null,{"$f":"IF(Input_Output!EL177=\"\",T(Input_Output!EM177),\"\")","v":""},null,null,{"$f":"IF(Input_Output!EO177=\"\",T(Input_Output!EP177),\"\")","v":""},null,null,{"$f":"IF(Input_Output!ER177=\"\",T(Input_Output!ES177),\"\")","v":""},null,null,{"$f":"IF(Input_Output!EU177=\"\",T(Input_Output!EV177),\"\")","v":""},null,null,{"$f":"IF(Input_Output!EX177=\"\",T(Input_Output!EY177),\"\")","v":""},null,null,{"$f":"IF(Input_Output!FA177=\"\",T(Input_Output!FB177),\"\")","v":""},null,null,{"$f":"IF(Input_Output!FD177=\"\",T(Input_Output!FE177),\"\")","v":""},null,null,{"$f":"IF(Input_Output!FG177=\"\",T(Input_Output!FH177),\"\")","v":""},null,null,{"$f":"IF(Input_Output!FJ177=\"\",T(Input_Output!FK177),\"\")","v":""},null,null,{"$f":"IF(Input_Output!FM177=\"\",T(Input_Output!FN177),\"\")","v":""},null,null,{"$f":"IF(Input_Output!FP177=\"\",T(Input_Output!FQ177),\"\")","v":""},null,null,{"$f":"IF(Input_Output!FS177=\"\",T(Input_Output!FT177),\"\")","v":""},null,null,{"$f":"IF(Input_Output!FV177=\"\",T(Input_Output!FW177),\"\")","v":""},null,null,{"$f":"IF(Input_Output!FY177=\"\",T(Input_Output!FZ177),\"\")","v":""},null,null,{"$f":"IF(Input_Output!GB177=\"\",T(Input_Output!GC177),\"\")","v":""},null,null,{"$f":"IF(Input_Output!GE177=\"\",T(Input_Output!GF177),\"\")","v":""},null,null,{"$f":"IF(Input_Output!GH177=\"\",T(Input_Output!GI177),\"\")","v":""},null,null,{"$f":"IF(Input_Output!GK177=\"\",T(Input_Output!GL177),\"\")","v":""},null,null,{"$f":"IF(Input_Output!GN177=\"\",T(Input_Output!GO177),\"\")","v":""},null,null,{"$f":"IF(Input_Output!GQ177=\"\",T(Input_Output!GR177),\"\")","v":""},null,null,{"$f":"IF(Input_Output!GT177=\"\",T(Input_Output!GU177),\"\")","v":""},null,null,{"$f":"IF(Input_Output!GW177=\"\",T(Input_Output!GX177),\"\")","v":""},null,null,{"$f":"IF(Input_Output!GZ177=\"\",T(Input_Output!HA177),\"\")","v":""},null,null,{"$f":"IF(Input_Output!HC177=\"\",T(Input_Output!HD177),\"\")","v":""},null,null,{"$f":"IF(Input_Output!HF177=\"\",T(Input_Output!HG177),\"\")","v":""},null,null,{"$f":"IF(Input_Output!HI177=\"\",T(Input_Output!HJ177),\"\")","v":""},null,null,{"$f":"IF(Input_Output!HL177=\"\",T(Input_Output!HM177),\"\")","v":""},null,null,{"$f":"IF(Input_Output!HO177=\"\",T(Input_Output!HP177),\"\")","v":""},null,null,{"$f":"IF(Input_Output!HR177=\"\",T(Input_Output!HS177),\"\")","v":""},null,null,{"$f":"IF(Input_Output!HU177=\"\",T(Input_Output!HV177),\"\")","v":""},null,null,{"$f":"IF(Input_Output!HX177=\"\",T(Input_Output!HY177),\"\")","v":""},null,null,{"$f":"IF(Input_Output!IA177=\"\",T(Input_Output!IB177),\"\")","v":""},null,null,{"$f":"IF(Input_Output!ID177=\"\",T(Input_Output!IE177),\"\")","v":""},null,null,{"$f":"IF(Input_Output!IG177=\"\",T(Input_Output!IH177),\"\")","v":""},null,null,{"$f":"IF(Input_Output!IJ177=\"\",T(Input_Output!IK177),\"\")","v":""},null,null,{"$f":"IF(Input_Output!IM177=\"\",T(Input_Output!IN177),\"\")","v":""},null,null,{"$f":"IF(Input_Output!IP177=\"\",T(Input_Output!IQ177),\"\")","v":""},null,null,{"$f":"IF(Input_Output!IS177=\"\",T(Input_Output!IT177),\"\")","v":""}]
[null,null,null,null,{"$f":"IF(Input_Output!D178=\"\",T(Input_Output!E178),\"\")","v":""},null,null,{"$f":"IF(Input_Output!G178=\"\",T(Input_Output!H178),\"\")","v":""},null,null,{"$f":"IF(Input_Output!J178=\"\",T(Input_Output!K178),\"\")","v":""},null,null,{"$f":"IF(Input_Output!M178=\"\",T(Input_Output!N178),\"\")","v":""},null,null,{"$f":"IF(Input_Output!P178=\"\",T(Input_Output!Q178),\"\")","v":""},null,null,{"$f":"IF(Input_Output!S178=\"\",T(Input_Output!T178),\"\")","v":""},null,null,{"$f":"IF(Input_Output!V178=\"\",T(Input_Output!W178),\"\")","v":""},null,null,{"$f":"IF(Input_Output!Y178=\"\",T(Input_Output!Z178),\"\")","v":""},null,null,{"$f":"IF(Input_Output!AB178=\"\",T(Input_Output!AC178),\"\")","v":""},null,null,{"$f":"IF(Input_Output!AE178=\"\",T(Input_Output!AF178),\"\")","v":""},null,null,{"$f":"IF(Input_Output!AH178=\"\",T(Input_Output!AI178),\"\")","v":""},null,null,{"$f":"IF(Input_Output!AK178=\"\",T(Input_Output!AL178),\"\")","v":""},null,null,{"$f":"IF(Input_Output!AN178=\"\",T(Input_Output!AO178),\"\")","v":""},null,null,{"$f":"IF(Input_Output!AQ178=\"\",T(Input_Output!AR178),\"\")","v":""},null,null,{"$f":"IF(Input_Output!AT178=\"\",T(Input_Output!AU178),\"\")","v":""},null,null,{"$f":"IF(Input_Output!AW178=\"\",T(Input_Output!AX178),\"\")","v":""},null,null,{"$f":"IF(Input_Output!AZ178=\"\",T(Input_Output!BA178),\"\")","v":""},null,null,{"$f":"IF(Input_Output!BC178=\"\",T(Input_Output!BD178),\"\")","v":""},null,null,{"$f":"IF(Input_Output!BF178=\"\",T(Input_Output!BG178),\"\")","v":""},null,null,{"$f":"IF(Input_Output!BI178=\"\",T(Input_Output!BJ178),\"\")","v":""},null,null,{"$f":"IF(Input_Output!BL178=\"\",T(Input_Output!BM178),\"\")","v":""},null,null,{"$f":"IF(Input_Output!BO178=\"\",T(Input_Output!BP178),\"\")","v":""},null,null,{"$f":"IF(Input_Output!BR178=\"\",T(Input_Output!BS178),\"\")","v":""},null,null,{"$f":"IF(Input_Output!BU178=\"\",T(Input_Output!BV178),\"\")","v":""},null,null,{"$f":"IF(Input_Output!BX178=\"\",T(Input_Output!BY178),\"\")","v":""},null,null,{"$f":"IF(Input_Output!CA178=\"\",T(Input_Output!CB178),\"\")","v":""},null,null,{"$f":"IF(Input_Output!CD178=\"\",T(Input_Output!CE178),\"\")","v":""},null,null,{"$f":"IF(Input_Output!CG178=\"\",T(Input_Output!CH178),\"\")","v":""},null,null,{"$f":"IF(Input_Output!CJ178=\"\",T(Input_Output!CK178),\"\")","v":""},null,null,{"$f":"IF(Input_Output!CM178=\"\",T(Input_Output!CN178),\"\")","v":""},null,null,{"$f":"IF(Input_Output!CP178=\"\",T(Input_Output!CQ178),\"\")","v":""},null,null,{"$f":"IF(Input_Output!CS178=\"\",T(Input_Output!CT178),\"\")","v":""},null,null,{"$f":"IF(Input_Output!CV178=\"\",T(Input_Output!CW178),\"\")","v":""},null,null,{"$f":"IF(Input_Output!CY178=\"\",T(Input_Output!CZ178),\"\")","v":""},null,null,{"$f":"IF(Input_Output!DB178=\"\",T(Input_Output!DC178),\"\")","v":""},null,null,{"$f":"IF(Input_Output!DE178=\"\",T(Input_Output!DF178),\"\")","v":""},null,null,{"$f":"IF(Input_Output!DH178=\"\",T(Input_Output!DI178),\"\")","v":""},null,null,{"$f":"IF(Input_Output!DK178=\"\",T(Input_Output!DL178),\"\")","v":""},null,null,{"$f":"IF(Input_Output!DN178=\"\",T(Input_Output!DO178),\"\")","v":""},null,null,{"$f":"IF(Input_Output!DQ178=\"\",T(Input_Output!DR178),\"\")","v":""},null,null,{"$f":"IF(Input_Output!DT178=\"\",T(Input_Output!DU178),\"\")","v":""},null,null,{"$f":"IF(Input_Output!DW178=\"\",T(Input_Output!DX178),\"\")","v":""},null,null,{"$f":"IF(Input_Output!DZ178=\"\",T(Input_Output!EA178),\"\")","v":""},null,null,{"$f":"IF(Input_Output!EC178=\"\",T(Input_Output!ED178),\"\")","v":""},null,null,{"$f":"IF(Input_Output!EF178=\"\",T(Input_Output!EG178),\"\")","v":""},null,null,{"$f":"IF(Input_Output!EI178=\"\",T(Input_Output!EJ178),\"\")","v":""},null,null,{"$f":"IF(Input_Output!EL178=\"\",T(Input_Output!EM178),\"\")","v":""},null,null,{"$f":"IF(Input_Output!EO178=\"\",T(Input_Output!EP178),\"\")","v":""},null,null,{"$f":"IF(Input_Output!ER178=\"\",T(Input_Output!ES178),\"\")","v":""},null,null,{"$f":"IF(Input_Output!EU178=\"\",T(Input_Output!EV178),\"\")","v":""},null,null,{"$f":"IF(Input_Output!EX178=\"\",T(Input_Output!EY178),\"\")","v":""},null,null,{"$f":"IF(Input_Output!FA178=\"\",T(Input_Output!FB178),\"\")","v":""},null,null,{"$f":"IF(Input_Output!FD178=\"\",T(Input_Output!FE178),\"\")","v":""},null,null,{"$f":"IF(Input_Output!FG178=\"\",T(Input_Output!FH178),\"\")","v":""},null,null,{"$f":"IF(Input_Output!FJ178=\"\",T(Input_Output!FK178),\"\")","v":""},null,null,{"$f":"IF(Input_Output!FM178=\"\",T(Input_Output!FN178),\"\")","v":""},null,null,{"$f":"IF(Input_Output!FP178=\"\",T(Input_Output!FQ178),\"\")","v":""},null,null,{"$f":"IF(Input_Output!FS178=\"\",T(Input_Output!FT178),\"\")","v":""},null,null,{"$f":"IF(Input_Output!FV178=\"\",T(Input_Output!FW178),\"\")","v":""},null,null,{"$f":"IF(Input_Output!FY178=\"\",T(Input_Output!FZ178),\"\")","v":""},null,null,{"$f":"IF(Input_Output!GB178=\"\",T(Input_Output!GC178),\"\")","v":""},null,null,{"$f":"IF(Input_Output!GE178=\"\",T(Input_Output!GF178),\"\")","v":""},null,null,{"$f":"IF(Input_Output!GH178=\"\",T(Input_Output!GI178),\"\")","v":""},null,null,{"$f":"IF(Input_Output!GK178=\"\",T(Input_Output!GL178),\"\")","v":""},null,null,{"$f":"IF(Input_Output!GN178=\"\",T(Input_Output!GO178),\"\")","v":""},null,null,{"$f":"IF(Input_Output!GQ178=\"\",T(Input_Output!GR178),\"\")","v":""},null,null,{"$f":"IF(Input_Output!GT178=\"\",T(Input_Output!GU178),\"\")","v":""},null,null,{"$f":"IF(Input_Output!GW178=\"\",T(Input_Output!GX178),\"\")","v":""},null,null,{"$f":"IF(Input_Output!GZ178=\"\",T(Input_Output!HA178),\"\")","v":""},null,null,{"$f":"IF(Input_Output!HC178=\"\",T(Input_Output!HD178),\"\")","v":""},null,null,{"$f":"IF(Input_Output!HF178=\"\",T(Input_Output!HG178),\"\")","v":""},null,null,{"$f":"IF(Input_Output!HI178=\"\",T(Input_Output!HJ178),\"\")","v":""},null,null,{"$f":"IF(Input_Output!HL178=\"\",T(Input_Output!HM178),\"\")","v":""},null,null,{"$f":"IF(Input_Output!HO178=\"\",T(Input_Output!HP178),\"\")","v":""},null,null,{"$f":"IF(Input_Output!HR178=\"\",T(Input_Output!HS178),\"\")","v":""},null,null,{"$f":"IF(Input_Output!HU178=\"\",T(Input_Output!HV178),\"\")","v":""},null,null,{"$f":"IF(Input_Output!HX178=\"\",T(Input_Output!HY178),\"\")","v":""},null,null,{"$f":"IF(Input_Output!IA178=\"\",T(Input_Output!IB178),\"\")","v":""},null,null,{"$f":"IF(Input_Output!ID178=\"\",T(Input_Output!IE178),\"\")","v":""},null,null,{"$f":"IF(Input_Output!IG178=\"\",T(Input_Output!IH178),\"\")","v":""},null,null,{"$f":"IF(Input_Output!IJ178=\"\",T(Input_Output!IK178),\"\")","v":""},null,null,{"$f":"IF(Input_Output!IM178=\"\",T(Input_Output!IN178),\"\")","v":""},null,null,{"$f":"IF(Input_Output!IP178=\"\",T(Input_Output!IQ178),\"\")","v":""},null,null,{"$f":"IF(Input_Output!IS178=\"\",T(Input_Output!IT178),\"\")","v":""}]
[null,null,null,null,{"$f":"IF(Input_Output!D179=\"\",T(Input_Output!E179),\"\")","v":""},null,null,{"$f":"IF(Input_Output!G179=\"\",T(Input_Output!H179),\"\")","v":""},null,null,{"$f":"IF(Input_Output!J179=\"\",T(Input_Output!K179),\"\")","v":""},null,null,{"$f":"IF(Input_Output!M179=\"\",T(Input_Output!N179),\"\")","v":""},null,null,{"$f":"IF(Input_Output!P179=\"\",T(Input_Output!Q179),\"\")","v":""},null,null,{"$f":"IF(Input_Output!S179=\"\",T(Input_Output!T179),\"\")","v":""},null,null,{"$f":"IF(Input_Output!V179=\"\",T(Input_Output!W179),\"\")","v":""},null,null,{"$f":"IF(Input_Output!Y179=\"\",T(Input_Output!Z179),\"\")","v":""},null,null,{"$f":"IF(Input_Output!AB179=\"\",T(Input_Output!AC179),\"\")","v":""},null,null,{"$f":"IF(Input_Output!AE179=\"\",T(Input_Output!AF179),\"\")","v":""},null,null,{"$f":"IF(Input_Output!AH179=\"\",T(Input_Output!AI179),\"\")","v":""},null,null,{"$f":"IF(Input_Output!AK179=\"\",T(Input_Output!AL179),\"\")","v":""},null,null,{"$f":"IF(Input_Output!AN179=\"\",T(Input_Output!AO179),\"\")","v":""},null,null,{"$f":"IF(Input_Output!AQ179=\"\",T(Input_Output!AR179),\"\")","v":""},null,null,{"$f":"IF(Input_Output!AT179=\"\",T(Input_Output!AU179),\"\")","v":""},null,null,{"$f":"IF(Input_Output!AW179=\"\",T(Input_Output!AX179),\"\")","v":""},null,null,{"$f":"IF(Input_Output!AZ179=\"\",T(Input_Output!BA179),\"\")","v":""},null,null,{"$f":"IF(Input_Output!BC179=\"\",T(Input_Output!BD179),\"\")","v":""},null,null,{"$f":"IF(Input_Output!BF179=\"\",T(Input_Output!BG179),\"\")","v":""},null,null,{"$f":"IF(Input_Output!BI179=\"\",T(Input_Output!BJ179),\"\")","v":""},null,null,{"$f":"IF(Input_Output!BL179=\"\",T(Input_Output!BM179),\"\")","v":""},null,null,{"$f":"IF(Input_Output!BO179=\"\",T(Input_Output!BP179),\"\")","v":""},null,null,{"$f":"IF(Input_Output!BR179=\"\",T(Input_Output!BS179),\"\")","v":""},null,null,{"$f":"IF(Input_Output!BU179=\"\",T(Input_Output!BV179),\"\")","v":""},null,null,{"$f":"IF(Input_Output!BX179=\"\",T(Input_Output!BY179),\"\")","v":""},null,null,{"$f":"IF(Input_Output!CA179=\"\",T(Input_Output!CB179),\"\")","v":""},null,null,{"$f":"IF(Input_Output!CD179=\"\",T(Input_Output!CE179),\"\")","v":""},null,null,{"$f":"IF(Input_Output!CG179=\"\",T(Input_Output!CH179),\"\")","v":""},null,null,{"$f":"IF(Input_Output!CJ179=\"\",T(Input_Output!CK179),\"\")","v":""},null,null,{"$f":"IF(Input_Output!CM179=\"\",T(Input_Output!CN179),\"\")","v":""},null,null,{"$f":"IF(Input_Output!CP179=\"\",T(Input_Output!CQ179),\"\")","v":""},null,null,{"$f":"IF(Input_Output!CS179=\"\",T(Input_Output!CT179),\"\")","v":""},null,null,{"$f":"IF(Input_Output!CV179=\"\",T(Input_Output!CW179),\"\")","v":""},null,null,{"$f":"IF(Input_Output!CY179=\"\",T(Input_Output!CZ179),\"\")","v":""},null,null,{"$f":"IF(Input_Output!DB179=\"\",T(Input_Output!DC179),\"\")","v":""},null,null,{"$f":"IF(Input_Output!DE179=\"\",T(Input_Output!DF179),\"\")","v":""},null,null,{"$f":"IF(Input_Output!DH179=\"\",T(Input_Output!DI179),\"\")","v":""},null,null,{"$f":"IF(Input_Output!DK179=\"\",T(Input_Output!DL179),\"\")","v":""},null,null,{"$f":"IF(Input_Output!DN179=\"\",T(Input_Output!DO179),\"\")","v":""},null,null,{"$f":"IF(Input_Output!DQ179=\"\",T(Input_Output!DR179),\"\")","v":""},null,null,{"$f":"IF(Input_Output!DT179=\"\",T(Input_Output!DU179),\"\")","v":""},null,null,{"$f":"IF(Input_Output!DW179=\"\",T(Input_Output!DX179),\"\")","v":""},null,null,{"$f":"IF(Input_Output!DZ179=\"\",T(Input_Output!EA179),\"\")","v":""},null,null,{"$f":"IF(Input_Output!EC179=\"\",T(Input_Output!ED179),\"\")","v":""},null,null,{"$f":"IF(Input_Output!EF179=\"\",T(Input_Output!EG179),\"\")","v":""},null,null,{"$f":"IF(Input_Output!EI179=\"\",T(Input_Output!EJ179),\"\")","v":""},null,null,{"$f":"IF(Input_Output!EL179=\"\",T(Input_Output!EM179),\"\")","v":""},null,null,{"$f":"IF(Input_Output!EO179=\"\",T(Input_Output!EP179),\"\")","v":""},null,null,{"$f":"IF(Input_Output!ER179=\"\",T(Input_Output!ES179),\"\")","v":""},null,null,{"$f":"IF(Input_Output!EU179=\"\",T(Input_Output!EV179),\"\")","v":""},null,null,{"$f":"IF(Input_Output!EX179=\"\",T(Input_Output!EY179),\"\")","v":""},null,null,{"$f":"IF(Input_Output!FA179=\"\",T(Input_Output!FB179),\"\")","v":""},null,null,{"$f":"IF(Input_Output!FD179=\"\",T(Input_Output!FE179),\"\")","v":""},null,null,{"$f":"IF(Input_Output!FG179=\"\",T(Input_Output!FH179),\"\")","v":""},null,null,{"$f":"IF(Input_Output!FJ179=\"\",T(Input_Output!FK179),\"\")","v":""},null,null,{"$f":"IF(Input_Output!FM179=\"\",T(Input_Output!FN179),\"\")","v":""},null,null,{"$f":"IF(Input_Output!FP179=\"\",T(Input_Output!FQ179),\"\")","v":""},null,null,{"$f":"IF(Input_Output!FS179=\"\",T(Input_Output!FT179),\"\")","v":""},null,null,{"$f":"IF(Input_Output!FV179=\"\",T(Input_Output!FW179),\"\")","v":""},null,null,{"$f":"IF(Input_Output!FY179=\"\",T(Input_Output!FZ179),\"\")","v":""},null,null,{"$f":"IF(Input_Output!GB179=\"\",T(Input_Output!GC179),\"\")","v":""},null,null,{"$f":"IF(Input_Output!GE179=\"\",T(Input_Output!GF179),\"\")","v":""},null,null,{"$f":"IF(Input_Output!GH179=\"\",T(Input_Output!GI179),\"\")","v":""},null,null,{"$f":"IF(Input_Output!GK179=\"\",T(Input_Output!GL179),\"\")","v":""},null,null,{"$f":"IF(Input_Output!GN179=\"\",T(Input_Output!GO179),\"\")","v":""},null,null,{"$f":"IF(Input_Output!GQ179=\"\",T(Input_Output!GR179),\"\")","v":""},null,null,{"$f":"IF(Input_Output!GT179=\"\",T(Input_Output!GU179),\"\")","v":""},null,null,{"$f":"IF(Input_Output!GW179=\"\",T(Input_Output!GX179),\"\")","v":""},null,null,{"$f":"IF(Input_Output!GZ179=\"\",T(Input_Output!HA179),\"\")","v":""},null,null,{"$f":"IF(Input_Output!HC179=\"\",T(Input_Output!HD179),\"\")","v":""},null,null,{"$f":"IF(Input_Output!HF179=\"\",T(Input_Output!HG179),\"\")","v":""},null,null,{"$f":"IF(Input_Output!HI179=\"\",T(Input_Output!HJ179),\"\")","v":""},null,null,{"$f":"IF(Input_Output!HL179=\"\",T(Input_Output!HM179),\"\")","v":""},null,null,{"$f":"IF(Input_Output!HO179=\"\",T(Input_Output!HP179),\"\")","v":""},null,null,{"$f":"IF(Input_Output!HR179=\"\",T(Input_Output!HS179),\"\")","v":""},null,null,{"$f":"IF(Input_Output!HU179=\"\",T(Input_Output!HV179),\"\")","v":""},null,null,{"$f":"IF(Input_Output!HX179=\"\",T(Input_Output!HY179),\"\")","v":""},null,null,{"$f":"IF(Input_Output!IA179=\"\",T(Input_Output!IB179),\"\")","v":""},null,null,{"$f":"IF(Input_Output!ID179=\"\",T(Input_Output!IE179),\"\")","v":""},null,null,{"$f":"IF(Input_Output!IG179=\"\",T(Input_Output!IH179),\"\")","v":""},null,null,{"$f":"IF(Input_Output!IJ179=\"\",T(Input_Output!IK179),\"\")","v":""},null,null,{"$f":"IF(Input_Output!IM179=\"\",T(Input_Output!IN179),\"\")","v":""},null,null,{"$f":"IF(Input_Output!IP179=\"\",T(Input_Output!IQ179),\"\")","v":""},null,null,{"$f":"IF(Input_Output!IS179=\"\",T(Input_Output!IT179),\"\")","v":""}]
[null,null,null,null,{"$f":"IF(Input_Output!D180=\"\",T(Input_Output!E180),\"\")","v":""},null,null,{"$f":"IF(Input_Output!G180=\"\",T(Input_Output!H180),\"\")","v":""},null,null,{"$f":"IF(Input_Output!J180=\"\",T(Input_Output!K180),\"\")","v":""},null,null,{"$f":"IF(Input_Output!M180=\"\",T(Input_Output!N180),\"\")","v":""},null,null,{"$f":"IF(Input_Output!P180=\"\",T(Input_Output!Q180),\"\")","v":""},null,null,{"$f":"IF(Input_Output!S180=\"\",T(Input_Output!T180),\"\")","v":""},null,null,{"$f":"IF(Input_Output!V180=\"\",T(Input_Output!W180),\"\")","v":""},null,null,{"$f":"IF(Input_Output!Y180=\"\",T(Input_Output!Z180),\"\")","v":""},null,null,{"$f":"IF(Input_Output!AB180=\"\",T(Input_Output!AC180),\"\")","v":""},null,null,{"$f":"IF(Input_Output!AE180=\"\",T(Input_Output!AF180),\"\")","v":""},null,null,{"$f":"IF(Input_Output!AH180=\"\",T(Input_Output!AI180),\"\")","v":""},null,null,{"$f":"IF(Input_Output!AK180=\"\",T(Input_Output!AL180),\"\")","v":""},null,null,{"$f":"IF(Input_Output!AN180=\"\",T(Input_Output!AO180),\"\")","v":""},null,null,{"$f":"IF(Input_Output!AQ180=\"\",T(Input_Output!AR180),\"\")","v":""},null,null,{"$f":"IF(Input_Output!AT180=\"\",T(Input_Output!AU180),\"\")","v":""},null,null,{"$f":"IF(Input_Output!AW180=\"\",T(Input_Output!AX180),\"\")","v":""},null,null,{"$f":"IF(Input_Output!AZ180=\"\",T(Input_Output!BA180),\"\")","v":""},null,null,{"$f":"IF(Input_Output!BC180=\"\",T(Input_Output!BD180),\"\")","v":""},null,null,{"$f":"IF(Input_Output!BF180=\"\",T(Input_Output!BG180),\"\")","v":""},null,null,{"$f":"IF(Input_Output!BI180=\"\",T(Input_Output!BJ180),\"\")","v":""},null,null,{"$f":"IF(Input_Output!BL180=\"\",T(Input_Output!BM180),\"\")","v":""},null,null,{"$f":"IF(Input_Output!BO180=\"\",T(Input_Output!BP180),\"\")","v":""},null,null,{"$f":"IF(Input_Output!BR180=\"\",T(Input_Output!BS180),\"\")","v":""},null,null,{"$f":"IF(Input_Output!BU180=\"\",T(Input_Output!BV180),\"\")","v":""},null,null,{"$f":"IF(Input_Output!BX180=\"\",T(Input_Output!BY180),\"\")","v":""},null,null,{"$f":"IF(Input_Output!CA180=\"\",T(Input_Output!CB180),\"\")","v":""},null,null,{"$f":"IF(Input_Output!CD180=\"\",T(Input_Output!CE180),\"\")","v":""},null,null,{"$f":"IF(Input_Output!CG180=\"\",T(Input_Output!CH180),\"\")","v":""},null,null,{"$f":"IF(Input_Output!CJ180=\"\",T(Input_Output!CK180),\"\")","v":""},null,null,{"$f":"IF(Input_Output!CM180=\"\",T(Input_Output!CN180),\"\")","v":""},null,null,{"$f":"IF(Input_Output!CP180=\"\",T(Input_Output!CQ180),\"\")","v":""},null,null,{"$f":"IF(Input_Output!CS180=\"\",T(Input_Output!CT180),\"\")","v":""},null,null,{"$f":"IF(Input_Output!CV180=\"\",T(Input_Output!CW180),\"\")","v":""},null,null,{"$f":"IF(Input_Output!CY180=\"\",T(Input_Output!CZ180),\"\")","v":""},null,null,{"$f":"IF(Input_Output!DB180=\"\",T(Input_Output!DC180),\"\")","v":""},null,null,{"$f":"IF(Input_Output!DE180=\"\",T(Input_Output!DF180),\"\")","v":""},null,null,{"$f":"IF(Input_Output!DH180=\"\",T(Input_Output!DI180),\"\")","v":""},null,null,{"$f":"IF(Input_Output!DK180=\"\",T(Input_Output!DL180),\"\")","v":""},null,null,{"$f":"IF(Input_Output!DN180=\"\",T(Input_Output!DO180),\"\")","v":""},null,null,{"$f":"IF(Input_Output!DQ180=\"\",T(Input_Output!DR180),\"\")","v":""},null,null,{"$f":"IF(Input_Output!DT180=\"\",T(Input_Output!DU180),\"\")","v":""},null,null,{"$f":"IF(Input_Output!DW180=\"\",T(Input_Output!DX180),\"\")","v":""},null,null,{"$f":"IF(Input_Output!DZ180=\"\",T(Input_Output!EA180),\"\")","v":""},null,null,{"$f":"IF(Input_Output!EC180=\"\",T(Input_Output!ED180),\"\")","v":""},null,null,{"$f":"IF(Input_Output!EF180=\"\",T(Input_Output!EG180),\"\")","v":""},null,null,{"$f":"IF(Input_Output!EI180=\"\",T(Input_Output!EJ180),\"\")","v":""},null,null,{"$f":"IF(Input_Output!EL180=\"\",T(Input_Output!EM180),\"\")","v":""},null,null,{"$f":"IF(Input_Output!EO180=\"\",T(Input_Output!EP180),\"\")","v":""},null,null,{"$f":"IF(Input_Output!ER180=\"\",T(Input_Output!ES180),\"\")","v":""},null,null,{"$f":"IF(Input_Output!EU180=\"\",T(Input_Output!EV180),\"\")","v":""},null,null,{"$f":"IF(Input_Output!EX180=\"\",T(Input_Output!EY180),\"\")","v":""},null,null,{"$f":"IF(Input_Output!FA180=\"\",T(Input_Output!FB180),\"\")","v":""},null,null,{"$f":"IF(Input_Output!FD180=\"\",T(Input_Output!FE180),\"\")","v":""},null,null,{"$f":"IF(Input_Output!FG180=\"\",T(Input_Output!FH180),\"\")","v":""},null,null,{"$f":"IF(Input_Output!FJ180=\"\",T(Input_Output!FK180),\"\")","v":""},null,null,{"$f":"IF(Input_Output!FM180=\"\",T(Input_Output!FN180),\"\")","v":""},null,null,{"$f":"IF(Input_Output!FP180=\"\",T(Input_Output!FQ180),\"\")","v":""},null,null,{"$f":"IF(Input_Output!FS180=\"\",T(Input_Output!FT180),\"\")","v":""},null,null,{"$f":"IF(Input_Output!FV180=\"\",T(Input_Output!FW180),\"\")","v":""},null,null,{"$f":"IF(Input_Output!FY180=\"\",T(Input_Output!FZ180),\"\")","v":""},null,null,{"$f":"IF(Input_Output!GB180=\"\",T(Input_Output!GC180),\"\")","v":""},null,null,{"$f":"IF(Input_Output!GE180=\"\",T(Input_Output!GF180),\"\")","v":""},null,null,{"$f":"IF(Input_Output!GH180=\"\",T(Input_Output!GI180),\"\")","v":""},null,null,{"$f":"IF(Input_Output!GK180=\"\",T(Input_Output!GL180),\"\")","v":""},null,null,{"$f":"IF(Input_Output!GN180=\"\",T(Input_Output!GO180),\"\")","v":""},null,null,{"$f":"IF(Input_Output!GQ180=\"\",T(Input_Output!GR180),\"\")","v":""},null,null,{"$f":"IF(Input_Output!GT180=\"\",T(Input_Output!GU180),\"\")","v":""},null,null,{"$f":"IF(Input_Output!GW180=\"\",T(Input_Output!GX180),\"\")","v":""},null,null,{"$f":"IF(Input_Output!GZ180=\"\",T(Input_Output!HA180),\"\")","v":""},null,null,{"$f":"IF(Input_Output!HC180=\"\",T(Input_Output!HD180),\"\")","v":""},null,null,{"$f":"IF(Input_Output!HF180=\"\",T(Input_Output!HG180),\"\")","v":""},null,null,{"$f":"IF(Input_Output!HI180=\"\",T(Input_Output!HJ180),\"\")","v":""},null,null,{"$f":"IF(Input_Output!HL180=\"\",T(Input_Output!HM180),\"\")","v":""},null,null,{"$f":"IF(Input_Output!HO180=\"\",T(Input_Output!HP180),\"\")","v":""},null,null,{"$f":"IF(Input_Output!HR180=\"\",T(Input_Output!HS180),\"\")","v":""},null,null,{"$f":"IF(Input_Output!HU180=\"\",T(Input_Output!HV180),\"\")","v":""},null,null,{"$f":"IF(Input_Output!HX180=\"\",T(Input_Output!HY180),\"\")","v":""},null,null,{"$f":"IF(Input_Output!IA180=\"\",T(Input_Output!IB180),\"\")","v":""},null,null,{"$f":"IF(Input_Output!ID180=\"\",T(Input_Output!IE180),\"\")","v":""},null,null,{"$f":"IF(Input_Output!IG180=\"\",T(Input_Output!IH180),\"\")","v":""},null,null,{"$f":"IF(Input_Output!IJ180=\"\",T(Input_Output!IK180),\"\")","v":""},null,null,{"$f":"IF(Input_Output!IM180=\"\",T(Input_Output!IN180),\"\")","v":""},null,null,{"$f":"IF(Input_Output!IP180=\"\",T(Input_Output!IQ180),\"\")","v":""},null,null,{"$f":"IF(Input_Output!IS180=\"\",T(Input_Output!IT180),\"\")","v":""}]
[null,null,null,null,{"$f":"IF(Input_Output!D181=\"\",T(Input_Output!E181),\"\")","v":""},null,null,{"$f":"IF(Input_Output!G181=\"\",T(Input_Output!H181),\"\")","v":""},null,null,{"$f":"IF(Input_Output!J181=\"\",T(Input_Output!K181),\"\")","v":""},null,null,{"$f":"IF(Input_Output!M181=\"\",T(Input_Output!N181),\"\")","v":""},null,null,{"$f":"IF(Input_Output!P181=\"\",T(Input_Output!Q181),\"\")","v":""},null,null,{"$f":"IF(Input_Output!S181=\"\",T(Input_Output!T181),\"\")","v":""},null,null,{"$f":"IF(Input_Output!V181=\"\",T(Input_Output!W181),\"\")","v":""},null,null,{"$f":"IF(Input_Output!Y181=\"\",T(Input_Output!Z181),\"\")","v":""},null,null,{"$f":"IF(Input_Output!AB181=\"\",T(Input_Output!AC181),\"\")","v":""},null,null,{"$f":"IF(Input_Output!AE181=\"\",T(Input_Output!AF181),\"\")","v":""},null,null,{"$f":"IF(Input_Output!AH181=\"\",T(Input_Output!AI181),\"\")","v":""},null,null,{"$f":"IF(Input_Output!AK181=\"\",T(Input_Output!AL181),\"\")","v":""},null,null,{"$f":"IF(Input_Output!AN181=\"\",T(Input_Output!AO181),\"\")","v":""},null,null,{"$f":"IF(Input_Output!AQ181=\"\",T(Input_Output!AR181),\"\")","v":""},null,null,{"$f":"IF(Input_Output!AT181=\"\",T(Input_Output!AU181),\"\")","v":""},null,null,{"$f":"IF(Input_Output!AW181=\"\",T(Input_Output!AX181),\"\")","v":""},null,null,{"$f":"IF(Input_Output!AZ181=\"\",T(Input_Output!BA181),\"\")","v":""},null,null,{"$f":"IF(Input_Output!BC181=\"\",T(Input_Output!BD181),\"\")","v":""},null,null,{"$f":"IF(Input_Output!BF181=\"\",T(Input_Output!BG181),\"\")","v":""},null,null,{"$f":"IF(Input_Output!BI181=\"\",T(Input_Output!BJ181),\"\")","v":""},null,null,{"$f":"IF(Input_Output!BL181=\"\",T(Input_Output!BM181),\"\")","v":""},null,null,{"$f":"IF(Input_Output!BO181=\"\",T(Input_Output!BP181),\"\")","v":""},null,null,{"$f":"IF(Input_Output!BR181=\"\",T(Input_Output!BS181),\"\")","v":""},null,null,{"$f":"IF(Input_Output!BU181=\"\",T(Input_Output!BV181),\"\")","v":""},null,null,{"$f":"IF(Input_Output!BX181=\"\",T(Input_Output!BY181),\"\")","v":""},null,null,{"$f":"IF(Input_Output!CA181=\"\",T(Input_Output!CB181),\"\")","v":""},null,null,{"$f":"IF(Input_Output!CD181=\"\",T(Input_Output!CE181),\"\")","v":""},null,null,{"$f":"IF(Input_Output!CG181=\"\",T(Input_Output!CH181),\"\")","v":""},null,null,{"$f":"IF(Input_Output!CJ181=\"\",T(Input_Output!CK181),\"\")","v":""},null,null,{"$f":"IF(Input_Output!CM181=\"\",T(Input_Output!CN181),\"\")","v":""},null,null,{"$f":"IF(Input_Output!CP181=\"\",T(Input_Output!CQ181),\"\")","v":""},null,null,{"$f":"IF(Input_Output!CS181=\"\",T(Input_Output!CT181),\"\")","v":""},null,null,{"$f":"IF(Input_Output!CV181=\"\",T(Input_Output!CW181),\"\")","v":""},null,null,{"$f":"IF(Input_Output!CY181=\"\",T(Input_Output!CZ181),\"\")","v":""},null,null,{"$f":"IF(Input_Output!DB181=\"\",T(Input_Output!DC181),\"\")","v":""},null,null,{"$f":"IF(Input_Output!DE181=\"\",T(Input_Output!DF181),\"\")","v":""},null,null,{"$f":"IF(Input_Output!DH181=\"\",T(Input_Output!DI181),\"\")","v":""},null,null,{"$f":"IF(Input_Output!DK181=\"\",T(Input_Output!DL181),\"\")","v":""},null,null,{"$f":"IF(Input_Output!DN181=\"\",T(Input_Output!DO181),\"\")","v":""},null,null,{"$f":"IF(Input_Output!DQ181=\"\",T(Input_Output!DR181),\"\")","v":""},null,null,{"$f":"IF(Input_Output!DT181=\"\",T(Input_Output!DU181),\"\")","v":""},null,null,{"$f":"IF(Input_Output!DW181=\"\",T(Input_Output!DX181),\"\")","v":""},null,null,{"$f":"IF(Input_Output!DZ181=\"\",T(Input_Output!EA181),\"\")","v":""},null,null,{"$f":"IF(Input_Output!EC181=\"\",T(Input_Output!ED181),\"\")","v":""},null,null,{"$f":"IF(Input_Output!EF181=\"\",T(Input_Output!EG181),\"\")","v":""},null,null,{"$f":"IF(Input_Output!EI181=\"\",T(Input_Output!EJ181),\"\")","v":""},null,null,{"$f":"IF(Input_Output!EL181=\"\",T(Input_Output!EM181),\"\")","v":""},null,null,{"$f":"IF(Input_Output!EO181=\"\",T(Input_Output!EP181),\"\")","v":""},null,null,{"$f":"IF(Input_Output!ER181=\"\",T(Input_Output!ES181),\"\")","v":""},null,null,{"$f":"IF(Input_Output!EU181=\"\",T(Input_Output!EV181),\"\")","v":""},null,null,{"$f":"IF(Input_Output!EX181=\"\",T(Input_Output!EY181),\"\")","v":""},null,null,{"$f":"IF(Input_Output!FA181=\"\",T(Input_Output!FB181),\"\")","v":""},null,null,{"$f":"IF(Input_Output!FD181=\"\",T(Input_Output!FE181),\"\")","v":""},null,null,{"$f":"IF(Input_Output!FG181=\"\",T(Input_Output!FH181),\"\")","v":""},null,null,{"$f":"IF(Input_Output!FJ181=\"\",T(Input_Output!FK181),\"\")","v":""},null,null,{"$f":"IF(Input_Output!FM181=\"\",T(Input_Output!FN181),\"\")","v":""},null,null,{"$f":"IF(Input_Output!FP181=\"\",T(Input_Output!FQ181),\"\")","v":""},null,null,{"$f":"IF(Input_Output!FS181=\"\",T(Input_Output!FT181),\"\")","v":""},null,null,{"$f":"IF(Input_Output!FV181=\"\",T(Input_Output!FW181),\"\")","v":""},null,null,{"$f":"IF(Input_Output!FY181=\"\",T(Input_Output!FZ181),\"\")","v":""},null,null,{"$f":"IF(Input_Output!GB181=\"\",T(Input_Output!GC181),\"\")","v":""},null,null,{"$f":"IF(Input_Output!GE181=\"\",T(Input_Output!GF181),\"\")","v":""},null,null,{"$f":"IF(Input_Output!GH181=\"\",T(Input_Output!GI181),\"\")","v":""},null,null,{"$f":"IF(Input_Output!GK181=\"\",T(Input_Output!GL181),\"\")","v":""},null,null,{"$f":"IF(Input_Output!GN181=\"\",T(Input_Output!GO181),\"\")","v":""},null,null,{"$f":"IF(Input_Output!GQ181=\"\",T(Input_Output!GR181),\"\")","v":""},null,null,{"$f":"IF(Input_Output!GT181=\"\",T(Input_Output!GU181),\"\")","v":""},null,null,{"$f":"IF(Input_Output!GW181=\"\",T(Input_Output!GX181),\"\")","v":""},null,null,{"$f":"IF(Input_Output!GZ181=\"\",T(Input_Output!HA181),\"\")","v":""},null,null,{"$f":"IF(Input_Output!HC181=\"\",T(Input_Output!HD181),\"\")","v":""},null,null,{"$f":"IF(Input_Output!HF181=\"\",T(Input_Output!HG181),\"\")","v":""},null,null,{"$f":"IF(Input_Output!HI181=\"\",T(Input_Output!HJ181),\"\")","v":""},null,null,{"$f":"IF(Input_Output!HL181=\"\",T(Input_Output!HM181),\"\")","v":""},null,null,{"$f":"IF(Input_Output!HO181=\"\",T(Input_Output!HP181),\"\")","v":""},null,null,{"$f":"IF(Input_Output!HR181=\"\",T(Input_Output!HS181),\"\")","v":""},null,null,{"$f":"IF(Input_Output!HU181=\"\",T(Input_Output!HV181),\"\")","v":""},null,null,{"$f":"IF(Input_Output!HX181=\"\",T(Input_Output!HY181),\"\")","v":""},null,null,{"$f":"IF(Input_Output!IA181=\"\",T(Input_Output!IB181),\"\")","v":""},null,null,{"$f":"IF(Input_Output!ID181=\"\",T(Input_Output!IE181),\"\")","v":""},null,null,{"$f":"IF(Input_Output!IG181=\"\",T(Input_Output!IH181),\"\")","v":""},null,null,{"$f":"IF(Input_Output!IJ181=\"\",T(Input_Output!IK181),\"\")","v":""},null,null,{"$f":"IF(Input_Output!IM181=\"\",T(Input_Output!IN181),\"\")","v":""},null,null,{"$f":"IF(Input_Output!IP181=\"\",T(Input_Output!IQ181),\"\")","v":""},null,null,{"$f":"IF(Input_Output!IS181=\"\",T(Input_Output!IT181),\"\")","v":""}]
[null,null,null,null,{"$f":"IF(Input_Output!D182=\"\",T(Input_Output!E182),\"\")","v":""},null,null,{"$f":"IF(Input_Output!G182=\"\",T(Input_Output!H182),\"\")","v":""},null,null,{"$f":"IF(Input_Output!J182=\"\",T(Input_Output!K182),\"\")","v":""},null,null,{"$f":"IF(Input_Output!M182=\"\",T(Input_Output!N182),\"\")","v":""},null,null,{"$f":"IF(Input_Output!P182=\"\",T(Input_Output!Q182),\"\")","v":""},null,null,{"$f":"IF(Input_Output!S182=\"\",T(Input_Output!T182),\"\")","v":""},null,null,{"$f":"IF(Input_Output!V182=\"\",T(Input_Output!W182),\"\")","v":""},null,null,{"$f":"IF(Input_Output!Y182=\"\",T(Input_Output!Z182),\"\")","v":""},null,null,{"$f":"IF(Input_Output!AB182=\"\",T(Input_Output!AC182),\"\")","v":""},null,null,{"$f":"IF(Input_Output!AE182=\"\",T(Input_Output!AF182),\"\")","v":""},null,null,{"$f":"IF(Input_Output!AH182=\"\",T(Input_Output!AI182),\"\")","v":""},null,null,{"$f":"IF(Input_Output!AK182=\"\",T(Input_Output!AL182),\"\")","v":""},null,null,{"$f":"IF(Input_Output!AN182=\"\",T(Input_Output!AO182),\"\")","v":""},null,null,{"$f":"IF(Input_Output!AQ182=\"\",T(Input_Output!AR182),\"\")","v":""},null,null,{"$f":"IF(Input_Output!AT182=\"\",T(Input_Output!AU182),\"\")","v":""},null,null,{"$f":"IF(Input_Output!AW182=\"\",T(Input_Output!AX182),\"\")","v":""},null,null,{"$f":"IF(Input_Output!AZ182=\"\",T(Input_Output!BA182),\"\")","v":""},null,null,{"$f":"IF(Input_Output!BC182=\"\",T(Input_Output!BD182),\"\")","v":""},null,null,{"$f":"IF(Input_Output!BF182=\"\",T(Input_Output!BG182),\"\")","v":""},null,null,{"$f":"IF(Input_Output!BI182=\"\",T(Input_Output!BJ182),\"\")","v":""},null,null,{"$f":"IF(Input_Output!BL182=\"\",T(Input_Output!BM182),\"\")","v":""},null,null,{"$f":"IF(Input_Output!BO182=\"\",T(Input_Output!BP182),\"\")","v":""},null,null,{"$f":"IF(Input_Output!BR182=\"\",T(Input_Output!BS182),\"\")","v":""},null,null,{"$f":"IF(Input_Output!BU182=\"\",T(Input_Output!BV182),\"\")","v":""},null,null,{"$f":"IF(Input_Output!BX182=\"\",T(Input_Output!BY182),\"\")","v":""},null,null,{"$f":"IF(Input_Output!CA182=\"\",T(Input_Output!CB182),\"\")","v":""},null,null,{"$f":"IF(Input_Output!CD182=\"\",T(Input_Output!CE182),\"\")","v":""},null,null,{"$f":"IF(Input_Output!CG182=\"\",T(Input_Output!CH182),\"\")","v":""},null,null,{"$f":"IF(Input_Output!CJ182=\"\",T(Input_Output!CK182),\"\")","v":""},null,null,{"$f":"IF(Input_Output!CM182=\"\",T(Input_Output!CN182),\"\")","v":""},null,null,{"$f":"IF(Input_Output!CP182=\"\",T(Input_Output!CQ182),\"\")","v":""},null,null,{"$f":"IF(Input_Output!CS182=\"\",T(Input_Output!CT182),\"\")","v":""},null,null,{"$f":"IF(Input_Output!CV182=\"\",T(Input_Output!CW182),\"\")","v":""},null,null,{"$f":"IF(Input_Output!CY182=\"\",T(Input_Output!CZ182),\"\")","v":""},null,null,{"$f":"IF(Input_Output!DB182=\"\",T(Input_Output!DC182),\"\")","v":""},null,null,{"$f":"IF(Input_Output!DE182=\"\",T(Input_Output!DF182),\"\")","v":""},null,null,{"$f":"IF(Input_Output!DH182=\"\",T(Input_Output!DI182),\"\")","v":""},null,null,{"$f":"IF(Input_Output!DK182=\"\",T(Input_Output!DL182),\"\")","v":""},null,null,{"$f":"IF(Input_Output!DN182=\"\",T(Input_Output!DO182),\"\")","v":""},null,null,{"$f":"IF(Input_Output!DQ182=\"\",T(Input_Output!DR182),\"\")","v":""},null,null,{"$f":"IF(Input_Output!DT182=\"\",T(Input_Output!DU182),\"\")","v":""},null,null,{"$f":"IF(Input_Output!DW182=\"\",T(Input_Output!DX182),\"\")","v":""},null,null,{"$f":"IF(Input_Output!DZ182=\"\",T(Input_Output!EA182),\"\")","v":""},null,null,{"$f":"IF(Input_Output!EC182=\"\",T(Input_Output!ED182),\"\")","v":""},null,null,{"$f":"IF(Input_Output!EF182=\"\",T(Input_Output!EG182),\"\")","v":""},null,null,{"$f":"IF(Input_Output!EI182=\"\",T(Input_Output!EJ182),\"\")","v":""},null,null,{"$f":"IF(Input_Output!EL182=\"\",T(Input_Output!EM182),\"\")","v":""},null,null,{"$f":"IF(Input_Output!EO182=\"\",T(Input_Output!EP182),\"\")","v":""},null,null,{"$f":"IF(Input_Output!ER182=\"\",T(Input_Output!ES182),\"\")","v":""},null,null,{"$f":"IF(Input_Output!EU182=\"\",T(Input_Output!EV182),\"\")","v":""},null,null,{"$f":"IF(Input_Output!EX182=\"\",T(Input_Output!EY182),\"\")","v":""},null,null,{"$f":"IF(Input_Output!FA182=\"\",T(Input_Output!FB182),\"\")","v":""},null,null,{"$f":"IF(Input_Output!FD182=\"\",T(Input_Output!FE182),\"\")","v":""},null,null,{"$f":"IF(Input_Output!FG182=\"\",T(Input_Output!FH182),\"\")","v":""},null,null,{"$f":"IF(Input_Output!FJ182=\"\",T(Input_Output!FK182),\"\")","v":""},null,null,{"$f":"IF(Input_Output!FM182=\"\",T(Input_Output!FN182),\"\")","v":""},null,null,{"$f":"IF(Input_Output!FP182=\"\",T(Input_Output!FQ182),\"\")","v":""},null,null,{"$f":"IF(Input_Output!FS182=\"\",T(Input_Output!FT182),\"\")","v":""},null,null,{"$f":"IF(Input_Output!FV182=\"\",T(Input_Output!FW182),\"\")","v":""},null,null,{"$f":"IF(Input_Output!FY182=\"\",T(Input_Output!FZ182),\"\")","v":""},null,null,{"$f":"IF(Input_Output!GB182=\"\",T(Input_Output!GC182),\"\")","v":""},null,null,{"$f":"IF(Input_Output!GE182=\"\",T(Input_Output!GF182),\"\")","v":""},null,null,{"$f":"IF(Input_Output!GH182=\"\",T(Input_Output!GI182),\"\")","v":""},null,null,{"$f":"IF(Input_Output!GK182=\"\",T(Input_Output!GL182),\"\")","v":""},null,null,{"$f":"IF(Input_Output!GN182=\"\",T(Input_Output!GO182),\"\")","v":""},null,null,{"$f":"IF(Input_Output!GQ182=\"\",T(Input_Output!GR182),\"\")","v":""},null,null,{"$f":"IF(Input_Output!GT182=\"\",T(Input_Output!GU182),\"\")","v":""},null,null,{"$f":"IF(Input_Output!GW182=\"\",T(Input_Output!GX182),\"\")","v":""},null,null,{"$f":"IF(Input_Output!GZ182=\"\",T(Input_Output!HA182),\"\")","v":""},null,null,{"$f":"IF(Input_Output!HC182=\"\",T(Input_Output!HD182),\"\")","v":""},null,null,{"$f":"IF(Input_Output!HF182=\"\",T(Input_Output!HG182),\"\")","v":""},null,null,{"$f":"IF(Input_Output!HI182=\"\",T(Input_Output!HJ182),\"\")","v":""},null,null,{"$f":"IF(Input_Output!HL182=\"\",T(Input_Output!HM182),\"\")","v":""},null,null,{"$f":"IF(Input_Output!HO182=\"\",T(Input_Output!HP182),\"\")","v":""},null,null,{"$f":"IF(Input_Output!HR182=\"\",T(Input_Output!HS182),\"\")","v":""},null,null,{"$f":"IF(Input_Output!HU182=\"\",T(Input_Output!HV182),\"\")","v":""},null,null,{"$f":"IF(Input_Output!HX182=\"\",T(Input_Output!HY182),\"\")","v":""},null,null,{"$f":"IF(Input_Output!IA182=\"\",T(Input_Output!IB182),\"\")","v":""},null,null,{"$f":"IF(Input_Output!ID182=\"\",T(Input_Output!IE182),\"\")","v":""},null,null,{"$f":"IF(Input_Output!IG182=\"\",T(Input_Output!IH182),\"\")","v":""},null,null,{"$f":"IF(Input_Output!IJ182=\"\",T(Input_Output!IK182),\"\")","v":""},null,null,{"$f":"IF(Input_Output!IM182=\"\",T(Input_Output!IN182),\"\")","v":""},null,null,{"$f":"IF(Input_Output!IP182=\"\",T(Input_Output!IQ182),\"\")","v":""},null,null,{"$f":"IF(Input_Output!IS182=\"\",T(Input_Output!IT182),\"\")","v":""}]
[null,null,null,null,{"$f":"IF(Input_Output!D183=\"\",T(Input_Output!E183),\"\")","v":""},null,null,{"$f":"IF(Input_Output!G183=\"\",T(Input_Output!H183),\"\")","v":""},null,null,{"$f":"IF(Input_Output!J183=\"\",T(Input_Output!K183),\"\")","v":""},null,null,{"$f":"IF(Input_Output!M183=\"\",T(Input_Output!N183),\"\")","v":""},null,null,{"$f":"IF(Input_Output!P183=\"\",T(Input_Output!Q183),\"\")","v":""},null,null,{"$f":"IF(Input_Output!S183=\"\",T(Input_Output!T183),\"\")","v":""},null,null,{"$f":"IF(Input_Output!V183=\"\",T(Input_Output!W183),\"\")","v":""},null,null,{"$f":"IF(Input_Output!Y183=\"\",T(Input_Output!Z183),\"\")","v":""},null,null,{"$f":"IF(Input_Output!AB183=\"\",T(Input_Output!AC183),\"\")","v":""},null,null,{"$f":"IF(Input_Output!AE183=\"\",T(Input_Output!AF183),\"\")","v":""},null,null,{"$f":"IF(Input_Output!AH183=\"\",T(Input_Output!AI183),\"\")","v":""},null,null,{"$f":"IF(Input_Output!AK183=\"\",T(Input_Output!AL183),\"\")","v":""},null,null,{"$f":"IF(Input_Output!AN183=\"\",T(Input_Output!AO183),\"\")","v":""},null,null,{"$f":"IF(Input_Output!AQ183=\"\",T(Input_Output!AR183),\"\")","v":""},null,null,{"$f":"IF(Input_Output!AT183=\"\",T(Input_Output!AU183),\"\")","v":""},null,null,{"$f":"IF(Input_Output!AW183=\"\",T(Input_Output!AX183),\"\")","v":""},null,null,{"$f":"IF(Input_Output!AZ183=\"\",T(Input_Output!BA183),\"\")","v":""},null,null,{"$f":"IF(Input_Output!BC183=\"\",T(Input_Output!BD183),\"\")","v":""},null,null,{"$f":"IF(Input_Output!BF183=\"\",T(Input_Output!BG183),\"\")","v":""},null,null,{"$f":"IF(Input_Output!BI183=\"\",T(Input_Output!BJ183),\"\")","v":""},null,null,{"$f":"IF(Input_Output!BL183=\"\",T(Input_Output!BM183),\"\")","v":""},null,null,{"$f":"IF(Input_Output!BO183=\"\",T(Input_Output!BP183),\"\")","v":""},null,null,{"$f":"IF(Input_Output!BR183=\"\",T(Input_Output!BS183),\"\")","v":""},null,null,{"$f":"IF(Input_Output!BU183=\"\",T(Input_Output!BV183),\"\")","v":""},null,null,{"$f":"IF(Input_Output!BX183=\"\",T(Input_Output!BY183),\"\")","v":""},null,null,{"$f":"IF(Input_Output!CA183=\"\",T(Input_Output!CB183),\"\")","v":""},null,null,{"$f":"IF(Input_Output!CD183=\"\",T(Input_Output!CE183),\"\")","v":""},null,null,{"$f":"IF(Input_Output!CG183=\"\",T(Input_Output!CH183),\"\")","v":""},null,null,{"$f":"IF(Input_Output!CJ183=\"\",T(Input_Output!CK183),\"\")","v":""},null,null,{"$f":"IF(Input_Output!CM183=\"\",T(Input_Output!CN183),\"\")","v":""},null,null,{"$f":"IF(Input_Output!CP183=\"\",T(Input_Output!CQ183),\"\")","v":""},null,null,{"$f":"IF(Input_Output!CS183=\"\",T(Input_Output!CT183),\"\")","v":""},null,null,{"$f":"IF(Input_Output!CV183=\"\",T(Input_Output!CW183),\"\")","v":""},null,null,{"$f":"IF(Input_Output!CY183=\"\",T(Input_Output!CZ183),\"\")","v":""},null,null,{"$f":"IF(Input_Output!DB183=\"\",T(Input_Output!DC183),\"\")","v":""},null,null,{"$f":"IF(Input_Output!DE183=\"\",T(Input_Output!DF183),\"\")","v":""},null,null,{"$f":"IF(Input_Output!DH183=\"\",T(Input_Output!DI183),\"\")","v":""},null,null,{"$f":"IF(Input_Output!DK183=\"\",T(Input_Output!DL183),\"\")","v":""},null,null,{"$f":"IF(Input_Output!DN183=\"\",T(Input_Output!DO183),\"\")","v":""},null,null,{"$f":"IF(Input_Output!DQ183=\"\",T(Input_Output!DR183),\"\")","v":""},null,null,{"$f":"IF(Input_Output!DT183=\"\",T(Input_Output!DU183),\"\")","v":""},null,null,{"$f":"IF(Input_Output!DW183=\"\",T(Input_Output!DX183),\"\")","v":""},null,null,{"$f":"IF(Input_Output!DZ183=\"\",T(Input_Output!EA183),\"\")","v":""},null,null,{"$f":"IF(Input_Output!EC183=\"\",T(Input_Output!ED183),\"\")","v":""},null,null,{"$f":"IF(Input_Output!EF183=\"\",T(Input_Output!EG183),\"\")","v":""},null,null,{"$f":"IF(Input_Output!EI183=\"\",T(Input_Output!EJ183),\"\")","v":""},null,null,{"$f":"IF(Input_Output!EL183=\"\",T(Input_Output!EM183),\"\")","v":""},null,null,{"$f":"IF(Input_Output!EO183=\"\",T(Input_Output!EP183),\"\")","v":""},null,null,{"$f":"IF(Input_Output!ER183=\"\",T(Input_Output!ES183),\"\")","v":""},null,null,{"$f":"IF(Input_Output!EU183=\"\",T(Input_Output!EV183),\"\")","v":""},null,null,{"$f":"IF(Input_Output!EX183=\"\",T(Input_Output!EY183),\"\")","v":""},null,null,{"$f":"IF(Input_Output!FA183=\"\",T(Input_Output!FB183),\"\")","v":""},null,null,{"$f":"IF(Input_Output!FD183=\"\",T(Input_Output!FE183),\"\")","v":""},null,null,{"$f":"IF(Input_Output!FG183=\"\",T(Input_Output!FH183),\"\")","v":""},null,null,{"$f":"IF(Input_Output!FJ183=\"\",T(Input_Output!FK183),\"\")","v":""},null,null,{"$f":"IF(Input_Output!FM183=\"\",T(Input_Output!FN183),\"\")","v":""},null,null,{"$f":"IF(Input_Output!FP183=\"\",T(Input_Output!FQ183),\"\")","v":""},null,null,{"$f":"IF(Input_Output!FS183=\"\",T(Input_Output!FT183),\"\")","v":""},null,null,{"$f":"IF(Input_Output!FV183=\"\",T(Input_Output!FW183),\"\")","v":""},null,null,{"$f":"IF(Input_Output!FY183=\"\",T(Input_Output!FZ183),\"\")","v":""},null,null,{"$f":"IF(Input_Output!GB183=\"\",T(Input_Output!GC183),\"\")","v":""},null,null,{"$f":"IF(Input_Output!GE183=\"\",T(Input_Output!GF183),\"\")","v":""},null,null,{"$f":"IF(Input_Output!GH183=\"\",T(Input_Output!GI183),\"\")","v":""},null,null,{"$f":"IF(Input_Output!GK183=\"\",T(Input_Output!GL183),\"\")","v":""},null,null,{"$f":"IF(Input_Output!GN183=\"\",T(Input_Output!GO183),\"\")","v":""},null,null,{"$f":"IF(Input_Output!GQ183=\"\",T(Input_Output!GR183),\"\")","v":""},null,null,{"$f":"IF(Input_Output!GT183=\"\",T(Input_Output!GU183),\"\")","v":""},null,null,{"$f":"IF(Input_Output!GW183=\"\",T(Input_Output!GX183),\"\")","v":""},null,null,{"$f":"IF(Input_Output!GZ183=\"\",T(Input_Output!HA183),\"\")","v":""},null,null,{"$f":"IF(Input_Output!HC183=\"\",T(Input_Output!HD183),\"\")","v":""},null,null,{"$f":"IF(Input_Output!HF183=\"\",T(Input_Output!HG183),\"\")","v":""},null,null,{"$f":"IF(Input_Output!HI183=\"\",T(Input_Output!HJ183),\"\")","v":""},null,null,{"$f":"IF(Input_Output!HL183=\"\",T(Input_Output!HM183),\"\")","v":""},null,null,{"$f":"IF(Input_Output!HO183=\"\",T(Input_Output!HP183),\"\")","v":""},null,null,{"$f":"IF(Input_Output!HR183=\"\",T(Input_Output!HS183),\"\")","v":""},null,null,{"$f":"IF(Input_Output!HU183=\"\",T(Input_Output!HV183),\"\")","v":""},null,null,{"$f":"IF(Input_Output!HX183=\"\",T(Input_Output!HY183),\"\")","v":""},null,null,{"$f":"IF(Input_Output!IA183=\"\",T(Input_Output!IB183),\"\")","v":""},null,null,{"$f":"IF(Input_Output!ID183=\"\",T(Input_Output!IE183),\"\")","v":""},null,null,{"$f":"IF(Input_Output!IG183=\"\",T(Input_Output!IH183),\"\")","v":""},null,null,{"$f":"IF(Input_Output!IJ183=\"\",T(Input_Output!IK183),\"\")","v":""},null,null,{"$f":"IF(Input_Output!IM183=\"\",T(Input_Output!IN183),\"\")","v":""},null,null,{"$f":"IF(Input_Output!IP183=\"\",T(Input_Output!IQ183),\"\")","v":""},null,null,{"$f":"IF(Input_Output!IS183=\"\",T(Input_Output!IT183),\"\")","v":""}]
[null,null,null,null,{"$f":"IF(Input_Output!D184=\"\",T(Input_Output!E184),\"\")","v":""},null,null,{"$f":"IF(Input_Output!G184=\"\",T(Input_Output!H184),\"\")","v":""},null,null,{"$f":"IF(Input_Output!J184=\"\",T(Input_Output!K184),\"\")","v":""},null,null,{"$f":"IF(Input_Output!M184=\"\",T(Input_Output!N184),\"\")","v":""},null,null,{"$f":"IF(Input_Output!P184=\"\",T(Input_Output!Q184),\"\")","v":""},null,null,{"$f":"IF(Input_Output!S184=\"\",T(Input_Output!T184),\"\")","v":""},null,null,{"$f":"IF(Input_Output!V184=\"\",T(Input_Output!W184),\"\")","v":""},null,null,{"$f":"IF(Input_Output!Y184=\"\",T(Input_Output!Z184),\"\")","v":""},null,null,{"$f":"IF(Input_Output!AB184=\"\",T(Input_Output!AC184),\"\")","v":""},null,null,{"$f":"IF(Input_Output!AE184=\"\",T(Input_Output!AF184),\"\")","v":""},null,null,{"$f":"IF(Input_Output!AH184=\"\",T(Input_Output!AI184),\"\")","v":""},null,null,{"$f":"IF(Input_Output!AK184=\"\",T(Input_Output!AL184),\"\")","v":""},null,null,{"$f":"IF(Input_Output!AN184=\"\",T(Input_Output!AO184),\"\")","v":""},null,null,{"$f":"IF(Input_Output!AQ184=\"\",T(Input_Output!AR184),\"\")","v":""},null,null,{"$f":"IF(Input_Output!AT184=\"\",T(Input_Output!AU184),\"\")","v":""},null,null,{"$f":"IF(Input_Output!AW184=\"\",T(Input_Output!AX184),\"\")","v":""},null,null,{"$f":"IF(Input_Output!AZ184=\"\",T(Input_Output!BA184),\"\")","v":""},null,null,{"$f":"IF(Input_Output!BC184=\"\",T(Input_Output!BD184),\"\")","v":""},null,null,{"$f":"IF(Input_Output!BF184=\"\",T(Input_Output!BG184),\"\")","v":""},null,null,{"$f":"IF(Input_Output!BI184=\"\",T(Input_Output!BJ184),\"\")","v":""},null,null,{"$f":"IF(Input_Output!BL184=\"\",T(Input_Output!BM184),\"\")","v":""},null,null,{"$f":"IF(Input_Output!BO184=\"\",T(Input_Output!BP184),\"\")","v":""},null,null,{"$f":"IF(Input_Output!BR184=\"\",T(Input_Output!BS184),\"\")","v":""},null,null,{"$f":"IF(Input_Output!BU184=\"\",T(Input_Output!BV184),\"\")","v":""},null,null,{"$f":"IF(Input_Output!BX184=\"\",T(Input_Output!BY184),\"\")","v":""},null,null,{"$f":"IF(Input_Output!CA184=\"\",T(Input_Output!CB184),\"\")","v":""},null,null,{"$f":"IF(Input_Output!CD184=\"\",T(Input_Output!CE184),\"\")","v":""},null,null,{"$f":"IF(Input_Output!CG184=\"\",T(Input_Output!CH184),\"\")","v":""},null,null,{"$f":"IF(Input_Output!CJ184=\"\",T(Input_Output!CK184),\"\")","v":""},null,null,{"$f":"IF(Input_Output!CM184=\"\",T(Input_Output!CN184),\"\")","v":""},null,null,{"$f":"IF(Input_Output!CP184=\"\",T(Input_Output!CQ184),\"\")","v":""},null,null,{"$f":"IF(Input_Output!CS184=\"\",T(Input_Output!CT184),\"\")","v":""},null,null,{"$f":"IF(Input_Output!CV184=\"\",T(Input_Output!CW184),\"\")","v":""},null,null,{"$f":"IF(Input_Output!CY184=\"\",T(Input_Output!CZ184),\"\")","v":""},null,null,{"$f":"IF(Input_Output!DB184=\"\",T(Input_Output!DC184),\"\")","v":""},null,null,{"$f":"IF(Input_Output!DE184=\"\",T(Input_Output!DF184),\"\")","v":""},null,null,{"$f":"IF(Input_Output!DH184=\"\",T(Input_Output!DI184),\"\")","v":""},null,null,{"$f":"IF(Input_Output!DK184=\"\",T(Input_Output!DL184),\"\")","v":""},null,null,{"$f":"IF(Input_Output!DN184=\"\",T(Input_Output!DO184),\"\")","v":""},null,null,{"$f":"IF(Input_Output!DQ184=\"\",T(Input_Output!DR184),\"\")","v":""},null,null,{"$f":"IF(Input_Output!DT184=\"\",T(Input_Output!DU184),\"\")","v":""},null,null,{"$f":"IF(Input_Output!DW184=\"\",T(Input_Output!DX184),\"\")","v":""},null,null,{"$f":"IF(Input_Output!DZ184=\"\",T(Input_Output!EA184),\"\")","v":""},null,null,{"$f":"IF(Input_Output!EC184=\"\",T(Input_Output!ED184),\"\")","v":""},null,null,{"$f":"IF(Input_Output!EF184=\"\",T(Input_Output!EG184),\"\")","v":""},null,null,{"$f":"IF(Input_Output!EI184=\"\",T(Input_Output!EJ184),\"\")","v":""},null,null,{"$f":"IF(Input_Output!EL184=\"\",T(Input_Output!EM184),\"\")","v":""},null,null,{"$f":"IF(Input_Output!EO184=\"\",T(Input_Output!EP184),\"\")","v":""},null,null,{"$f":"IF(Input_Output!ER184=\"\",T(Input_Output!ES184),\"\")","v":""},null,null,{"$f":"IF(Input_Output!EU184=\"\",T(Input_Output!EV184),\"\")","v":""},null,null,{"$f":"IF(Input_Output!EX184=\"\",T(Input_Output!EY184),\"\")","v":""},null,null,{"$f":"IF(Input_Output!FA184=\"\",T(Input_Output!FB184),\"\")","v":""},null,null,{"$f":"IF(Input_Output!FD184=\"\",T(Input_Output!FE184),\"\")","v":""},null,null,{"$f":"IF(Input_Output!FG184=\"\",T(Input_Output!FH184),\"\")","v":""},null,null,{"$f":"IF(Input_Output!FJ184=\"\",T(Input_Output!FK184),\"\")","v":""},null,null,{"$f":"IF(Input_Output!FM184=\"\",T(Input_Output!FN184),\"\")","v":""},null,null,{"$f":"IF(Input_Output!FP184=\"\",T(Input_Output!FQ184),\"\")","v":""},null,null,{"$f":"IF(Input_Output!FS184=\"\",T(Input_Output!FT184),\"\")","v":""},null,null,{"$f":"IF(Input_Output!FV184=\"\",T(Input_Output!FW184),\"\")","v":""},null,null,{"$f":"IF(Input_Output!FY184=\"\",T(Input_Output!FZ184),\"\")","v":""},null,null,{"$f":"IF(Input_Output!GB184=\"\",T(Input_Output!GC184),\"\")","v":""},null,null,{"$f":"IF(Input_Output!GE184=\"\",T(Input_Output!GF184),\"\")","v":""},null,null,{"$f":"IF(Input_Output!GH184=\"\",T(Input_Output!GI184),\"\")","v":""},null,null,{"$f":"IF(Input_Output!GK184=\"\",T(Input_Output!GL184),\"\")","v":""},null,null,{"$f":"IF(Input_Output!GN184=\"\",T(Input_Output!GO184),\"\")","v":""},null,null,{"$f":"IF(Input_Output!GQ184=\"\",T(Input_Output!GR184),\"\")","v":""},null,null,{"$f":"IF(Input_Output!GT184=\"\",T(Input_Output!GU184),\"\")","v":""},null,null,{"$f":"IF(Input_Output!GW184=\"\",T(Input_Output!GX184),\"\")","v":""},null,null,{"$f":"IF(Input_Output!GZ184=\"\",T(Input_Output!HA184),\"\")","v":""},null,null,{"$f":"IF(Input_Output!HC184=\"\",T(Input_Output!HD184),\"\")","v":""},null,null,{"$f":"IF(Input_Output!HF184=\"\",T(Input_Output!HG184),\"\")","v":""},null,null,{"$f":"IF(Input_Output!HI184=\"\",T(Input_Output!HJ184),\"\")","v":""},null,null,{"$f":"IF(Input_Output!HL184=\"\",T(Input_Output!HM184),\"\")","v":""},null,null,{"$f":"IF(Input_Output!HO184=\"\",T(Input_Output!HP184),\"\")","v":""},null,null,{"$f":"IF(Input_Output!HR184=\"\",T(Input_Output!HS184),\"\")","v":""},null,null,{"$f":"IF(Input_Output!HU184=\"\",T(Input_Output!HV184),\"\")","v":""},null,null,{"$f":"IF(Input_Output!HX184=\"\",T(Input_Output!HY184),\"\")","v":""},null,null,{"$f":"IF(Input_Output!IA184=\"\",T(Input_Output!IB184),\"\")","v":""},null,null,{"$f":"IF(Input_Output!ID184=\"\",T(Input_Output!IE184),\"\")","v":""},null,null,{"$f":"IF(Input_Output!IG184=\"\",T(Input_Output!IH184),\"\")","v":""},null,null,{"$f":"IF(Input_Output!IJ184=\"\",T(Input_Output!IK184),\"\")","v":""},null,null,{"$f":"IF(Input_Output!IM184=\"\",T(Input_Output!IN184),\"\")","v":""},null,null,{"$f":"IF(Input_Output!IP184=\"\",T(Input_Output!IQ184),\"\")","v":""},null,null,{"$f":"IF(Input_Output!IS184=\"\",T(Input_Output!IT184),\"\")","v":""}]
[null,null,null,null,{"$f":"IF(Input_Output!D185=\"\",T(Input_Output!E185),\"\")","v":""},null,null,{"$f":"IF(Input_Output!G185=\"\",T(Input_Output!H185),\"\")","v":""},null,null,{"$f":"IF(Input_Output!J185=\"\",T(Input_Output!K185),\"\")","v":""},null,null,{"$f":"IF(Input_Output!M185=\"\",T(Input_Output!N185),\"\")","v":""},null,null,{"$f":"IF(Input_Output!P185=\"\",T(Input_Output!Q185),\"\")","v":""},null,null,{"$f":"IF(Input_Output!S185=\"\",T(Input_Output!T185),\"\")","v":""},null,null,{"$f":"IF(Input_Output!V185=\"\",T(Input_Output!W185),\"\")","v":""},null,null,{"$f":"IF(Input_Output!Y185=\"\",T(Input_Output!Z185),\"\")","v":""},null,null,{"$f":"IF(Input_Output!AB185=\"\",T(Input_Output!AC185),\"\")","v":""},null,null,{"$f":"IF(Input_Output!AE185=\"\",T(Input_Output!AF185),\"\")","v":""},null,null,{"$f":"IF(Input_Output!AH185=\"\",T(Input_Output!AI185),\"\")","v":""},null,null,{"$f":"IF(Input_Output!AK185=\"\",T(Input_Output!AL185),\"\")","v":""},null,null,{"$f":"IF(Input_Output!AN185=\"\",T(Input_Output!AO185),\"\")","v":""},null,null,{"$f":"IF(Input_Output!AQ185=\"\",T(Input_Output!AR185),\"\")","v":""},null,null,{"$f":"IF(Input_Output!AT185=\"\",T(Input_Output!AU185),\"\")","v":""},null,null,{"$f":"IF(Input_Output!AW185=\"\",T(Input_Output!AX185),\"\")","v":""},null,null,{"$f":"IF(Input_Output!AZ185=\"\",T(Input_Output!BA185),\"\")","v":""},null,null,{"$f":"IF(Input_Output!BC185=\"\",T(Input_Output!BD185),\"\")","v":""},null,null,{"$f":"IF(Input_Output!BF185=\"\",T(Input_Output!BG185),\"\")","v":""},null,null,{"$f":"IF(Input_Output!BI185=\"\",T(Input_Output!BJ185),\"\")","v":""},null,null,{"$f":"IF(Input_Output!BL185=\"\",T(Input_Output!BM185),\"\")","v":""},null,null,{"$f":"IF(Input_Output!BO185=\"\",T(Input_Output!BP185),\"\")","v":""},null,null,{"$f":"IF(Input_Output!BR185=\"\",T(Input_Output!BS185),\"\")","v":""},null,null,{"$f":"IF(Input_Output!BU185=\"\",T(Input_Output!BV185),\"\")","v":""},null,null,{"$f":"IF(Input_Output!BX185=\"\",T(Input_Output!BY185),\"\")","v":""},null,null,{"$f":"IF(Input_Output!CA185=\"\",T(Input_Output!CB185),\"\")","v":""},null,null,{"$f":"IF(Input_Output!CD185=\"\",T(Input_Output!CE185),\"\")","v":""},null,null,{"$f":"IF(Input_Output!CG185=\"\",T(Input_Output!CH185),\"\")","v":""},null,null,{"$f":"IF(Input_Output!CJ185=\"\",T(Input_Output!CK185),\"\")","v":""},null,null,{"$f":"IF(Input_Output!CM185=\"\",T(Input_Output!CN185),\"\")","v":""},null,null,{"$f":"IF(Input_Output!CP185=\"\",T(Input_Output!CQ185),\"\")","v":""},null,null,{"$f":"IF(Input_Output!CS185=\"\",T(Input_Output!CT185),\"\")","v":""},null,null,{"$f":"IF(Input_Output!CV185=\"\",T(Input_Output!CW185),\"\")","v":""},null,null,{"$f":"IF(Input_Output!CY185=\"\",T(Input_Output!CZ185),\"\")","v":""},null,null,{"$f":"IF(Input_Output!DB185=\"\",T(Input_Output!DC185),\"\")","v":""},null,null,{"$f":"IF(Input_Output!DE185=\"\",T(Input_Output!DF185),\"\")","v":""},null,null,{"$f":"IF(Input_Output!DH185=\"\",T(Input_Output!DI185),\"\")","v":""},null,null,{"$f":"IF(Input_Output!DK185=\"\",T(Input_Output!DL185),\"\")","v":""},null,null,{"$f":"IF(Input_Output!DN185=\"\",T(Input_Output!DO185),\"\")","v":""},null,null,{"$f":"IF(Input_Output!DQ185=\"\",T(Input_Output!DR185),\"\")","v":""},null,null,{"$f":"IF(Input_Output!DT185=\"\",T(Input_Output!DU185),\"\")","v":""},null,null,{"$f":"IF(Input_Output!DW185=\"\",T(Input_Output!DX185),\"\")","v":""},null,null,{"$f":"IF(Input_Output!DZ185=\"\",T(Input_Output!EA185),\"\")","v":""},null,null,{"$f":"IF(Input_Output!EC185=\"\",T(Input_Output!ED185),\"\")","v":""},null,null,{"$f":"IF(Input_Output!EF185=\"\",T(Input_Output!EG185),\"\")","v":""},null,null,{"$f":"IF(Input_Output!EI185=\"\",T(Input_Output!EJ185),\"\")","v":""},null,null,{"$f":"IF(Input_Output!EL185=\"\",T(Input_Output!EM185),\"\")","v":""},null,null,{"$f":"IF(Input_Output!EO185=\"\",T(Input_Output!EP185),\"\")","v":""},null,null,{"$f":"IF(Input_Output!ER185=\"\",T(Input_Output!ES185),\"\")","v":""},null,null,{"$f":"IF(Input_Output!EU185=\"\",T(Input_Output!EV185),\"\")","v":""},null,null,{"$f":"IF(Input_Output!EX185=\"\",T(Input_Output!EY185),\"\")","v":""},null,null,{"$f":"IF(Input_Output!FA185=\"\",T(Input_Output!FB185),\"\")","v":""},null,null,{"$f":"IF(Input_Output!FD185=\"\",T(Input_Output!FE185),\"\")","v":""},null,null,{"$f":"IF(Input_Output!FG185=\"\",T(Input_Output!FH185),\"\")","v":""},null,null,{"$f":"IF(Input_Output!FJ185=\"\",T(Input_Output!FK185),\"\")","v":""},null,null,{"$f":"IF(Input_Output!FM185=\"\",T(Input_Output!FN185),\"\")","v":""},null,null,{"$f":"IF(Input_Output!FP185=\"\",T(Input_Output!FQ185),\"\")","v":""},null,null,{"$f":"IF(Input_Output!FS185=\"\",T(Input_Output!FT185),\"\")","v":""},null,null,{"$f":"IF(Input_Output!FV185=\"\",T(Input_Output!FW185),\"\")","v":""},null,null,{"$f":"IF(Input_Output!FY185=\"\",T(Input_Output!FZ185),\"\")","v":""},null,null,{"$f":"IF(Input_Output!GB185=\"\",T(Input_Output!GC185),\"\")","v":""},null,null,{"$f":"IF(Input_Output!GE185=\"\",T(Input_Output!GF185),\"\")","v":""},null,null,{"$f":"IF(Input_Output!GH185=\"\",T(Input_Output!GI185),\"\")","v":""},null,null,{"$f":"IF(Input_Output!GK185=\"\",T(Input_Output!GL185),\"\")","v":""},null,null,{"$f":"IF(Input_Output!GN185=\"\",T(Input_Output!GO185),\"\")","v":""},null,null,{"$f":"IF(Input_Output!GQ185=\"\",T(Input_Output!GR185),\"\")","v":""},null,null,{"$f":"IF(Input_Output!GT185=\"\",T(Input_Output!GU185),\"\")","v":""},null,null,{"$f":"IF(Input_Output!GW185=\"\",T(Input_Output!GX185),\"\")","v":""},null,null,{"$f":"IF(Input_Output!GZ185=\"\",T(Input_Output!HA185),\"\")","v":""},null,null,{"$f":"IF(Input_Output!HC185=\"\",T(Input_Output!HD185),\"\")","v":""},null,null,{"$f":"IF(Input_Output!HF185=\"\",T(Input_Output!HG185),\"\")","v":""},null,null,{"$f":"IF(Input_Output!HI185=\"\",T(Input_Output!HJ185),\"\")","v":""},null,null,{"$f":"IF(Input_Output!HL185=\"\",T(Input_Output!HM185),\"\")","v":""},null,null,{"$f":"IF(Input_Output!HO185=\"\",T(Input_Output!HP185),\"\")","v":""},null,null,{"$f":"IF(Input_Output!HR185=\"\",T(Input_Output!HS185),\"\")","v":""},null,null,{"$f":"IF(Input_Output!HU185=\"\",T(Input_Output!HV185),\"\")","v":""},null,null,{"$f":"IF(Input_Output!HX185=\"\",T(Input_Output!HY185),\"\")","v":""},null,null,{"$f":"IF(Input_Output!IA185=\"\",T(Input_Output!IB185),\"\")","v":""},null,null,{"$f":"IF(Input_Output!ID185=\"\",T(Input_Output!IE185),\"\")","v":""},null,null,{"$f":"IF(Input_Output!IG185=\"\",T(Input_Output!IH185),\"\")","v":""},null,null,{"$f":"IF(Input_Output!IJ185=\"\",T(Input_Output!IK185),\"\")","v":""},null,null,{"$f":"IF(Input_Output!IM185=\"\",T(Input_Output!IN185),\"\")","v":""},null,null,{"$f":"IF(Input_Output!IP185=\"\",T(Input_Output!IQ185),\"\")","v":""},null,null,{"$f":"IF(Input_Output!IS185=\"\",T(Input_Output!IT185),\"\")","v":""}]
[null,null,null,null,{"$f":"IF(Input_Output!D186=\"\",T(Input_Output!E186),\"\")","v":""},null,null,{"$f":"IF(Input_Output!G186=\"\",T(Input_Output!H186),\"\")","v":""},null,null,{"$f":"IF(Input_Output!J186=\"\",T(Input_Output!K186),\"\")","v":""},null,null,{"$f":"IF(Input_Output!M186=\"\",T(Input_Output!N186),\"\")","v":""},null,null,{"$f":"IF(Input_Output!P186=\"\",T(Input_Output!Q186),\"\")","v":""},null,null,{"$f":"IF(Input_Output!S186=\"\",T(Input_Output!T186),\"\")","v":""},null,null,{"$f":"IF(Input_Output!V186=\"\",T(Input_Output!W186),\"\")","v":""},null,null,{"$f":"IF(Input_Output!Y186=\"\",T(Input_Output!Z186),\"\")","v":""},null,null,{"$f":"IF(Input_Output!AB186=\"\",T(Input_Output!AC186),\"\")","v":""},null,null,{"$f":"IF(Input_Output!AE186=\"\",T(Input_Output!AF186),\"\")","v":""},null,null,{"$f":"IF(Input_Output!AH186=\"\",T(Input_Output!AI186),\"\")","v":""},null,null,{"$f":"IF(Input_Output!AK186=\"\",T(Input_Output!AL186),\"\")","v":""},null,null,{"$f":"IF(Input_Output!AN186=\"\",T(Input_Output!AO186),\"\")","v":""},null,null,{"$f":"IF(Input_Output!AQ186=\"\",T(Input_Output!AR186),\"\")","v":""},null,null,{"$f":"IF(Input_Output!AT186=\"\",T(Input_Output!AU186),\"\")","v":""},null,null,{"$f":"IF(Input_Output!AW186=\"\",T(Input_Output!AX186),\"\")","v":""},null,null,{"$f":"IF(Input_Output!AZ186=\"\",T(Input_Output!BA186),\"\")","v":""},null,null,{"$f":"IF(Input_Output!BC186=\"\",T(Input_Output!BD186),\"\")","v":""},null,null,{"$f":"IF(Input_Output!BF186=\"\",T(Input_Output!BG186),\"\")","v":""},null,null,{"$f":"IF(Input_Output!BI186=\"\",T(Input_Output!BJ186),\"\")","v":""},null,null,{"$f":"IF(Input_Output!BL186=\"\",T(Input_Output!BM186),\"\")","v":""},null,null,{"$f":"IF(Input_Output!BO186=\"\",T(Input_Output!BP186),\"\")","v":""},null,null,{"$f":"IF(Input_Output!BR186=\"\",T(Input_Output!BS186),\"\")","v":""},null,null,{"$f":"IF(Input_Output!BU186=\"\",T(Input_Output!BV186),\"\")","v":""},null,null,{"$f":"IF(Input_Output!BX186=\"\",T(Input_Output!BY186),\"\")","v":""},null,null,{"$f":"IF(Input_Output!CA186=\"\",T(Input_Output!CB186),\"\")","v":""},null,null,{"$f":"IF(Input_Output!CD186=\"\",T(Input_Output!CE186),\"\")","v":""},null,null,{"$f":"IF(Input_Output!CG186=\"\",T(Input_Output!CH186),\"\")","v":""},null,null,{"$f":"IF(Input_Output!CJ186=\"\",T(Input_Output!CK186),\"\")","v":""},null,null,{"$f":"IF(Input_Output!CM186=\"\",T(Input_Output!CN186),\"\")","v":""},null,null,{"$f":"IF(Input_Output!CP186=\"\",T(Input_Output!CQ186),\"\")","v":""},null,null,{"$f":"IF(Input_Output!CS186=\"\",T(Input_Output!CT186),\"\")","v":""},null,null,{"$f":"IF(Input_Output!CV186=\"\",T(Input_Output!CW186),\"\")","v":""},null,null,{"$f":"IF(Input_Output!CY186=\"\",T(Input_Output!CZ186),\"\")","v":""},null,null,{"$f":"IF(Input_Output!DB186=\"\",T(Input_Output!DC186),\"\")","v":""},null,null,{"$f":"IF(Input_Output!DE186=\"\",T(Input_Output!DF186),\"\")","v":""},null,null,{"$f":"IF(Input_Output!DH186=\"\",T(Input_Output!DI186),\"\")","v":""},null,null,{"$f":"IF(Input_Output!DK186=\"\",T(Input_Output!DL186),\"\")","v":""},null,null,{"$f":"IF(Input_Output!DN186=\"\",T(Input_Output!DO186),\"\")","v":""},null,null,{"$f":"IF(Input_Output!DQ186=\"\",T(Input_Output!DR186),\"\")","v":""},null,null,{"$f":"IF(Input_Output!DT186=\"\",T(Input_Output!DU186),\"\")","v":""},null,null,{"$f":"IF(Input_Output!DW186=\"\",T(Input_Output!DX186),\"\")","v":""},null,null,{"$f":"IF(Input_Output!DZ186=\"\",T(Input_Output!EA186),\"\")","v":""},null,null,{"$f":"IF(Input_Output!EC186=\"\",T(Input_Output!ED186),\"\")","v":""},null,null,{"$f":"IF(Input_Output!EF186=\"\",T(Input_Output!EG186),\"\")","v":""},null,null,{"$f":"IF(Input_Output!EI186=\"\",T(Input_Output!EJ186),\"\")","v":""},null,null,{"$f":"IF(Input_Output!EL186=\"\",T(Input_Output!EM186),\"\")","v":""},null,null,{"$f":"IF(Input_Output!EO186=\"\",T(Input_Output!EP186),\"\")","v":""},null,null,{"$f":"IF(Input_Output!ER186=\"\",T(Input_Output!ES186),\"\")","v":""},null,null,{"$f":"IF(Input_Output!EU186=\"\",T(Input_Output!EV186),\"\")","v":""},null,null,{"$f":"IF(Input_Output!EX186=\"\",T(Input_Output!EY186),\"\")","v":""},null,null,{"$f":"IF(Input_Output!FA186=\"\",T(Input_Output!FB186),\"\")","v":""},null,null,{"$f":"IF(Input_Output!FD186=\"\",T(Input_Output!FE186),\"\")","v":""},null,null,{"$f":"IF(Input_Output!FG186=\"\",T(Input_Output!FH186),\"\")","v":""},null,null,{"$f":"IF(Input_Output!FJ186=\"\",T(Input_Output!FK186),\"\")","v":""},null,null,{"$f":"IF(Input_Output!FM186=\"\",T(Input_Output!FN186),\"\")","v":""},null,null,{"$f":"IF(Input_Output!FP186=\"\",T(Input_Output!FQ186),\"\")","v":""},null,null,{"$f":"IF(Input_Output!FS186=\"\",T(Input_Output!FT186),\"\")","v":""},null,null,{"$f":"IF(Input_Output!FV186=\"\",T(Input_Output!FW186),\"\")","v":""},null,null,{"$f":"IF(Input_Output!FY186=\"\",T(Input_Output!FZ186),\"\")","v":""},null,null,{"$f":"IF(Input_Output!GB186=\"\",T(Input_Output!GC186),\"\")","v":""},null,null,{"$f":"IF(Input_Output!GE186=\"\",T(Input_Output!GF186),\"\")","v":""},null,null,{"$f":"IF(Input_Output!GH186=\"\",T(Input_Output!GI186),\"\")","v":""},null,null,{"$f":"IF(Input_Output!GK186=\"\",T(Input_Output!GL186),\"\")","v":""},null,null,{"$f":"IF(Input_Output!GN186=\"\",T(Input_Output!GO186),\"\")","v":""},null,null,{"$f":"IF(Input_Output!GQ186=\"\",T(Input_Output!GR186),\"\")","v":""},null,null,{"$f":"IF(Input_Output!GT186=\"\",T(Input_Output!GU186),\"\")","v":""},null,null,{"$f":"IF(Input_Output!GW186=\"\",T(Input_Output!GX186),\"\")","v":""},null,null,{"$f":"IF(Input_Output!GZ186=\"\",T(Input_Output!HA186),\"\")","v":""},null,null,{"$f":"IF(Input_Output!HC186=\"\",T(Input_Output!HD186),\"\")","v":""},null,null,{"$f":"IF(Input_Output!HF186=\"\",T(Input_Output!HG186),\"\")","v":""},null,null,{"$f":"IF(Input_Output!HI186=\"\",T(Input_Output!HJ186),\"\")","v":""},null,null,{"$f":"IF(Input_Output!HL186=\"\",T(Input_Output!HM186),\"\")","v":""},null,null,{"$f":"IF(Input_Output!HO186=\"\",T(Input_Output!HP186),\"\")","v":""},null,null,{"$f":"IF(Input_Output!HR186=\"\",T(Input_Output!HS186),\"\")","v":""},null,null,{"$f":"IF(Input_Output!HU186=\"\",T(Input_Output!HV186),\"\")","v":""},null,null,{"$f":"IF(Input_Output!HX186=\"\",T(Input_Output!HY186),\"\")","v":""},null,null,{"$f":"IF(Input_Output!IA186=\"\",T(Input_Output!IB186),\"\")","v":""},null,null,{"$f":"IF(Input_Output!ID186=\"\",T(Input_Output!IE186),\"\")","v":""},null,null,{"$f":"IF(Input_Output!IG186=\"\",T(Input_Output!IH186),\"\")","v":""},null,null,{"$f":"IF(Input_Output!IJ186=\"\",T(Input_Output!IK186),\"\")","v":""},null,null,{"$f":"IF(Input_Output!IM186=\"\",T(Input_Output!IN186),\"\")","v":""},null,null,{"$f":"IF(Input_Output!IP186=\"\",T(Input_Output!IQ186),\"\")","v":""},null,null,{"$f":"IF(Input_Output!IS186=\"\",T(Input_Output!IT186),\"\")","v":""}]
[null,null,null,null,{"$f":"IF(Input_Output!D187=\"\",T(Input_Output!E187),\"\")","v":""},null,null,{"$f":"IF(Input_Output!G187=\"\",T(Input_Output!H187),\"\")","v":""},null,null,{"$f":"IF(Input_Output!J187=\"\",T(Input_Output!K187),\"\")","v":""},null,null,{"$f":"IF(Input_Output!M187=\"\",T(Input_Output!N187),\"\")","v":""},null,null,{"$f":"IF(Input_Output!P187=\"\",T(Input_Output!Q187),\"\")","v":""},null,null,{"$f":"IF(Input_Output!S187=\"\",T(Input_Output!T187),\"\")","v":""},null,null,{"$f":"IF(Input_Output!V187=\"\",T(Input_Output!W187),\"\")","v":""},null,null,{"$f":"IF(Input_Output!Y187=\"\",T(Input_Output!Z187),\"\")","v":""},null,null,{"$f":"IF(Input_Output!AB187=\"\",T(Input_Output!AC187),\"\")","v":""},null,null,{"$f":"IF(Input_Output!AE187=\"\",T(Input_Output!AF187),\"\")","v":""},null,null,{"$f":"IF(Input_Output!AH187=\"\",T(Input_Output!AI187),\"\")","v":""},null,null,{"$f":"IF(Input_Output!AK187=\"\",T(Input_Output!AL187),\"\")","v":""},null,null,{"$f":"IF(Input_Output!AN187=\"\",T(Input_Output!AO187),\"\")","v":""},null,null,{"$f":"IF(Input_Output!AQ187=\"\",T(Input_Output!AR187),\"\")","v":""},null,null,{"$f":"IF(Input_Output!AT187=\"\",T(Input_Output!AU187),\"\")","v":""},null,null,{"$f":"IF(Input_Output!AW187=\"\",T(Input_Output!AX187),\"\")","v":""},null,null,{"$f":"IF(Input_Output!AZ187=\"\",T(Input_Output!BA187),\"\")","v":""},null,null,{"$f":"IF(Input_Output!BC187=\"\",T(Input_Output!BD187),\"\")","v":""},null,null,{"$f":"IF(Input_Output!BF187=\"\",T(Input_Output!BG187),\"\")","v":""},null,null,{"$f":"IF(Input_Output!BI187=\"\",T(Input_Output!BJ187),\"\")","v":""},null,null,{"$f":"IF(Input_Output!BL187=\"\",T(Input_Output!BM187),\"\")","v":""},null,null,{"$f":"IF(Input_Output!BO187=\"\",T(Input_Output!BP187),\"\")","v":""},null,null,{"$f":"IF(Input_Output!BR187=\"\",T(Input_Output!BS187),\"\")","v":""},null,null,{"$f":"IF(Input_Output!BU187=\"\",T(Input_Output!BV187),\"\")","v":""},null,null,{"$f":"IF(Input_Output!BX187=\"\",T(Input_Output!BY187),\"\")","v":""},null,null,{"$f":"IF(Input_Output!CA187=\"\",T(Input_Output!CB187),\"\")","v":""},null,null,{"$f":"IF(Input_Output!CD187=\"\",T(Input_Output!CE187),\"\")","v":""},null,null,{"$f":"IF(Input_Output!CG187=\"\",T(Input_Output!CH187),\"\")","v":""},null,null,{"$f":"IF(Input_Output!CJ187=\"\",T(Input_Output!CK187),\"\")","v":""},null,null,{"$f":"IF(Input_Output!CM187=\"\",T(Input_Output!CN187),\"\")","v":""},null,null,{"$f":"IF(Input_Output!CP187=\"\",T(Input_Output!CQ187),\"\")","v":""},null,null,{"$f":"IF(Input_Output!CS187=\"\",T(Input_Output!CT187),\"\")","v":""},null,null,{"$f":"IF(Input_Output!CV187=\"\",T(Input_Output!CW187),\"\")","v":""},null,null,{"$f":"IF(Input_Output!CY187=\"\",T(Input_Output!CZ187),\"\")","v":""},null,null,{"$f":"IF(Input_Output!DB187=\"\",T(Input_Output!DC187),\"\")","v":""},null,null,{"$f":"IF(Input_Output!DE187=\"\",T(Input_Output!DF187),\"\")","v":""},null,null,{"$f":"IF(Input_Output!DH187=\"\",T(Input_Output!DI187),\"\")","v":""},null,null,{"$f":"IF(Input_Output!DK187=\"\",T(Input_Output!DL187),\"\")","v":""},null,null,{"$f":"IF(Input_Output!DN187=\"\",T(Input_Output!DO187),\"\")","v":""},null,null,{"$f":"IF(Input_Output!DQ187=\"\",T(Input_Output!DR187),\"\")","v":""},null,null,{"$f":"IF(Input_Output!DT187=\"\",T(Input_Output!DU187),\"\")","v":""},null,null,{"$f":"IF(Input_Output!DW187=\"\",T(Input_Output!DX187),\"\")","v":""},null,null,{"$f":"IF(Input_Output!DZ187=\"\",T(Input_Output!EA187),\"\")","v":""},null,null,{"$f":"IF(Input_Output!EC187=\"\",T(Input_Output!ED187),\"\")","v":""},null,null,{"$f":"IF(Input_Output!EF187=\"\",T(Input_Output!EG187),\"\")","v":""},null,null,{"$f":"IF(Input_Output!EI187=\"\",T(Input_Output!EJ187),\"\")","v":""},null,null,{"$f":"IF(Input_Output!EL187=\"\",T(Input_Output!EM187),\"\")","v":""},null,null,{"$f":"IF(Input_Output!EO187=\"\",T(Input_Output!EP187),\"\")","v":""},null,null,{"$f":"IF(Input_Output!ER187=\"\",T(Input_Output!ES187),\"\")","v":""},null,null,{"$f":"IF(Input_Output!EU187=\"\",T(Input_Output!EV187),\"\")","v":""},null,null,{"$f":"IF(Input_Output!EX187=\"\",T(Input_Output!EY187),\"\")","v":""},null,null,{"$f":"IF(Input_Output!FA187=\"\",T(Input_Output!FB187),\"\")","v":""},null,null,{"$f":"IF(Input_Output!FD187=\"\",T(Input_Output!FE187),\"\")","v":""},null,null,{"$f":"IF(Input_Output!FG187=\"\",T(Input_Output!FH187),\"\")","v":""},null,null,{"$f":"IF(Input_Output!FJ187=\"\",T(Input_Output!FK187),\"\")","v":""},null,null,{"$f":"IF(Input_Output!FM187=\"\",T(Input_Output!FN187),\"\")","v":""},null,null,{"$f":"IF(Input_Output!FP187=\"\",T(Input_Output!FQ187),\"\")","v":""},null,null,{"$f":"IF(Input_Output!FS187=\"\",T(Input_Output!FT187),\"\")","v":""},null,null,{"$f":"IF(Input_Output!FV187=\"\",T(Input_Output!FW187),\"\")","v":""},null,null,{"$f":"IF(Input_Output!FY187=\"\",T(Input_Output!FZ187),\"\")","v":""},null,null,{"$f":"IF(Input_Output!GB187=\"\",T(Input_Output!GC187),\"\")","v":""},null,null,{"$f":"IF(Input_Output!GE187=\"\",T(Input_Output!GF187),\"\")","v":""},null,null,{"$f":"IF(Input_Output!GH187=\"\",T(Input_Output!GI187),\"\")","v":""},null,null,{"$f":"IF(Input_Output!GK187=\"\",T(Input_Output!GL187),\"\")","v":""},null,null,{"$f":"IF(Input_Output!GN187=\"\",T(Input_Output!GO187),\"\")","v":""},null,null,{"$f":"IF(Input_Output!GQ187=\"\",T(Input_Output!GR187),\"\")","v":""},null,null,{"$f":"IF(Input_Output!GT187=\"\",T(Input_Output!GU187),\"\")","v":""},null,null,{"$f":"IF(Input_Output!GW187=\"\",T(Input_Output!GX187),\"\")","v":""},null,null,{"$f":"IF(Input_Output!GZ187=\"\",T(Input_Output!HA187),\"\")","v":""},null,null,{"$f":"IF(Input_Output!HC187=\"\",T(Input_Output!HD187),\"\")","v":""},null,null,{"$f":"IF(Input_Output!HF187=\"\",T(Input_Output!HG187),\"\")","v":""},null,null,{"$f":"IF(Input_Output!HI187=\"\",T(Input_Output!HJ187),\"\")","v":""},null,null,{"$f":"IF(Input_Output!HL187=\"\",T(Input_Output!HM187),\"\")","v":""},null,null,{"$f":"IF(Input_Output!HO187=\"\",T(Input_Output!HP187),\"\")","v":""},null,null,{"$f":"IF(Input_Output!HR187=\"\",T(Input_Output!HS187),\"\")","v":""},null,null,{"$f":"IF(Input_Output!HU187=\"\",T(Input_Output!HV187),\"\")","v":""},null,null,{"$f":"IF(Input_Output!HX187=\"\",T(Input_Output!HY187),\"\")","v":""},null,null,{"$f":"IF(Input_Output!IA187=\"\",T(Input_Output!IB187),\"\")","v":""},null,null,{"$f":"IF(Input_Output!ID187=\"\",T(Input_Output!IE187),\"\")","v":""},null,null,{"$f":"IF(Input_Output!IG187=\"\",T(Input_Output!IH187),\"\")","v":""},null,null,{"$f":"IF(Input_Output!IJ187=\"\",T(Input_Output!IK187),\"\")","v":""},null,null,{"$f":"IF(Input_Output!IM187=\"\",T(Input_Output!IN187),\"\")","v":""},null,null,{"$f":"IF(Input_Output!IP187=\"\",T(Input_Output!IQ187),\"\")","v":""},null,null,{"$f":"IF(Input_Output!IS187=\"\",T(Input_Output!IT187),\"\")","v":""}]
[null,null,null,null,{"$f":"IF(Input_Output!D188=\"\",T(Input_Output!E188),\"\")","v":""},null,null,{"$f":"IF(Input_Output!G188=\"\",T(Input_Output!H188),\"\")","v":""},null,null,{"$f":"IF(Input_Output!J188=\"\",T(Input_Output!K188),\"\")","v":""},null,null,{"$f":"IF(Input_Output!M188=\"\",T(Input_Output!N188),\"\")","v":""},null,null,{"$f":"IF(Input_Output!P188=\"\",T(Input_Output!Q188),\"\")","v":""},null,null,{"$f":"IF(Input_Output!S188=\"\",T(Input_Output!T188),\"\")","v":""},null,null,{"$f":"IF(Input_Output!V188=\"\",T(Input_Output!W188),\"\")","v":""},null,null,{"$f":"IF(Input_Output!Y188=\"\",T(Input_Output!Z188),\"\")","v":""},null,null,{"$f":"IF(Input_Output!AB188=\"\",T(Input_Output!AC188),\"\")","v":""},null,null,{"$f":"IF(Input_Output!AE188=\"\",T(Input_Output!AF188),\"\")","v":""},null,null,{"$f":"IF(Input_Output!AH188=\"\",T(Input_Output!AI188),\"\")","v":""},null,null,{"$f":"IF(Input_Output!AK188=\"\",T(Input_Output!AL188),\"\")","v":""},null,null,{"$f":"IF(Input_Output!AN188=\"\",T(Input_Output!AO188),\"\")","v":""},null,null,{"$f":"IF(Input_Output!AQ188=\"\",T(Input_Output!AR188),\"\")","v":""},null,null,{"$f":"IF(Input_Output!AT188=\"\",T(Input_Output!AU188),\"\")","v":""},null,null,{"$f":"IF(Input_Output!AW188=\"\",T(Input_Output!AX188),\"\")","v":""},null,null,{"$f":"IF(Input_Output!AZ188=\"\",T(Input_Output!BA188),\"\")","v":""},null,null,{"$f":"IF(Input_Output!BC188=\"\",T(Input_Output!BD188),\"\")","v":""},null,null,{"$f":"IF(Input_Output!BF188=\"\",T(Input_Output!BG188),\"\")","v":""},null,null,{"$f":"IF(Input_Output!BI188=\"\",T(Input_Output!BJ188),\"\")","v":""},null,null,{"$f":"IF(Input_Output!BL188=\"\",T(Input_Output!BM188),\"\")","v":""},null,null,{"$f":"IF(Input_Output!BO188=\"\",T(Input_Output!BP188),\"\")","v":""},null,null,{"$f":"IF(Input_Output!BR188=\"\",T(Input_Output!BS188),\"\")","v":""},null,null,{"$f":"IF(Input_Output!BU188=\"\",T(Input_Output!BV188),\"\")","v":""},null,null,{"$f":"IF(Input_Output!BX188=\"\",T(Input_Output!BY188),\"\")","v":""},null,null,{"$f":"IF(Input_Output!CA188=\"\",T(Input_Output!CB188),\"\")","v":""},null,null,{"$f":"IF(Input_Output!CD188=\"\",T(Input_Output!CE188),\"\")","v":""},null,null,{"$f":"IF(Input_Output!CG188=\"\",T(Input_Output!CH188),\"\")","v":""},null,null,{"$f":"IF(Input_Output!CJ188=\"\",T(Input_Output!CK188),\"\")","v":""},null,null,{"$f":"IF(Input_Output!CM188=\"\",T(Input_Output!CN188),\"\")","v":""},null,null,{"$f":"IF(Input_Output!CP188=\"\",T(Input_Output!CQ188),\"\")","v":""},null,null,{"$f":"IF(Input_Output!CS188=\"\",T(Input_Output!CT188),\"\")","v":""},null,null,{"$f":"IF(Input_Output!CV188=\"\",T(Input_Output!CW188),\"\")","v":""},null,null,{"$f":"IF(Input_Output!CY188=\"\",T(Input_Output!CZ188),\"\")","v":""},null,null,{"$f":"IF(Input_Output!DB188=\"\",T(Input_Output!DC188),\"\")","v":""},null,null,{"$f":"IF(Input_Output!DE188=\"\",T(Input_Output!DF188),\"\")","v":""},null,null,{"$f":"IF(Input_Output!DH188=\"\",T(Input_Output!DI188),\"\")","v":""},null,null,{"$f":"IF(Input_Output!DK188=\"\",T(Input_Output!DL188),\"\")","v":""},null,null,{"$f":"IF(Input_Output!DN188=\"\",T(Input_Output!DO188),\"\")","v":""},null,null,{"$f":"IF(Input_Output!DQ188=\"\",T(Input_Output!DR188),\"\")","v":""},null,null,{"$f":"IF(Input_Output!DT188=\"\",T(Input_Output!DU188),\"\")","v":""},null,null,{"$f":"IF(Input_Output!DW188=\"\",T(Input_Output!DX188),\"\")","v":""},null,null,{"$f":"IF(Input_Output!DZ188=\"\",T(Input_Output!EA188),\"\")","v":""},null,null,{"$f":"IF(Input_Output!EC188=\"\",T(Input_Output!ED188),\"\")","v":""},null,null,{"$f":"IF(Input_Output!EF188=\"\",T(Input_Output!EG188),\"\")","v":""},null,null,{"$f":"IF(Input_Output!EI188=\"\",T(Input_Output!EJ188),\"\")","v":""},null,null,{"$f":"IF(Input_Output!EL188=\"\",T(Input_Output!EM188),\"\")","v":""},null,null,{"$f":"IF(Input_Output!EO188=\"\",T(Input_Output!EP188),\"\")","v":""},null,null,{"$f":"IF(Input_Output!ER188=\"\",T(Input_Output!ES188),\"\")","v":""},null,null,{"$f":"IF(Input_Output!EU188=\"\",T(Input_Output!EV188),\"\")","v":""},null,null,{"$f":"IF(Input_Output!EX188=\"\",T(Input_Output!EY188),\"\")","v":""},null,null,{"$f":"IF(Input_Output!FA188=\"\",T(Input_Output!FB188),\"\")","v":""},null,null,{"$f":"IF(Input_Output!FD188=\"\",T(Input_Output!FE188),\"\")","v":""},null,null,{"$f":"IF(Input_Output!FG188=\"\",T(Input_Output!FH188),\"\")","v":""},null,null,{"$f":"IF(Input_Output!FJ188=\"\",T(Input_Output!FK188),\"\")","v":""},null,null,{"$f":"IF(Input_Output!FM188=\"\",T(Input_Output!FN188),\"\")","v":""},null,null,{"$f":"IF(Input_Output!FP188=\"\",T(Input_Output!FQ188),\"\")","v":""},null,null,{"$f":"IF(Input_Output!FS188=\"\",T(Input_Output!FT188),\"\")","v":""},null,null,{"$f":"IF(Input_Output!FV188=\"\",T(Input_Output!FW188),\"\")","v":""},null,null,{"$f":"IF(Input_Output!FY188=\"\",T(Input_Output!FZ188),\"\")","v":""},null,null,{"$f":"IF(Input_Output!GB188=\"\",T(Input_Output!GC188),\"\")","v":""},null,null,{"$f":"IF(Input_Output!GE188=\"\",T(Input_Output!GF188),\"\")","v":""},null,null,{"$f":"IF(Input_Output!GH188=\"\",T(Input_Output!GI188),\"\")","v":""},null,null,{"$f":"IF(Input_Output!GK188=\"\",T(Input_Output!GL188),\"\")","v":""},null,null,{"$f":"IF(Input_Output!GN188=\"\",T(Input_Output!GO188),\"\")","v":""},null,null,{"$f":"IF(Input_Output!GQ188=\"\",T(Input_Output!GR188),\"\")","v":""},null,null,{"$f":"IF(Input_Output!GT188=\"\",T(Input_Output!GU188),\"\")","v":""},null,null,{"$f":"IF(Input_Output!GW188=\"\",T(Input_Output!GX188),\"\")","v":""},null,null,{"$f":"IF(Input_Output!GZ188=\"\",T(Input_Output!HA188),\"\")","v":""},null,null,{"$f":"IF(Input_Output!HC188=\"\",T(Input_Output!HD188),\"\")","v":""},null,null,{"$f":"IF(Input_Output!HF188=\"\",T(Input_Output!HG188),\"\")","v":""},null,null,{"$f":"IF(Input_Output!HI188=\"\",T(Input_Output!HJ188),\"\")","v":""},null,null,{"$f":"IF(Input_Output!HL188=\"\",T(Input_Output!HM188),\"\")","v":""},null,null,{"$f":"IF(Input_Output!HO188=\"\",T(Input_Output!HP188),\"\")","v":""},null,null,{"$f":"IF(Input_Output!HR188=\"\",T(Input_Output!HS188),\"\")","v":""},null,null,{"$f":"IF(Input_Output!HU188=\"\",T(Input_Output!HV188),\"\")","v":""},null,null,{"$f":"IF(Input_Output!HX188=\"\",T(Input_Output!HY188),\"\")","v":""},null,null,{"$f":"IF(Input_Output!IA188=\"\",T(Input_Output!IB188),\"\")","v":""},null,null,{"$f":"IF(Input_Output!ID188=\"\",T(Input_Output!IE188),\"\")","v":""},null,null,{"$f":"IF(Input_Output!IG188=\"\",T(Input_Output!IH188),\"\")","v":""},null,null,{"$f":"IF(Input_Output!IJ188=\"\",T(Input_Output!IK188),\"\")","v":""},null,null,{"$f":"IF(Input_Output!IM188=\"\",T(Input_Output!IN188),\"\")","v":""},null,null,{"$f":"IF(Input_Output!IP188=\"\",T(Input_Output!IQ188),\"\")","v":""},null,null,{"$f":"IF(Input_Output!IS188=\"\",T(Input_Output!IT188),\"\")","v":""}]
[null,null,null,null,{"$f":"IF(Input_Output!D189=\"\",T(Input_Output!E189),\"\")","v":""},null,null,{"$f":"IF(Input_Output!G189=\"\",T(Input_Output!H189),\"\")","v":""},null,null,{"$f":"IF(Input_Output!J189=\"\",T(Input_Output!K189),\"\")","v":""},null,null,{"$f":"IF(Input_Output!M189=\"\",T(Input_Output!N189),\"\")","v":""},null,null,{"$f":"IF(Input_Output!P189=\"\",T(Input_Output!Q189),\"\")","v":""},null,null,{"$f":"IF(Input_Output!S189=\"\",T(Input_Output!T189),\"\")","v":""},null,null,{"$f":"IF(Input_Output!V189=\"\",T(Input_Output!W189),\"\")","v":""},null,null,{"$f":"IF(Input_Output!Y189=\"\",T(Input_Output!Z189),\"\")","v":""},null,null,{"$f":"IF(Input_Output!AB189=\"\",T(Input_Output!AC189),\"\")","v":""},null,null,{"$f":"IF(Input_Output!AE189=\"\",T(Input_Output!AF189),\"\")","v":""},null,null,{"$f":"IF(Input_Output!AH189=\"\",T(Input_Output!AI189),\"\")","v":""},null,null,{"$f":"IF(Input_Output!AK189=\"\",T(Input_Output!AL189),\"\")","v":""},null,null,{"$f":"IF(Input_Output!AN189=\"\",T(Input_Output!AO189),\"\")","v":""},null,null,{"$f":"IF(Input_Output!AQ189=\"\",T(Input_Output!AR189),\"\")","v":""},null,null,{"$f":"IF(Input_Output!AT189=\"\",T(Input_Output!AU189),\"\")","v":""},null,null,{"$f":"IF(Input_Output!AW189=\"\",T(Input_Output!AX189),\"\")","v":""},null,null,{"$f":"IF(Input_Output!AZ189=\"\",T(Input_Output!BA189),\"\")","v":""},null,null,{"$f":"IF(Input_Output!BC189=\"\",T(Input_Output!BD189),\"\")","v":""},null,null,{"$f":"IF(Input_Output!BF189=\"\",T(Input_Output!BG189),\"\")","v":""},null,null,{"$f":"IF(Input_Output!BI189=\"\",T(Input_Output!BJ189),\"\")","v":""},null,null,{"$f":"IF(Input_Output!BL189=\"\",T(Input_Output!BM189),\"\")","v":""},null,null,{"$f":"IF(Input_Output!BO189=\"\",T(Input_Output!BP189),\"\")","v":""},null,null,{"$f":"IF(Input_Output!BR189=\"\",T(Input_Output!BS189),\"\")","v":""},null,null,{"$f":"IF(Input_Output!BU189=\"\",T(Input_Output!BV189),\"\")","v":""},null,null,{"$f":"IF(Input_Output!BX189=\"\",T(Input_Output!BY189),\"\")","v":""},null,null,{"$f":"IF(Input_Output!CA189=\"\",T(Input_Output!CB189),\"\")","v":""},null,null,{"$f":"IF(Input_Output!CD189=\"\",T(Input_Output!CE189),\"\")","v":""},null,null,{"$f":"IF(Input_Output!CG189=\"\",T(Input_Output!CH189),\"\")","v":""},null,null,{"$f":"IF(Input_Output!CJ189=\"\",T(Input_Output!CK189),\"\")","v":""},null,null,{"$f":"IF(Input_Output!CM189=\"\",T(Input_Output!CN189),\"\")","v":""},null,null,{"$f":"IF(Input_Output!CP189=\"\",T(Input_Output!CQ189),\"\")","v":""},null,null,{"$f":"IF(Input_Output!CS189=\"\",T(Input_Output!CT189),\"\")","v":""},null,null,{"$f":"IF(Input_Output!CV189=\"\",T(Input_Output!CW189),\"\")","v":""},null,null,{"$f":"IF(Input_Output!CY189=\"\",T(Input_Output!CZ189),\"\")","v":""},null,null,{"$f":"IF(Input_Output!DB189=\"\",T(Input_Output!DC189),\"\")","v":""},null,null,{"$f":"IF(Input_Output!DE189=\"\",T(Input_Output!DF189),\"\")","v":""},null,null,{"$f":"IF(Input_Output!DH189=\"\",T(Input_Output!DI189),\"\")","v":""},null,null,{"$f":"IF(Input_Output!DK189=\"\",T(Input_Output!DL189),\"\")","v":""},null,null,{"$f":"IF(Input_Output!DN189=\"\",T(Input_Output!DO189),\"\")","v":""},null,null,{"$f":"IF(Input_Output!DQ189=\"\",T(Input_Output!DR189),\"\")","v":""},null,null,{"$f":"IF(Input_Output!DT189=\"\",T(Input_Output!DU189),\"\")","v":""},null,null,{"$f":"IF(Input_Output!DW189=\"\",T(Input_Output!DX189),\"\")","v":""},null,null,{"$f":"IF(Input_Output!DZ189=\"\",T(Input_Output!EA189),\"\")","v":""},null,null,{"$f":"IF(Input_Output!EC189=\"\",T(Input_Output!ED189),\"\")","v":""},null,null,{"$f":"IF(Input_Output!EF189=\"\",T(Input_Output!EG189),\"\")","v":""},null,null,{"$f":"IF(Input_Output!EI189=\"\",T(Input_Output!EJ189),\"\")","v":""},null,null,{"$f":"IF(Input_Output!EL189=\"\",T(Input_Output!EM189),\"\")","v":""},null,null,{"$f":"IF(Input_Output!EO189=\"\",T(Input_Output!EP189),\"\")","v":""},null,null,{"$f":"IF(Input_Output!ER189=\"\",T(Input_Output!ES189),\"\")","v":""},null,null,{"$f":"IF(Input_Output!EU189=\"\",T(Input_Output!EV189),\"\")","v":""},null,null,{"$f":"IF(Input_Output!EX189=\"\",T(Input_Output!EY189),\"\")","v":""},null,null,{"$f":"IF(Input_Output!FA189=\"\",T(Input_Output!FB189),\"\")","v":""},null,null,{"$f":"IF(Input_Output!FD189=\"\",T(Input_Output!FE189),\"\")","v":""},null,null,{"$f":"IF(Input_Output!FG189=\"\",T(Input_Output!FH189),\"\")","v":""},null,null,{"$f":"IF(Input_Output!FJ189=\"\",T(Input_Output!FK189),\"\")","v":""},null,null,{"$f":"IF(Input_Output!FM189=\"\",T(Input_Output!FN189),\"\")","v":""},null,null,{"$f":"IF(Input_Output!FP189=\"\",T(Input_Output!FQ189),\"\")","v":""},null,null,{"$f":"IF(Input_Output!FS189=\"\",T(Input_Output!FT189),\"\")","v":""},null,null,{"$f":"IF(Input_Output!FV189=\"\",T(Input_Output!FW189),\"\")","v":""},null,null,{"$f":"IF(Input_Output!FY189=\"\",T(Input_Output!FZ189),\"\")","v":""},null,null,{"$f":"IF(Input_Output!GB189=\"\",T(Input_Output!GC189),\"\")","v":""},null,null,{"$f":"IF(Input_Output!GE189=\"\",T(Input_Output!GF189),\"\")","v":""},null,null,{"$f":"IF(Input_Output!GH189=\"\",T(Input_Output!GI189),\"\")","v":""},null,null,{"$f":"IF(Input_Output!GK189=\"\",T(Input_Output!GL189),\"\")","v":""},null,null,{"$f":"IF(Input_Output!GN189=\"\",T(Input_Output!GO189),\"\")","v":""},null,null,{"$f":"IF(Input_Output!GQ189=\"\",T(Input_Output!GR189),\"\")","v":""},null,null,{"$f":"IF(Input_Output!GT189=\"\",T(Input_Output!GU189),\"\")","v":""},null,null,{"$f":"IF(Input_Output!GW189=\"\",T(Input_Output!GX189),\"\")","v":""},null,null,{"$f":"IF(Input_Output!GZ189=\"\",T(Input_Output!HA189),\"\")","v":""},null,null,{"$f":"IF(Input_Output!HC189=\"\",T(Input_Output!HD189),\"\")","v":""},null,null,{"$f":"IF(Input_Output!HF189=\"\",T(Input_Output!HG189),\"\")","v":""},null,null,{"$f":"IF(Input_Output!HI189=\"\",T(Input_Output!HJ189),\"\")","v":""},null,null,{"$f":"IF(Input_Output!HL189=\"\",T(Input_Output!HM189),\"\")","v":""},null,null,{"$f":"IF(Input_Output!HO189=\"\",T(Input_Output!HP189),\"\")","v":""},null,null,{"$f":"IF(Input_Output!HR189=\"\",T(Input_Output!HS189),\"\")","v":""},null,null,{"$f":"IF(Input_Output!HU189=\"\",T(Input_Output!HV189),\"\")","v":""},null,null,{"$f":"IF(Input_Output!HX189=\"\",T(Input_Output!HY189),\"\")","v":""},null,null,{"$f":"IF(Input_Output!IA189=\"\",T(Input_Output!IB189),\"\")","v":""},null,null,{"$f":"IF(Input_Output!ID189=\"\",T(Input_Output!IE189),\"\")","v":""},null,null,{"$f":"IF(Input_Output!IG189=\"\",T(Input_Output!IH189),\"\")","v":""},null,null,{"$f":"IF(Input_Output!IJ189=\"\",T(Input_Output!IK189),\"\")","v":""},null,null,{"$f":"IF(Input_Output!IM189=\"\",T(Input_Output!IN189),\"\")","v":""},null,null,{"$f":"IF(Input_Output!IP189=\"\",T(Input_Output!IQ189),\"\")","v":""},null,null,{"$f":"IF(Input_Output!IS189=\"\",T(Input_Output!IT189),\"\")","v":""}]
[null,null,null,null,{"$f":"IF(Input_Output!D190=\"\",T(Input_Output!E190),\"\")","v":""},null,null,{"$f":"IF(Input_Output!G190=\"\",T(Input_Output!H190),\"\")","v":""},null,null,{"$f":"IF(Input_Output!J190=\"\",T(Input_Output!K190),\"\")","v":""},null,null,{"$f":"IF(Input_Output!M190=\"\",T(Input_Output!N190),\"\")","v":""},null,null,{"$f":"IF(Input_Output!P190=\"\",T(Input_Output!Q190),\"\")","v":""},null,null,{"$f":"IF(Input_Output!S190=\"\",T(Input_Output!T190),\"\")","v":""},null,null,{"$f":"IF(Input_Output!V190=\"\",T(Input_Output!W190),\"\")","v":""},null,null,{"$f":"IF(Input_Output!Y190=\"\",T(Input_Output!Z190),\"\")","v":""},null,null,{"$f":"IF(Input_Output!AB190=\"\",T(Input_Output!AC190),\"\")","v":""},null,null,{"$f":"IF(Input_Output!AE190=\"\",T(Input_Output!AF190),\"\")","v":""},null,null,{"$f":"IF(Input_Output!AH190=\"\",T(Input_Output!AI190),\"\")","v":""},null,null,{"$f":"IF(Input_Output!AK190=\"\",T(Input_Output!AL190),\"\")","v":""},null,null,{"$f":"IF(Input_Output!AN190=\"\",T(Input_Output!AO190),\"\")","v":""},null,null,{"$f":"IF(Input_Output!AQ190=\"\",T(Input_Output!AR190),\"\")","v":""},null,null,{"$f":"IF(Input_Output!AT190=\"\",T(Input_Output!AU190),\"\")","v":""},null,null,{"$f":"IF(Input_Output!AW190=\"\",T(Input_Output!AX190),\"\")","v":""},null,null,{"$f":"IF(Input_Output!AZ190=\"\",T(Input_Output!BA190),\"\")","v":""},null,null,{"$f":"IF(Input_Output!BC190=\"\",T(Input_Output!BD190),\"\")","v":""},null,null,{"$f":"IF(Input_Output!BF190=\"\",T(Input_Output!BG190),\"\")","v":""},null,null,{"$f":"IF(Input_Output!BI190=\"\",T(Input_Output!BJ190),\"\")","v":""},null,null,{"$f":"IF(Input_Output!BL190=\"\",T(Input_Output!BM190),\"\")","v":""},null,null,{"$f":"IF(Input_Output!BO190=\"\",T(Input_Output!BP190),\"\")","v":""},null,null,{"$f":"IF(Input_Output!BR190=\"\",T(Input_Output!BS190),\"\")","v":""},null,null,{"$f":"IF(Input_Output!BU190=\"\",T(Input_Output!BV190),\"\")","v":""},null,null,{"$f":"IF(Input_Output!BX190=\"\",T(Input_Output!BY190),\"\")","v":""},null,null,{"$f":"IF(Input_Output!CA190=\"\",T(Input_Output!CB190),\"\")","v":""},null,null,{"$f":"IF(Input_Output!CD190=\"\",T(Input_Output!CE190),\"\")","v":""},null,null,{"$f":"IF(Input_Output!CG190=\"\",T(Input_Output!CH190),\"\")","v":""},null,null,{"$f":"IF(Input_Output!CJ190=\"\",T(Input_Output!CK190),\"\")","v":""},null,null,{"$f":"IF(Input_Output!CM190=\"\",T(Input_Output!CN190),\"\")","v":""},null,null,{"$f":"IF(Input_Output!CP190=\"\",T(Input_Output!CQ190),\"\")","v":""},null,null,{"$f":"IF(Input_Output!CS190=\"\",T(Input_Output!CT190),\"\")","v":""},null,null,{"$f":"IF(Input_Output!CV190=\"\",T(Input_Output!CW190),\"\")","v":""},null,null,{"$f":"IF(Input_Output!CY190=\"\",T(Input_Output!CZ190),\"\")","v":""},null,null,{"$f":"IF(Input_Output!DB190=\"\",T(Input_Output!DC190),\"\")","v":""},null,null,{"$f":"IF(Input_Output!DE190=\"\",T(Input_Output!DF190),\"\")","v":""},null,null,{"$f":"IF(Input_Output!DH190=\"\",T(Input_Output!DI190),\"\")","v":""},null,null,{"$f":"IF(Input_Output!DK190=\"\",T(Input_Output!DL190),\"\")","v":""},null,null,{"$f":"IF(Input_Output!DN190=\"\",T(Input_Output!DO190),\"\")","v":""},null,null,{"$f":"IF(Input_Output!DQ190=\"\",T(Input_Output!DR190),\"\")","v":""},null,null,{"$f":"IF(Input_Output!DT190=\"\",T(Input_Output!DU190),\"\")","v":""},null,null,{"$f":"IF(Input_Output!DW190=\"\",T(Input_Output!DX190),\"\")","v":""},null,null,{"$f":"IF(Input_Output!DZ190=\"\",T(Input_Output!EA190),\"\")","v":""},null,null,{"$f":"IF(Input_Output!EC190=\"\",T(Input_Output!ED190),\"\")","v":""},null,null,{"$f":"IF(Input_Output!EF190=\"\",T(Input_Output!EG190),\"\")","v":""},null,null,{"$f":"IF(Input_Output!EI190=\"\",T(Input_Output!EJ190),\"\")","v":""},null,null,{"$f":"IF(Input_Output!EL190=\"\",T(Input_Output!EM190),\"\")","v":""},null,null,{"$f":"IF(Input_Output!EO190=\"\",T(Input_Output!EP190),\"\")","v":""},null,null,{"$f":"IF(Input_Output!ER190=\"\",T(Input_Output!ES190),\"\")","v":""},null,null,{"$f":"IF(Input_Output!EU190=\"\",T(Input_Output!EV190),\"\")","v":""},null,null,{"$f":"IF(Input_Output!EX190=\"\",T(Input_Output!EY190),\"\")","v":""},null,null,{"$f":"IF(Input_Output!FA190=\"\",T(Input_Output!FB190),\"\")","v":""},null,null,{"$f":"IF(Input_Output!FD190=\"\",T(Input_Output!FE190),\"\")","v":""},null,null,{"$f":"IF(Input_Output!FG190=\"\",T(Input_Output!FH190),\"\")","v":""},null,null,{"$f":"IF(Input_Output!FJ190=\"\",T(Input_Output!FK190),\"\")","v":""},null,null,{"$f":"IF(Input_Output!FM190=\"\",T(Input_Output!FN190),\"\")","v":""},null,null,{"$f":"IF(Input_Output!FP190=\"\",T(Input_Output!FQ190),\"\")","v":""},null,null,{"$f":"IF(Input_Output!FS190=\"\",T(Input_Output!FT190),\"\")","v":""},null,null,{"$f":"IF(Input_Output!FV190=\"\",T(Input_Output!FW190),\"\")","v":""},null,null,{"$f":"IF(Input_Output!FY190=\"\",T(Input_Output!FZ190),\"\")","v":""},null,null,{"$f":"IF(Input_Output!GB190=\"\",T(Input_Output!GC190),\"\")","v":""},null,null,{"$f":"IF(Input_Output!GE190=\"\",T(Input_Output!GF190),\"\")","v":""},null,null,{"$f":"IF(Input_Output!GH190=\"\",T(Input_Output!GI190),\"\")","v":""},null,null,{"$f":"IF(Input_Output!GK190=\"\",T(Input_Output!GL190),\"\")","v":""},null,null,{"$f":"IF(Input_Output!GN190=\"\",T(Input_Output!GO190),\"\")","v":""},null,null,{"$f":"IF(Input_Output!GQ190=\"\",T(Input_Output!GR190),\"\")","v":""},null,null,{"$f":"IF(Input_Output!GT190=\"\",T(Input_Output!GU190),\"\")","v":""},null,null,{"$f":"IF(Input_Output!GW190=\"\",T(Input_Output!GX190),\"\")","v":""},null,null,{"$f":"IF(Input_Output!GZ190=\"\",T(Input_Output!HA190),\"\")","v":""},null,null,{"$f":"IF(Input_Output!HC190=\"\",T(Input_Output!HD190),\"\")","v":""},null,null,{"$f":"IF(Input_Output!HF190=\"\",T(Input_Output!HG190),\"\")","v":""},null,null,{"$f":"IF(Input_Output!HI190=\"\",T(Input_Output!HJ190),\"\")","v":""},null,null,{"$f":"IF(Input_Output!HL190=\"\",T(Input_Output!HM190),\"\")","v":""},null,null,{"$f":"IF(Input_Output!HO190=\"\",T(Input_Output!HP190),\"\")","v":""},null,null,{"$f":"IF(Input_Output!HR190=\"\",T(Input_Output!HS190),\"\")","v":""},null,null,{"$f":"IF(Input_Output!HU190=\"\",T(Input_Output!HV190),\"\")","v":""},null,null,{"$f":"IF(Input_Output!HX190=\"\",T(Input_Output!HY190),\"\")","v":""},null,null,{"$f":"IF(Input_Output!IA190=\"\",T(Input_Output!IB190),\"\")","v":""},null,null,{"$f":"IF(Input_Output!ID190=\"\",T(Input_Output!IE190),\"\")","v":""},null,null,{"$f":"IF(Input_Output!IG190=\"\",T(Input_Output!IH190),\"\")","v":""},null,null,{"$f":"IF(Input_Output!IJ190=\"\",T(Input_Output!IK190),\"\")","v":""},null,null,{"$f":"IF(Input_Output!IM190=\"\",T(Input_Output!IN190),\"\")","v":""},null,null,{"$f":"IF(Input_Output!IP190=\"\",T(Input_Output!IQ190),\"\")","v":""},null,null,{"$f":"IF(Input_Output!IS190=\"\",T(Input_Output!IT190),\"\")","v":""}]
[null,null,null,null,{"$f":"IF(Input_Output!D191=\"\",T(Input_Output!E191),\"\")","v":""},null,null,{"$f":"IF(Input_Output!G191=\"\",T(Input_Output!H191),\"\")","v":""},null,null,{"$f":"IF(Input_Output!J191=\"\",T(Input_Output!K191),\"\")","v":""},null,null,{"$f":"IF(Input_Output!M191=\"\",T(Input_Output!N191),\"\")","v":""},null,null,{"$f":"IF(Input_Output!P191=\"\",T(Input_Output!Q191),\"\")","v":""},null,null,{"$f":"IF(Input_Output!S191=\"\",T(Input_Output!T191),\"\")","v":""},null,null,{"$f":"IF(Input_Output!V191=\"\",T(Input_Output!W191),\"\")","v":""},null,null,{"$f":"IF(Input_Output!Y191=\"\",T(Input_Output!Z191),\"\")","v":""},null,null,{"$f":"IF(Input_Output!AB191=\"\",T(Input_Output!AC191),\"\")","v":""},null,null,{"$f":"IF(Input_Output!AE191=\"\",T(Input_Output!AF191),\"\")","v":""},null,null,{"$f":"IF(Input_Output!AH191=\"\",T(Input_Output!AI191),\"\")","v":""},null,null,{"$f":"IF(Input_Output!AK191=\"\",T(Input_Output!AL191),\"\")","v":""},null,null,{"$f":"IF(Input_Output!AN191=\"\",T(Input_Output!AO191),\"\")","v":""},null,null,{"$f":"IF(Input_Output!AQ191=\"\",T(Input_Output!AR191),\"\")","v":""},null,null,{"$f":"IF(Input_Output!AT191=\"\",T(Input_Output!AU191),\"\")","v":""},null,null,{"$f":"IF(Input_Output!AW191=\"\",T(Input_Output!AX191),\"\")","v":""},null,null,{"$f":"IF(Input_Output!AZ191=\"\",T(Input_Output!BA191),\"\")","v":""},null,null,{"$f":"IF(Input_Output!BC191=\"\",T(Input_Output!BD191),\"\")","v":""},null,null,{"$f":"IF(Input_Output!BF191=\"\",T(Input_Output!BG191),\"\")","v":""},null,null,{"$f":"IF(Input_Output!BI191=\"\",T(Input_Output!BJ191),\"\")","v":""},null,null,{"$f":"IF(Input_Output!BL191=\"\",T(Input_Output!BM191),\"\")","v":""},null,null,{"$f":"IF(Input_Output!BO191=\"\",T(Input_Output!BP191),\"\")","v":""},null,null,{"$f":"IF(Input_Output!BR191=\"\",T(Input_Output!BS191),\"\")","v":""},null,null,{"$f":"IF(Input_Output!BU191=\"\",T(Input_Output!BV191),\"\")","v":""},null,null,{"$f":"IF(Input_Output!BX191=\"\",T(Input_Output!BY191),\"\")","v":""},null,null,{"$f":"IF(Input_Output!CA191=\"\",T(Input_Output!CB191),\"\")","v":""},null,null,{"$f":"IF(Input_Output!CD191=\"\",T(Input_Output!CE191),\"\")","v":""},null,null,{"$f":"IF(Input_Output!CG191=\"\",T(Input_Output!CH191),\"\")","v":""},null,null,{"$f":"IF(Input_Output!CJ191=\"\",T(Input_Output!CK191),\"\")","v":""},null,null,{"$f":"IF(Input_Output!CM191=\"\",T(Input_Output!CN191),\"\")","v":""},null,null,{"$f":"IF(Input_Output!CP191=\"\",T(Input_Output!CQ191),\"\")","v":""},null,null,{"$f":"IF(Input_Output!CS191=\"\",T(Input_Output!CT191),\"\")","v":""},null,null,{"$f":"IF(Input_Output!CV191=\"\",T(Input_Output!CW191),\"\")","v":""},null,null,{"$f":"IF(Input_Output!CY191=\"\",T(Input_Output!CZ191),\"\")","v":""},null,null,{"$f":"IF(Input_Output!DB191=\"\",T(Input_Output!DC191),\"\")","v":""},null,null,{"$f":"IF(Input_Output!DE191=\"\",T(Input_Output!DF191),\"\")","v":""},null,null,{"$f":"IF(Input_Output!DH191=\"\",T(Input_Output!DI191),\"\")","v":""},null,null,{"$f":"IF(Input_Output!DK191=\"\",T(Input_Output!DL191),\"\")","v":""},null,null,{"$f":"IF(Input_Output!DN191=\"\",T(Input_Output!DO191),\"\")","v":""},null,null,{"$f":"IF(Input_Output!DQ191=\"\",T(Input_Output!DR191),\"\")","v":""},null,null,{"$f":"IF(Input_Output!DT191=\"\",T(Input_Output!DU191),\"\")","v":""},null,null,{"$f":"IF(Input_Output!DW191=\"\",T(Input_Output!DX191),\"\")","v":""},null,null,{"$f":"IF(Input_Output!DZ191=\"\",T(Input_Output!EA191),\"\")","v":""},null,null,{"$f":"IF(Input_Output!EC191=\"\",T(Input_Output!ED191),\"\")","v":""},null,null,{"$f":"IF(Input_Output!EF191=\"\",T(Input_Output!EG191),\"\")","v":""},null,null,{"$f":"IF(Input_Output!EI191=\"\",T(Input_Output!EJ191),\"\")","v":""},null,null,{"$f":"IF(Input_Output!EL191=\"\",T(Input_Output!EM191),\"\")","v":""},null,null,{"$f":"IF(Input_Output!EO191=\"\",T(Input_Output!EP191),\"\")","v":""},null,null,{"$f":"IF(Input_Output!ER191=\"\",T(Input_Output!ES191),\"\")","v":""},null,null,{"$f":"IF(Input_Output!EU191=\"\",T(Input_Output!EV191),\"\")","v":""},null,null,{"$f":"IF(Input_Output!EX191=\"\",T(Input_Output!EY191),\"\")","v":""},null,null,{"$f":"IF(Input_Output!FA191=\"\",T(Input_Output!FB191),\"\")","v":""},null,null,{"$f":"IF(Input_Output!FD191=\"\",T(Input_Output!FE191),\"\")","v":""},null,null,{"$f":"IF(Input_Output!FG191=\"\",T(Input_Output!FH191),\"\")","v":""},null,null,{"$f":"IF(Input_Output!FJ191=\"\",T(Input_Output!FK191),\"\")","v":""},null,null,{"$f":"IF(Input_Output!FM191=\"\",T(Input_Output!FN191),\"\")","v":""},null,null,{"$f":"IF(Input_Output!FP191=\"\",T(Input_Output!FQ191),\"\")","v":""},null,null,{"$f":"IF(Input_Output!FS191=\"\",T(Input_Output!FT191),\"\")","v":""},null,null,{"$f":"IF(Input_Output!FV191=\"\",T(Input_Output!FW191),\"\")","v":""},null,null,{"$f":"IF(Input_Output!FY191=\"\",T(Input_Output!FZ191),\"\")","v":""},null,null,{"$f":"IF(Input_Output!GB191=\"\",T(Input_Output!GC191),\"\")","v":""},null,null,{"$f":"IF(Input_Output!GE191=\"\",T(Input_Output!GF191),\"\")","v":""},null,null,{"$f":"IF(Input_Output!GH191=\"\",T(Input_Output!GI191),\"\")","v":""},null,null,{"$f":"IF(Input_Output!GK191=\"\",T(Input_Output!GL191),\"\")","v":""},null,null,{"$f":"IF(Input_Output!GN191=\"\",T(Input_Output!GO191),\"\")","v":""},null,null,{"$f":"IF(Input_Output!GQ191=\"\",T(Input_Output!GR191),\"\")","v":""},null,null,{"$f":"IF(Input_Output!GT191=\"\",T(Input_Output!GU191),\"\")","v":""},null,null,{"$f":"IF(Input_Output!GW191=\"\",T(Input_Output!GX191),\"\")","v":""},null,null,{"$f":"IF(Input_Output!GZ191=\"\",T(Input_Output!HA191),\"\")","v":""},null,null,{"$f":"IF(Input_Output!HC191=\"\",T(Input_Output!HD191),\"\")","v":""},null,null,{"$f":"IF(Input_Output!HF191=\"\",T(Input_Output!HG191),\"\")","v":""},null,null,{"$f":"IF(Input_Output!HI191=\"\",T(Input_Output!HJ191),\"\")","v":""},null,null,{"$f":"IF(Input_Output!HL191=\"\",T(Input_Output!HM191),\"\")","v":""},null,null,{"$f":"IF(Input_Output!HO191=\"\",T(Input_Output!HP191),\"\")","v":""},null,null,{"$f":"IF(Input_Output!HR191=\"\",T(Input_Output!HS191),\"\")","v":""},null,null,{"$f":"IF(Input_Output!HU191=\"\",T(Input_Output!HV191),\"\")","v":""},null,null,{"$f":"IF(Input_Output!HX191=\"\",T(Input_Output!HY191),\"\")","v":""},null,null,{"$f":"IF(Input_Output!IA191=\"\",T(Input_Output!IB191),\"\")","v":""},null,null,{"$f":"IF(Input_Output!ID191=\"\",T(Input_Output!IE191),\"\")","v":""},null,null,{"$f":"IF(Input_Output!IG191=\"\",T(Input_Output!IH191),\"\")","v":""},null,null,{"$f":"IF(Input_Output!IJ191=\"\",T(Input_Output!IK191),\"\")","v":""},null,null,{"$f":"IF(Input_Output!IM191=\"\",T(Input_Output!IN191),\"\")","v":""},null,null,{"$f":"IF(Input_Output!IP191=\"\",T(Input_Output!IQ191),\"\")","v":""},null,null,{"$f":"IF(Input_Output!IS191=\"\",T(Input_Output!IT191),\"\")","v":""}]
[null,null,null,null,{"$f":"IF(Input_Output!D192=\"\",T(Input_Output!E192),\"\")","v":""},null,null,{"$f":"IF(Input_Output!G192=\"\",T(Input_Output!H192),\"\")","v":""},null,null,{"$f":"IF(Input_Output!J192=\"\",T(Input_Output!K192),\"\")","v":""},null,null,{"$f":"IF(Input_Output!M192=\"\",T(Input_Output!N192),\"\")","v":""},null,null,{"$f":"IF(Input_Output!P192=\"\",T(Input_Output!Q192),\"\")","v":""},null,null,{"$f":"IF(Input_Output!S192=\"\",T(Input_Output!T192),\"\")","v":""},null,null,{"$f":"IF(Input_Output!V192=\"\",T(Input_Output!W192),\"\")","v":""},null,null,{"$f":"IF(Input_Output!Y192=\"\",T(Input_Output!Z192),\"\")","v":""},null,null,{"$f":"IF(Input_Output!AB192=\"\",T(Input_Output!AC192),\"\")","v":""},null,null,{"$f":"IF(Input_Output!AE192=\"\",T(Input_Output!AF192),\"\")","v":""},null,null,{"$f":"IF(Input_Output!AH192=\"\",T(Input_Output!AI192),\"\")","v":""},null,null,{"$f":"IF(Input_Output!AK192=\"\",T(Input_Output!AL192),\"\")","v":""},null,null,{"$f":"IF(Input_Output!AN192=\"\",T(Input_Output!AO192),\"\")","v":""},null,null,{"$f":"IF(Input_Output!AQ192=\"\",T(Input_Output!AR192),\"\")","v":""},null,null,{"$f":"IF(Input_Output!AT192=\"\",T(Input_Output!AU192),\"\")","v":""},null,null,{"$f":"IF(Input_Output!AW192=\"\",T(Input_Output!AX192),\"\")","v":""},null,null,{"$f":"IF(Input_Output!AZ192=\"\",T(Input_Output!BA192),\"\")","v":""},null,null,{"$f":"IF(Input_Output!BC192=\"\",T(Input_Output!BD192),\"\")","v":""},null,null,{"$f":"IF(Input_Output!BF192=\"\",T(Input_Output!BG192),\"\")","v":""},null,null,{"$f":"IF(Input_Output!BI192=\"\",T(Input_Output!BJ192),\"\")","v":""},null,null,{"$f":"IF(Input_Output!BL192=\"\",T(Input_Output!BM192),\"\")","v":""},null,null,{"$f":"IF(Input_Output!BO192=\"\",T(Input_Output!BP192),\"\")","v":""},null,null,{"$f":"IF(Input_Output!BR192=\"\",T(Input_Output!BS192),\"\")","v":""},null,null,{"$f":"IF(Input_Output!BU192=\"\",T(Input_Output!BV192),\"\")","v":""},null,null,{"$f":"IF(Input_Output!BX192=\"\",T(Input_Output!BY192),\"\")","v":""},null,null,{"$f":"IF(Input_Output!CA192=\"\",T(Input_Output!CB192),\"\")","v":""},null,null,{"$f":"IF(Input_Output!CD192=\"\",T(Input_Output!CE192),\"\")","v":""},null,null,{"$f":"IF(Input_Output!CG192=\"\",T(Input_Output!CH192),\"\")","v":""},null,null,{"$f":"IF(Input_Output!CJ192=\"\",T(Input_Output!CK192),\"\")","v":""},null,null,{"$f":"IF(Input_Output!CM192=\"\",T(Input_Output!CN192),\"\")","v":""},null,null,{"$f":"IF(Input_Output!CP192=\"\",T(Input_Output!CQ192),\"\")","v":""},null,null,{"$f":"IF(Input_Output!CS192=\"\",T(Input_Output!CT192),\"\")","v":""},null,null,{"$f":"IF(Input_Output!CV192=\"\",T(Input_Output!CW192),\"\")","v":""},null,null,{"$f":"IF(Input_Output!CY192=\"\",T(Input_Output!CZ192),\"\")","v":""},null,null,{"$f":"IF(Input_Output!DB192=\"\",T(Input_Output!DC192),\"\")","v":""},null,null,{"$f":"IF(Input_Output!DE192=\"\",T(Input_Output!DF192),\"\")","v":""},null,null,{"$f":"IF(Input_Output!DH192=\"\",T(Input_Output!DI192),\"\")","v":""},null,null,{"$f":"IF(Input_Output!DK192=\"\",T(Input_Output!DL192),\"\")","v":""},null,null,{"$f":"IF(Input_Output!DN192=\"\",T(Input_Output!DO192),\"\")","v":""},null,null,{"$f":"IF(Input_Output!DQ192=\"\",T(Input_Output!DR192),\"\")","v":""},null,null,{"$f":"IF(Input_Output!DT192=\"\",T(Input_Output!DU192),\"\")","v":""},null,null,{"$f":"IF(Input_Output!DW192=\"\",T(Input_Output!DX192),\"\")","v":""},null,null,{"$f":"IF(Input_Output!DZ192=\"\",T(Input_Output!EA192),\"\")","v":""},null,null,{"$f":"IF(Input_Output!EC192=\"\",T(Input_Output!ED192),\"\")","v":""},null,null,{"$f":"IF(Input_Output!EF192=\"\",T(Input_Output!EG192),\"\")","v":""},null,null,{"$f":"IF(Input_Output!EI192=\"\",T(Input_Output!EJ192),\"\")","v":""},null,null,{"$f":"IF(Input_Output!EL192=\"\",T(Input_Output!EM192),\"\")","v":""},null,null,{"$f":"IF(Input_Output!EO192=\"\",T(Input_Output!EP192),\"\")","v":""},null,null,{"$f":"IF(Input_Output!ER192=\"\",T(Input_Output!ES192),\"\")","v":""},null,null,{"$f":"IF(Input_Output!EU192=\"\",T(Input_Output!EV192),\"\")","v":""},null,null,{"$f":"IF(Input_Output!EX192=\"\",T(Input_Output!EY192),\"\")","v":""},null,null,{"$f":"IF(Input_Output!FA192=\"\",T(Input_Output!FB192),\"\")","v":""},null,null,{"$f":"IF(Input_Output!FD192=\"\",T(Input_Output!FE192),\"\")","v":""},null,null,{"$f":"IF(Input_Output!FG192=\"\",T(Input_Output!FH192),\"\")","v":""},null,null,{"$f":"IF(Input_Output!FJ192=\"\",T(Input_Output!FK192),\"\")","v":""},null,null,{"$f":"IF(Input_Output!FM192=\"\",T(Input_Output!FN192),\"\")","v":""},null,null,{"$f":"IF(Input_Output!FP192=\"\",T(Input_Output!FQ192),\"\")","v":""},null,null,{"$f":"IF(Input_Output!FS192=\"\",T(Input_Output!FT192),\"\")","v":""},null,null,{"$f":"IF(Input_Output!FV192=\"\",T(Input_Output!FW192),\"\")","v":""},null,null,{"$f":"IF(Input_Output!FY192=\"\",T(Input_Output!FZ192),\"\")","v":""},null,null,{"$f":"IF(Input_Output!GB192=\"\",T(Input_Output!GC192),\"\")","v":""},null,null,{"$f":"IF(Input_Output!GE192=\"\",T(Input_Output!GF192),\"\")","v":""},null,null,{"$f":"IF(Input_Output!GH192=\"\",T(Input_Output!GI192),\"\")","v":""},null,null,{"$f":"IF(Input_Output!GK192=\"\",T(Input_Output!GL192),\"\")","v":""},null,null,{"$f":"IF(Input_Output!GN192=\"\",T(Input_Output!GO192),\"\")","v":""},null,null,{"$f":"IF(Input_Output!GQ192=\"\",T(Input_Output!GR192),\"\")","v":""},null,null,{"$f":"IF(Input_Output!GT192=\"\",T(Input_Output!GU192),\"\")","v":""},null,null,{"$f":"IF(Input_Output!GW192=\"\",T(Input_Output!GX192),\"\")","v":""},null,null,{"$f":"IF(Input_Output!GZ192=\"\",T(Input_Output!HA192),\"\")","v":""},null,null,{"$f":"IF(Input_Output!HC192=\"\",T(Input_Output!HD192),\"\")","v":""},null,null,{"$f":"IF(Input_Output!HF192=\"\",T(Input_Output!HG192),\"\")","v":""},null,null,{"$f":"IF(Input_Output!HI192=\"\",T(Input_Output!HJ192),\"\")","v":""},null,null,{"$f":"IF(Input_Output!HL192=\"\",T(Input_Output!HM192),\"\")","v":""},null,null,{"$f":"IF(Input_Output!HO192=\"\",T(Input_Output!HP192),\"\")","v":""},null,null,{"$f":"IF(Input_Output!HR192=\"\",T(Input_Output!HS192),\"\")","v":""},null,null,{"$f":"IF(Input_Output!HU192=\"\",T(Input_Output!HV192),\"\")","v":""},null,null,{"$f":"IF(Input_Output!HX192=\"\",T(Input_Output!HY192),\"\")","v":""},null,null,{"$f":"IF(Input_Output!IA192=\"\",T(Input_Output!IB192),\"\")","v":""},null,null,{"$f":"IF(Input_Output!ID192=\"\",T(Input_Output!IE192),\"\")","v":""},null,null,{"$f":"IF(Input_Output!IG192=\"\",T(Input_Output!IH192),\"\")","v":""},null,null,{"$f":"IF(Input_Output!IJ192=\"\",T(Input_Output!IK192),\"\")","v":""},null,null,{"$f":"IF(Input_Output!IM192=\"\",T(Input_Output!IN192),\"\")","v":""},null,null,{"$f":"IF(Input_Output!IP192=\"\",T(Input_Output!IQ192),\"\")","v":""},null,null,{"$f":"IF(Input_Output!IS192=\"\",T(Input_Output!IT192),\"\")","v":""}]
[null,null,null,null,{"$f":"IF(Input_Output!D193=\"\",T(Input_Output!E193),\"\")","v":""},null,null,{"$f":"IF(Input_Output!G193=\"\",T(Input_Output!H193),\"\")","v":""},null,null,{"$f":"IF(Input_Output!J193=\"\",T(Input_Output!K193),\"\")","v":""},null,null,{"$f":"IF(Input_Output!M193=\"\",T(Input_Output!N193),\"\")","v":""},null,null,{"$f":"IF(Input_Output!P193=\"\",T(Input_Output!Q193),\"\")","v":""},null,null,{"$f":"IF(Input_Output!S193=\"\",T(Input_Output!T193),\"\")","v":""},null,null,{"$f":"IF(Input_Output!V193=\"\",T(Input_Output!W193),\"\")","v":""},null,null,{"$f":"IF(Input_Output!Y193=\"\",T(Input_Output!Z193),\"\")","v":""},null,null,{"$f":"IF(Input_Output!AB193=\"\",T(Input_Output!AC193),\"\")","v":""},null,null,{"$f":"IF(Input_Output!AE193=\"\",T(Input_Output!AF193),\"\")","v":""},null,null,{"$f":"IF(Input_Output!AH193=\"\",T(Input_Output!AI193),\"\")","v":""},null,null,{"$f":"IF(Input_Output!AK193=\"\",T(Input_Output!AL193),\"\")","v":""},null,null,{"$f":"IF(Input_Output!AN193=\"\",T(Input_Output!AO193),\"\")","v":""},null,null,{"$f":"IF(Input_Output!AQ193=\"\",T(Input_Output!AR193),\"\")","v":""},null,null,{"$f":"IF(Input_Output!AT193=\"\",T(Input_Output!AU193),\"\")","v":""},null,null,{"$f":"IF(Input_Output!AW193=\"\",T(Input_Output!AX193),\"\")","v":""},null,null,{"$f":"IF(Input_Output!AZ193=\"\",T(Input_Output!BA193),\"\")","v":""},null,null,{"$f":"IF(Input_Output!BC193=\"\",T(Input_Output!BD193),\"\")","v":""},null,null,{"$f":"IF(Input_Output!BF193=\"\",T(Input_Output!BG193),\"\")","v":""},null,null,{"$f":"IF(Input_Output!BI193=\"\",T(Input_Output!BJ193),\"\")","v":""},null,null,{"$f":"IF(Input_Output!BL193=\"\",T(Input_Output!BM193),\"\")","v":""},null,null,{"$f":"IF(Input_Output!BO193=\"\",T(Input_Output!BP193),\"\")","v":""},null,null,{"$f":"IF(Input_Output!BR193=\"\",T(Input_Output!BS193),\"\")","v":""},null,null,{"$f":"IF(Input_Output!BU193=\"\",T(Input_Output!BV193),\"\")","v":""},null,null,{"$f":"IF(Input_Output!BX193=\"\",T(Input_Output!BY193),\"\")","v":""},null,null,{"$f":"IF(Input_Output!CA193=\"\",T(Input_Output!CB193),\"\")","v":""},null,null,{"$f":"IF(Input_Output!CD193=\"\",T(Input_Output!CE193),\"\")","v":""},null,null,{"$f":"IF(Input_Output!CG193=\"\",T(Input_Output!CH193),\"\")","v":""},null,null,{"$f":"IF(Input_Output!CJ193=\"\",T(Input_Output!CK193),\"\")","v":""},null,null,{"$f":"IF(Input_Output!CM193=\"\",T(Input_Output!CN193),\"\")","v":""},null,null,{"$f":"IF(Input_Output!CP193=\"\",T(Input_Output!CQ193),\"\")","v":""},null,null,{"$f":"IF(Input_Output!CS193=\"\",T(Input_Output!CT193),\"\")","v":""},null,null,{"$f":"IF(Input_Output!CV193=\"\",T(Input_Output!CW193),\"\")","v":""},null,null,{"$f":"IF(Input_Output!CY193=\"\",T(Input_Output!CZ193),\"\")","v":""},null,null,{"$f":"IF(Input_Output!DB193=\"\",T(Input_Output!DC193),\"\")","v":""},null,null,{"$f":"IF(Input_Output!DE193=\"\",T(Input_Output!DF193),\"\")","v":""},null,null,{"$f":"IF(Input_Output!DH193=\"\",T(Input_Output!DI193),\"\")","v":""},null,null,{"$f":"IF(Input_Output!DK193=\"\",T(Input_Output!DL193),\"\")","v":""},null,null,{"$f":"IF(Input_Output!DN193=\"\",T(Input_Output!DO193),\"\")","v":""},null,null,{"$f":"IF(Input_Output!DQ193=\"\",T(Input_Output!DR193),\"\")","v":""},null,null,{"$f":"IF(Input_Output!DT193=\"\",T(Input_Output!DU193),\"\")","v":""},null,null,{"$f":"IF(Input_Output!DW193=\"\",T(Input_Output!DX193),\"\")","v":""},null,null,{"$f":"IF(Input_Output!DZ193=\"\",T(Input_Output!EA193),\"\")","v":""},null,null,{"$f":"IF(Input_Output!EC193=\"\",T(Input_Output!ED193),\"\")","v":""},null,null,{"$f":"IF(Input_Output!EF193=\"\",T(Input_Output!EG193),\"\")","v":""},null,null,{"$f":"IF(Input_Output!EI193=\"\",T(Input_Output!EJ193),\"\")","v":""},null,null,{"$f":"IF(Input_Output!EL193=\"\",T(Input_Output!EM193),\"\")","v":""},null,null,{"$f":"IF(Input_Output!EO193=\"\",T(Input_Output!EP193),\"\")","v":""},null,null,{"$f":"IF(Input_Output!ER193=\"\",T(Input_Output!ES193),\"\")","v":""},null,null,{"$f":"IF(Input_Output!EU193=\"\",T(Input_Output!EV193),\"\")","v":""},null,null,{"$f":"IF(Input_Output!EX193=\"\",T(Input_Output!EY193),\"\")","v":""},null,null,{"$f":"IF(Input_Output!FA193=\"\",T(Input_Output!FB193),\"\")","v":""},null,null,{"$f":"IF(Input_Output!FD193=\"\",T(Input_Output!FE193),\"\")","v":""},null,null,{"$f":"IF(Input_Output!FG193=\"\",T(Input_Output!FH193),\"\")","v":""},null,null,{"$f":"IF(Input_Output!FJ193=\"\",T(Input_Output!FK193),\"\")","v":""},null,null,{"$f":"IF(Input_Output!FM193=\"\",T(Input_Output!FN193),\"\")","v":""},null,null,{"$f":"IF(Input_Output!FP193=\"\",T(Input_Output!FQ193),\"\")","v":""},null,null,{"$f":"IF(Input_Output!FS193=\"\",T(Input_Output!FT193),\"\")","v":""},null,null,{"$f":"IF(Input_Output!FV193=\"\",T(Input_Output!FW193),\"\")","v":""},null,null,{"$f":"IF(Input_Output!FY193=\"\",T(Input_Output!FZ193),\"\")","v":""},null,null,{"$f":"IF(Input_Output!GB193=\"\",T(Input_Output!GC193),\"\")","v":""},null,null,{"$f":"IF(Input_Output!GE193=\"\",T(Input_Output!GF193),\"\")","v":""},null,null,{"$f":"IF(Input_Output!GH193=\"\",T(Input_Output!GI193),\"\")","v":""},null,null,{"$f":"IF(Input_Output!GK193=\"\",T(Input_Output!GL193),\"\")","v":""},null,null,{"$f":"IF(Input_Output!GN193=\"\",T(Input_Output!GO193),\"\")","v":""},null,null,{"$f":"IF(Input_Output!GQ193=\"\",T(Input_Output!GR193),\"\")","v":""},null,null,{"$f":"IF(Input_Output!GT193=\"\",T(Input_Output!GU193),\"\")","v":""},null,null,{"$f":"IF(Input_Output!GW193=\"\",T(Input_Output!GX193),\"\")","v":""},null,null,{"$f":"IF(Input_Output!GZ193=\"\",T(Input_Output!HA193),\"\")","v":""},null,null,{"$f":"IF(Input_Output!HC193=\"\",T(Input_Output!HD193),\"\")","v":""},null,null,{"$f":"IF(Input_Output!HF193=\"\",T(Input_Output!HG193),\"\")","v":""},null,null,{"$f":"IF(Input_Output!HI193=\"\",T(Input_Output!HJ193),\"\")","v":""},null,null,{"$f":"IF(Input_Output!HL193=\"\",T(Input_Output!HM193),\"\")","v":""},null,null,{"$f":"IF(Input_Output!HO193=\"\",T(Input_Output!HP193),\"\")","v":""},null,null,{"$f":"IF(Input_Output!HR193=\"\",T(Input_Output!HS193),\"\")","v":""},null,null,{"$f":"IF(Input_Output!HU193=\"\",T(Input_Output!HV193),\"\")","v":""},null,null,{"$f":"IF(Input_Output!HX193=\"\",T(Input_Output!HY193),\"\")","v":""},null,null,{"$f":"IF(Input_Output!IA193=\"\",T(Input_Output!IB193),\"\")","v":""},null,null,{"$f":"IF(Input_Output!ID193=\"\",T(Input_Output!IE193),\"\")","v":""},null,null,{"$f":"IF(Input_Output!IG193=\"\",T(Input_Output!IH193),\"\")","v":""},null,null,{"$f":"IF(Input_Output!IJ193=\"\",T(Input_Output!IK193),\"\")","v":""},null,null,{"$f":"IF(Input_Output!IM193=\"\",T(Input_Output!IN193),\"\")","v":""},null,null,{"$f":"IF(Input_Output!IP193=\"\",T(Input_Output!IQ193),\"\")","v":""},null,null,{"$f":"IF(Input_Output!IS193=\"\",T(Input_Output!IT193),\"\")","v":""}]
[null,null,null,null,{"$f":"IF(Input_Output!D194=\"\",T(Input_Output!E194),\"\")","v":""},null,null,{"$f":"IF(Input_Output!G194=\"\",T(Input_Output!H194),\"\")","v":""},null,null,{"$f":"IF(Input_Output!J194=\"\",T(Input_Output!K194),\"\")","v":""},null,null,{"$f":"IF(Input_Output!M194=\"\",T(Input_Output!N194),\"\")","v":""},null,null,{"$f":"IF(Input_Output!P194=\"\",T(Input_Output!Q194),\"\")","v":""},null,null,{"$f":"IF(Input_Output!S194=\"\",T(Input_Output!T194),\"\")","v":""},null,null,{"$f":"IF(Input_Output!V194=\"\",T(Input_Output!W194),\"\")","v":""},null,null,{"$f":"IF(Input_Output!Y194=\"\",T(Input_Output!Z194),\"\")","v":""},null,null,{"$f":"IF(Input_Output!AB194=\"\",T(Input_Output!AC194),\"\")","v":""},null,null,{"$f":"IF(Input_Output!AE194=\"\",T(Input_Output!AF194),\"\")","v":""},null,null,{"$f":"IF(Input_Output!AH194=\"\",T(Input_Output!AI194),\"\")","v":""},null,null,{"$f":"IF(Input_Output!AK194=\"\",T(Input_Output!AL194),\"\")","v":""},null,null,{"$f":"IF(Input_Output!AN194=\"\",T(Input_Output!AO194),\"\")","v":""},null,null,{"$f":"IF(Input_Output!AQ194=\"\",T(Input_Output!AR194),\"\")","v":""},null,null,{"$f":"IF(Input_Output!AT194=\"\",T(Input_Output!AU194),\"\")","v":""},null,null,{"$f":"IF(Input_Output!AW194=\"\",T(Input_Output!AX194),\"\")","v":""},null,null,{"$f":"IF(Input_Output!AZ194=\"\",T(Input_Output!BA194),\"\")","v":""},null,null,{"$f":"IF(Input_Output!BC194=\"\",T(Input_Output!BD194),\"\")","v":""},null,null,{"$f":"IF(Input_Output!BF194=\"\",T(Input_Output!BG194),\"\")","v":""},null,null,{"$f":"IF(Input_Output!BI194=\"\",T(Input_Output!BJ194),\"\")","v":""},null,null,{"$f":"IF(Input_Output!BL194=\"\",T(Input_Output!BM194),\"\")","v":""},null,null,{"$f":"IF(Input_Output!BO194=\"\",T(Input_Output!BP194),\"\")","v":""},null,null,{"$f":"IF(Input_Output!BR194=\"\",T(Input_Output!BS194),\"\")","v":""},null,null,{"$f":"IF(Input_Output!BU194=\"\",T(Input_Output!BV194),\"\")","v":""},null,null,{"$f":"IF(Input_Output!BX194=\"\",T(Input_Output!BY194),\"\")","v":""},null,null,{"$f":"IF(Input_Output!CA194=\"\",T(Input_Output!CB194),\"\")","v":""},null,null,{"$f":"IF(Input_Output!CD194=\"\",T(Input_Output!CE194),\"\")","v":""},null,null,{"$f":"IF(Input_Output!CG194=\"\",T(Input_Output!CH194),\"\")","v":""},null,null,{"$f":"IF(Input_Output!CJ194=\"\",T(Input_Output!CK194),\"\")","v":""},null,null,{"$f":"IF(Input_Output!CM194=\"\",T(Input_Output!CN194),\"\")","v":""},null,null,{"$f":"IF(Input_Output!CP194=\"\",T(Input_Output!CQ194),\"\")","v":""},null,null,{"$f":"IF(Input_Output!CS194=\"\",T(Input_Output!CT194),\"\")","v":""},null,null,{"$f":"IF(Input_Output!CV194=\"\",T(Input_Output!CW194),\"\")","v":""},null,null,{"$f":"IF(Input_Output!CY194=\"\",T(Input_Output!CZ194),\"\")","v":""},null,null,{"$f":"IF(Input_Output!DB194=\"\",T(Input_Output!DC194),\"\")","v":""},null,null,{"$f":"IF(Input_Output!DE194=\"\",T(Input_Output!DF194),\"\")","v":""},null,null,{"$f":"IF(Input_Output!DH194=\"\",T(Input_Output!DI194),\"\")","v":""},null,null,{"$f":"IF(Input_Output!DK194=\"\",T(Input_Output!DL194),\"\")","v":""},null,null,{"$f":"IF(Input_Output!DN194=\"\",T(Input_Output!DO194),\"\")","v":""},null,null,{"$f":"IF(Input_Output!DQ194=\"\",T(Input_Output!DR194),\"\")","v":""},null,null,{"$f":"IF(Input_Output!DT194=\"\",T(Input_Output!DU194),\"\")","v":""},null,null,{"$f":"IF(Input_Output!DW194=\"\",T(Input_Output!DX194),\"\")","v":""},null,null,{"$f":"IF(Input_Output!DZ194=\"\",T(Input_Output!EA194),\"\")","v":""},null,null,{"$f":"IF(Input_Output!EC194=\"\",T(Input_Output!ED194),\"\")","v":""},null,null,{"$f":"IF(Input_Output!EF194=\"\",T(Input_Output!EG194),\"\")","v":""},null,null,{"$f":"IF(Input_Output!EI194=\"\",T(Input_Output!EJ194),\"\")","v":""},null,null,{"$f":"IF(Input_Output!EL194=\"\",T(Input_Output!EM194),\"\")","v":""},null,null,{"$f":"IF(Input_Output!EO194=\"\",T(Input_Output!EP194),\"\")","v":""},null,null,{"$f":"IF(Input_Output!ER194=\"\",T(Input_Output!ES194),\"\")","v":""},null,null,{"$f":"IF(Input_Output!EU194=\"\",T(Input_Output!EV194),\"\")","v":""},null,null,{"$f":"IF(Input_Output!EX194=\"\",T(Input_Output!EY194),\"\")","v":""},null,null,{"$f":"IF(Input_Output!FA194=\"\",T(Input_Output!FB194),\"\")","v":""},null,null,{"$f":"IF(Input_Output!FD194=\"\",T(Input_Output!FE194),\"\")","v":""},null,null,{"$f":"IF(Input_Output!FG194=\"\",T(Input_Output!FH194),\"\")","v":""},null,null,{"$f":"IF(Input_Output!FJ194=\"\",T(Input_Output!FK194),\"\")","v":""},null,null,{"$f":"IF(Input_Output!FM194=\"\",T(Input_Output!FN194),\"\")","v":""},null,null,{"$f":"IF(Input_Output!FP194=\"\",T(Input_Output!FQ194),\"\")","v":""},null,null,{"$f":"IF(Input_Output!FS194=\"\",T(Input_Output!FT194),\"\")","v":""},null,null,{"$f":"IF(Input_Output!FV194=\"\",T(Input_Output!FW194),\"\")","v":""},null,null,{"$f":"IF(Input_Output!FY194=\"\",T(Input_Output!FZ194),\"\")","v":""},null,null,{"$f":"IF(Input_Output!GB194=\"\",T(Input_Output!GC194),\"\")","v":""},null,null,{"$f":"IF(Input_Output!GE194=\"\",T(Input_Output!GF194),\"\")","v":""},null,null,{"$f":"IF(Input_Output!GH194=\"\",T(Input_Output!GI194),\"\")","v":""},null,null,{"$f":"IF(Input_Output!GK194=\"\",T(Input_Output!GL194),\"\")","v":""},null,null,{"$f":"IF(Input_Output!GN194=\"\",T(Input_Output!GO194),\"\")","v":""},null,null,{"$f":"IF(Input_Output!GQ194=\"\",T(Input_Output!GR194),\"\")","v":""},null,null,{"$f":"IF(Input_Output!GT194=\"\",T(Input_Output!GU194),\"\")","v":""},null,null,{"$f":"IF(Input_Output!GW194=\"\",T(Input_Output!GX194),\"\")","v":""},null,null,{"$f":"IF(Input_Output!GZ194=\"\",T(Input_Output!HA194),\"\")","v":""},null,null,{"$f":"IF(Input_Output!HC194=\"\",T(Input_Output!HD194),\"\")","v":""},null,null,{"$f":"IF(Input_Output!HF194=\"\",T(Input_Output!HG194),\"\")","v":""},null,null,{"$f":"IF(Input_Output!HI194=\"\",T(Input_Output!HJ194),\"\")","v":""},null,null,{"$f":"IF(Input_Output!HL194=\"\",T(Input_Output!HM194),\"\")","v":""},null,null,{"$f":"IF(Input_Output!HO194=\"\",T(Input_Output!HP194),\"\")","v":""},null,null,{"$f":"IF(Input_Output!HR194=\"\",T(Input_Output!HS194),\"\")","v":""},null,null,{"$f":"IF(Input_Output!HU194=\"\",T(Input_Output!HV194),\"\")","v":""},null,null,{"$f":"IF(Input_Output!HX194=\"\",T(Input_Output!HY194),\"\")","v":""},null,null,{"$f":"IF(Input_Output!IA194=\"\",T(Input_Output!IB194),\"\")","v":""},null,null,{"$f":"IF(Input_Output!ID194=\"\",T(Input_Output!IE194),\"\")","v":""},null,null,{"$f":"IF(Input_Output!IG194=\"\",T(Input_Output!IH194),\"\")","v":""},null,null,{"$f":"IF(Input_Output!IJ194=\"\",T(Input_Output!IK194),\"\")","v":""},null,null,{"$f":"IF(Input_Output!IM194=\"\",T(Input_Output!IN194),\"\")","v":""},null,null,{"$f":"IF(Input_Output!IP194=\"\",T(Input_Output!IQ194),\"\")","v":""},null,null,{"$f":"IF(Input_Output!IS194=\"\",T(Input_Output!IT194),\"\")","v":""}]
[null,null,null,null,{"$f":"IF(Input_Output!D195=\"\",T(Input_Output!E195),\"\")","v":""},null,null,{"$f":"IF(Input_Output!G195=\"\",T(Input_Output!H195),\"\")","v":""},null,null,{"$f":"IF(Input_Output!J195=\"\",T(Input_Output!K195),\"\")","v":""},null,null,{"$f":"IF(Input_Output!M195=\"\",T(Input_Output!N195),\"\")","v":""},null,null,{"$f":"IF(Input_Output!P195=\"\",T(Input_Output!Q195),\"\")","v":""},null,null,{"$f":"IF(Input_Output!S195=\"\",T(Input_Output!T195),\"\")","v":""},null,null,{"$f":"IF(Input_Output!V195=\"\",T(Input_Output!W195),\"\")","v":""},null,null,{"$f":"IF(Input_Output!Y195=\"\",T(Input_Output!Z195),\"\")","v":""},null,null,{"$f":"IF(Input_Output!AB195=\"\",T(Input_Output!AC195),\"\")","v":""},null,null,{"$f":"IF(Input_Output!AE195=\"\",T(Input_Output!AF195),\"\")","v":""},null,null,{"$f":"IF(Input_Output!AH195=\"\",T(Input_Output!AI195),\"\")","v":""},null,null,{"$f":"IF(Input_Output!AK195=\"\",T(Input_Output!AL195),\"\")","v":""},null,null,{"$f":"IF(Input_Output!AN195=\"\",T(Input_Output!AO195),\"\")","v":""},null,null,{"$f":"IF(Input_Output!AQ195=\"\",T(Input_Output!AR195),\"\")","v":""},null,null,{"$f":"IF(Input_Output!AT195=\"\",T(Input_Output!AU195),\"\")","v":""},null,null,{"$f":"IF(Input_Output!AW195=\"\",T(Input_Output!AX195),\"\")","v":""},null,null,{"$f":"IF(Input_Output!AZ195=\"\",T(Input_Output!BA195),\"\")","v":""},null,null,{"$f":"IF(Input_Output!BC195=\"\",T(Input_Output!BD195),\"\")","v":""},null,null,{"$f":"IF(Input_Output!BF195=\"\",T(Input_Output!BG195),\"\")","v":""},null,null,{"$f":"IF(Input_Output!BI195=\"\",T(Input_Output!BJ195),\"\")","v":""},null,null,{"$f":"IF(Input_Output!BL195=\"\",T(Input_Output!BM195),\"\")","v":""},null,null,{"$f":"IF(Input_Output!BO195=\"\",T(Input_Output!BP195),\"\")","v":""},null,null,{"$f":"IF(Input_Output!BR195=\"\",T(Input_Output!BS195),\"\")","v":""},null,null,{"$f":"IF(Input_Output!BU195=\"\",T(Input_Output!BV195),\"\")","v":""},null,null,{"$f":"IF(Input_Output!BX195=\"\",T(Input_Output!BY195),\"\")","v":""},null,null,{"$f":"IF(Input_Output!CA195=\"\",T(Input_Output!CB195),\"\")","v":""},null,null,{"$f":"IF(Input_Output!CD195=\"\",T(Input_Output!CE195),\"\")","v":""},null,null,{"$f":"IF(Input_Output!CG195=\"\",T(Input_Output!CH195),\"\")","v":""},null,null,{"$f":"IF(Input_Output!CJ195=\"\",T(Input_Output!CK195),\"\")","v":""},null,null,{"$f":"IF(Input_Output!CM195=\"\",T(Input_Output!CN195),\"\")","v":""},null,null,{"$f":"IF(Input_Output!CP195=\"\",T(Input_Output!CQ195),\"\")","v":""},null,null,{"$f":"IF(Input_Output!CS195=\"\",T(Input_Output!CT195),\"\")","v":""},null,null,{"$f":"IF(Input_Output!CV195=\"\",T(Input_Output!CW195),\"\")","v":""},null,null,{"$f":"IF(Input_Output!CY195=\"\",T(Input_Output!CZ195),\"\")","v":""},null,null,{"$f":"IF(Input_Output!DB195=\"\",T(Input_Output!DC195),\"\")","v":""},null,null,{"$f":"IF(Input_Output!DE195=\"\",T(Input_Output!DF195),\"\")","v":""},null,null,{"$f":"IF(Input_Output!DH195=\"\",T(Input_Output!DI195),\"\")","v":""},null,null,{"$f":"IF(Input_Output!DK195=\"\",T(Input_Output!DL195),\"\")","v":""},null,null,{"$f":"IF(Input_Output!DN195=\"\",T(Input_Output!DO195),\"\")","v":""},null,null,{"$f":"IF(Input_Output!DQ195=\"\",T(Input_Output!DR195),\"\")","v":""},null,null,{"$f":"IF(Input_Output!DT195=\"\",T(Input_Output!DU195),\"\")","v":""},null,null,{"$f":"IF(Input_Output!DW195=\"\",T(Input_Output!DX195),\"\")","v":""},null,null,{"$f":"IF(Input_Output!DZ195=\"\",T(Input_Output!EA195),\"\")","v":""},null,null,{"$f":"IF(Input_Output!EC195=\"\",T(Input_Output!ED195),\"\")","v":""},null,null,{"$f":"IF(Input_Output!EF195=\"\",T(Input_Output!EG195),\"\")","v":""},null,null,{"$f":"IF(Input_Output!EI195=\"\",T(Input_Output!EJ195),\"\")","v":""},null,null,{"$f":"IF(Input_Output!EL195=\"\",T(Input_Output!EM195),\"\")","v":""},null,null,{"$f":"IF(Input_Output!EO195=\"\",T(Input_Output!EP195),\"\")","v":""},null,null,{"$f":"IF(Input_Output!ER195=\"\",T(Input_Output!ES195),\"\")","v":""},null,null,{"$f":"IF(Input_Output!EU195=\"\",T(Input_Output!EV195),\"\")","v":""},null,null,{"$f":"IF(Input_Output!EX195=\"\",T(Input_Output!EY195),\"\")","v":""},null,null,{"$f":"IF(Input_Output!FA195=\"\",T(Input_Output!FB195),\"\")","v":""},null,null,{"$f":"IF(Input_Output!FD195=\"\",T(Input_Output!FE195),\"\")","v":""},null,null,{"$f":"IF(Input_Output!FG195=\"\",T(Input_Output!FH195),\"\")","v":""},null,null,{"$f":"IF(Input_Output!FJ195=\"\",T(Input_Output!FK195),\"\")","v":""},null,null,{"$f":"IF(Input_Output!FM195=\"\",T(Input_Output!FN195),\"\")","v":""},null,null,{"$f":"IF(Input_Output!FP195=\"\",T(Input_Output!FQ195),\"\")","v":""},null,null,{"$f":"IF(Input_Output!FS195=\"\",T(Input_Output!FT195),\"\")","v":""},null,null,{"$f":"IF(Input_Output!FV195=\"\",T(Input_Output!FW195),\"\")","v":""},null,null,{"$f":"IF(Input_Output!FY195=\"\",T(Input_Output!FZ195),\"\")","v":""},null,null,{"$f":"IF(Input_Output!GB195=\"\",T(Input_Output!GC195),\"\")","v":""},null,null,{"$f":"IF(Input_Output!GE195=\"\",T(Input_Output!GF195),\"\")","v":""},null,null,{"$f":"IF(Input_Output!GH195=\"\",T(Input_Output!GI195),\"\")","v":""},null,null,{"$f":"IF(Input_Output!GK195=\"\",T(Input_Output!GL195),\"\")","v":""},null,null,{"$f":"IF(Input_Output!GN195=\"\",T(Input_Output!GO195),\"\")","v":""},null,null,{"$f":"IF(Input_Output!GQ195=\"\",T(Input_Output!GR195),\"\")","v":""},null,null,{"$f":"IF(Input_Output!GT195=\"\",T(Input_Output!GU195),\"\")","v":""},null,null,{"$f":"IF(Input_Output!GW195=\"\",T(Input_Output!GX195),\"\")","v":""},null,null,{"$f":"IF(Input_Output!GZ195=\"\",T(Input_Output!HA195),\"\")","v":""},null,null,{"$f":"IF(Input_Output!HC195=\"\",T(Input_Output!HD195),\"\")","v":""},null,null,{"$f":"IF(Input_Output!HF195=\"\",T(Input_Output!HG195),\"\")","v":""},null,null,{"$f":"IF(Input_Output!HI195=\"\",T(Input_Output!HJ195),\"\")","v":""},null,null,{"$f":"IF(Input_Output!HL195=\"\",T(Input_Output!HM195),\"\")","v":""},null,null,{"$f":"IF(Input_Output!HO195=\"\",T(Input_Output!HP195),\"\")","v":""},null,null,{"$f":"IF(Input_Output!HR195=\"\",T(Input_Output!HS195),\"\")","v":""},null,null,{"$f":"IF(Input_Output!HU195=\"\",T(Input_Output!HV195),\"\")","v":""},null,null,{"$f":"IF(Input_Output!HX195=\"\",T(Input_Output!HY195),\"\")","v":""},null,null,{"$f":"IF(Input_Output!IA195=\"\",T(Input_Output!IB195),\"\")","v":""},null,null,{"$f":"IF(Input_Output!ID195=\"\",T(Input_Output!IE195),\"\")","v":""},null,null,{"$f":"IF(Input_Output!IG195=\"\",T(Input_Output!IH195),\"\")","v":""},null,null,{"$f":"IF(Input_Output!IJ195=\"\",T(Input_Output!IK195),\"\")","v":""},null,null,{"$f":"IF(Input_Output!IM195=\"\",T(Input_Output!IN195),\"\")","v":""},null,null,{"$f":"IF(Input_Output!IP195=\"\",T(Input_Output!IQ195),\"\")","v":""},null,null,{"$f":"IF(Input_Output!IS195=\"\",T(Input_Output!IT195),\"\")","v":""}]
[null,null,null,null,{"$f":"IF(Input_Output!D196=\"\",T(Input_Output!E196),\"\")","v":""},null,null,{"$f":"IF(Input_Output!G196=\"\",T(Input_Output!H196),\"\")","v":""},null,null,{"$f":"IF(Input_Output!J196=\"\",T(Input_Output!K196),\"\")","v":""},null,null,{"$f":"IF(Input_Output!M196=\"\",T(Input_Output!N196),\"\")","v":""},null,null,{"$f":"IF(Input_Output!P196=\"\",T(Input_Output!Q196),\"\")","v":""},null,null,{"$f":"IF(Input_Output!S196=\"\",T(Input_Output!T196),\"\")","v":""},null,null,{"$f":"IF(Input_Output!V196=\"\",T(Input_Output!W196),\"\")","v":""},null,null,{"$f":"IF(Input_Output!Y196=\"\",T(Input_Output!Z196),\"\")","v":""},null,null,{"$f":"IF(Input_Output!AB196=\"\",T(Input_Output!AC196),\"\")","v":""},null,null,{"$f":"IF(Input_Output!AE196=\"\",T(Input_Output!AF196),\"\")","v":""},null,null,{"$f":"IF(Input_Output!AH196=\"\",T(Input_Output!AI196),\"\")","v":""},null,null,{"$f":"IF(Input_Output!AK196=\"\",T(Input_Output!AL196),\"\")","v":""},null,null,{"$f":"IF(Input_Output!AN196=\"\",T(Input_Output!AO196),\"\")","v":""},null,null,{"$f":"IF(Input_Output!AQ196=\"\",T(Input_Output!AR196),\"\")","v":""},null,null,{"$f":"IF(Input_Output!AT196=\"\",T(Input_Output!AU196),\"\")","v":""},null,null,{"$f":"IF(Input_Output!AW196=\"\",T(Input_Output!AX196),\"\")","v":""},null,null,{"$f":"IF(Input_Output!AZ196=\"\",T(Input_Output!BA196),\"\")","v":""},null,null,{"$f":"IF(Input_Output!BC196=\"\",T(Input_Output!BD196),\"\")","v":""},null,null,{"$f":"IF(Input_Output!BF196=\"\",T(Input_Output!BG196),\"\")","v":""},null,null,{"$f":"IF(Input_Output!BI196=\"\",T(Input_Output!BJ196),\"\")","v":""},null,null,{"$f":"IF(Input_Output!BL196=\"\",T(Input_Output!BM196),\"\")","v":""},null,null,{"$f":"IF(Input_Output!BO196=\"\",T(Input_Output!BP196),\"\")","v":""},null,null,{"$f":"IF(Input_Output!BR196=\"\",T(Input_Output!BS196),\"\")","v":""},null,null,{"$f":"IF(Input_Output!BU196=\"\",T(Input_Output!BV196),\"\")","v":""},null,null,{"$f":"IF(Input_Output!BX196=\"\",T(Input_Output!BY196),\"\")","v":""},null,null,{"$f":"IF(Input_Output!CA196=\"\",T(Input_Output!CB196),\"\")","v":""},null,null,{"$f":"IF(Input_Output!CD196=\"\",T(Input_Output!CE196),\"\")","v":""},null,null,{"$f":"IF(Input_Output!CG196=\"\",T(Input_Output!CH196),\"\")","v":""},null,null,{"$f":"IF(Input_Output!CJ196=\"\",T(Input_Output!CK196),\"\")","v":""},null,null,{"$f":"IF(Input_Output!CM196=\"\",T(Input_Output!CN196),\"\")","v":""},null,null,{"$f":"IF(Input_Output!CP196=\"\",T(Input_Output!CQ196),\"\")","v":""},null,null,{"$f":"IF(Input_Output!CS196=\"\",T(Input_Output!CT196),\"\")","v":""},null,null,{"$f":"IF(Input_Output!CV196=\"\",T(Input_Output!CW196),\"\")","v":""},null,null,{"$f":"IF(Input_Output!CY196=\"\",T(Input_Output!CZ196),\"\")","v":""},null,null,{"$f":"IF(Input_Output!DB196=\"\",T(Input_Output!DC196),\"\")","v":""},null,null,{"$f":"IF(Input_Output!DE196=\"\",T(Input_Output!DF196),\"\")","v":""},null,null,{"$f":"IF(Input_Output!DH196=\"\",T(Input_Output!DI196),\"\")","v":""},null,null,{"$f":"IF(Input_Output!DK196=\"\",T(Input_Output!DL196),\"\")","v":""},null,null,{"$f":"IF(Input_Output!DN196=\"\",T(Input_Output!DO196),\"\")","v":""},null,null,{"$f":"IF(Input_Output!DQ196=\"\",T(Input_Output!DR196),\"\")","v":""},null,null,{"$f":"IF(Input_Output!DT196=\"\",T(Input_Output!DU196),\"\")","v":""},null,null,{"$f":"IF(Input_Output!DW196=\"\",T(Input_Output!DX196),\"\")","v":""},null,null,{"$f":"IF(Input_Output!DZ196=\"\",T(Input_Output!EA196),\"\")","v":""},null,null,{"$f":"IF(Input_Output!EC196=\"\",T(Input_Output!ED196),\"\")","v":""},null,null,{"$f":"IF(Input_Output!EF196=\"\",T(Input_Output!EG196),\"\")","v":""},null,null,{"$f":"IF(Input_Output!EI196=\"\",T(Input_Output!EJ196),\"\")","v":""},null,null,{"$f":"IF(Input_Output!EL196=\"\",T(Input_Output!EM196),\"\")","v":""},null,null,{"$f":"IF(Input_Output!EO196=\"\",T(Input_Output!EP196),\"\")","v":""},null,null,{"$f":"IF(Input_Output!ER196=\"\",T(Input_Output!ES196),\"\")","v":""},null,null,{"$f":"IF(Input_Output!EU196=\"\",T(Input_Output!EV196),\"\")","v":""},null,null,{"$f":"IF(Input_Output!EX196=\"\",T(Input_Output!EY196),\"\")","v":""},null,null,{"$f":"IF(Input_Output!FA196=\"\",T(Input_Output!FB196),\"\")","v":""},null,null,{"$f":"IF(Input_Output!FD196=\"\",T(Input_Output!FE196),\"\")","v":""},null,null,{"$f":"IF(Input_Output!FG196=\"\",T(Input_Output!FH196),\"\")","v":""},null,null,{"$f":"IF(Input_Output!FJ196=\"\",T(Input_Output!FK196),\"\")","v":""},null,null,{"$f":"IF(Input_Output!FM196=\"\",T(Input_Output!FN196),\"\")","v":""},null,null,{"$f":"IF(Input_Output!FP196=\"\",T(Input_Output!FQ196),\"\")","v":""},null,null,{"$f":"IF(Input_Output!FS196=\"\",T(Input_Output!FT196),\"\")","v":""},null,null,{"$f":"IF(Input_Output!FV196=\"\",T(Input_Output!FW196),\"\")","v":""},null,null,{"$f":"IF(Input_Output!FY196=\"\",T(Input_Output!FZ196),\"\")","v":""},null,null,{"$f":"IF(Input_Output!GB196=\"\",T(Input_Output!GC196),\"\")","v":""},null,null,{"$f":"IF(Input_Output!GE196=\"\",T(Input_Output!GF196),\"\")","v":""},null,null,{"$f":"IF(Input_Output!GH196=\"\",T(Input_Output!GI196),\"\")","v":""},null,null,{"$f":"IF(Input_Output!GK196=\"\",T(Input_Output!GL196),\"\")","v":""},null,null,{"$f":"IF(Input_Output!GN196=\"\",T(Input_Output!GO196),\"\")","v":""},null,null,{"$f":"IF(Input_Output!GQ196=\"\",T(Input_Output!GR196),\"\")","v":""},null,null,{"$f":"IF(Input_Output!GT196=\"\",T(Input_Output!GU196),\"\")","v":""},null,null,{"$f":"IF(Input_Output!GW196=\"\",T(Input_Output!GX196),\"\")","v":""},null,null,{"$f":"IF(Input_Output!GZ196=\"\",T(Input_Output!HA196),\"\")","v":""},null,null,{"$f":"IF(Input_Output!HC196=\"\",T(Input_Output!HD196),\"\")","v":""},null,null,{"$f":"IF(Input_Output!HF196=\"\",T(Input_Output!HG196),\"\")","v":""},null,null,{"$f":"IF(Input_Output!HI196=\"\",T(Input_Output!HJ196),\"\")","v":""},null,null,{"$f":"IF(Input_Output!HL196=\"\",T(Input_Output!HM196),\"\")","v":""},null,null,{"$f":"IF(Input_Output!HO196=\"\",T(Input_Output!HP196),\"\")","v":""},null,null,{"$f":"IF(Input_Output!HR196=\"\",T(Input_Output!HS196),\"\")","v":""},null,null,{"$f":"IF(Input_Output!HU196=\"\",T(Input_Output!HV196),\"\")","v":""},null,null,{"$f":"IF(Input_Output!HX196=\"\",T(Input_Output!HY196),\"\")","v":""},null,null,{"$f":"IF(Input_Output!IA196=\"\",T(Input_Output!IB196),\"\")","v":""},null,null,{"$f":"IF(Input_Output!ID196=\"\",T(Input_Output!IE196),\"\")","v":""},null,null,{"$f":"IF(Input_Output!IG196=\"\",T(Input_Output!IH196),\"\")","v":""},null,null,{"$f":"IF(Input_Output!IJ196=\"\",T(Input_Output!IK196),\"\")","v":""},null,null,{"$f":"IF(Input_Output!IM196=\"\",T(Input_Output!IN196),\"\")","v":""},null,null,{"$f":"IF(Input_Output!IP196=\"\",T(Input_Output!IQ196),\"\")","v":""},null,null,{"$f":"IF(Input_Output!IS196=\"\",T(Input_Output!IT196),\"\")","v":""}]
[null,null,null,null,{"$f":"IF(Input_Output!D197=\"\",T(Input_Output!E197),\"\")","v":""},null,null,{"$f":"IF(Input_Output!G197=\"\",T(Input_Output!H197),\"\")","v":""},null,null,{"$f":"IF(Input_Output!J197=\"\",T(Input_Output!K197),\"\")","v":""},null,null,{"$f":"IF(Input_Output!M197=\"\",T(Input_Output!N197),\"\")","v":""},null,null,{"$f":"IF(Input_Output!P197=\"\",T(Input_Output!Q197),\"\")","v":""},null,null,{"$f":"IF(Input_Output!S197=\"\",T(Input_Output!T197),\"\")","v":""},null,null,{"$f":"IF(Input_Output!V197=\"\",T(Input_Output!W197),\"\")","v":""},null,null,{"$f":"IF(Input_Output!Y197=\"\",T(Input_Output!Z197),\"\")","v":""},null,null,{"$f":"IF(Input_Output!AB197=\"\",T(Input_Output!AC197),\"\")","v":""},null,null,{"$f":"IF(Input_Output!AE197=\"\",T(Input_Output!AF197),\"\")","v":""},null,null,{"$f":"IF(Input_Output!AH197=\"\",T(Input_Output!AI197),\"\")","v":""},null,null,{"$f":"IF(Input_Output!AK197=\"\",T(Input_Output!AL197),\"\")","v":""},null,null,{"$f":"IF(Input_Output!AN197=\"\",T(Input_Output!AO197),\"\")","v":""},null,null,{"$f":"IF(Input_Output!AQ197=\"\",T(Input_Output!AR197),\"\")","v":""},null,null,{"$f":"IF(Input_Output!AT197=\"\",T(Input_Output!AU197),\"\")","v":""},null,null,{"$f":"IF(Input_Output!AW197=\"\",T(Input_Output!AX197),\"\")","v":""},null,null,{"$f":"IF(Input_Output!AZ197=\"\",T(Input_Output!BA197),\"\")","v":""},null,null,{"$f":"IF(Input_Output!BC197=\"\",T(Input_Output!BD197),\"\")","v":""},null,null,{"$f":"IF(Input_Output!BF197=\"\",T(Input_Output!BG197),\"\")","v":""},null,null,{"$f":"IF(Input_Output!BI197=\"\",T(Input_Output!BJ197),\"\")","v":""},null,null,{"$f":"IF(Input_Output!BL197=\"\",T(Input_Output!BM197),\"\")","v":""},null,null,{"$f":"IF(Input_Output!BO197=\"\",T(Input_Output!BP197),\"\")","v":""},null,null,{"$f":"IF(Input_Output!BR197=\"\",T(Input_Output!BS197),\"\")","v":""},null,null,{"$f":"IF(Input_Output!BU197=\"\",T(Input_Output!BV197),\"\")","v":""},null,null,{"$f":"IF(Input_Output!BX197=\"\",T(Input_Output!BY197),\"\")","v":""},null,null,{"$f":"IF(Input_Output!CA197=\"\",T(Input_Output!CB197),\"\")","v":""},null,null,{"$f":"IF(Input_Output!CD197=\"\",T(Input_Output!CE197),\"\")","v":""},null,null,{"$f":"IF(Input_Output!CG197=\"\",T(Input_Output!CH197),\"\")","v":""},null,null,{"$f":"IF(Input_Output!CJ197=\"\",T(Input_Output!CK197),\"\")","v":""},null,null,{"$f":"IF(Input_Output!CM197=\"\",T(Input_Output!CN197),\"\")","v":""},null,null,{"$f":"IF(Input_Output!CP197=\"\",T(Input_Output!CQ197),\"\")","v":""},null,null,{"$f":"IF(Input_Output!CS197=\"\",T(Input_Output!CT197),\"\")","v":""},null,null,{"$f":"IF(Input_Output!CV197=\"\",T(Input_Output!CW197),\"\")","v":""},null,null,{"$f":"IF(Input_Output!CY197=\"\",T(Input_Output!CZ197),\"\")","v":""},null,null,{"$f":"IF(Input_Output!DB197=\"\",T(Input_Output!DC197),\"\")","v":""},null,null,{"$f":"IF(Input_Output!DE197=\"\",T(Input_Output!DF197),\"\")","v":""},null,null,{"$f":"IF(Input_Output!DH197=\"\",T(Input_Output!DI197),\"\")","v":""},null,null,{"$f":"IF(Input_Output!DK197=\"\",T(Input_Output!DL197),\"\")","v":""},null,null,{"$f":"IF(Input_Output!DN197=\"\",T(Input_Output!DO197),\"\")","v":""},null,null,{"$f":"IF(Input_Output!DQ197=\"\",T(Input_Output!DR197),\"\")","v":""},null,null,{"$f":"IF(Input_Output!DT197=\"\",T(Input_Output!DU197),\"\")","v":""},null,null,{"$f":"IF(Input_Output!DW197=\"\",T(Input_Output!DX197),\"\")","v":""},null,null,{"$f":"IF(Input_Output!DZ197=\"\",T(Input_Output!EA197),\"\")","v":""},null,null,{"$f":"IF(Input_Output!EC197=\"\",T(Input_Output!ED197),\"\")","v":""},null,null,{"$f":"IF(Input_Output!EF197=\"\",T(Input_Output!EG197),\"\")","v":""},null,null,{"$f":"IF(Input_Output!EI197=\"\",T(Input_Output!EJ197),\"\")","v":""},null,null,{"$f":"IF(Input_Output!EL197=\"\",T(Input_Output!EM197),\"\")","v":""},null,null,{"$f":"IF(Input_Output!EO197=\"\",T(Input_Output!EP197),\"\")","v":""},null,null,{"$f":"IF(Input_Output!ER197=\"\",T(Input_Output!ES197),\"\")","v":""},null,null,{"$f":"IF(Input_Output!EU197=\"\",T(Input_Output!EV197),\"\")","v":""},null,null,{"$f":"IF(Input_Output!EX197=\"\",T(Input_Output!EY197),\"\")","v":""},null,null,{"$f":"IF(Input_Output!FA197=\"\",T(Input_Output!FB197),\"\")","v":""},null,null,{"$f":"IF(Input_Output!FD197=\"\",T(Input_Output!FE197),\"\")","v":""},null,null,{"$f":"IF(Input_Output!FG197=\"\",T(Input_Output!FH197),\"\")","v":""},null,null,{"$f":"IF(Input_Output!FJ197=\"\",T(Input_Output!FK197),\"\")","v":""},null,null,{"$f":"IF(Input_Output!FM197=\"\",T(Input_Output!FN197),\"\")","v":""},null,null,{"$f":"IF(Input_Output!FP197=\"\",T(Input_Output!FQ197),\"\")","v":""},null,null,{"$f":"IF(Input_Output!FS197=\"\",T(Input_Output!FT197),\"\")","v":""},null,null,{"$f":"IF(Input_Output!FV197=\"\",T(Input_Output!FW197),\"\")","v":""},null,null,{"$f":"IF(Input_Output!FY197=\"\",T(Input_Output!FZ197),\"\")","v":""},null,null,{"$f":"IF(Input_Output!GB197=\"\",T(Input_Output!GC197),\"\")","v":""},null,null,{"$f":"IF(Input_Output!GE197=\"\",T(Input_Output!GF197),\"\")","v":""},null,null,{"$f":"IF(Input_Output!GH197=\"\",T(Input_Output!GI197),\"\")","v":""},null,null,{"$f":"IF(Input_Output!GK197=\"\",T(Input_Output!GL197),\"\")","v":""},null,null,{"$f":"IF(Input_Output!GN197=\"\",T(Input_Output!GO197),\"\")","v":""},null,null,{"$f":"IF(Input_Output!GQ197=\"\",T(Input_Output!GR197),\"\")","v":""},null,null,{"$f":"IF(Input_Output!GT197=\"\",T(Input_Output!GU197),\"\")","v":""},null,null,{"$f":"IF(Input_Output!GW197=\"\",T(Input_Output!GX197),\"\")","v":""},null,null,{"$f":"IF(Input_Output!GZ197=\"\",T(Input_Output!HA197),\"\")","v":""},null,null,{"$f":"IF(Input_Output!HC197=\"\",T(Input_Output!HD197),\"\")","v":""},null,null,{"$f":"IF(Input_Output!HF197=\"\",T(Input_Output!HG197),\"\")","v":""},null,null,{"$f":"IF(Input_Output!HI197=\"\",T(Input_Output!HJ197),\"\")","v":""},null,null,{"$f":"IF(Input_Output!HL197=\"\",T(Input_Output!HM197),\"\")","v":""},null,null,{"$f":"IF(Input_Output!HO197=\"\",T(Input_Output!HP197),\"\")","v":""},null,null,{"$f":"IF(Input_Output!HR197=\"\",T(Input_Output!HS197),\"\")","v":""},null,null,{"$f":"IF(Input_Output!HU197=\"\",T(Input_Output!HV197),\"\")","v":""},null,null,{"$f":"IF(Input_Output!HX197=\"\",T(Input_Output!HY197),\"\")","v":""},null,null,{"$f":"IF(Input_Output!IA197=\"\",T(Input_Output!IB197),\"\")","v":""},null,null,{"$f":"IF(Input_Output!ID197=\"\",T(Input_Output!IE197),\"\")","v":""},null,null,{"$f":"IF(Input_Output!IG197=\"\",T(Input_Output!IH197),\"\")","v":""},null,null,{"$f":"IF(Input_Output!IJ197=\"\",T(Input_Output!IK197),\"\")","v":""},null,null,{"$f":"IF(Input_Output!IM197=\"\",T(Input_Output!IN197),\"\")","v":""},null,null,{"$f":"IF(Input_Output!IP197=\"\",T(Input_Output!IQ197),\"\")","v":""},null,null,{"$f":"IF(Input_Output!IS197=\"\",T(Input_Output!IT197),\"\")","v":""}]
[null,null,null,null,{"$f":"IF(Input_Output!D198=\"\",T(Input_Output!E198),\"\")","v":""},null,null,{"$f":"IF(Input_Output!G198=\"\",T(Input_Output!H198),\"\")","v":""},null,null,{"$f":"IF(Input_Output!J198=\"\",T(Input_Output!K198),\"\")","v":""},null,null,{"$f":"IF(Input_Output!M198=\"\",T(Input_Output!N198),\"\")","v":""},null,null,{"$f":"IF(Input_Output!P198=\"\",T(Input_Output!Q198),\"\")","v":""},null,null,{"$f":"IF(Input_Output!S198=\"\",T(Input_Output!T198),\"\")","v":""},null,null,{"$f":"IF(Input_Output!V198=\"\",T(Input_Output!W198),\"\")","v":""},null,null,{"$f":"IF(Input_Output!Y198=\"\",T(Input_Output!Z198),\"\")","v":""},null,null,{"$f":"IF(Input_Output!AB198=\"\",T(Input_Output!AC198),\"\")","v":""},null,null,{"$f":"IF(Input_Output!AE198=\"\",T(Input_Output!AF198),\"\")","v":""},null,null,{"$f":"IF(Input_Output!AH198=\"\",T(Input_Output!AI198),\"\")","v":""},null,null,{"$f":"IF(Input_Output!AK198=\"\",T(Input_Output!AL198),\"\")","v":""},null,null,{"$f":"IF(Input_Output!AN198=\"\",T(Input_Output!AO198),\"\")","v":""},null,null,{"$f":"IF(Input_Output!AQ198=\"\",T(Input_Output!AR198),\"\")","v":""},null,null,{"$f":"IF(Input_Output!AT198=\"\",T(Input_Output!AU198),\"\")","v":""},null,null,{"$f":"IF(Input_Output!AW198=\"\",T(Input_Output!AX198),\"\")","v":""},null,null,{"$f":"IF(Input_Output!AZ198=\"\",T(Input_Output!BA198),\"\")","v":""},null,null,{"$f":"IF(Input_Output!BC198=\"\",T(Input_Output!BD198),\"\")","v":""},null,null,{"$f":"IF(Input_Output!BF198=\"\",T(Input_Output!BG198),\"\")","v":""},null,null,{"$f":"IF(Input_Output!BI198=\"\",T(Input_Output!BJ198),\"\")","v":""},null,null,{"$f":"IF(Input_Output!BL198=\"\",T(Input_Output!BM198),\"\")","v":""},null,null,{"$f":"IF(Input_Output!BO198=\"\",T(Input_Output!BP198),\"\")","v":""},null,null,{"$f":"IF(Input_Output!BR198=\"\",T(Input_Output!BS198),\"\")","v":""},null,null,{"$f":"IF(Input_Output!BU198=\"\",T(Input_Output!BV198),\"\")","v":""},null,null,{"$f":"IF(Input_Output!BX198=\"\",T(Input_Output!BY198),\"\")","v":""},null,null,{"$f":"IF(Input_Output!CA198=\"\",T(Input_Output!CB198),\"\")","v":""},null,null,{"$f":"IF(Input_Output!CD198=\"\",T(Input_Output!CE198),\"\")","v":""},null,null,{"$f":"IF(Input_Output!CG198=\"\",T(Input_Output!CH198),\"\")","v":""},null,null,{"$f":"IF(Input_Output!CJ198=\"\",T(Input_Output!CK198),\"\")","v":""},null,null,{"$f":"IF(Input_Output!CM198=\"\",T(Input_Output!CN198),\"\")","v":""},null,null,{"$f":"IF(Input_Output!CP198=\"\",T(Input_Output!CQ198),\"\")","v":""},null,null,{"$f":"IF(Input_Output!CS198=\"\",T(Input_Output!CT198),\"\")","v":""},null,null,{"$f":"IF(Input_Output!CV198=\"\",T(Input_Output!CW198),\"\")","v":""},null,null,{"$f":"IF(Input_Output!CY198=\"\",T(Input_Output!CZ198),\"\")","v":""},null,null,{"$f":"IF(Input_Output!DB198=\"\",T(Input_Output!DC198),\"\")","v":""},null,null,{"$f":"IF(Input_Output!DE198=\"\",T(Input_Output!DF198),\"\")","v":""},null,null,{"$f":"IF(Input_Output!DH198=\"\",T(Input_Output!DI198),\"\")","v":""},null,null,{"$f":"IF(Input_Output!DK198=\"\",T(Input_Output!DL198),\"\")","v":""},null,null,{"$f":"IF(Input_Output!DN198=\"\",T(Input_Output!DO198),\"\")","v":""},null,null,{"$f":"IF(Input_Output!DQ198=\"\",T(Input_Output!DR198),\"\")","v":""},null,null,{"$f":"IF(Input_Output!DT198=\"\",T(Input_Output!DU198),\"\")","v":""},null,null,{"$f":"IF(Input_Output!DW198=\"\",T(Input_Output!DX198),\"\")","v":""},null,null,{"$f":"IF(Input_Output!DZ198=\"\",T(Input_Output!EA198),\"\")","v":""},null,null,{"$f":"IF(Input_Output!EC198=\"\",T(Input_Output!ED198),\"\")","v":""},null,null,{"$f":"IF(Input_Output!EF198=\"\",T(Input_Output!EG198),\"\")","v":""},null,null,{"$f":"IF(Input_Output!EI198=\"\",T(Input_Output!EJ198),\"\")","v":""},null,null,{"$f":"IF(Input_Output!EL198=\"\",T(Input_Output!EM198),\"\")","v":""},null,null,{"$f":"IF(Input_Output!EO198=\"\",T(Input_Output!EP198),\"\")","v":""},null,null,{"$f":"IF(Input_Output!ER198=\"\",T(Input_Output!ES198),\"\")","v":""},null,null,{"$f":"IF(Input_Output!EU198=\"\",T(Input_Output!EV198),\"\")","v":""},null,null,{"$f":"IF(Input_Output!EX198=\"\",T(Input_Output!EY198),\"\")","v":""},null,null,{"$f":"IF(Input_Output!FA198=\"\",T(Input_Output!FB198),\"\")","v":""},null,null,{"$f":"IF(Input_Output!FD198=\"\",T(Input_Output!FE198),\"\")","v":""},null,null,{"$f":"IF(Input_Output!FG198=\"\",T(Input_Output!FH198),\"\")","v":""},null,null,{"$f":"IF(Input_Output!FJ198=\"\",T(Input_Output!FK198),\"\")","v":""},null,null,{"$f":"IF(Input_Output!FM198=\"\",T(Input_Output!FN198),\"\")","v":""},null,null,{"$f":"IF(Input_Output!FP198=\"\",T(Input_Output!FQ198),\"\")","v":""},null,null,{"$f":"IF(Input_Output!FS198=\"\",T(Input_Output!FT198),\"\")","v":""},null,null,{"$f":"IF(Input_Output!FV198=\"\",T(Input_Output!FW198),\"\")","v":""},null,null,{"$f":"IF(Input_Output!FY198=\"\",T(Input_Output!FZ198),\"\")","v":""},null,null,{"$f":"IF(Input_Output!GB198=\"\",T(Input_Output!GC198),\"\")","v":""},null,null,{"$f":"IF(Input_Output!GE198=\"\",T(Input_Output!GF198),\"\")","v":""},null,null,{"$f":"IF(Input_Output!GH198=\"\",T(Input_Output!GI198),\"\")","v":""},null,null,{"$f":"IF(Input_Output!GK198=\"\",T(Input_Output!GL198),\"\")","v":""},null,null,{"$f":"IF(Input_Output!GN198=\"\",T(Input_Output!GO198),\"\")","v":""},null,null,{"$f":"IF(Input_Output!GQ198=\"\",T(Input_Output!GR198),\"\")","v":""},null,null,{"$f":"IF(Input_Output!GT198=\"\",T(Input_Output!GU198),\"\")","v":""},null,null,{"$f":"IF(Input_Output!GW198=\"\",T(Input_Output!GX198),\"\")","v":""},null,null,{"$f":"IF(Input_Output!GZ198=\"\",T(Input_Output!HA198),\"\")","v":""},null,null,{"$f":"IF(Input_Output!HC198=\"\",T(Input_Output!HD198),\"\")","v":""},null,null,{"$f":"IF(Input_Output!HF198=\"\",T(Input_Output!HG198),\"\")","v":""},null,null,{"$f":"IF(Input_Output!HI198=\"\",T(Input_Output!HJ198),\"\")","v":""},null,null,{"$f":"IF(Input_Output!HL198=\"\",T(Input_Output!HM198),\"\")","v":""},null,null,{"$f":"IF(Input_Output!HO198=\"\",T(Input_Output!HP198),\"\")","v":""},null,null,{"$f":"IF(Input_Output!HR198=\"\",T(Input_Output!HS198),\"\")","v":""},null,null,{"$f":"IF(Input_Output!HU198=\"\",T(Input_Output!HV198),\"\")","v":""},null,null,{"$f":"IF(Input_Output!HX198=\"\",T(Input_Output!HY198),\"\")","v":""},null,null,{"$f":"IF(Input_Output!IA198=\"\",T(Input_Output!IB198),\"\")","v":""},null,null,{"$f":"IF(Input_Output!ID198=\"\",T(Input_Output!IE198),\"\")","v":""},null,null,{"$f":"IF(Input_Output!IG198=\"\",T(Input_Output!IH198),\"\")","v":""},null,null,{"$f":"IF(Input_Output!IJ198=\"\",T(Input_Output!IK198),\"\")","v":""},null,null,{"$f":"IF(Input_Output!IM198=\"\",T(Input_Output!IN198),\"\")","v":""},null,null,{"$f":"IF(Input_Output!IP198=\"\",T(Input_Output!IQ198),\"\")","v":""},null,null,{"$f":"IF(Input_Output!IS198=\"\",T(Input_Output!IT198),\"\")","v":""}]
[null,null,null,null,{"$f":"IF(Input_Output!D199=\"\",T(Input_Output!E199),\"\")","v":""},null,null,{"$f":"IF(Input_Output!G199=\"\",T(Input_Output!H199),\"\")","v":""},null,null,{"$f":"IF(Input_Output!J199=\"\",T(Input_Output!K199),\"\")","v":""},null,null,{"$f":"IF(Input_Output!M199=\"\",T(Input_Output!N199),\"\")","v":""},null,null,{"$f":"IF(Input_Output!P199=\"\",T(Input_Output!Q199),\"\")","v":""},null,null,{"$f":"IF(Input_Output!S199=\"\",T(Input_Output!T199),\"\")","v":""},null,null,{"$f":"IF(Input_Output!V199=\"\",T(Input_Output!W199),\"\")","v":""},null,null,{"$f":"IF(Input_Output!Y199=\"\",T(Input_Output!Z199),\"\")","v":""},null,null,{"$f":"IF(Input_Output!AB199=\"\",T(Input_Output!AC199),\"\")","v":""},null,null,{"$f":"IF(Input_Output!AE199=\"\",T(Input_Output!AF199),\"\")","v":""},null,null,{"$f":"IF(Input_Output!AH199=\"\",T(Input_Output!AI199),\"\")","v":""},null,null,{"$f":"IF(Input_Output!AK199=\"\",T(Input_Output!AL199),\"\")","v":""},null,null,{"$f":"IF(Input_Output!AN199=\"\",T(Input_Output!AO199),\"\")","v":""},null,null,{"$f":"IF(Input_Output!AQ199=\"\",T(Input_Output!AR199),\"\")","v":""},null,null,{"$f":"IF(Input_Output!AT199=\"\",T(Input_Output!AU199),\"\")","v":""},null,null,{"$f":"IF(Input_Output!AW199=\"\",T(Input_Output!AX199),\"\")","v":""},null,null,{"$f":"IF(Input_Output!AZ199=\"\",T(Input_Output!BA199),\"\")","v":""},null,null,{"$f":"IF(Input_Output!BC199=\"\",T(Input_Output!BD199),\"\")","v":""},null,null,{"$f":"IF(Input_Output!BF199=\"\",T(Input_Output!BG199),\"\")","v":""},null,null,{"$f":"IF(Input_Output!BI199=\"\",T(Input_Output!BJ199),\"\")","v":""},null,null,{"$f":"IF(Input_Output!BL199=\"\",T(Input_Output!BM199),\"\")","v":""},null,null,{"$f":"IF(Input_Output!BO199=\"\",T(Input_Output!BP199),\"\")","v":""},null,null,{"$f":"IF(Input_Output!BR199=\"\",T(Input_Output!BS199),\"\")","v":""},null,null,{"$f":"IF(Input_Output!BU199=\"\",T(Input_Output!BV199),\"\")","v":""},null,null,{"$f":"IF(Input_Output!BX199=\"\",T(Input_Output!BY199),\"\")","v":""},null,null,{"$f":"IF(Input_Output!CA199=\"\",T(Input_Output!CB199),\"\")","v":""},null,null,{"$f":"IF(Input_Output!CD199=\"\",T(Input_Output!CE199),\"\")","v":""},null,null,{"$f":"IF(Input_Output!CG199=\"\",T(Input_Output!CH199),\"\")","v":""},null,null,{"$f":"IF(Input_Output!CJ199=\"\",T(Input_Output!CK199),\"\")","v":""},null,null,{"$f":"IF(Input_Output!CM199=\"\",T(Input_Output!CN199),\"\")","v":""},null,null,{"$f":"IF(Input_Output!CP199=\"\",T(Input_Output!CQ199),\"\")","v":""},null,null,{"$f":"IF(Input_Output!CS199=\"\",T(Input_Output!CT199),\"\")","v":""},null,null,{"$f":"IF(Input_Output!CV199=\"\",T(Input_Output!CW199),\"\")","v":""},null,null,{"$f":"IF(Input_Output!CY199=\"\",T(Input_Output!CZ199),\"\")","v":""},null,null,{"$f":"IF(Input_Output!DB199=\"\",T(Input_Output!DC199),\"\")","v":""},null,null,{"$f":"IF(Input_Output!DE199=\"\",T(Input_Output!DF199),\"\")","v":""},null,null,{"$f":"IF(Input_Output!DH199=\"\",T(Input_Output!DI199),\"\")","v":""},null,null,{"$f":"IF(Input_Output!DK199=\"\",T(Input_Output!DL199),\"\")","v":""},null,null,{"$f":"IF(Input_Output!DN199=\"\",T(Input_Output!DO199),\"\")","v":""},null,null,{"$f":"IF(Input_Output!DQ199=\"\",T(Input_Output!DR199),\"\")","v":""},null,null,{"$f":"IF(Input_Output!DT199=\"\",T(Input_Output!DU199),\"\")","v":""},null,null,{"$f":"IF(Input_Output!DW199=\"\",T(Input_Output!DX199),\"\")","v":""},null,null,{"$f":"IF(Input_Output!DZ199=\"\",T(Input_Output!EA199),\"\")","v":""},null,null,{"$f":"IF(Input_Output!EC199=\"\",T(Input_Output!ED199),\"\")","v":""},null,null,{"$f":"IF(Input_Output!EF199=\"\",T(Input_Output!EG199),\"\")","v":""},null,null,{"$f":"IF(Input_Output!EI199=\"\",T(Input_Output!EJ199),\"\")","v":""},null,null,{"$f":"IF(Input_Output!EL199=\"\",T(Input_Output!EM199),\"\")","v":""},null,null,{"$f":"IF(Input_Output!EO199=\"\",T(Input_Output!EP199),\"\")","v":""},null,null,{"$f":"IF(Input_Output!ER199=\"\",T(Input_Output!ES199),\"\")","v":""},null,null,{"$f":"IF(Input_Output!EU199=\"\",T(Input_Output!EV199),\"\")","v":""},null,null,{"$f":"IF(Input_Output!EX199=\"\",T(Input_Output!EY199),\"\")","v":""},null,null,{"$f":"IF(Input_Output!FA199=\"\",T(Input_Output!FB199),\"\")","v":""},null,null,{"$f":"IF(Input_Output!FD199=\"\",T(Input_Output!FE199),\"\")","v":""},null,null,{"$f":"IF(Input_Output!FG199=\"\",T(Input_Output!FH199),\"\")","v":""},null,null,{"$f":"IF(Input_Output!FJ199=\"\",T(Input_Output!FK199),\"\")","v":""},null,null,{"$f":"IF(Input_Output!FM199=\"\",T(Input_Output!FN199),\"\")","v":""},null,null,{"$f":"IF(Input_Output!FP199=\"\",T(Input_Output!FQ199),\"\")","v":""},null,null,{"$f":"IF(Input_Output!FS199=\"\",T(Input_Output!FT199),\"\")","v":""},null,null,{"$f":"IF(Input_Output!FV199=\"\",T(Input_Output!FW199),\"\")","v":""},null,null,{"$f":"IF(Input_Output!FY199=\"\",T(Input_Output!FZ199),\"\")","v":""},null,null,{"$f":"IF(Input_Output!GB199=\"\",T(Input_Output!GC199),\"\")","v":""},null,null,{"$f":"IF(Input_Output!GE199=\"\",T(Input_Output!GF199),\"\")","v":""},null,null,{"$f":"IF(Input_Output!GH199=\"\",T(Input_Output!GI199),\"\")","v":""},null,null,{"$f":"IF(Input_Output!GK199=\"\",T(Input_Output!GL199),\"\")","v":""},null,null,{"$f":"IF(Input_Output!GN199=\"\",T(Input_Output!GO199),\"\")","v":""},null,null,{"$f":"IF(Input_Output!GQ199=\"\",T(Input_Output!GR199),\"\")","v":""},null,null,{"$f":"IF(Input_Output!GT199=\"\",T(Input_Output!GU199),\"\")","v":""},null,null,{"$f":"IF(Input_Output!GW199=\"\",T(Input_Output!GX199),\"\")","v":""},null,null,{"$f":"IF(Input_Output!GZ199=\"\",T(Input_Output!HA199),\"\")","v":""},null,null,{"$f":"IF(Input_Output!HC199=\"\",T(Input_Output!HD199),\"\")","v":""},null,null,{"$f":"IF(Input_Output!HF199=\"\",T(Input_Output!HG199),\"\")","v":""},null,null,{"$f":"IF(Input_Output!HI199=\"\",T(Input_Output!HJ199),\"\")","v":""},null,null,{"$f":"IF(Input_Output!HL199=\"\",T(Input_Output!HM199),\"\")","v":""},null,null,{"$f":"IF(Input_Output!HO199=\"\",T(Input_Output!HP199),\"\")","v":""},null,null,{"$f":"IF(Input_Output!HR199=\"\",T(Input_Output!HS199),\"\")","v":""},null,null,{"$f":"IF(Input_Output!HU199=\"\",T(Input_Output!HV199),\"\")","v":""},null,null,{"$f":"IF(Input_Output!HX199=\"\",T(Input_Output!HY199),\"\")","v":""},null,null,{"$f":"IF(Input_Output!IA199=\"\",T(Input_Output!IB199),\"\")","v":""},null,null,{"$f":"IF(Input_Output!ID199=\"\",T(Input_Output!IE199),\"\")","v":""},null,null,{"$f":"IF(Input_Output!IG199=\"\",T(Input_Output!IH199),\"\")","v":""},null,null,{"$f":"IF(Input_Output!IJ199=\"\",T(Input_Output!IK199),\"\")","v":""},null,null,{"$f":"IF(Input_Output!IM199=\"\",T(Input_Output!IN199),\"\")","v":""},null,null,{"$f":"IF(Input_Output!IP199=\"\",T(Input_Output!IQ199),\"\")","v":""},null,null,{"$f":"IF(Input_Output!IS199=\"\",T(Input_Output!IT199),\"\")","v":""}]
[null,null,null,null,{"$f":"IF(Input_Output!D200=\"\",T(Input_Output!E200),\"\")","v":""},null,null,{"$f":"IF(Input_Output!G200=\"\",T(Input_Output!H200),\"\")","v":""},null,null,{"$f":"IF(Input_Output!J200=\"\",T(Input_Output!K200),\"\")","v":""},null,null,{"$f":"IF(Input_Output!M200=\"\",T(Input_Output!N200),\"\")","v":""},null,null,{"$f":"IF(Input_Output!P200=\"\",T(Input_Output!Q200),\"\")","v":""},null,null,{"$f":"IF(Input_Output!S200=\"\",T(Input_Output!T200),\"\")","v":""},null,null,{"$f":"IF(Input_Output!V200=\"\",T(Input_Output!W200),\"\")","v":""},null,null,{"$f":"IF(Input_Output!Y200=\"\",T(Input_Output!Z200),\"\")","v":""},null,null,{"$f":"IF(Input_Output!AB200=\"\",T(Input_Output!AC200),\"\")","v":""},null,null,{"$f":"IF(Input_Output!AE200=\"\",T(Input_Output!AF200),\"\")","v":""},null,null,{"$f":"IF(Input_Output!AH200=\"\",T(Input_Output!AI200),\"\")","v":""},null,null,{"$f":"IF(Input_Output!AK200=\"\",T(Input_Output!AL200),\"\")","v":""},null,null,{"$f":"IF(Input_Output!AN200=\"\",T(Input_Output!AO200),\"\")","v":""},null,null,{"$f":"IF(Input_Output!AQ200=\"\",T(Input_Output!AR200),\"\")","v":""},null,null,{"$f":"IF(Input_Output!AT200=\"\",T(Input_Output!AU200),\"\")","v":""},null,null,{"$f":"IF(Input_Output!AW200=\"\",T(Input_Output!AX200),\"\")","v":""},null,null,{"$f":"IF(Input_Output!AZ200=\"\",T(Input_Output!BA200),\"\")","v":""},null,null,{"$f":"IF(Input_Output!BC200=\"\",T(Input_Output!BD200),\"\")","v":""},null,null,{"$f":"IF(Input_Output!BF200=\"\",T(Input_Output!BG200),\"\")","v":""},null,null,{"$f":"IF(Input_Output!BI200=\"\",T(Input_Output!BJ200),\"\")","v":""},null,null,{"$f":"IF(Input_Output!BL200=\"\",T(Input_Output!BM200),\"\")","v":""},null,null,{"$f":"IF(Input_Output!BO200=\"\",T(Input_Output!BP200),\"\")","v":""},null,null,{"$f":"IF(Input_Output!BR200=\"\",T(Input_Output!BS200),\"\")","v":""},null,null,{"$f":"IF(Input_Output!BU200=\"\",T(Input_Output!BV200),\"\")","v":""},null,null,{"$f":"IF(Input_Output!BX200=\"\",T(Input_Output!BY200),\"\")","v":""},null,null,{"$f":"IF(Input_Output!CA200=\"\",T(Input_Output!CB200),\"\")","v":""},null,null,{"$f":"IF(Input_Output!CD200=\"\",T(Input_Output!CE200),\"\")","v":""},null,null,{"$f":"IF(Input_Output!CG200=\"\",T(Input_Output!CH200),\"\")","v":""},null,null,{"$f":"IF(Input_Output!CJ200=\"\",T(Input_Output!CK200),\"\")","v":""},null,null,{"$f":"IF(Input_Output!CM200=\"\",T(Input_Output!CN200),\"\")","v":""},null,null,{"$f":"IF(Input_Output!CP200=\"\",T(Input_Output!CQ200),\"\")","v":""},null,null,{"$f":"IF(Input_Output!CS200=\"\",T(Input_Output!CT200),\"\")","v":""},null,null,{"$f":"IF(Input_Output!CV200=\"\",T(Input_Output!CW200),\"\")","v":""},null,null,{"$f":"IF(Input_Output!CY200=\"\",T(Input_Output!CZ200),\"\")","v":""},null,null,{"$f":"IF(Input_Output!DB200=\"\",T(Input_Output!DC200),\"\")","v":""},null,null,{"$f":"IF(Input_Output!DE200=\"\",T(Input_Output!DF200),\"\")","v":""},null,null,{"$f":"IF(Input_Output!DH200=\"\",T(Input_Output!DI200),\"\")","v":""},null,null,{"$f":"IF(Input_Output!DK200=\"\",T(Input_Output!DL200),\"\")","v":""},null,null,{"$f":"IF(Input_Output!DN200=\"\",T(Input_Output!DO200),\"\")","v":""},null,null,{"$f":"IF(Input_Output!DQ200=\"\",T(Input_Output!DR200),\"\")","v":""},null,null,{"$f":"IF(Input_Output!DT200=\"\",T(Input_Output!DU200),\"\")","v":""},null,null,{"$f":"IF(Input_Output!DW200=\"\",T(Input_Output!DX200),\"\")","v":""},null,null,{"$f":"IF(Input_Output!DZ200=\"\",T(Input_Output!EA200),\"\")","v":""},null,null,{"$f":"IF(Input_Output!EC200=\"\",T(Input_Output!ED200),\"\")","v":""},null,null,{"$f":"IF(Input_Output!EF200=\"\",T(Input_Output!EG200),\"\")","v":""},null,null,{"$f":"IF(Input_Output!EI200=\"\",T(Input_Output!EJ200),\"\")","v":""},null,null,{"$f":"IF(Input_Output!EL200=\"\",T(Input_Output!EM200),\"\")","v":""},null,null,{"$f":"IF(Input_Output!EO200=\"\",T(Input_Output!EP200),\"\")","v":""},null,null,{"$f":"IF(Input_Output!ER200=\"\",T(Input_Output!ES200),\"\")","v":""},null,null,{"$f":"IF(Input_Output!EU200=\"\",T(Input_Output!EV200),\"\")","v":""},null,null,{"$f":"IF(Input_Output!EX200=\"\",T(Input_Output!EY200),\"\")","v":""},null,null,{"$f":"IF(Input_Output!FA200=\"\",T(Input_Output!FB200),\"\")","v":""},null,null,{"$f":"IF(Input_Output!FD200=\"\",T(Input_Output!FE200),\"\")","v":""},null,null,{"$f":"IF(Input_Output!FG200=\"\",T(Input_Output!FH200),\"\")","v":""},null,null,{"$f":"IF(Input_Output!FJ200=\"\",T(Input_Output!FK200),\"\")","v":""},null,null,{"$f":"IF(Input_Output!FM200=\"\",T(Input_Output!FN200),\"\")","v":""},null,null,{"$f":"IF(Input_Output!FP200=\"\",T(Input_Output!FQ200),\"\")","v":""},null,null,{"$f":"IF(Input_Output!FS200=\"\",T(Input_Output!FT200),\"\")","v":""},null,null,{"$f":"IF(Input_Output!FV200=\"\",T(Input_Output!FW200),\"\")","v":""},null,null,{"$f":"IF(Input_Output!FY200=\"\",T(Input_Output!FZ200),\"\")","v":""},null,null,{"$f":"IF(Input_Output!GB200=\"\",T(Input_Output!GC200),\"\")","v":""},null,null,{"$f":"IF(Input_Output!GE200=\"\",T(Input_Output!GF200),\"\")","v":""},null,null,{"$f":"IF(Input_Output!GH200=\"\",T(Input_Output!GI200),\"\")","v":""},null,null,{"$f":"IF(Input_Output!GK200=\"\",T(Input_Output!GL200),\"\")","v":""},null,null,{"$f":"IF(Input_Output!GN200=\"\",T(Input_Output!GO200),\"\")","v":""},null,null,{"$f":"IF(Input_Output!GQ200=\"\",T(Input_Output!GR200),\"\")","v":""},null,null,{"$f":"IF(Input_Output!GT200=\"\",T(Input_Output!GU200),\"\")","v":""},null,null,{"$f":"IF(Input_Output!GW200=\"\",T(Input_Output!GX200),\"\")","v":""},null,null,{"$f":"IF(Input_Output!GZ200=\"\",T(Input_Output!HA200),\"\")","v":""},null,null,{"$f":"IF(Input_Output!HC200=\"\",T(Input_Output!HD200),\"\")","v":""},null,null,{"$f":"IF(Input_Output!HF200=\"\",T(Input_Output!HG200),\"\")","v":""},null,null,{"$f":"IF(Input_Output!HI200=\"\",T(Input_Output!HJ200),\"\")","v":""},null,null,{"$f":"IF(Input_Output!HL200=\"\",T(Input_Output!HM200),\"\")","v":""},null,null,{"$f":"IF(Input_Output!HO200=\"\",T(Input_Output!HP200),\"\")","v":""},null,null,{"$f":"IF(Input_Output!HR200=\"\",T(Input_Output!HS200),\"\")","v":""},null,null,{"$f":"IF(Input_Output!HU200=\"\",T(Input_Output!HV200),\"\")","v":""},null,null,{"$f":"IF(Input_Output!HX200=\"\",T(Input_Output!HY200),\"\")","v":""},null,null,{"$f":"IF(Input_Output!IA200=\"\",T(Input_Output!IB200),\"\")","v":""},null,null,{"$f":"IF(Input_Output!ID200=\"\",T(Input_Output!IE200),\"\")","v":""},null,null,{"$f":"IF(Input_Output!IG200=\"\",T(Input_Output!IH200),\"\")","v":""},null,null,{"$f":"IF(Input_Output!IJ200=\"\",T(Input_Output!IK200),\"\")","v":""},null,null,{"$f":"IF(Input_Output!IM200=\"\",T(Input_Output!IN200),\"\")","v":""},null,null,{"$f":"IF(Input_Output!IP200=\"\",T(Input_Output!IQ200),\"\")","v":""},null,null,{"$f":"IF(Input_Output!IS200=\"\",T(Input_Output!IT200),\"\")","v":""}]
[null,null,null,null,{"$f":"IF(Input_Output!D201=\"\",T(Input_Output!E201),\"\")","v":""},null,null,{"$f":"IF(Input_Output!G201=\"\",T(Input_Output!H201),\"\")","v":""},null,null,{"$f":"IF(Input_Output!J201=\"\",T(Input_Output!K201),\"\")","v":""},null,null,{"$f":"IF(Input_Output!M201=\"\",T(Input_Output!N201),\"\")","v":""},null,null,{"$f":"IF(Input_Output!P201=\"\",T(Input_Output!Q201),\"\")","v":""},null,null,{"$f":"IF(Input_Output!S201=\"\",T(Input_Output!T201),\"\")","v":""},null,null,{"$f":"IF(Input_Output!V201=\"\",T(Input_Output!W201),\"\")","v":""},null,null,{"$f":"IF(Input_Output!Y201=\"\",T(Input_Output!Z201),\"\")","v":""},null,null,{"$f":"IF(Input_Output!AB201=\"\",T(Input_Output!AC201),\"\")","v":""},null,null,{"$f":"IF(Input_Output!AE201=\"\",T(Input_Output!AF201),\"\")","v":""},null,null,{"$f":"IF(Input_Output!AH201=\"\",T(Input_Output!AI201),\"\")","v":""},null,null,{"$f":"IF(Input_Output!AK201=\"\",T(Input_Output!AL201),\"\")","v":""},null,null,{"$f":"IF(Input_Output!AN201=\"\",T(Input_Output!AO201),\"\")","v":""},null,null,{"$f":"IF(Input_Output!AQ201=\"\",T(Input_Output!AR201),\"\")","v":""},null,null,{"$f":"IF(Input_Output!AT201=\"\",T(Input_Output!AU201),\"\")","v":""},null,null,{"$f":"IF(Input_Output!AW201=\"\",T(Input_Output!AX201),\"\")","v":""},null,null,{"$f":"IF(Input_Output!AZ201=\"\",T(Input_Output!BA201),\"\")","v":""},null,null,{"$f":"IF(Input_Output!BC201=\"\",T(Input_Output!BD201),\"\")","v":""},null,null,{"$f":"IF(Input_Output!BF201=\"\",T(Input_Output!BG201),\"\")","v":""},null,null,{"$f":"IF(Input_Output!BI201=\"\",T(Input_Output!BJ201),\"\")","v":""},null,null,{"$f":"IF(Input_Output!BL201=\"\",T(Input_Output!BM201),\"\")","v":""},null,null,{"$f":"IF(Input_Output!BO201=\"\",T(Input_Output!BP201),\"\")","v":""},null,null,{"$f":"IF(Input_Output!BR201=\"\",T(Input_Output!BS201),\"\")","v":""},null,null,{"$f":"IF(Input_Output!BU201=\"\",T(Input_Output!BV201),\"\")","v":""},null,null,{"$f":"IF(Input_Output!BX201=\"\",T(Input_Output!BY201),\"\")","v":""},null,null,{"$f":"IF(Input_Output!CA201=\"\",T(Input_Output!CB201),\"\")","v":""},null,null,{"$f":"IF(Input_Output!CD201=\"\",T(Input_Output!CE201),\"\")","v":""},null,null,{"$f":"IF(Input_Output!CG201=\"\",T(Input_Output!CH201),\"\")","v":""},null,null,{"$f":"IF(Input_Output!CJ201=\"\",T(Input_Output!CK201),\"\")","v":""},null,null,{"$f":"IF(Input_Output!CM201=\"\",T(Input_Output!CN201),\"\")","v":""},null,null,{"$f":"IF(Input_Output!CP201=\"\",T(Input_Output!CQ201),\"\")","v":""},null,null,{"$f":"IF(Input_Output!CS201=\"\",T(Input_Output!CT201),\"\")","v":""},null,null,{"$f":"IF(Input_Output!CV201=\"\",T(Input_Output!CW201),\"\")","v":""},null,null,{"$f":"IF(Input_Output!CY201=\"\",T(Input_Output!CZ201),\"\")","v":""},null,null,{"$f":"IF(Input_Output!DB201=\"\",T(Input_Output!DC201),\"\")","v":""},null,null,{"$f":"IF(Input_Output!DE201=\"\",T(Input_Output!DF201),\"\")","v":""},null,null,{"$f":"IF(Input_Output!DH201=\"\",T(Input_Output!DI201),\"\")","v":""},null,null,{"$f":"IF(Input_Output!DK201=\"\",T(Input_Output!DL201),\"\")","v":""},null,null,{"$f":"IF(Input_Output!DN201=\"\",T(Input_Output!DO201),\"\")","v":""},null,null,{"$f":"IF(Input_Output!DQ201=\"\",T(Input_Output!DR201),\"\")","v":""},null,null,{"$f":"IF(Input_Output!DT201=\"\",T(Input_Output!DU201),\"\")","v":""},null,null,{"$f":"IF(Input_Output!DW201=\"\",T(Input_Output!DX201),\"\")","v":""},null,null,{"$f":"IF(Input_Output!DZ201=\"\",T(Input_Output!EA201),\"\")","v":""},null,null,{"$f":"IF(Input_Output!EC201=\"\",T(Input_Output!ED201),\"\")","v":""},null,null,{"$f":"IF(Input_Output!EF201=\"\",T(Input_Output!EG201),\"\")","v":""},null,null,{"$f":"IF(Input_Output!EI201=\"\",T(Input_Output!EJ201),\"\")","v":""},null,null,{"$f":"IF(Input_Output!EL201=\"\",T(Input_Output!EM201),\"\")","v":""},null,null,{"$f":"IF(Input_Output!EO201=\"\",T(Input_Output!EP201),\"\")","v":""},null,null,{"$f":"IF(Input_Output!ER201=\"\",T(Input_Output!ES201),\"\")","v":""},null,null,{"$f":"IF(Input_Output!EU201=\"\",T(Input_Output!EV201),\"\")","v":""},null,null,{"$f":"IF(Input_Output!EX201=\"\",T(Input_Output!EY201),\"\")","v":""},null,null,{"$f":"IF(Input_Output!FA201=\"\",T(Input_Output!FB201),\"\")","v":""},null,null,{"$f":"IF(Input_Output!FD201=\"\",T(Input_Output!FE201),\"\")","v":""},null,null,{"$f":"IF(Input_Output!FG201=\"\",T(Input_Output!FH201),\"\")","v":""},null,null,{"$f":"IF(Input_Output!FJ201=\"\",T(Input_Output!FK201),\"\")","v":""},null,null,{"$f":"IF(Input_Output!FM201=\"\",T(Input_Output!FN201),\"\")","v":""},null,null,{"$f":"IF(Input_Output!FP201=\"\",T(Input_Output!FQ201),\"\")","v":""},null,null,{"$f":"IF(Input_Output!FS201=\"\",T(Input_Output!FT201),\"\")","v":""},null,null,{"$f":"IF(Input_Output!FV201=\"\",T(Input_Output!FW201),\"\")","v":""},null,null,{"$f":"IF(Input_Output!FY201=\"\",T(Input_Output!FZ201),\"\")","v":""},null,null,{"$f":"IF(Input_Output!GB201=\"\",T(Input_Output!GC201),\"\")","v":""},null,null,{"$f":"IF(Input_Output!GE201=\"\",T(Input_Output!GF201),\"\")","v":""},null,null,{"$f":"IF(Input_Output!GH201=\"\",T(Input_Output!GI201),\"\")","v":""},null,null,{"$f":"IF(Input_Output!GK201=\"\",T(Input_Output!GL201),\"\")","v":""},null,null,{"$f":"IF(Input_Output!GN201=\"\",T(Input_Output!GO201),\"\")","v":""},null,null,{"$f":"IF(Input_Output!GQ201=\"\",T(Input_Output!GR201),\"\")","v":""},null,null,{"$f":"IF(Input_Output!GT201=\"\",T(Input_Output!GU201),\"\")","v":""},null,null,{"$f":"IF(Input_Output!GW201=\"\",T(Input_Output!GX201),\"\")","v":""},null,null,{"$f":"IF(Input_Output!GZ201=\"\",T(Input_Output!HA201),\"\")","v":""},null,null,{"$f":"IF(Input_Output!HC201=\"\",T(Input_Output!HD201),\"\")","v":""},null,null,{"$f":"IF(Input_Output!HF201=\"\",T(Input_Output!HG201),\"\")","v":""},null,null,{"$f":"IF(Input_Output!HI201=\"\",T(Input_Output!HJ201),\"\")","v":""},null,null,{"$f":"IF(Input_Output!HL201=\"\",T(Input_Output!HM201),\"\")","v":""},null,null,{"$f":"IF(Input_Output!HO201=\"\",T(Input_Output!HP201),\"\")","v":""},null,null,{"$f":"IF(Input_Output!HR201=\"\",T(Input_Output!HS201),\"\")","v":""},null,null,{"$f":"IF(Input_Output!HU201=\"\",T(Input_Output!HV201),\"\")","v":""},null,null,{"$f":"IF(Input_Output!HX201=\"\",T(Input_Output!HY201),\"\")","v":""},null,null,{"$f":"IF(Input_Output!IA201=\"\",T(Input_Output!IB201),\"\")","v":""},null,null,{"$f":"IF(Input_Output!ID201=\"\",T(Input_Output!IE201),\"\")","v":""},null,null,{"$f":"IF(Input_Output!IG201=\"\",T(Input_Output!IH201),\"\")","v":""},null,null,{"$f":"IF(Input_Output!IJ201=\"\",T(Input_Output!IK201),\"\")","v":""},null,null,{"$f":"IF(Input_Output!IM201=\"\",T(Input_Output!IN201),\"\")","v":""},null,null,{"$f":"IF(Input_Output!IP201=\"\",T(Input_Output!IQ201),\"\")","v":""},null,null,{"$f":"IF(Input_Output!IS201=\"\",T(Input_Output!IT201),\"\")","v":""}]
[null,null,null,null,{"$f":"IF(Input_Output!D202=\"\",T(Input_Output!E202),\"\")","v":""},null,null,{"$f":"IF(Input_Output!G202=\"\",T(Input_Output!H202),\"\")","v":""},null,null,{"$f":"IF(Input_Output!J202=\"\",T(Input_Output!K202),\"\")","v":""},null,null,{"$f":"IF(Input_Output!M202=\"\",T(Input_Output!N202),\"\")","v":""},null,null,{"$f":"IF(Input_Output!P202=\"\",T(Input_Output!Q202),\"\")","v":""},null,null,{"$f":"IF(Input_Output!S202=\"\",T(Input_Output!T202),\"\")","v":""},null,null,{"$f":"IF(Input_Output!V202=\"\",T(Input_Output!W202),\"\")","v":""},null,null,{"$f":"IF(Input_Output!Y202=\"\",T(Input_Output!Z202),\"\")","v":""},null,null,{"$f":"IF(Input_Output!AB202=\"\",T(Input_Output!AC202),\"\")","v":""},null,null,{"$f":"IF(Input_Output!AE202=\"\",T(Input_Output!AF202),\"\")","v":""},null,null,{"$f":"IF(Input_Output!AH202=\"\",T(Input_Output!AI202),\"\")","v":""},null,null,{"$f":"IF(Input_Output!AK202=\"\",T(Input_Output!AL202),\"\")","v":""},null,null,{"$f":"IF(Input_Output!AN202=\"\",T(Input_Output!AO202),\"\")","v":""},null,null,{"$f":"IF(Input_Output!AQ202=\"\",T(Input_Output!AR202),\"\")","v":""},null,null,{"$f":"IF(Input_Output!AT202=\"\",T(Input_Output!AU202),\"\")","v":""},null,null,{"$f":"IF(Input_Output!AW202=\"\",T(Input_Output!AX202),\"\")","v":""},null,null,{"$f":"IF(Input_Output!AZ202=\"\",T(Input_Output!BA202),\"\")","v":""},null,null,{"$f":"IF(Input_Output!BC202=\"\",T(Input_Output!BD202),\"\")","v":""},null,null,{"$f":"IF(Input_Output!BF202=\"\",T(Input_Output!BG202),\"\")","v":""},null,null,{"$f":"IF(Input_Output!BI202=\"\",T(Input_Output!BJ202),\"\")","v":""},null,null,{"$f":"IF(Input_Output!BL202=\"\",T(Input_Output!BM202),\"\")","v":""},null,null,{"$f":"IF(Input_Output!BO202=\"\",T(Input_Output!BP202),\"\")","v":""},null,null,{"$f":"IF(Input_Output!BR202=\"\",T(Input_Output!BS202),\"\")","v":""},null,null,{"$f":"IF(Input_Output!BU202=\"\",T(Input_Output!BV202),\"\")","v":""},null,null,{"$f":"IF(Input_Output!BX202=\"\",T(Input_Output!BY202),\"\")","v":""},null,null,{"$f":"IF(Input_Output!CA202=\"\",T(Input_Output!CB202),\"\")","v":""},null,null,{"$f":"IF(Input_Output!CD202=\"\",T(Input_Output!CE202),\"\")","v":""},null,null,{"$f":"IF(Input_Output!CG202=\"\",T(Input_Output!CH202),\"\")","v":""},null,null,{"$f":"IF(Input_Output!CJ202=\"\",T(Input_Output!CK202),\"\")","v":""},null,null,{"$f":"IF(Input_Output!CM202=\"\",T(Input_Output!CN202),\"\")","v":""},null,null,{"$f":"IF(Input_Output!CP202=\"\",T(Input_Output!CQ202),\"\")","v":""},null,null,{"$f":"IF(Input_Output!CS202=\"\",T(Input_Output!CT202),\"\")","v":""},null,null,{"$f":"IF(Input_Output!CV202=\"\",T(Input_Output!CW202),\"\")","v":""},null,null,{"$f":"IF(Input_Output!CY202=\"\",T(Input_Output!CZ202),\"\")","v":""},null,null,{"$f":"IF(Input_Output!DB202=\"\",T(Input_Output!DC202),\"\")","v":""},null,null,{"$f":"IF(Input_Output!DE202=\"\",T(Input_Output!DF202),\"\")","v":""},null,null,{"$f":"IF(Input_Output!DH202=\"\",T(Input_Output!DI202),\"\")","v":""},null,null,{"$f":"IF(Input_Output!DK202=\"\",T(Input_Output!DL202),\"\")","v":""},null,null,{"$f":"IF(Input_Output!DN202=\"\",T(Input_Output!DO202),\"\")","v":""},null,null,{"$f":"IF(Input_Output!DQ202=\"\",T(Input_Output!DR202),\"\")","v":""},null,null,{"$f":"IF(Input_Output!DT202=\"\",T(Input_Output!DU202),\"\")","v":""},null,null,{"$f":"IF(Input_Output!DW202=\"\",T(Input_Output!DX202),\"\")","v":""},null,null,{"$f":"IF(Input_Output!DZ202=\"\",T(Input_Output!EA202),\"\")","v":""},null,null,{"$f":"IF(Input_Output!EC202=\"\",T(Input_Output!ED202),\"\")","v":""},null,null,{"$f":"IF(Input_Output!EF202=\"\",T(Input_Output!EG202),\"\")","v":""},null,null,{"$f":"IF(Input_Output!EI202=\"\",T(Input_Output!EJ202),\"\")","v":""},null,null,{"$f":"IF(Input_Output!EL202=\"\",T(Input_Output!EM202),\"\")","v":""},null,null,{"$f":"IF(Input_Output!EO202=\"\",T(Input_Output!EP202),\"\")","v":""},null,null,{"$f":"IF(Input_Output!ER202=\"\",T(Input_Output!ES202),\"\")","v":""},null,null,{"$f":"IF(Input_Output!EU202=\"\",T(Input_Output!EV202),\"\")","v":""},null,null,{"$f":"IF(Input_Output!EX202=\"\",T(Input_Output!EY202),\"\")","v":""},null,null,{"$f":"IF(Input_Output!FA202=\"\",T(Input_Output!FB202),\"\")","v":""},null,null,{"$f":"IF(Input_Output!FD202=\"\",T(Input_Output!FE202),\"\")","v":""},null,null,{"$f":"IF(Input_Output!FG202=\"\",T(Input_Output!FH202),\"\")","v":""},null,null,{"$f":"IF(Input_Output!FJ202=\"\",T(Input_Output!FK202),\"\")","v":""},null,null,{"$f":"IF(Input_Output!FM202=\"\",T(Input_Output!FN202),\"\")","v":""},null,null,{"$f":"IF(Input_Output!FP202=\"\",T(Input_Output!FQ202),\"\")","v":""},null,null,{"$f":"IF(Input_Output!FS202=\"\",T(Input_Output!FT202),\"\")","v":""},null,null,{"$f":"IF(Input_Output!FV202=\"\",T(Input_Output!FW202),\"\")","v":""},null,null,{"$f":"IF(Input_Output!FY202=\"\",T(Input_Output!FZ202),\"\")","v":""},null,null,{"$f":"IF(Input_Output!GB202=\"\",T(Input_Output!GC202),\"\")","v":""},null,null,{"$f":"IF(Input_Output!GE202=\"\",T(Input_Output!GF202),\"\")","v":""},null,null,{"$f":"IF(Input_Output!GH202=\"\",T(Input_Output!GI202),\"\")","v":""},null,null,{"$f":"IF(Input_Output!GK202=\"\",T(Input_Output!GL202),\"\")","v":""},null,null,{"$f":"IF(Input_Output!GN202=\"\",T(Input_Output!GO202),\"\")","v":""},null,null,{"$f":"IF(Input_Output!GQ202=\"\",T(Input_Output!GR202),\"\")","v":""},null,null,{"$f":"IF(Input_Output!GT202=\"\",T(Input_Output!GU202),\"\")","v":""},null,null,{"$f":"IF(Input_Output!GW202=\"\",T(Input_Output!GX202),\"\")","v":""},null,null,{"$f":"IF(Input_Output!GZ202=\"\",T(Input_Output!HA202),\"\")","v":""},null,null,{"$f":"IF(Input_Output!HC202=\"\",T(Input_Output!HD202),\"\")","v":""},null,null,{"$f":"IF(Input_Output!HF202=\"\",T(Input_Output!HG202),\"\")","v":""},null,null,{"$f":"IF(Input_Output!HI202=\"\",T(Input_Output!HJ202),\"\")","v":""},null,null,{"$f":"IF(Input_Output!HL202=\"\",T(Input_Output!HM202),\"\")","v":""},null,null,{"$f":"IF(Input_Output!HO202=\"\",T(Input_Output!HP202),\"\")","v":""},null,null,{"$f":"IF(Input_Output!HR202=\"\",T(Input_Output!HS202),\"\")","v":""},null,null,{"$f":"IF(Input_Output!HU202=\"\",T(Input_Output!HV202),\"\")","v":""},null,null,{"$f":"IF(Input_Output!HX202=\"\",T(Input_Output!HY202),\"\")","v":""},null,null,{"$f":"IF(Input_Output!IA202=\"\",T(Input_Output!IB202),\"\")","v":""},null,null,{"$f":"IF(Input_Output!ID202=\"\",T(Input_Output!IE202),\"\")","v":""},null,null,{"$f":"IF(Input_Output!IG202=\"\",T(Input_Output!IH202),\"\")","v":""},null,null,{"$f":"IF(Input_Output!IJ202=\"\",T(Input_Output!IK202),\"\")","v":""},null,null,{"$f":"IF(Input_Output!IM202=\"\",T(Input_Output!IN202),\"\")","v":""},null,null,{"$f":"IF(Input_Output!IP202=\"\",T(Input_Output!IQ202),\"\")","v":""},null,null,{"$f":"IF(Input_Output!IS202=\"\",T(Input_Output!IT202),\"\")","v":""}]
[null,null,null,null,{"$f":"IF(Input_Output!D203=\"\",T(Input_Output!E203),\"\")","v":""},null,null,{"$f":"IF(Input_Output!G203=\"\",T(Input_Output!H203),\"\")","v":""},null,null,{"$f":"IF(Input_Output!J203=\"\",T(Input_Output!K203),\"\")","v":""},null,null,{"$f":"IF(Input_Output!M203=\"\",T(Input_Output!N203),\"\")","v":""},null,null,{"$f":"IF(Input_Output!P203=\"\",T(Input_Output!Q203),\"\")","v":""},null,null,{"$f":"IF(Input_Output!S203=\"\",T(Input_Output!T203),\"\")","v":""},null,null,{"$f":"IF(Input_Output!V203=\"\",T(Input_Output!W203),\"\")","v":""},null,null,{"$f":"IF(Input_Output!Y203=\"\",T(Input_Output!Z203),\"\")","v":""},null,null,{"$f":"IF(Input_Output!AB203=\"\",T(Input_Output!AC203),\"\")","v":""},null,null,{"$f":"IF(Input_Output!AE203=\"\",T(Input_Output!AF203),\"\")","v":""},null,null,{"$f":"IF(Input_Output!AH203=\"\",T(Input_Output!AI203),\"\")","v":""},null,null,{"$f":"IF(Input_Output!AK203=\"\",T(Input_Output!AL203),\"\")","v":""},null,null,{"$f":"IF(Input_Output!AN203=\"\",T(Input_Output!AO203),\"\")","v":""},null,null,{"$f":"IF(Input_Output!AQ203=\"\",T(Input_Output!AR203),\"\")","v":""},null,null,{"$f":"IF(Input_Output!AT203=\"\",T(Input_Output!AU203),\"\")","v":""},null,null,{"$f":"IF(Input_Output!AW203=\"\",T(Input_Output!AX203),\"\")","v":""},null,null,{"$f":"IF(Input_Output!AZ203=\"\",T(Input_Output!BA203),\"\")","v":""},null,null,{"$f":"IF(Input_Output!BC203=\"\",T(Input_Output!BD203),\"\")","v":""},null,null,{"$f":"IF(Input_Output!BF203=\"\",T(Input_Output!BG203),\"\")","v":""},null,null,{"$f":"IF(Input_Output!BI203=\"\",T(Input_Output!BJ203),\"\")","v":""},null,null,{"$f":"IF(Input_Output!BL203=\"\",T(Input_Output!BM203),\"\")","v":""},null,null,{"$f":"IF(Input_Output!BO203=\"\",T(Input_Output!BP203),\"\")","v":""},null,null,{"$f":"IF(Input_Output!BR203=\"\",T(Input_Output!BS203),\"\")","v":""},null,null,{"$f":"IF(Input_Output!BU203=\"\",T(Input_Output!BV203),\"\")","v":""},null,null,{"$f":"IF(Input_Output!BX203=\"\",T(Input_Output!BY203),\"\")","v":""},null,null,{"$f":"IF(Input_Output!CA203=\"\",T(Input_Output!CB203),\"\")","v":""},null,null,{"$f":"IF(Input_Output!CD203=\"\",T(Input_Output!CE203),\"\")","v":""},null,null,{"$f":"IF(Input_Output!CG203=\"\",T(Input_Output!CH203),\"\")","v":""},null,null,{"$f":"IF(Input_Output!CJ203=\"\",T(Input_Output!CK203),\"\")","v":""},null,null,{"$f":"IF(Input_Output!CM203=\"\",T(Input_Output!CN203),\"\")","v":""},null,null,{"$f":"IF(Input_Output!CP203=\"\",T(Input_Output!CQ203),\"\")","v":""},null,null,{"$f":"IF(Input_Output!CS203=\"\",T(Input_Output!CT203),\"\")","v":""},null,null,{"$f":"IF(Input_Output!CV203=\"\",T(Input_Output!CW203),\"\")","v":""},null,null,{"$f":"IF(Input_Output!CY203=\"\",T(Input_Output!CZ203),\"\")","v":""},null,null,{"$f":"IF(Input_Output!DB203=\"\",T(Input_Output!DC203),\"\")","v":""},null,null,{"$f":"IF(Input_Output!DE203=\"\",T(Input_Output!DF203),\"\")","v":""},null,null,{"$f":"IF(Input_Output!DH203=\"\",T(Input_Output!DI203),\"\")","v":""},null,null,{"$f":"IF(Input_Output!DK203=\"\",T(Input_Output!DL203),\"\")","v":""},null,null,{"$f":"IF(Input_Output!DN203=\"\",T(Input_Output!DO203),\"\")","v":""},null,null,{"$f":"IF(Input_Output!DQ203=\"\",T(Input_Output!DR203),\"\")","v":""},null,null,{"$f":"IF(Input_Output!DT203=\"\",T(Input_Output!DU203),\"\")","v":""},null,null,{"$f":"IF(Input_Output!DW203=\"\",T(Input_Output!DX203),\"\")","v":""},null,null,{"$f":"IF(Input_Output!DZ203=\"\",T(Input_Output!EA203),\"\")","v":""},null,null,{"$f":"IF(Input_Output!EC203=\"\",T(Input_Output!ED203),\"\")","v":""},null,null,{"$f":"IF(Input_Output!EF203=\"\",T(Input_Output!EG203),\"\")","v":""},null,null,{"$f":"IF(Input_Output!EI203=\"\",T(Input_Output!EJ203),\"\")","v":""},null,null,{"$f":"IF(Input_Output!EL203=\"\",T(Input_Output!EM203),\"\")","v":""},null,null,{"$f":"IF(Input_Output!EO203=\"\",T(Input_Output!EP203),\"\")","v":""},null,null,{"$f":"IF(Input_Output!ER203=\"\",T(Input_Output!ES203),\"\")","v":""},null,null,{"$f":"IF(Input_Output!EU203=\"\",T(Input_Output!EV203),\"\")","v":""},null,null,{"$f":"IF(Input_Output!EX203=\"\",T(Input_Output!EY203),\"\")","v":""},null,null,{"$f":"IF(Input_Output!FA203=\"\",T(Input_Output!FB203),\"\")","v":""},null,null,{"$f":"IF(Input_Output!FD203=\"\",T(Input_Output!FE203),\"\")","v":""},null,null,{"$f":"IF(Input_Output!FG203=\"\",T(Input_Output!FH203),\"\")","v":""},null,null,{"$f":"IF(Input_Output!FJ203=\"\",T(Input_Output!FK203),\"\")","v":""},null,null,{"$f":"IF(Input_Output!FM203=\"\",T(Input_Output!FN203),\"\")","v":""},null,null,{"$f":"IF(Input_Output!FP203=\"\",T(Input_Output!FQ203),\"\")","v":""},null,null,{"$f":"IF(Input_Output!FS203=\"\",T(Input_Output!FT203),\"\")","v":""},null,null,{"$f":"IF(Input_Output!FV203=\"\",T(Input_Output!FW203),\"\")","v":""},null,null,{"$f":"IF(Input_Output!FY203=\"\",T(Input_Output!FZ203),\"\")","v":""},null,null,{"$f":"IF(Input_Output!GB203=\"\",T(Input_Output!GC203),\"\")","v":""},null,null,{"$f":"IF(Input_Output!GE203=\"\",T(Input_Output!GF203),\"\")","v":""},null,null,{"$f":"IF(Input_Output!GH203=\"\",T(Input_Output!GI203),\"\")","v":""},null,null,{"$f":"IF(Input_Output!GK203=\"\",T(Input_Output!GL203),\"\")","v":""},null,null,{"$f":"IF(Input_Output!GN203=\"\",T(Input_Output!GO203),\"\")","v":""},null,null,{"$f":"IF(Input_Output!GQ203=\"\",T(Input_Output!GR203),\"\")","v":""},null,null,{"$f":"IF(Input_Output!GT203=\"\",T(Input_Output!GU203),\"\")","v":""},null,null,{"$f":"IF(Input_Output!GW203=\"\",T(Input_Output!GX203),\"\")","v":""},null,null,{"$f":"IF(Input_Output!GZ203=\"\",T(Input_Output!HA203),\"\")","v":""},null,null,{"$f":"IF(Input_Output!HC203=\"\",T(Input_Output!HD203),\"\")","v":""},null,null,{"$f":"IF(Input_Output!HF203=\"\",T(Input_Output!HG203),\"\")","v":""},null,null,{"$f":"IF(Input_Output!HI203=\"\",T(Input_Output!HJ203),\"\")","v":""},null,null,{"$f":"IF(Input_Output!HL203=\"\",T(Input_Output!HM203),\"\")","v":""},null,null,{"$f":"IF(Input_Output!HO203=\"\",T(Input_Output!HP203),\"\")","v":""},null,null,{"$f":"IF(Input_Output!HR203=\"\",T(Input_Output!HS203),\"\")","v":""},null,null,{"$f":"IF(Input_Output!HU203=\"\",T(Input_Output!HV203),\"\")","v":""},null,null,{"$f":"IF(Input_Output!HX203=\"\",T(Input_Output!HY203),\"\")","v":""},null,null,{"$f":"IF(Input_Output!IA203=\"\",T(Input_Output!IB203),\"\")","v":""},null,null,{"$f":"IF(Input_Output!ID203=\"\",T(Input_Output!IE203),\"\")","v":""},null,null,{"$f":"IF(Input_Output!IG203=\"\",T(Input_Output!IH203),\"\")","v":""},null,null,{"$f":"IF(Input_Output!IJ203=\"\",T(Input_Output!IK203),\"\")","v":""},null,null,{"$f":"IF(Input_Output!IM203=\"\",T(Input_Output!IN203),\"\")","v":""},null,null,{"$f":"IF(Input_Output!IP203=\"\",T(Input_Output!IQ203),\"\")","v":""},null,null,{"$f":"IF(Input_Output!IS203=\"\",T(Input_Output!IT203),\"\")","v":""}]
[null,null,null,null,{"$f":"IF(Input_Output!D204=\"\",T(Input_Output!E204),\"\")","v":""},null,null,{"$f":"IF(Input_Output!G204=\"\",T(Input_Output!H204),\"\")","v":""},null,null,{"$f":"IF(Input_Output!J204=\"\",T(Input_Output!K204),\"\")","v":""},null,null,{"$f":"IF(Input_Output!M204=\"\",T(Input_Output!N204),\"\")","v":""},null,null,{"$f":"IF(Input_Output!P204=\"\",T(Input_Output!Q204),\"\")","v":""},null,null,{"$f":"IF(Input_Output!S204=\"\",T(Input_Output!T204),\"\")","v":""},null,null,{"$f":"IF(Input_Output!V204=\"\",T(Input_Output!W204),\"\")","v":""},null,null,{"$f":"IF(Input_Output!Y204=\"\",T(Input_Output!Z204),\"\")","v":""},null,null,{"$f":"IF(Input_Output!AB204=\"\",T(Input_Output!AC204),\"\")","v":""},null,null,{"$f":"IF(Input_Output!AE204=\"\",T(Input_Output!AF204),\"\")","v":""},null,null,{"$f":"IF(Input_Output!AH204=\"\",T(Input_Output!AI204),\"\")","v":""},null,null,{"$f":"IF(Input_Output!AK204=\"\",T(Input_Output!AL204),\"\")","v":""},null,null,{"$f":"IF(Input_Output!AN204=\"\",T(Input_Output!AO204),\"\")","v":""},null,null,{"$f":"IF(Input_Output!AQ204=\"\",T(Input_Output!AR204),\"\")","v":""},null,null,{"$f":"IF(Input_Output!AT204=\"\",T(Input_Output!AU204),\"\")","v":""},null,null,{"$f":"IF(Input_Output!AW204=\"\",T(Input_Output!AX204),\"\")","v":""},null,null,{"$f":"IF(Input_Output!AZ204=\"\",T(Input_Output!BA204),\"\")","v":""},null,null,{"$f":"IF(Input_Output!BC204=\"\",T(Input_Output!BD204),\"\")","v":""},null,null,{"$f":"IF(Input_Output!BF204=\"\",T(Input_Output!BG204),\"\")","v":""},null,null,{"$f":"IF(Input_Output!BI204=\"\",T(Input_Output!BJ204),\"\")","v":""},null,null,{"$f":"IF(Input_Output!BL204=\"\",T(Input_Output!BM204),\"\")","v":""},null,null,{"$f":"IF(Input_Output!BO204=\"\",T(Input_Output!BP204),\"\")","v":""},null,null,{"$f":"IF(Input_Output!BR204=\"\",T(Input_Output!BS204),\"\")","v":""},null,null,{"$f":"IF(Input_Output!BU204=\"\",T(Input_Output!BV204),\"\")","v":""},null,null,{"$f":"IF(Input_Output!BX204=\"\",T(Input_Output!BY204),\"\")","v":""},null,null,{"$f":"IF(Input_Output!CA204=\"\",T(Input_Output!CB204),\"\")","v":""},null,null,{"$f":"IF(Input_Output!CD204=\"\",T(Input_Output!CE204),\"\")","v":""},null,null,{"$f":"IF(Input_Output!CG204=\"\",T(Input_Output!CH204),\"\")","v":""},null,null,{"$f":"IF(Input_Output!CJ204=\"\",T(Input_Output!CK204),\"\")","v":""},null,null,{"$f":"IF(Input_Output!CM204=\"\",T(Input_Output!CN204),\"\")","v":""},null,null,{"$f":"IF(Input_Output!CP204=\"\",T(Input_Output!CQ204),\"\")","v":""},null,null,{"$f":"IF(Input_Output!CS204=\"\",T(Input_Output!CT204),\"\")","v":""},null,null,{"$f":"IF(Input_Output!CV204=\"\",T(Input_Output!CW204),\"\")","v":""},null,null,{"$f":"IF(Input_Output!CY204=\"\",T(Input_Output!CZ204),\"\")","v":""},null,null,{"$f":"IF(Input_Output!DB204=\"\",T(Input_Output!DC204),\"\")","v":""},null,null,{"$f":"IF(Input_Output!DE204=\"\",T(Input_Output!DF204),\"\")","v":""},null,null,{"$f":"IF(Input_Output!DH204=\"\",T(Input_Output!DI204),\"\")","v":""},null,null,{"$f":"IF(Input_Output!DK204=\"\",T(Input_Output!DL204),\"\")","v":""},null,null,{"$f":"IF(Input_Output!DN204=\"\",T(Input_Output!DO204),\"\")","v":""},null,null,{"$f":"IF(Input_Output!DQ204=\"\",T(Input_Output!DR204),\"\")","v":""},null,null,{"$f":"IF(Input_Output!DT204=\"\",T(Input_Output!DU204),\"\")","v":""},null,null,{"$f":"IF(Input_Output!DW204=\"\",T(Input_Output!DX204),\"\")","v":""},null,null,{"$f":"IF(Input_Output!DZ204=\"\",T(Input_Output!EA204),\"\")","v":""},null,null,{"$f":"IF(Input_Output!EC204=\"\",T(Input_Output!ED204),\"\")","v":""},null,null,{"$f":"IF(Input_Output!EF204=\"\",T(Input_Output!EG204),\"\")","v":""},null,null,{"$f":"IF(Input_Output!EI204=\"\",T(Input_Output!EJ204),\"\")","v":""},null,null,{"$f":"IF(Input_Output!EL204=\"\",T(Input_Output!EM204),\"\")","v":""},null,null,{"$f":"IF(Input_Output!EO204=\"\",T(Input_Output!EP204),\"\")","v":""},null,null,{"$f":"IF(Input_Output!ER204=\"\",T(Input_Output!ES204),\"\")","v":""},null,null,{"$f":"IF(Input_Output!EU204=\"\",T(Input_Output!EV204),\"\")","v":""},null,null,{"$f":"IF(Input_Output!EX204=\"\",T(Input_Output!EY204),\"\")","v":""},null,null,{"$f":"IF(Input_Output!FA204=\"\",T(Input_Output!FB204),\"\")","v":""},null,null,{"$f":"IF(Input_Output!FD204=\"\",T(Input_Output!FE204),\"\")","v":""},null,null,{"$f":"IF(Input_Output!FG204=\"\",T(Input_Output!FH204),\"\")","v":""},null,null,{"$f":"IF(Input_Output!FJ204=\"\",T(Input_Output!FK204),\"\")","v":""},null,null,{"$f":"IF(Input_Output!FM204=\"\",T(Input_Output!FN204),\"\")","v":""},null,null,{"$f":"IF(Input_Output!FP204=\"\",T(Input_Output!FQ204),\"\")","v":""},null,null,{"$f":"IF(Input_Output!FS204=\"\",T(Input_Output!FT204),\"\")","v":""},null,null,{"$f":"IF(Input_Output!FV204=\"\",T(Input_Output!FW204),\"\")","v":""},null,null,{"$f":"IF(Input_Output!FY204=\"\",T(Input_Output!FZ204),\"\")","v":""},null,null,{"$f":"IF(Input_Output!GB204=\"\",T(Input_Output!GC204),\"\")","v":""},null,null,{"$f":"IF(Input_Output!GE204=\"\",T(Input_Output!GF204),\"\")","v":""},null,null,{"$f":"IF(Input_Output!GH204=\"\",T(Input_Output!GI204),\"\")","v":""},null,null,{"$f":"IF(Input_Output!GK204=\"\",T(Input_Output!GL204),\"\")","v":""},null,null,{"$f":"IF(Input_Output!GN204=\"\",T(Input_Output!GO204),\"\")","v":""},null,null,{"$f":"IF(Input_Output!GQ204=\"\",T(Input_Output!GR204),\"\")","v":""},null,null,{"$f":"IF(Input_Output!GT204=\"\",T(Input_Output!GU204),\"\")","v":""},null,null,{"$f":"IF(Input_Output!GW204=\"\",T(Input_Output!GX204),\"\")","v":""},null,null,{"$f":"IF(Input_Output!GZ204=\"\",T(Input_Output!HA204),\"\")","v":""},null,null,{"$f":"IF(Input_Output!HC204=\"\",T(Input_Output!HD204),\"\")","v":""},null,null,{"$f":"IF(Input_Output!HF204=\"\",T(Input_Output!HG204),\"\")","v":""},null,null,{"$f":"IF(Input_Output!HI204=\"\",T(Input_Output!HJ204),\"\")","v":""},null,null,{"$f":"IF(Input_Output!HL204=\"\",T(Input_Output!HM204),\"\")","v":""},null,null,{"$f":"IF(Input_Output!HO204=\"\",T(Input_Output!HP204),\"\")","v":""},null,null,{"$f":"IF(Input_Output!HR204=\"\",T(Input_Output!HS204),\"\")","v":""},null,null,{"$f":"IF(Input_Output!HU204=\"\",T(Input_Output!HV204),\"\")","v":""},null,null,{"$f":"IF(Input_Output!HX204=\"\",T(Input_Output!HY204),\"\")","v":""},null,null,{"$f":"IF(Input_Output!IA204=\"\",T(Input_Output!IB204),\"\")","v":""},null,null,{"$f":"IF(Input_Output!ID204=\"\",T(Input_Output!IE204),\"\")","v":""},null,null,{"$f":"IF(Input_Output!IG204=\"\",T(Input_Output!IH204),\"\")","v":""},null,null,{"$f":"IF(Input_Output!IJ204=\"\",T(Input_Output!IK204),\"\")","v":""},null,null,{"$f":"IF(Input_Output!IM204=\"\",T(Input_Output!IN204),\"\")","v":""},null,null,{"$f":"IF(Input_Output!IP204=\"\",T(Input_Output!IQ204),\"\")","v":""},null,null,{"$f":"IF(Input_Output!IS204=\"\",T(Input_Output!IT204),\"\")","v":""}]
[null,null,null,null,{"$f":"IF(Input_Output!D205=\"\",T(Input_Output!E205),\"\")","v":""},null,null,{"$f":"IF(Input_Output!G205=\"\",T(Input_Output!H205),\"\")","v":""},null,null,{"$f":"IF(Input_Output!J205=\"\",T(Input_Output!K205),\"\")","v":""},null,null,{"$f":"IF(Input_Output!M205=\"\",T(Input_Output!N205),\"\")","v":""},null,null,{"$f":"IF(Input_Output!P205=\"\",T(Input_Output!Q205),\"\")","v":""},null,null,{"$f":"IF(Input_Output!S205=\"\",T(Input_Output!T205),\"\")","v":""},null,null,{"$f":"IF(Input_Output!V205=\"\",T(Input_Output!W205),\"\")","v":""},null,null,{"$f":"IF(Input_Output!Y205=\"\",T(Input_Output!Z205),\"\")","v":""},null,null,{"$f":"IF(Input_Output!AB205=\"\",T(Input_Output!AC205),\"\")","v":""},null,null,{"$f":"IF(Input_Output!AE205=\"\",T(Input_Output!AF205),\"\")","v":""},null,null,{"$f":"IF(Input_Output!AH205=\"\",T(Input_Output!AI205),\"\")","v":""},null,null,{"$f":"IF(Input_Output!AK205=\"\",T(Input_Output!AL205),\"\")","v":""},null,null,{"$f":"IF(Input_Output!AN205=\"\",T(Input_Output!AO205),\"\")","v":""},null,null,{"$f":"IF(Input_Output!AQ205=\"\",T(Input_Output!AR205),\"\")","v":""},null,null,{"$f":"IF(Input_Output!AT205=\"\",T(Input_Output!AU205),\"\")","v":""},null,null,{"$f":"IF(Input_Output!AW205=\"\",T(Input_Output!AX205),\"\")","v":""},null,null,{"$f":"IF(Input_Output!AZ205=\"\",T(Input_Output!BA205),\"\")","v":""},null,null,{"$f":"IF(Input_Output!BC205=\"\",T(Input_Output!BD205),\"\")","v":""},null,null,{"$f":"IF(Input_Output!BF205=\"\",T(Input_Output!BG205),\"\")","v":""},null,null,{"$f":"IF(Input_Output!BI205=\"\",T(Input_Output!BJ205),\"\")","v":""},null,null,{"$f":"IF(Input_Output!BL205=\"\",T(Input_Output!BM205),\"\")","v":""},null,null,{"$f":"IF(Input_Output!BO205=\"\",T(Input_Output!BP205),\"\")","v":""},null,null,{"$f":"IF(Input_Output!BR205=\"\",T(Input_Output!BS205),\"\")","v":""},null,null,{"$f":"IF(Input_Output!BU205=\"\",T(Input_Output!BV205),\"\")","v":""},null,null,{"$f":"IF(Input_Output!BX205=\"\",T(Input_Output!BY205),\"\")","v":""},null,null,{"$f":"IF(Input_Output!CA205=\"\",T(Input_Output!CB205),\"\")","v":""},null,null,{"$f":"IF(Input_Output!CD205=\"\",T(Input_Output!CE205),\"\")","v":""},null,null,{"$f":"IF(Input_Output!CG205=\"\",T(Input_Output!CH205),\"\")","v":""},null,null,{"$f":"IF(Input_Output!CJ205=\"\",T(Input_Output!CK205),\"\")","v":""},null,null,{"$f":"IF(Input_Output!CM205=\"\",T(Input_Output!CN205),\"\")","v":""},null,null,{"$f":"IF(Input_Output!CP205=\"\",T(Input_Output!CQ205),\"\")","v":""},null,null,{"$f":"IF(Input_Output!CS205=\"\",T(Input_Output!CT205),\"\")","v":""},null,null,{"$f":"IF(Input_Output!CV205=\"\",T(Input_Output!CW205),\"\")","v":""},null,null,{"$f":"IF(Input_Output!CY205=\"\",T(Input_Output!CZ205),\"\")","v":""},null,null,{"$f":"IF(Input_Output!DB205=\"\",T(Input_Output!DC205),\"\")","v":""},null,null,{"$f":"IF(Input_Output!DE205=\"\",T(Input_Output!DF205),\"\")","v":""},null,null,{"$f":"IF(Input_Output!DH205=\"\",T(Input_Output!DI205),\"\")","v":""},null,null,{"$f":"IF(Input_Output!DK205=\"\",T(Input_Output!DL205),\"\")","v":""},null,null,{"$f":"IF(Input_Output!DN205=\"\",T(Input_Output!DO205),\"\")","v":""},null,null,{"$f":"IF(Input_Output!DQ205=\"\",T(Input_Output!DR205),\"\")","v":""},null,null,{"$f":"IF(Input_Output!DT205=\"\",T(Input_Output!DU205),\"\")","v":""},null,null,{"$f":"IF(Input_Output!DW205=\"\",T(Input_Output!DX205),\"\")","v":""},null,null,{"$f":"IF(Input_Output!DZ205=\"\",T(Input_Output!EA205),\"\")","v":""},null,null,{"$f":"IF(Input_Output!EC205=\"\",T(Input_Output!ED205),\"\")","v":""},null,null,{"$f":"IF(Input_Output!EF205=\"\",T(Input_Output!EG205),\"\")","v":""},null,null,{"$f":"IF(Input_Output!EI205=\"\",T(Input_Output!EJ205),\"\")","v":""},null,null,{"$f":"IF(Input_Output!EL205=\"\",T(Input_Output!EM205),\"\")","v":""},null,null,{"$f":"IF(Input_Output!EO205=\"\",T(Input_Output!EP205),\"\")","v":""},null,null,{"$f":"IF(Input_Output!ER205=\"\",T(Input_Output!ES205),\"\")","v":""},null,null,{"$f":"IF(Input_Output!EU205=\"\",T(Input_Output!EV205),\"\")","v":""},null,null,{"$f":"IF(Input_Output!EX205=\"\",T(Input_Output!EY205),\"\")","v":""},null,null,{"$f":"IF(Input_Output!FA205=\"\",T(Input_Output!FB205),\"\")","v":""},null,null,{"$f":"IF(Input_Output!FD205=\"\",T(Input_Output!FE205),\"\")","v":""},null,null,{"$f":"IF(Input_Output!FG205=\"\",T(Input_Output!FH205),\"\")","v":""},null,null,{"$f":"IF(Input_Output!FJ205=\"\",T(Input_Output!FK205),\"\")","v":""},null,null,{"$f":"IF(Input_Output!FM205=\"\",T(Input_Output!FN205),\"\")","v":""},null,null,{"$f":"IF(Input_Output!FP205=\"\",T(Input_Output!FQ205),\"\")","v":""},null,null,{"$f":"IF(Input_Output!FS205=\"\",T(Input_Output!FT205),\"\")","v":""},null,null,{"$f":"IF(Input_Output!FV205=\"\",T(Input_Output!FW205),\"\")","v":""},null,null,{"$f":"IF(Input_Output!FY205=\"\",T(Input_Output!FZ205),\"\")","v":""},null,null,{"$f":"IF(Input_Output!GB205=\"\",T(Input_Output!GC205),\"\")","v":""},null,null,{"$f":"IF(Input_Output!GE205=\"\",T(Input_Output!GF205),\"\")","v":""},null,null,{"$f":"IF(Input_Output!GH205=\"\",T(Input_Output!GI205),\"\")","v":""},null,null,{"$f":"IF(Input_Output!GK205=\"\",T(Input_Output!GL205),\"\")","v":""},null,null,{"$f":"IF(Input_Output!GN205=\"\",T(Input_Output!GO205),\"\")","v":""},null,null,{"$f":"IF(Input_Output!GQ205=\"\",T(Input_Output!GR205),\"\")","v":""},null,null,{"$f":"IF(Input_Output!GT205=\"\",T(Input_Output!GU205),\"\")","v":""},null,null,{"$f":"IF(Input_Output!GW205=\"\",T(Input_Output!GX205),\"\")","v":""},null,null,{"$f":"IF(Input_Output!GZ205=\"\",T(Input_Output!HA205),\"\")","v":""},null,null,{"$f":"IF(Input_Output!HC205=\"\",T(Input_Output!HD205),\"\")","v":""},null,null,{"$f":"IF(Input_Output!HF205=\"\",T(Input_Output!HG205),\"\")","v":""},null,null,{"$f":"IF(Input_Output!HI205=\"\",T(Input_Output!HJ205),\"\")","v":""},null,null,{"$f":"IF(Input_Output!HL205=\"\",T(Input_Output!HM205),\"\")","v":""},null,null,{"$f":"IF(Input_Output!HO205=\"\",T(Input_Output!HP205),\"\")","v":""},null,null,{"$f":"IF(Input_Output!HR205=\"\",T(Input_Output!HS205),\"\")","v":""},null,null,{"$f":"IF(Input_Output!HU205=\"\",T(Input_Output!HV205),\"\")","v":""},null,null,{"$f":"IF(Input_Output!HX205=\"\",T(Input_Output!HY205),\"\")","v":""},null,null,{"$f":"IF(Input_Output!IA205=\"\",T(Input_Output!IB205),\"\")","v":""},null,null,{"$f":"IF(Input_Output!ID205=\"\",T(Input_Output!IE205),\"\")","v":""},null,null,{"$f":"IF(Input_Output!IG205=\"\",T(Input_Output!IH205),\"\")","v":""},null,null,{"$f":"IF(Input_Output!IJ205=\"\",T(Input_Output!IK205),\"\")","v":""},null,null,{"$f":"IF(Input_Output!IM205=\"\",T(Input_Output!IN205),\"\")","v":""},null,null,{"$f":"IF(Input_Output!IP205=\"\",T(Input_Output!IQ205),\"\")","v":""},null,null,{"$f":"IF(Input_Output!IS205=\"\",T(Input_Output!IT205),\"\")","v":""}]
[null,null,null,null,{"$f":"IF(Input_Output!D206=\"\",T(Input_Output!E206),\"\")","v":""},null,null,{"$f":"IF(Input_Output!G206=\"\",T(Input_Output!H206),\"\")","v":""},null,null,{"$f":"IF(Input_Output!J206=\"\",T(Input_Output!K206),\"\")","v":""},null,null,{"$f":"IF(Input_Output!M206=\"\",T(Input_Output!N206),\"\")","v":""},null,null,{"$f":"IF(Input_Output!P206=\"\",T(Input_Output!Q206),\"\")","v":""},null,null,{"$f":"IF(Input_Output!S206=\"\",T(Input_Output!T206),\"\")","v":""},null,null,{"$f":"IF(Input_Output!V206=\"\",T(Input_Output!W206),\"\")","v":""},null,null,{"$f":"IF(Input_Output!Y206=\"\",T(Input_Output!Z206),\"\")","v":""},null,null,{"$f":"IF(Input_Output!AB206=\"\",T(Input_Output!AC206),\"\")","v":""},null,null,{"$f":"IF(Input_Output!AE206=\"\",T(Input_Output!AF206),\"\")","v":""},null,null,{"$f":"IF(Input_Output!AH206=\"\",T(Input_Output!AI206),\"\")","v":""},null,null,{"$f":"IF(Input_Output!AK206=\"\",T(Input_Output!AL206),\"\")","v":""},null,null,{"$f":"IF(Input_Output!AN206=\"\",T(Input_Output!AO206),\"\")","v":""},null,null,{"$f":"IF(Input_Output!AQ206=\"\",T(Input_Output!AR206),\"\")","v":""},null,null,{"$f":"IF(Input_Output!AT206=\"\",T(Input_Output!AU206),\"\")","v":""},null,null,{"$f":"IF(Input_Output!AW206=\"\",T(Input_Output!AX206),\"\")","v":""},null,null,{"$f":"IF(Input_Output!AZ206=\"\",T(Input_Output!BA206),\"\")","v":""},null,null,{"$f":"IF(Input_Output!BC206=\"\",T(Input_Output!BD206),\"\")","v":""},null,null,{"$f":"IF(Input_Output!BF206=\"\",T(Input_Output!BG206),\"\")","v":""},null,null,{"$f":"IF(Input_Output!BI206=\"\",T(Input_Output!BJ206),\"\")","v":""},null,null,{"$f":"IF(Input_Output!BL206=\"\",T(Input_Output!BM206),\"\")","v":""},null,null,{"$f":"IF(Input_Output!BO206=\"\",T(Input_Output!BP206),\"\")","v":""},null,null,{"$f":"IF(Input_Output!BR206=\"\",T(Input_Output!BS206),\"\")","v":""},null,null,{"$f":"IF(Input_Output!BU206=\"\",T(Input_Output!BV206),\"\")","v":""},null,null,{"$f":"IF(Input_Output!BX206=\"\",T(Input_Output!BY206),\"\")","v":""},null,null,{"$f":"IF(Input_Output!CA206=\"\",T(Input_Output!CB206),\"\")","v":""},null,null,{"$f":"IF(Input_Output!CD206=\"\",T(Input_Output!CE206),\"\")","v":""},null,null,{"$f":"IF(Input_Output!CG206=\"\",T(Input_Output!CH206),\"\")","v":""},null,null,{"$f":"IF(Input_Output!CJ206=\"\",T(Input_Output!CK206),\"\")","v":""},null,null,{"$f":"IF(Input_Output!CM206=\"\",T(Input_Output!CN206),\"\")","v":""},null,null,{"$f":"IF(Input_Output!CP206=\"\",T(Input_Output!CQ206),\"\")","v":""},null,null,{"$f":"IF(Input_Output!CS206=\"\",T(Input_Output!CT206),\"\")","v":""},null,null,{"$f":"IF(Input_Output!CV206=\"\",T(Input_Output!CW206),\"\")","v":""},null,null,{"$f":"IF(Input_Output!CY206=\"\",T(Input_Output!CZ206),\"\")","v":""},null,null,{"$f":"IF(Input_Output!DB206=\"\",T(Input_Output!DC206),\"\")","v":""},null,null,{"$f":"IF(Input_Output!DE206=\"\",T(Input_Output!DF206),\"\")","v":""},null,null,{"$f":"IF(Input_Output!DH206=\"\",T(Input_Output!DI206),\"\")","v":""},null,null,{"$f":"IF(Input_Output!DK206=\"\",T(Input_Output!DL206),\"\")","v":""},null,null,{"$f":"IF(Input_Output!DN206=\"\",T(Input_Output!DO206),\"\")","v":""},null,null,{"$f":"IF(Input_Output!DQ206=\"\",T(Input_Output!DR206),\"\")","v":""},null,null,{"$f":"IF(Input_Output!DT206=\"\",T(Input_Output!DU206),\"\")","v":""},null,null,{"$f":"IF(Input_Output!DW206=\"\",T(Input_Output!DX206),\"\")","v":""},null,null,{"$f":"IF(Input_Output!DZ206=\"\",T(Input_Output!EA206),\"\")","v":""},null,null,{"$f":"IF(Input_Output!EC206=\"\",T(Input_Output!ED206),\"\")","v":""},null,null,{"$f":"IF(Input_Output!EF206=\"\",T(Input_Output!EG206),\"\")","v":""},null,null,{"$f":"IF(Input_Output!EI206=\"\",T(Input_Output!EJ206),\"\")","v":""},null,null,{"$f":"IF(Input_Output!EL206=\"\",T(Input_Output!EM206),\"\")","v":""},null,null,{"$f":"IF(Input_Output!EO206=\"\",T(Input_Output!EP206),\"\")","v":""},null,null,{"$f":"IF(Input_Output!ER206=\"\",T(Input_Output!ES206),\"\")","v":""},null,null,{"$f":"IF(Input_Output!EU206=\"\",T(Input_Output!EV206),\"\")","v":""},null,null,{"$f":"IF(Input_Output!EX206=\"\",T(Input_Output!EY206),\"\")","v":""},null,null,{"$f":"IF(Input_Output!FA206=\"\",T(Input_Output!FB206),\"\")","v":""},null,null,{"$f":"IF(Input_Output!FD206=\"\",T(Input_Output!FE206),\"\")","v":""},null,null,{"$f":"IF(Input_Output!FG206=\"\",T(Input_Output!FH206),\"\")","v":""},null,null,{"$f":"IF(Input_Output!FJ206=\"\",T(Input_Output!FK206),\"\")","v":""},null,null,{"$f":"IF(Input_Output!FM206=\"\",T(Input_Output!FN206),\"\")","v":""},null,null,{"$f":"IF(Input_Output!FP206=\"\",T(Input_Output!FQ206),\"\")","v":""},null,null,{"$f":"IF(Input_Output!FS206=\"\",T(Input_Output!FT206),\"\")","v":""},null,null,{"$f":"IF(Input_Output!FV206=\"\",T(Input_Output!FW206),\"\")","v":""},null,null,{"$f":"IF(Input_Output!FY206=\"\",T(Input_Output!FZ206),\"\")","v":""},null,null,{"$f":"IF(Input_Output!GB206=\"\",T(Input_Output!GC206),\"\")","v":""},null,null,{"$f":"IF(Input_Output!GE206=\"\",T(Input_Output!GF206),\"\")","v":""},null,null,{"$f":"IF(Input_Output!GH206=\"\",T(Input_Output!GI206),\"\")","v":""},null,null,{"$f":"IF(Input_Output!GK206=\"\",T(Input_Output!GL206),\"\")","v":""},null,null,{"$f":"IF(Input_Output!GN206=\"\",T(Input_Output!GO206),\"\")","v":""},null,null,{"$f":"IF(Input_Output!GQ206=\"\",T(Input_Output!GR206),\"\")","v":""},null,null,{"$f":"IF(Input_Output!GT206=\"\",T(Input_Output!GU206),\"\")","v":""},null,null,{"$f":"IF(Input_Output!GW206=\"\",T(Input_Output!GX206),\"\")","v":""},null,null,{"$f":"IF(Input_Output!GZ206=\"\",T(Input_Output!HA206),\"\")","v":""},null,null,{"$f":"IF(Input_Output!HC206=\"\",T(Input_Output!HD206),\"\")","v":""},null,null,{"$f":"IF(Input_Output!HF206=\"\",T(Input_Output!HG206),\"\")","v":""},null,null,{"$f":"IF(Input_Output!HI206=\"\",T(Input_Output!HJ206),\"\")","v":""},null,null,{"$f":"IF(Input_Output!HL206=\"\",T(Input_Output!HM206),\"\")","v":""},null,null,{"$f":"IF(Input_Output!HO206=\"\",T(Input_Output!HP206),\"\")","v":""},null,null,{"$f":"IF(Input_Output!HR206=\"\",T(Input_Output!HS206),\"\")","v":""},null,null,{"$f":"IF(Input_Output!HU206=\"\",T(Input_Output!HV206),\"\")","v":""},null,null,{"$f":"IF(Input_Output!HX206=\"\",T(Input_Output!HY206),\"\")","v":""},null,null,{"$f":"IF(Input_Output!IA206=\"\",T(Input_Output!IB206),\"\")","v":""},null,null,{"$f":"IF(Input_Output!ID206=\"\",T(Input_Output!IE206),\"\")","v":""},null,null,{"$f":"IF(Input_Output!IG206=\"\",T(Input_Output!IH206),\"\")","v":""},null,null,{"$f":"IF(Input_Output!IJ206=\"\",T(Input_Output!IK206),\"\")","v":""},null,null,{"$f":"IF(Input_Output!IM206=\"\",T(Input_Output!IN206),\"\")","v":""},null,null,{"$f":"IF(Input_Output!IP206=\"\",T(Input_Output!IQ206),\"\")","v":""},null,null,{"$f":"IF(Input_Output!IS206=\"\",T(Input_Output!IT206),\"\")","v":""}]
[null,null,null,null,{"$f":"IF(Input_Output!D207=\"\",T(Input_Output!E207),\"\")","v":""},null,null,{"$f":"IF(Input_Output!G207=\"\",T(Input_Output!H207),\"\")","v":""},null,null,{"$f":"IF(Input_Output!J207=\"\",T(Input_Output!K207),\"\")","v":""},null,null,{"$f":"IF(Input_Output!M207=\"\",T(Input_Output!N207),\"\")","v":""},null,null,{"$f":"IF(Input_Output!P207=\"\",T(Input_Output!Q207),\"\")","v":""},null,null,{"$f":"IF(Input_Output!S207=\"\",T(Input_Output!T207),\"\")","v":""},null,null,{"$f":"IF(Input_Output!V207=\"\",T(Input_Output!W207),\"\")","v":""},null,null,{"$f":"IF(Input_Output!Y207=\"\",T(Input_Output!Z207),\"\")","v":""},null,null,{"$f":"IF(Input_Output!AB207=\"\",T(Input_Output!AC207),\"\")","v":""},null,null,{"$f":"IF(Input_Output!AE207=\"\",T(Input_Output!AF207),\"\")","v":""},null,null,{"$f":"IF(Input_Output!AH207=\"\",T(Input_Output!AI207),\"\")","v":""},null,null,{"$f":"IF(Input_Output!AK207=\"\",T(Input_Output!AL207),\"\")","v":""},null,null,{"$f":"IF(Input_Output!AN207=\"\",T(Input_Output!AO207),\"\")","v":""},null,null,{"$f":"IF(Input_Output!AQ207=\"\",T(Input_Output!AR207),\"\")","v":""},null,null,{"$f":"IF(Input_Output!AT207=\"\",T(Input_Output!AU207),\"\")","v":""},null,null,{"$f":"IF(Input_Output!AW207=\"\",T(Input_Output!AX207),\"\")","v":""},null,null,{"$f":"IF(Input_Output!AZ207=\"\",T(Input_Output!BA207),\"\")","v":""},null,null,{"$f":"IF(Input_Output!BC207=\"\",T(Input_Output!BD207),\"\")","v":""},null,null,{"$f":"IF(Input_Output!BF207=\"\",T(Input_Output!BG207),\"\")","v":""},null,null,{"$f":"IF(Input_Output!BI207=\"\",T(Input_Output!BJ207),\"\")","v":""},null,null,{"$f":"IF(Input_Output!BL207=\"\",T(Input_Output!BM207),\"\")","v":""},null,null,{"$f":"IF(Input_Output!BO207=\"\",T(Input_Output!BP207),\"\")","v":""},null,null,{"$f":"IF(Input_Output!BR207=\"\",T(Input_Output!BS207),\"\")","v":""},null,null,{"$f":"IF(Input_Output!BU207=\"\",T(Input_Output!BV207),\"\")","v":""},null,null,{"$f":"IF(Input_Output!BX207=\"\",T(Input_Output!BY207),\"\")","v":""},null,null,{"$f":"IF(Input_Output!CA207=\"\",T(Input_Output!CB207),\"\")","v":""},null,null,{"$f":"IF(Input_Output!CD207=\"\",T(Input_Output!CE207),\"\")","v":""},null,null,{"$f":"IF(Input_Output!CG207=\"\",T(Input_Output!CH207),\"\")","v":""},null,null,{"$f":"IF(Input_Output!CJ207=\"\",T(Input_Output!CK207),\"\")","v":""},null,null,{"$f":"IF(Input_Output!CM207=\"\",T(Input_Output!CN207),\"\")","v":""},null,null,{"$f":"IF(Input_Output!CP207=\"\",T(Input_Output!CQ207),\"\")","v":""},null,null,{"$f":"IF(Input_Output!CS207=\"\",T(Input_Output!CT207),\"\")","v":""},null,null,{"$f":"IF(Input_Output!CV207=\"\",T(Input_Output!CW207),\"\")","v":""},null,null,{"$f":"IF(Input_Output!CY207=\"\",T(Input_Output!CZ207),\"\")","v":""},null,null,{"$f":"IF(Input_Output!DB207=\"\",T(Input_Output!DC207),\"\")","v":""},null,null,{"$f":"IF(Input_Output!DE207=\"\",T(Input_Output!DF207),\"\")","v":""},null,null,{"$f":"IF(Input_Output!DH207=\"\",T(Input_Output!DI207),\"\")","v":""},null,null,{"$f":"IF(Input_Output!DK207=\"\",T(Input_Output!DL207),\"\")","v":""},null,null,{"$f":"IF(Input_Output!DN207=\"\",T(Input_Output!DO207),\"\")","v":""},null,null,{"$f":"IF(Input_Output!DQ207=\"\",T(Input_Output!DR207),\"\")","v":""},null,null,{"$f":"IF(Input_Output!DT207=\"\",T(Input_Output!DU207),\"\")","v":""},null,null,{"$f":"IF(Input_Output!DW207=\"\",T(Input_Output!DX207),\"\")","v":""},null,null,{"$f":"IF(Input_Output!DZ207=\"\",T(Input_Output!EA207),\"\")","v":""},null,null,{"$f":"IF(Input_Output!EC207=\"\",T(Input_Output!ED207),\"\")","v":""},null,null,{"$f":"IF(Input_Output!EF207=\"\",T(Input_Output!EG207),\"\")","v":""},null,null,{"$f":"IF(Input_Output!EI207=\"\",T(Input_Output!EJ207),\"\")","v":""},null,null,{"$f":"IF(Input_Output!EL207=\"\",T(Input_Output!EM207),\"\")","v":""},null,null,{"$f":"IF(Input_Output!EO207=\"\",T(Input_Output!EP207),\"\")","v":""},null,null,{"$f":"IF(Input_Output!ER207=\"\",T(Input_Output!ES207),\"\")","v":""},null,null,{"$f":"IF(Input_Output!EU207=\"\",T(Input_Output!EV207),\"\")","v":""},null,null,{"$f":"IF(Input_Output!EX207=\"\",T(Input_Output!EY207),\"\")","v":""},null,null,{"$f":"IF(Input_Output!FA207=\"\",T(Input_Output!FB207),\"\")","v":""},null,null,{"$f":"IF(Input_Output!FD207=\"\",T(Input_Output!FE207),\"\")","v":""},null,null,{"$f":"IF(Input_Output!FG207=\"\",T(Input_Output!FH207),\"\")","v":""},null,null,{"$f":"IF(Input_Output!FJ207=\"\",T(Input_Output!FK207),\"\")","v":""},null,null,{"$f":"IF(Input_Output!FM207=\"\",T(Input_Output!FN207),\"\")","v":""},null,null,{"$f":"IF(Input_Output!FP207=\"\",T(Input_Output!FQ207),\"\")","v":""},null,null,{"$f":"IF(Input_Output!FS207=\"\",T(Input_Output!FT207),\"\")","v":""},null,null,{"$f":"IF(Input_Output!FV207=\"\",T(Input_Output!FW207),\"\")","v":""},null,null,{"$f":"IF(Input_Output!FY207=\"\",T(Input_Output!FZ207),\"\")","v":""},null,null,{"$f":"IF(Input_Output!GB207=\"\",T(Input_Output!GC207),\"\")","v":""},null,null,{"$f":"IF(Input_Output!GE207=\"\",T(Input_Output!GF207),\"\")","v":""},null,null,{"$f":"IF(Input_Output!GH207=\"\",T(Input_Output!GI207),\"\")","v":""},null,null,{"$f":"IF(Input_Output!GK207=\"\",T(Input_Output!GL207),\"\")","v":""},null,null,{"$f":"IF(Input_Output!GN207=\"\",T(Input_Output!GO207),\"\")","v":""},null,null,{"$f":"IF(Input_Output!GQ207=\"\",T(Input_Output!GR207),\"\")","v":""},null,null,{"$f":"IF(Input_Output!GT207=\"\",T(Input_Output!GU207),\"\")","v":""},null,null,{"$f":"IF(Input_Output!GW207=\"\",T(Input_Output!GX207),\"\")","v":""},null,null,{"$f":"IF(Input_Output!GZ207=\"\",T(Input_Output!HA207),\"\")","v":""},null,null,{"$f":"IF(Input_Output!HC207=\"\",T(Input_Output!HD207),\"\")","v":""},null,null,{"$f":"IF(Input_Output!HF207=\"\",T(Input_Output!HG207),\"\")","v":""},null,null,{"$f":"IF(Input_Output!HI207=\"\",T(Input_Output!HJ207),\"\")","v":""},null,null,{"$f":"IF(Input_Output!HL207=\"\",T(Input_Output!HM207),\"\")","v":""},null,null,{"$f":"IF(Input_Output!HO207=\"\",T(Input_Output!HP207),\"\")","v":""},null,null,{"$f":"IF(Input_Output!HR207=\"\",T(Input_Output!HS207),\"\")","v":""},null,null,{"$f":"IF(Input_Output!HU207=\"\",T(Input_Output!HV207),\"\")","v":""},null,null,{"$f":"IF(Input_Output!HX207=\"\",T(Input_Output!HY207),\"\")","v":""},null,null,{"$f":"IF(Input_Output!IA207=\"\",T(Input_Output!IB207),\"\")","v":""},null,null,{"$f":"IF(Input_Output!ID207=\"\",T(Input_Output!IE207),\"\")","v":""},null,null,{"$f":"IF(Input_Output!IG207=\"\",T(Input_Output!IH207),\"\")","v":""},null,null,{"$f":"IF(Input_Output!IJ207=\"\",T(Input_Output!IK207),\"\")","v":""},null,null,{"$f":"IF(Input_Output!IM207=\"\",T(Input_Output!IN207),\"\")","v":""},null,null,{"$f":"IF(Input_Output!IP207=\"\",T(Input_Output!IQ207),\"\")","v":""},null,null,{"$f":"IF(Input_Output!IS207=\"\",T(Input_Output!IT207),\"\")","v":""}]
[null,null,null,null,{"$f":"IF(Input_Output!D208=\"\",T(Input_Output!E208),\"\")","v":""},null,null,{"$f":"IF(Input_Output!G208=\"\",T(Input_Output!H208),\"\")","v":""},null,null,{"$f":"IF(Input_Output!J208=\"\",T(Input_Output!K208),\"\")","v":""},null,null,{"$f":"IF(Input_Output!M208=\"\",T(Input_Output!N208),\"\")","v":""},null,null,{"$f":"IF(Input_Output!P208=\"\",T(Input_Output!Q208),\"\")","v":""},null,null,{"$f":"IF(Input_Output!S208=\"\",T(Input_Output!T208),\"\")","v":""},null,null,{"$f":"IF(Input_Output!V208=\"\",T(Input_Output!W208),\"\")","v":""},null,null,{"$f":"IF(Input_Output!Y208=\"\",T(Input_Output!Z208),\"\")","v":""},null,null,{"$f":"IF(Input_Output!AB208=\"\",T(Input_Output!AC208),\"\")","v":""},null,null,{"$f":"IF(Input_Output!AE208=\"\",T(Input_Output!AF208),\"\")","v":""},null,null,{"$f":"IF(Input_Output!AH208=\"\",T(Input_Output!AI208),\"\")","v":""},null,null,{"$f":"IF(Input_Output!AK208=\"\",T(Input_Output!AL208),\"\")","v":""},null,null,{"$f":"IF(Input_Output!AN208=\"\",T(Input_Output!AO208),\"\")","v":""},null,null,{"$f":"IF(Input_Output!AQ208=\"\",T(Input_Output!AR208),\"\")","v":""},null,null,{"$f":"IF(Input_Output!AT208=\"\",T(Input_Output!AU208),\"\")","v":""},null,null,{"$f":"IF(Input_Output!AW208=\"\",T(Input_Output!AX208),\"\")","v":""},null,null,{"$f":"IF(Input_Output!AZ208=\"\",T(Input_Output!BA208),\"\")","v":""},null,null,{"$f":"IF(Input_Output!BC208=\"\",T(Input_Output!BD208),\"\")","v":""},null,null,{"$f":"IF(Input_Output!BF208=\"\",T(Input_Output!BG208),\"\")","v":""},null,null,{"$f":"IF(Input_Output!BI208=\"\",T(Input_Output!BJ208),\"\")","v":""},null,null,{"$f":"IF(Input_Output!BL208=\"\",T(Input_Output!BM208),\"\")","v":""},null,null,{"$f":"IF(Input_Output!BO208=\"\",T(Input_Output!BP208),\"\")","v":""},null,null,{"$f":"IF(Input_Output!BR208=\"\",T(Input_Output!BS208),\"\")","v":""},null,null,{"$f":"IF(Input_Output!BU208=\"\",T(Input_Output!BV208),\"\")","v":""},null,null,{"$f":"IF(Input_Output!BX208=\"\",T(Input_Output!BY208),\"\")","v":""},null,null,{"$f":"IF(Input_Output!CA208=\"\",T(Input_Output!CB208),\"\")","v":""},null,null,{"$f":"IF(Input_Output!CD208=\"\",T(Input_Output!CE208),\"\")","v":""},null,null,{"$f":"IF(Input_Output!CG208=\"\",T(Input_Output!CH208),\"\")","v":""},null,null,{"$f":"IF(Input_Output!CJ208=\"\",T(Input_Output!CK208),\"\")","v":""},null,null,{"$f":"IF(Input_Output!CM208=\"\",T(Input_Output!CN208),\"\")","v":""},null,null,{"$f":"IF(Input_Output!CP208=\"\",T(Input_Output!CQ208),\"\")","v":""},null,null,{"$f":"IF(Input_Output!CS208=\"\",T(Input_Output!CT208),\"\")","v":""},null,null,{"$f":"IF(Input_Output!CV208=\"\",T(Input_Output!CW208),\"\")","v":""},null,null,{"$f":"IF(Input_Output!CY208=\"\",T(Input_Output!CZ208),\"\")","v":""},null,null,{"$f":"IF(Input_Output!DB208=\"\",T(Input_Output!DC208),\"\")","v":""},null,null,{"$f":"IF(Input_Output!DE208=\"\",T(Input_Output!DF208),\"\")","v":""},null,null,{"$f":"IF(Input_Output!DH208=\"\",T(Input_Output!DI208),\"\")","v":""},null,null,{"$f":"IF(Input_Output!DK208=\"\",T(Input_Output!DL208),\"\")","v":""},null,null,{"$f":"IF(Input_Output!DN208=\"\",T(Input_Output!DO208),\"\")","v":""},null,null,{"$f":"IF(Input_Output!DQ208=\"\",T(Input_Output!DR208),\"\")","v":""},null,null,{"$f":"IF(Input_Output!DT208=\"\",T(Input_Output!DU208),\"\")","v":""},null,null,{"$f":"IF(Input_Output!DW208=\"\",T(Input_Output!DX208),\"\")","v":""},null,null,{"$f":"IF(Input_Output!DZ208=\"\",T(Input_Output!EA208),\"\")","v":""},null,null,{"$f":"IF(Input_Output!EC208=\"\",T(Input_Output!ED208),\"\")","v":""},null,null,{"$f":"IF(Input_Output!EF208=\"\",T(Input_Output!EG208),\"\")","v":""},null,null,{"$f":"IF(Input_Output!EI208=\"\",T(Input_Output!EJ208),\"\")","v":""},null,null,{"$f":"IF(Input_Output!EL208=\"\",T(Input_Output!EM208),\"\")","v":""},null,null,{"$f":"IF(Input_Output!EO208=\"\",T(Input_Output!EP208),\"\")","v":""},null,null,{"$f":"IF(Input_Output!ER208=\"\",T(Input_Output!ES208),\"\")","v":""},null,null,{"$f":"IF(Input_Output!EU208=\"\",T(Input_Output!EV208),\"\")","v":""},null,null,{"$f":"IF(Input_Output!EX208=\"\",T(Input_Output!EY208),\"\")","v":""},null,null,{"$f":"IF(Input_Output!FA208=\"\",T(Input_Output!FB208),\"\")","v":""},null,null,{"$f":"IF(Input_Output!FD208=\"\",T(Input_Output!FE208),\"\")","v":""},null,null,{"$f":"IF(Input_Output!FG208=\"\",T(Input_Output!FH208),\"\")","v":""},null,null,{"$f":"IF(Input_Output!FJ208=\"\",T(Input_Output!FK208),\"\")","v":""},null,null,{"$f":"IF(Input_Output!FM208=\"\",T(Input_Output!FN208),\"\")","v":""},null,null,{"$f":"IF(Input_Output!FP208=\"\",T(Input_Output!FQ208),\"\")","v":""},null,null,{"$f":"IF(Input_Output!FS208=\"\",T(Input_Output!FT208),\"\")","v":""},null,null,{"$f":"IF(Input_Output!FV208=\"\",T(Input_Output!FW208),\"\")","v":""},null,null,{"$f":"IF(Input_Output!FY208=\"\",T(Input_Output!FZ208),\"\")","v":""},null,null,{"$f":"IF(Input_Output!GB208=\"\",T(Input_Output!GC208),\"\")","v":""},null,null,{"$f":"IF(Input_Output!GE208=\"\",T(Input_Output!GF208),\"\")","v":""},null,null,{"$f":"IF(Input_Output!GH208=\"\",T(Input_Output!GI208),\"\")","v":""},null,null,{"$f":"IF(Input_Output!GK208=\"\",T(Input_Output!GL208),\"\")","v":""},null,null,{"$f":"IF(Input_Output!GN208=\"\",T(Input_Output!GO208),\"\")","v":""},null,null,{"$f":"IF(Input_Output!GQ208=\"\",T(Input_Output!GR208),\"\")","v":""},null,null,{"$f":"IF(Input_Output!GT208=\"\",T(Input_Output!GU208),\"\")","v":""},null,null,{"$f":"IF(Input_Output!GW208=\"\",T(Input_Output!GX208),\"\")","v":""},null,null,{"$f":"IF(Input_Output!GZ208=\"\",T(Input_Output!HA208),\"\")","v":""},null,null,{"$f":"IF(Input_Output!HC208=\"\",T(Input_Output!HD208),\"\")","v":""},null,null,{"$f":"IF(Input_Output!HF208=\"\",T(Input_Output!HG208),\"\")","v":""},null,null,{"$f":"IF(Input_Output!HI208=\"\",T(Input_Output!HJ208),\"\")","v":""},null,null,{"$f":"IF(Input_Output!HL208=\"\",T(Input_Output!HM208),\"\")","v":""},null,null,{"$f":"IF(Input_Output!HO208=\"\",T(Input_Output!HP208),\"\")","v":""},null,null,{"$f":"IF(Input_Output!HR208=\"\",T(Input_Output!HS208),\"\")","v":""},null,null,{"$f":"IF(Input_Output!HU208=\"\",T(Input_Output!HV208),\"\")","v":""},null,null,{"$f":"IF(Input_Output!HX208=\"\",T(Input_Output!HY208),\"\")","v":""},null,null,{"$f":"IF(Input_Output!IA208=\"\",T(Input_Output!IB208),\"\")","v":""},null,null,{"$f":"IF(Input_Output!ID208=\"\",T(Input_Output!IE208),\"\")","v":""},null,null,{"$f":"IF(Input_Output!IG208=\"\",T(Input_Output!IH208),\"\")","v":""},null,null,{"$f":"IF(Input_Output!IJ208=\"\",T(Input_Output!IK208),\"\")","v":""},null,null,{"$f":"IF(Input_Output!IM208=\"\",T(Input_Output!IN208),\"\")","v":""},null,null,{"$f":"IF(Input_Output!IP208=\"\",T(Input_Output!IQ208),\"\")","v":""},null,null,{"$f":"IF(Input_Output!IS208=\"\",T(Input_Output!IT208),\"\")","v":""}]
[null,null,null,null,{"$f":"IF(Input_Output!D209=\"\",T(Input_Output!E209),\"\")","v":""},null,null,{"$f":"IF(Input_Output!G209=\"\",T(Input_Output!H209),\"\")","v":""},null,null,{"$f":"IF(Input_Output!J209=\"\",T(Input_Output!K209),\"\")","v":""},null,null,{"$f":"IF(Input_Output!M209=\"\",T(Input_Output!N209),\"\")","v":""},null,null,{"$f":"IF(Input_Output!P209=\"\",T(Input_Output!Q209),\"\")","v":""},null,null,{"$f":"IF(Input_Output!S209=\"\",T(Input_Output!T209),\"\")","v":""},null,null,{"$f":"IF(Input_Output!V209=\"\",T(Input_Output!W209),\"\")","v":""},null,null,{"$f":"IF(Input_Output!Y209=\"\",T(Input_Output!Z209),\"\")","v":""},null,null,{"$f":"IF(Input_Output!AB209=\"\",T(Input_Output!AC209),\"\")","v":""},null,null,{"$f":"IF(Input_Output!AE209=\"\",T(Input_Output!AF209),\"\")","v":""},null,null,{"$f":"IF(Input_Output!AH209=\"\",T(Input_Output!AI209),\"\")","v":""},null,null,{"$f":"IF(Input_Output!AK209=\"\",T(Input_Output!AL209),\"\")","v":""},null,null,{"$f":"IF(Input_Output!AN209=\"\",T(Input_Output!AO209),\"\")","v":""},null,null,{"$f":"IF(Input_Output!AQ209=\"\",T(Input_Output!AR209),\"\")","v":""},null,null,{"$f":"IF(Input_Output!AT209=\"\",T(Input_Output!AU209),\"\")","v":""},null,null,{"$f":"IF(Input_Output!AW209=\"\",T(Input_Output!AX209),\"\")","v":""},null,null,{"$f":"IF(Input_Output!AZ209=\"\",T(Input_Output!BA209),\"\")","v":""},null,null,{"$f":"IF(Input_Output!BC209=\"\",T(Input_Output!BD209),\"\")","v":""},null,null,{"$f":"IF(Input_Output!BF209=\"\",T(Input_Output!BG209),\"\")","v":""},null,null,{"$f":"IF(Input_Output!BI209=\"\",T(Input_Output!BJ209),\"\")","v":""},null,null,{"$f":"IF(Input_Output!BL209=\"\",T(Input_Output!BM209),\"\")","v":""},null,null,{"$f":"IF(Input_Output!BO209=\"\",T(Input_Output!BP209),\"\")","v":""},null,null,{"$f":"IF(Input_Output!BR209=\"\",T(Input_Output!BS209),\"\")","v":""},null,null,{"$f":"IF(Input_Output!BU209=\"\",T(Input_Output!BV209),\"\")","v":""},null,null,{"$f":"IF(Input_Output!BX209=\"\",T(Input_Output!BY209),\"\")","v":""},null,null,{"$f":"IF(Input_Output!CA209=\"\",T(Input_Output!CB209),\"\")","v":""},null,null,{"$f":"IF(Input_Output!CD209=\"\",T(Input_Output!CE209),\"\")","v":""},null,null,{"$f":"IF(Input_Output!CG209=\"\",T(Input_Output!CH209),\"\")","v":""},null,null,{"$f":"IF(Input_Output!CJ209=\"\",T(Input_Output!CK209),\"\")","v":""},null,null,{"$f":"IF(Input_Output!CM209=\"\",T(Input_Output!CN209),\"\")","v":""},null,null,{"$f":"IF(Input_Output!CP209=\"\",T(Input_Output!CQ209),\"\")","v":""},null,null,{"$f":"IF(Input_Output!CS209=\"\",T(Input_Output!CT209),\"\")","v":""},null,null,{"$f":"IF(Input_Output!CV209=\"\",T(Input_Output!CW209),\"\")","v":""},null,null,{"$f":"IF(Input_Output!CY209=\"\",T(Input_Output!CZ209),\"\")","v":""},null,null,{"$f":"IF(Input_Output!DB209=\"\",T(Input_Output!DC209),\"\")","v":""},null,null,{"$f":"IF(Input_Output!DE209=\"\",T(Input_Output!DF209),\"\")","v":""},null,null,{"$f":"IF(Input_Output!DH209=\"\",T(Input_Output!DI209),\"\")","v":""},null,null,{"$f":"IF(Input_Output!DK209=\"\",T(Input_Output!DL209),\"\")","v":""},null,null,{"$f":"IF(Input_Output!DN209=\"\",T(Input_Output!DO209),\"\")","v":""},null,null,{"$f":"IF(Input_Output!DQ209=\"\",T(Input_Output!DR209),\"\")","v":""},null,null,{"$f":"IF(Input_Output!DT209=\"\",T(Input_Output!DU209),\"\")","v":""},null,null,{"$f":"IF(Input_Output!DW209=\"\",T(Input_Output!DX209),\"\")","v":""},null,null,{"$f":"IF(Input_Output!DZ209=\"\",T(Input_Output!EA209),\"\")","v":""},null,null,{"$f":"IF(Input_Output!EC209=\"\",T(Input_Output!ED209),\"\")","v":""},null,null,{"$f":"IF(Input_Output!EF209=\"\",T(Input_Output!EG209),\"\")","v":""},null,null,{"$f":"IF(Input_Output!EI209=\"\",T(Input_Output!EJ209),\"\")","v":""},null,null,{"$f":"IF(Input_Output!EL209=\"\",T(Input_Output!EM209),\"\")","v":""},null,null,{"$f":"IF(Input_Output!EO209=\"\",T(Input_Output!EP209),\"\")","v":""},null,null,{"$f":"IF(Input_Output!ER209=\"\",T(Input_Output!ES209),\"\")","v":""},null,null,{"$f":"IF(Input_Output!EU209=\"\",T(Input_Output!EV209),\"\")","v":""},null,null,{"$f":"IF(Input_Output!EX209=\"\",T(Input_Output!EY209),\"\")","v":""},null,null,{"$f":"IF(Input_Output!FA209=\"\",T(Input_Output!FB209),\"\")","v":""},null,null,{"$f":"IF(Input_Output!FD209=\"\",T(Input_Output!FE209),\"\")","v":""},null,null,{"$f":"IF(Input_Output!FG209=\"\",T(Input_Output!FH209),\"\")","v":""},null,null,{"$f":"IF(Input_Output!FJ209=\"\",T(Input_Output!FK209),\"\")","v":""},null,null,{"$f":"IF(Input_Output!FM209=\"\",T(Input_Output!FN209),\"\")","v":""},null,null,{"$f":"IF(Input_Output!FP209=\"\",T(Input_Output!FQ209),\"\")","v":""},null,null,{"$f":"IF(Input_Output!FS209=\"\",T(Input_Output!FT209),\"\")","v":""},null,null,{"$f":"IF(Input_Output!FV209=\"\",T(Input_Output!FW209),\"\")","v":""},null,null,{"$f":"IF(Input_Output!FY209=\"\",T(Input_Output!FZ209),\"\")","v":""},null,null,{"$f":"IF(Input_Output!GB209=\"\",T(Input_Output!GC209),\"\")","v":""},null,null,{"$f":"IF(Input_Output!GE209=\"\",T(Input_Output!GF209),\"\")","v":""},null,null,{"$f":"IF(Input_Output!GH209=\"\",T(Input_Output!GI209),\"\")","v":""},null,null,{"$f":"IF(Input_Output!GK209=\"\",T(Input_Output!GL209),\"\")","v":""},null,null,{"$f":"IF(Input_Output!GN209=\"\",T(Input_Output!GO209),\"\")","v":""},null,null,{"$f":"IF(Input_Output!GQ209=\"\",T(Input_Output!GR209),\"\")","v":""},null,null,{"$f":"IF(Input_Output!GT209=\"\",T(Input_Output!GU209),\"\")","v":""},null,null,{"$f":"IF(Input_Output!GW209=\"\",T(Input_Output!GX209),\"\")","v":""},null,null,{"$f":"IF(Input_Output!GZ209=\"\",T(Input_Output!HA209),\"\")","v":""},null,null,{"$f":"IF(Input_Output!HC209=\"\",T(Input_Output!HD209),\"\")","v":""},null,null,{"$f":"IF(Input_Output!HF209=\"\",T(Input_Output!HG209),\"\")","v":""},null,null,{"$f":"IF(Input_Output!HI209=\"\",T(Input_Output!HJ209),\"\")","v":""},null,null,{"$f":"IF(Input_Output!HL209=\"\",T(Input_Output!HM209),\"\")","v":""},null,null,{"$f":"IF(Input_Output!HO209=\"\",T(Input_Output!HP209),\"\")","v":""},null,null,{"$f":"IF(Input_Output!HR209=\"\",T(Input_Output!HS209),\"\")","v":""},null,null,{"$f":"IF(Input_Output!HU209=\"\",T(Input_Output!HV209),\"\")","v":""},null,null,{"$f":"IF(Input_Output!HX209=\"\",T(Input_Output!HY209),\"\")","v":""},null,null,{"$f":"IF(Input_Output!IA209=\"\",T(Input_Output!IB209),\"\")","v":""},null,null,{"$f":"IF(Input_Output!ID209=\"\",T(Input_Output!IE209),\"\")","v":""},null,null,{"$f":"IF(Input_Output!IG209=\"\",T(Input_Output!IH209),\"\")","v":""},null,null,{"$f":"IF(Input_Output!IJ209=\"\",T(Input_Output!IK209),\"\")","v":""},null,null,{"$f":"IF(Input_Output!IM209=\"\",T(Input_Output!IN209),\"\")","v":""},null,null,{"$f":"IF(Input_Output!IP209=\"\",T(Input_Output!IQ209),\"\")","v":""},null,null,{"$f":"IF(Input_Output!IS209=\"\",T(Input_Output!IT209),\"\")","v":""}]
[null,null,null,null,{"$f":"IF(Input_Output!D210=\"\",T(Input_Output!E210),\"\")","v":""},null,null,{"$f":"IF(Input_Output!G210=\"\",T(Input_Output!H210),\"\")","v":""},null,null,{"$f":"IF(Input_Output!J210=\"\",T(Input_Output!K210),\"\")","v":""},null,null,{"$f":"IF(Input_Output!M210=\"\",T(Input_Output!N210),\"\")","v":""},null,null,{"$f":"IF(Input_Output!P210=\"\",T(Input_Output!Q210),\"\")","v":""},null,null,{"$f":"IF(Input_Output!S210=\"\",T(Input_Output!T210),\"\")","v":""},null,null,{"$f":"IF(Input_Output!V210=\"\",T(Input_Output!W210),\"\")","v":""},null,null,{"$f":"IF(Input_Output!Y210=\"\",T(Input_Output!Z210),\"\")","v":""},null,null,{"$f":"IF(Input_Output!AB210=\"\",T(Input_Output!AC210),\"\")","v":""},null,null,{"$f":"IF(Input_Output!AE210=\"\",T(Input_Output!AF210),\"\")","v":""},null,null,{"$f":"IF(Input_Output!AH210=\"\",T(Input_Output!AI210),\"\")","v":""},null,null,{"$f":"IF(Input_Output!AK210=\"\",T(Input_Output!AL210),\"\")","v":""},null,null,{"$f":"IF(Input_Output!AN210=\"\",T(Input_Output!AO210),\"\")","v":""},null,null,{"$f":"IF(Input_Output!AQ210=\"\",T(Input_Output!AR210),\"\")","v":""},null,null,{"$f":"IF(Input_Output!AT210=\"\",T(Input_Output!AU210),\"\")","v":""},null,null,{"$f":"IF(Input_Output!AW210=\"\",T(Input_Output!AX210),\"\")","v":""},null,null,{"$f":"IF(Input_Output!AZ210=\"\",T(Input_Output!BA210),\"\")","v":""},null,null,{"$f":"IF(Input_Output!BC210=\"\",T(Input_Output!BD210),\"\")","v":""},null,null,{"$f":"IF(Input_Output!BF210=\"\",T(Input_Output!BG210),\"\")","v":""},null,null,{"$f":"IF(Input_Output!BI210=\"\",T(Input_Output!BJ210),\"\")","v":""},null,null,{"$f":"IF(Input_Output!BL210=\"\",T(Input_Output!BM210),\"\")","v":""},null,null,{"$f":"IF(Input_Output!BO210=\"\",T(Input_Output!BP210),\"\")","v":""},null,null,{"$f":"IF(Input_Output!BR210=\"\",T(Input_Output!BS210),\"\")","v":""},null,null,{"$f":"IF(Input_Output!BU210=\"\",T(Input_Output!BV210),\"\")","v":""},null,null,{"$f":"IF(Input_Output!BX210=\"\",T(Input_Output!BY210),\"\")","v":""},null,null,{"$f":"IF(Input_Output!CA210=\"\",T(Input_Output!CB210),\"\")","v":""},null,null,{"$f":"IF(Input_Output!CD210=\"\",T(Input_Output!CE210),\"\")","v":""},null,null,{"$f":"IF(Input_Output!CG210=\"\",T(Input_Output!CH210),\"\")","v":""},null,null,{"$f":"IF(Input_Output!CJ210=\"\",T(Input_Output!CK210),\"\")","v":""},null,null,{"$f":"IF(Input_Output!CM210=\"\",T(Input_Output!CN210),\"\")","v":""},null,null,{"$f":"IF(Input_Output!CP210=\"\",T(Input_Output!CQ210),\"\")","v":""},null,null,{"$f":"IF(Input_Output!CS210=\"\",T(Input_Output!CT210),\"\")","v":""},null,null,{"$f":"IF(Input_Output!CV210=\"\",T(Input_Output!CW210),\"\")","v":""},null,null,{"$f":"IF(Input_Output!CY210=\"\",T(Input_Output!CZ210),\"\")","v":""},null,null,{"$f":"IF(Input_Output!DB210=\"\",T(Input_Output!DC210),\"\")","v":""},null,null,{"$f":"IF(Input_Output!DE210=\"\",T(Input_Output!DF210),\"\")","v":""},null,null,{"$f":"IF(Input_Output!DH210=\"\",T(Input_Output!DI210),\"\")","v":""},null,null,{"$f":"IF(Input_Output!DK210=\"\",T(Input_Output!DL210),\"\")","v":""},null,null,{"$f":"IF(Input_Output!DN210=\"\",T(Input_Output!DO210),\"\")","v":""},null,null,{"$f":"IF(Input_Output!DQ210=\"\",T(Input_Output!DR210),\"\")","v":""},null,null,{"$f":"IF(Input_Output!DT210=\"\",T(Input_Output!DU210),\"\")","v":""},null,null,{"$f":"IF(Input_Output!DW210=\"\",T(Input_Output!DX210),\"\")","v":""},null,null,{"$f":"IF(Input_Output!DZ210=\"\",T(Input_Output!EA210),\"\")","v":""},null,null,{"$f":"IF(Input_Output!EC210=\"\",T(Input_Output!ED210),\"\")","v":""},null,null,{"$f":"IF(Input_Output!EF210=\"\",T(Input_Output!EG210),\"\")","v":""},null,null,{"$f":"IF(Input_Output!EI210=\"\",T(Input_Output!EJ210),\"\")","v":""},null,null,{"$f":"IF(Input_Output!EL210=\"\",T(Input_Output!EM210),\"\")","v":""},null,null,{"$f":"IF(Input_Output!EO210=\"\",T(Input_Output!EP210),\"\")","v":""},null,null,{"$f":"IF(Input_Output!ER210=\"\",T(Input_Output!ES210),\"\")","v":""},null,null,{"$f":"IF(Input_Output!EU210=\"\",T(Input_Output!EV210),\"\")","v":""},null,null,{"$f":"IF(Input_Output!EX210=\"\",T(Input_Output!EY210),\"\")","v":""},null,null,{"$f":"IF(Input_Output!FA210=\"\",T(Input_Output!FB210),\"\")","v":""},null,null,{"$f":"IF(Input_Output!FD210=\"\",T(Input_Output!FE210),\"\")","v":""},null,null,{"$f":"IF(Input_Output!FG210=\"\",T(Input_Output!FH210),\"\")","v":""},null,null,{"$f":"IF(Input_Output!FJ210=\"\",T(Input_Output!FK210),\"\")","v":""},null,null,{"$f":"IF(Input_Output!FM210=\"\",T(Input_Output!FN210),\"\")","v":""},null,null,{"$f":"IF(Input_Output!FP210=\"\",T(Input_Output!FQ210),\"\")","v":""},null,null,{"$f":"IF(Input_Output!FS210=\"\",T(Input_Output!FT210),\"\")","v":""},null,null,{"$f":"IF(Input_Output!FV210=\"\",T(Input_Output!FW210),\"\")","v":""},null,null,{"$f":"IF(Input_Output!FY210=\"\",T(Input_Output!FZ210),\"\")","v":""},null,null,{"$f":"IF(Input_Output!GB210=\"\",T(Input_Output!GC210),\"\")","v":""},null,null,{"$f":"IF(Input_Output!GE210=\"\",T(Input_Output!GF210),\"\")","v":""},null,null,{"$f":"IF(Input_Output!GH210=\"\",T(Input_Output!GI210),\"\")","v":""},null,null,{"$f":"IF(Input_Output!GK210=\"\",T(Input_Output!GL210),\"\")","v":""},null,null,{"$f":"IF(Input_Output!GN210=\"\",T(Input_Output!GO210),\"\")","v":""},null,null,{"$f":"IF(Input_Output!GQ210=\"\",T(Input_Output!GR210),\"\")","v":""},null,null,{"$f":"IF(Input_Output!GT210=\"\",T(Input_Output!GU210),\"\")","v":""},null,null,{"$f":"IF(Input_Output!GW210=\"\",T(Input_Output!GX210),\"\")","v":""},null,null,{"$f":"IF(Input_Output!GZ210=\"\",T(Input_Output!HA210),\"\")","v":""},null,null,{"$f":"IF(Input_Output!HC210=\"\",T(Input_Output!HD210),\"\")","v":""},null,null,{"$f":"IF(Input_Output!HF210=\"\",T(Input_Output!HG210),\"\")","v":""},null,null,{"$f":"IF(Input_Output!HI210=\"\",T(Input_Output!HJ210),\"\")","v":""},null,null,{"$f":"IF(Input_Output!HL210=\"\",T(Input_Output!HM210),\"\")","v":""},null,null,{"$f":"IF(Input_Output!HO210=\"\",T(Input_Output!HP210),\"\")","v":""},null,null,{"$f":"IF(Input_Output!HR210=\"\",T(Input_Output!HS210),\"\")","v":""},null,null,{"$f":"IF(Input_Output!HU210=\"\",T(Input_Output!HV210),\"\")","v":""},null,null,{"$f":"IF(Input_Output!HX210=\"\",T(Input_Output!HY210),\"\")","v":""},null,null,{"$f":"IF(Input_Output!IA210=\"\",T(Input_Output!IB210),\"\")","v":""},null,null,{"$f":"IF(Input_Output!ID210=\"\",T(Input_Output!IE210),\"\")","v":""},null,null,{"$f":"IF(Input_Output!IG210=\"\",T(Input_Output!IH210),\"\")","v":""},null,null,{"$f":"IF(Input_Output!IJ210=\"\",T(Input_Output!IK210),\"\")","v":""},null,null,{"$f":"IF(Input_Output!IM210=\"\",T(Input_Output!IN210),\"\")","v":""},null,null,{"$f":"IF(Input_Output!IP210=\"\",T(Input_Output!IQ210),\"\")","v":""},null,null,{"$f":"IF(Input_Output!IS210=\"\",T(Input_Output!IT210),\"\")","v":""}]
[null,null,null,null,{"$f":"IF(Input_Output!D211=\"\",T(Input_Output!E211),\"\")","v":""},null,null,{"$f":"IF(Input_Output!G211=\"\",T(Input_Output!H211),\"\")","v":""},null,null,{"$f":"IF(Input_Output!J211=\"\",T(Input_Output!K211),\"\")","v":""},null,null,{"$f":"IF(Input_Output!M211=\"\",T(Input_Output!N211),\"\")","v":""},null,null,{"$f":"IF(Input_Output!P211=\"\",T(Input_Output!Q211),\"\")","v":""},null,null,{"$f":"IF(Input_Output!S211=\"\",T(Input_Output!T211),\"\")","v":""},null,null,{"$f":"IF(Input_Output!V211=\"\",T(Input_Output!W211),\"\")","v":""},null,null,{"$f":"IF(Input_Output!Y211=\"\",T(Input_Output!Z211),\"\")","v":""},null,null,{"$f":"IF(Input_Output!AB211=\"\",T(Input_Output!AC211),\"\")","v":""},null,null,{"$f":"IF(Input_Output!AE211=\"\",T(Input_Output!AF211),\"\")","v":""},null,null,{"$f":"IF(Input_Output!AH211=\"\",T(Input_Output!AI211),\"\")","v":""},null,null,{"$f":"IF(Input_Output!AK211=\"\",T(Input_Output!AL211),\"\")","v":""},null,null,{"$f":"IF(Input_Output!AN211=\"\",T(Input_Output!AO211),\"\")","v":""},null,null,{"$f":"IF(Input_Output!AQ211=\"\",T(Input_Output!AR211),\"\")","v":""},null,null,{"$f":"IF(Input_Output!AT211=\"\",T(Input_Output!AU211),\"\")","v":""},null,null,{"$f":"IF(Input_Output!AW211=\"\",T(Input_Output!AX211),\"\")","v":""},null,null,{"$f":"IF(Input_Output!AZ211=\"\",T(Input_Output!BA211),\"\")","v":""},null,null,{"$f":"IF(Input_Output!BC211=\"\",T(Input_Output!BD211),\"\")","v":""},null,null,{"$f":"IF(Input_Output!BF211=\"\",T(Input_Output!BG211),\"\")","v":""},null,null,{"$f":"IF(Input_Output!BI211=\"\",T(Input_Output!BJ211),\"\")","v":""},null,null,{"$f":"IF(Input_Output!BL211=\"\",T(Input_Output!BM211),\"\")","v":""},null,null,{"$f":"IF(Input_Output!BO211=\"\",T(Input_Output!BP211),\"\")","v":""},null,null,{"$f":"IF(Input_Output!BR211=\"\",T(Input_Output!BS211),\"\")","v":""},null,null,{"$f":"IF(Input_Output!BU211=\"\",T(Input_Output!BV211),\"\")","v":""},null,null,{"$f":"IF(Input_Output!BX211=\"\",T(Input_Output!BY211),\"\")","v":""},null,null,{"$f":"IF(Input_Output!CA211=\"\",T(Input_Output!CB211),\"\")","v":""},null,null,{"$f":"IF(Input_Output!CD211=\"\",T(Input_Output!CE211),\"\")","v":""},null,null,{"$f":"IF(Input_Output!CG211=\"\",T(Input_Output!CH211),\"\")","v":""},null,null,{"$f":"IF(Input_Output!CJ211=\"\",T(Input_Output!CK211),\"\")","v":""},null,null,{"$f":"IF(Input_Output!CM211=\"\",T(Input_Output!CN211),\"\")","v":""},null,null,{"$f":"IF(Input_Output!CP211=\"\",T(Input_Output!CQ211),\"\")","v":""},null,null,{"$f":"IF(Input_Output!CS211=\"\",T(Input_Output!CT211),\"\")","v":""},null,null,{"$f":"IF(Input_Output!CV211=\"\",T(Input_Output!CW211),\"\")","v":""},null,null,{"$f":"IF(Input_Output!CY211=\"\",T(Input_Output!CZ211),\"\")","v":""},null,null,{"$f":"IF(Input_Output!DB211=\"\",T(Input_Output!DC211),\"\")","v":""},null,null,{"$f":"IF(Input_Output!DE211=\"\",T(Input_Output!DF211),\"\")","v":""},null,null,{"$f":"IF(Input_Output!DH211=\"\",T(Input_Output!DI211),\"\")","v":""},null,null,{"$f":"IF(Input_Output!DK211=\"\",T(Input_Output!DL211),\"\")","v":""},null,null,{"$f":"IF(Input_Output!DN211=\"\",T(Input_Output!DO211),\"\")","v":""},null,null,{"$f":"IF(Input_Output!DQ211=\"\",T(Input_Output!DR211),\"\")","v":""},null,null,{"$f":"IF(Input_Output!DT211=\"\",T(Input_Output!DU211),\"\")","v":""},null,null,{"$f":"IF(Input_Output!DW211=\"\",T(Input_Output!DX211),\"\")","v":""},null,null,{"$f":"IF(Input_Output!DZ211=\"\",T(Input_Output!EA211),\"\")","v":""},null,null,{"$f":"IF(Input_Output!EC211=\"\",T(Input_Output!ED211),\"\")","v":""},null,null,{"$f":"IF(Input_Output!EF211=\"\",T(Input_Output!EG211),\"\")","v":""},null,null,{"$f":"IF(Input_Output!EI211=\"\",T(Input_Output!EJ211),\"\")","v":""},null,null,{"$f":"IF(Input_Output!EL211=\"\",T(Input_Output!EM211),\"\")","v":""},null,null,{"$f":"IF(Input_Output!EO211=\"\",T(Input_Output!EP211),\"\")","v":""},null,null,{"$f":"IF(Input_Output!ER211=\"\",T(Input_Output!ES211),\"\")","v":""},null,null,{"$f":"IF(Input_Output!EU211=\"\",T(Input_Output!EV211),\"\")","v":""},null,null,{"$f":"IF(Input_Output!EX211=\"\",T(Input_Output!EY211),\"\")","v":""},null,null,{"$f":"IF(Input_Output!FA211=\"\",T(Input_Output!FB211),\"\")","v":""},null,null,{"$f":"IF(Input_Output!FD211=\"\",T(Input_Output!FE211),\"\")","v":""},null,null,{"$f":"IF(Input_Output!FG211=\"\",T(Input_Output!FH211),\"\")","v":""},null,null,{"$f":"IF(Input_Output!FJ211=\"\",T(Input_Output!FK211),\"\")","v":""},null,null,{"$f":"IF(Input_Output!FM211=\"\",T(Input_Output!FN211),\"\")","v":""},null,null,{"$f":"IF(Input_Output!FP211=\"\",T(Input_Output!FQ211),\"\")","v":""},null,null,{"$f":"IF(Input_Output!FS211=\"\",T(Input_Output!FT211),\"\")","v":""},null,null,{"$f":"IF(Input_Output!FV211=\"\",T(Input_Output!FW211),\"\")","v":""},null,null,{"$f":"IF(Input_Output!FY211=\"\",T(Input_Output!FZ211),\"\")","v":""},null,null,{"$f":"IF(Input_Output!GB211=\"\",T(Input_Output!GC211),\"\")","v":""},null,null,{"$f":"IF(Input_Output!GE211=\"\",T(Input_Output!GF211),\"\")","v":""},null,null,{"$f":"IF(Input_Output!GH211=\"\",T(Input_Output!GI211),\"\")","v":""},null,null,{"$f":"IF(Input_Output!GK211=\"\",T(Input_Output!GL211),\"\")","v":""},null,null,{"$f":"IF(Input_Output!GN211=\"\",T(Input_Output!GO211),\"\")","v":""},null,null,{"$f":"IF(Input_Output!GQ211=\"\",T(Input_Output!GR211),\"\")","v":""},null,null,{"$f":"IF(Input_Output!GT211=\"\",T(Input_Output!GU211),\"\")","v":""},null,null,{"$f":"IF(Input_Output!GW211=\"\",T(Input_Output!GX211),\"\")","v":""},null,null,{"$f":"IF(Input_Output!GZ211=\"\",T(Input_Output!HA211),\"\")","v":""},null,null,{"$f":"IF(Input_Output!HC211=\"\",T(Input_Output!HD211),\"\")","v":""},null,null,{"$f":"IF(Input_Output!HF211=\"\",T(Input_Output!HG211),\"\")","v":""},null,null,{"$f":"IF(Input_Output!HI211=\"\",T(Input_Output!HJ211),\"\")","v":""},null,null,{"$f":"IF(Input_Output!HL211=\"\",T(Input_Output!HM211),\"\")","v":""},null,null,{"$f":"IF(Input_Output!HO211=\"\",T(Input_Output!HP211),\"\")","v":""},null,null,{"$f":"IF(Input_Output!HR211=\"\",T(Input_Output!HS211),\"\")","v":""},null,null,{"$f":"IF(Input_Output!HU211=\"\",T(Input_Output!HV211),\"\")","v":""},null,null,{"$f":"IF(Input_Output!HX211=\"\",T(Input_Output!HY211),\"\")","v":""},null,null,{"$f":"IF(Input_Output!IA211=\"\",T(Input_Output!IB211),\"\")","v":""},null,null,{"$f":"IF(Input_Output!ID211=\"\",T(Input_Output!IE211),\"\")","v":""},null,null,{"$f":"IF(Input_Output!IG211=\"\",T(Input_Output!IH211),\"\")","v":""},null,null,{"$f":"IF(Input_Output!IJ211=\"\",T(Input_Output!IK211),\"\")","v":""},null,null,{"$f":"IF(Input_Output!IM211=\"\",T(Input_Output!IN211),\"\")","v":""},null,null,{"$f":"IF(Input_Output!IP211=\"\",T(Input_Output!IQ211),\"\")","v":""},null,null,{"$f":"IF(Input_Output!IS211=\"\",T(Input_Output!IT211),\"\")","v":""}]
[null,null,null,null,{"$f":"IF(Input_Output!D212=\"\",T(Input_Output!E212),\"\")","v":""},null,null,{"$f":"IF(Input_Output!G212=\"\",T(Input_Output!H212),\"\")","v":""},null,null,{"$f":"IF(Input_Output!J212=\"\",T(Input_Output!K212),\"\")","v":""},null,null,{"$f":"IF(Input_Output!M212=\"\",T(Input_Output!N212),\"\")","v":""},null,null,{"$f":"IF(Input_Output!P212=\"\",T(Input_Output!Q212),\"\")","v":""},null,null,{"$f":"IF(Input_Output!S212=\"\",T(Input_Output!T212),\"\")","v":""},null,null,{"$f":"IF(Input_Output!V212=\"\",T(Input_Output!W212),\"\")","v":""},null,null,{"$f":"IF(Input_Output!Y212=\"\",T(Input_Output!Z212),\"\")","v":""},null,null,{"$f":"IF(Input_Output!AB212=\"\",T(Input_Output!AC212),\"\")","v":""},null,null,{"$f":"IF(Input_Output!AE212=\"\",T(Input_Output!AF212),\"\")","v":""},null,null,{"$f":"IF(Input_Output!AH212=\"\",T(Input_Output!AI212),\"\")","v":""},null,null,{"$f":"IF(Input_Output!AK212=\"\",T(Input_Output!AL212),\"\")","v":""},null,null,{"$f":"IF(Input_Output!AN212=\"\",T(Input_Output!AO212),\"\")","v":""},null,null,{"$f":"IF(Input_Output!AQ212=\"\",T(Input_Output!AR212),\"\")","v":""},null,null,{"$f":"IF(Input_Output!AT212=\"\",T(Input_Output!AU212),\"\")","v":""},null,null,{"$f":"IF(Input_Output!AW212=\"\",T(Input_Output!AX212),\"\")","v":""},null,null,{"$f":"IF(Input_Output!AZ212=\"\",T(Input_Output!BA212),\"\")","v":""},null,null,{"$f":"IF(Input_Output!BC212=\"\",T(Input_Output!BD212),\"\")","v":""},null,null,{"$f":"IF(Input_Output!BF212=\"\",T(Input_Output!BG212),\"\")","v":""},null,null,{"$f":"IF(Input_Output!BI212=\"\",T(Input_Output!BJ212),\"\")","v":""},null,null,{"$f":"IF(Input_Output!BL212=\"\",T(Input_Output!BM212),\"\")","v":""},null,null,{"$f":"IF(Input_Output!BO212=\"\",T(Input_Output!BP212),\"\")","v":""},null,null,{"$f":"IF(Input_Output!BR212=\"\",T(Input_Output!BS212),\"\")","v":""},null,null,{"$f":"IF(Input_Output!BU212=\"\",T(Input_Output!BV212),\"\")","v":""},null,null,{"$f":"IF(Input_Output!BX212=\"\",T(Input_Output!BY212),\"\")","v":""},null,null,{"$f":"IF(Input_Output!CA212=\"\",T(Input_Output!CB212),\"\")","v":""},null,null,{"$f":"IF(Input_Output!CD212=\"\",T(Input_Output!CE212),\"\")","v":""},null,null,{"$f":"IF(Input_Output!CG212=\"\",T(Input_Output!CH212),\"\")","v":""},null,null,{"$f":"IF(Input_Output!CJ212=\"\",T(Input_Output!CK212),\"\")","v":""},null,null,{"$f":"IF(Input_Output!CM212=\"\",T(Input_Output!CN212),\"\")","v":""},null,null,{"$f":"IF(Input_Output!CP212=\"\",T(Input_Output!CQ212),\"\")","v":""},null,null,{"$f":"IF(Input_Output!CS212=\"\",T(Input_Output!CT212),\"\")","v":""},null,null,{"$f":"IF(Input_Output!CV212=\"\",T(Input_Output!CW212),\"\")","v":""},null,null,{"$f":"IF(Input_Output!CY212=\"\",T(Input_Output!CZ212),\"\")","v":""},null,null,{"$f":"IF(Input_Output!DB212=\"\",T(Input_Output!DC212),\"\")","v":""},null,null,{"$f":"IF(Input_Output!DE212=\"\",T(Input_Output!DF212),\"\")","v":""},null,null,{"$f":"IF(Input_Output!DH212=\"\",T(Input_Output!DI212),\"\")","v":""},null,null,{"$f":"IF(Input_Output!DK212=\"\",T(Input_Output!DL212),\"\")","v":""},null,null,{"$f":"IF(Input_Output!DN212=\"\",T(Input_Output!DO212),\"\")","v":""},null,null,{"$f":"IF(Input_Output!DQ212=\"\",T(Input_Output!DR212),\"\")","v":""},null,null,{"$f":"IF(Input_Output!DT212=\"\",T(Input_Output!DU212),\"\")","v":""},null,null,{"$f":"IF(Input_Output!DW212=\"\",T(Input_Output!DX212),\"\")","v":""},null,null,{"$f":"IF(Input_Output!DZ212=\"\",T(Input_Output!EA212),\"\")","v":""},null,null,{"$f":"IF(Input_Output!EC212=\"\",T(Input_Output!ED212),\"\")","v":""},null,null,{"$f":"IF(Input_Output!EF212=\"\",T(Input_Output!EG212),\"\")","v":""},null,null,{"$f":"IF(Input_Output!EI212=\"\",T(Input_Output!EJ212),\"\")","v":""},null,null,{"$f":"IF(Input_Output!EL212=\"\",T(Input_Output!EM212),\"\")","v":""},null,null,{"$f":"IF(Input_Output!EO212=\"\",T(Input_Output!EP212),\"\")","v":""},null,null,{"$f":"IF(Input_Output!ER212=\"\",T(Input_Output!ES212),\"\")","v":""},null,null,{"$f":"IF(Input_Output!EU212=\"\",T(Input_Output!EV212),\"\")","v":""},null,null,{"$f":"IF(Input_Output!EX212=\"\",T(Input_Output!EY212),\"\")","v":""},null,null,{"$f":"IF(Input_Output!FA212=\"\",T(Input_Output!FB212),\"\")","v":""},null,null,{"$f":"IF(Input_Output!FD212=\"\",T(Input_Output!FE212),\"\")","v":""},null,null,{"$f":"IF(Input_Output!FG212=\"\",T(Input_Output!FH212),\"\")","v":""},null,null,{"$f":"IF(Input_Output!FJ212=\"\",T(Input_Output!FK212),\"\")","v":""},null,null,{"$f":"IF(Input_Output!FM212=\"\",T(Input_Output!FN212),\"\")","v":""},null,null,{"$f":"IF(Input_Output!FP212=\"\",T(Input_Output!FQ212),\"\")","v":""},null,null,{"$f":"IF(Input_Output!FS212=\"\",T(Input_Output!FT212),\"\")","v":""},null,null,{"$f":"IF(Input_Output!FV212=\"\",T(Input_Output!FW212),\"\")","v":""},null,null,{"$f":"IF(Input_Output!FY212=\"\",T(Input_Output!FZ212),\"\")","v":""},null,null,{"$f":"IF(Input_Output!GB212=\"\",T(Input_Output!GC212),\"\")","v":""},null,null,{"$f":"IF(Input_Output!GE212=\"\",T(Input_Output!GF212),\"\")","v":""},null,null,{"$f":"IF(Input_Output!GH212=\"\",T(Input_Output!GI212),\"\")","v":""},null,null,{"$f":"IF(Input_Output!GK212=\"\",T(Input_Output!GL212),\"\")","v":""},null,null,{"$f":"IF(Input_Output!GN212=\"\",T(Input_Output!GO212),\"\")","v":""},null,null,{"$f":"IF(Input_Output!GQ212=\"\",T(Input_Output!GR212),\"\")","v":""},null,null,{"$f":"IF(Input_Output!GT212=\"\",T(Input_Output!GU212),\"\")","v":""},null,null,{"$f":"IF(Input_Output!GW212=\"\",T(Input_Output!GX212),\"\")","v":""},null,null,{"$f":"IF(Input_Output!GZ212=\"\",T(Input_Output!HA212),\"\")","v":""},null,null,{"$f":"IF(Input_Output!HC212=\"\",T(Input_Output!HD212),\"\")","v":""},null,null,{"$f":"IF(Input_Output!HF212=\"\",T(Input_Output!HG212),\"\")","v":""},null,null,{"$f":"IF(Input_Output!HI212=\"\",T(Input_Output!HJ212),\"\")","v":""},null,null,{"$f":"IF(Input_Output!HL212=\"\",T(Input_Output!HM212),\"\")","v":""},null,null,{"$f":"IF(Input_Output!HO212=\"\",T(Input_Output!HP212),\"\")","v":""},null,null,{"$f":"IF(Input_Output!HR212=\"\",T(Input_Output!HS212),\"\")","v":""},null,null,{"$f":"IF(Input_Output!HU212=\"\",T(Input_Output!HV212),\"\")","v":""},null,null,{"$f":"IF(Input_Output!HX212=\"\",T(Input_Output!HY212),\"\")","v":""},null,null,{"$f":"IF(Input_Output!IA212=\"\",T(Input_Output!IB212),\"\")","v":""},null,null,{"$f":"IF(Input_Output!ID212=\"\",T(Input_Output!IE212),\"\")","v":""},null,null,{"$f":"IF(Input_Output!IG212=\"\",T(Input_Output!IH212),\"\")","v":""},null,null,{"$f":"IF(Input_Output!IJ212=\"\",T(Input_Output!IK212),\"\")","v":""},null,null,{"$f":"IF(Input_Output!IM212=\"\",T(Input_Output!IN212),\"\")","v":""},null,null,{"$f":"IF(Input_Output!IP212=\"\",T(Input_Output!IQ212),\"\")","v":""},null,null,{"$f":"IF(Input_Output!IS212=\"\",T(Input_Output!IT212),\"\")","v":""}]
[null,null,null,null,{"$f":"IF(Input_Output!D213=\"\",T(Input_Output!E213),\"\")","v":""},null,null,{"$f":"IF(Input_Output!G213=\"\",T(Input_Output!H213),\"\")","v":""},null,null,{"$f":"IF(Input_Output!J213=\"\",T(Input_Output!K213),\"\")","v":""},null,null,{"$f":"IF(Input_Output!M213=\"\",T(Input_Output!N213),\"\")","v":""},null,null,{"$f":"IF(Input_Output!P213=\"\",T(Input_Output!Q213),\"\")","v":""},null,null,{"$f":"IF(Input_Output!S213=\"\",T(Input_Output!T213),\"\")","v":""},null,null,{"$f":"IF(Input_Output!V213=\"\",T(Input_Output!W213),\"\")","v":""},null,null,{"$f":"IF(Input_Output!Y213=\"\",T(Input_Output!Z213),\"\")","v":""},null,null,{"$f":"IF(Input_Output!AB213=\"\",T(Input_Output!AC213),\"\")","v":""},null,null,{"$f":"IF(Input_Output!AE213=\"\",T(Input_Output!AF213),\"\")","v":""},null,null,{"$f":"IF(Input_Output!AH213=\"\",T(Input_Output!AI213),\"\")","v":""},null,null,{"$f":"IF(Input_Output!AK213=\"\",T(Input_Output!AL213),\"\")","v":""},null,null,{"$f":"IF(Input_Output!AN213=\"\",T(Input_Output!AO213),\"\")","v":""},null,null,{"$f":"IF(Input_Output!AQ213=\"\",T(Input_Output!AR213),\"\")","v":""},null,null,{"$f":"IF(Input_Output!AT213=\"\",T(Input_Output!AU213),\"\")","v":""},null,null,{"$f":"IF(Input_Output!AW213=\"\",T(Input_Output!AX213),\"\")","v":""},null,null,{"$f":"IF(Input_Output!AZ213=\"\",T(Input_Output!BA213),\"\")","v":""},null,null,{"$f":"IF(Input_Output!BC213=\"\",T(Input_Output!BD213),\"\")","v":""},null,null,{"$f":"IF(Input_Output!BF213=\"\",T(Input_Output!BG213),\"\")","v":""},null,null,{"$f":"IF(Input_Output!BI213=\"\",T(Input_Output!BJ213),\"\")","v":""},null,null,{"$f":"IF(Input_Output!BL213=\"\",T(Input_Output!BM213),\"\")","v":""},null,null,{"$f":"IF(Input_Output!BO213=\"\",T(Input_Output!BP213),\"\")","v":""},null,null,{"$f":"IF(Input_Output!BR213=\"\",T(Input_Output!BS213),\"\")","v":""},null,null,{"$f":"IF(Input_Output!BU213=\"\",T(Input_Output!BV213),\"\")","v":""},null,null,{"$f":"IF(Input_Output!BX213=\"\",T(Input_Output!BY213),\"\")","v":""},null,null,{"$f":"IF(Input_Output!CA213=\"\",T(Input_Output!CB213),\"\")","v":""},null,null,{"$f":"IF(Input_Output!CD213=\"\",T(Input_Output!CE213),\"\")","v":""},null,null,{"$f":"IF(Input_Output!CG213=\"\",T(Input_Output!CH213),\"\")","v":""},null,null,{"$f":"IF(Input_Output!CJ213=\"\",T(Input_Output!CK213),\"\")","v":""},null,null,{"$f":"IF(Input_Output!CM213=\"\",T(Input_Output!CN213),\"\")","v":""},null,null,{"$f":"IF(Input_Output!CP213=\"\",T(Input_Output!CQ213),\"\")","v":""},null,null,{"$f":"IF(Input_Output!CS213=\"\",T(Input_Output!CT213),\"\")","v":""},null,null,{"$f":"IF(Input_Output!CV213=\"\",T(Input_Output!CW213),\"\")","v":""},null,null,{"$f":"IF(Input_Output!CY213=\"\",T(Input_Output!CZ213),\"\")","v":""},null,null,{"$f":"IF(Input_Output!DB213=\"\",T(Input_Output!DC213),\"\")","v":""},null,null,{"$f":"IF(Input_Output!DE213=\"\",T(Input_Output!DF213),\"\")","v":""},null,null,{"$f":"IF(Input_Output!DH213=\"\",T(Input_Output!DI213),\"\")","v":""},null,null,{"$f":"IF(Input_Output!DK213=\"\",T(Input_Output!DL213),\"\")","v":""},null,null,{"$f":"IF(Input_Output!DN213=\"\",T(Input_Output!DO213),\"\")","v":""},null,null,{"$f":"IF(Input_Output!DQ213=\"\",T(Input_Output!DR213),\"\")","v":""},null,null,{"$f":"IF(Input_Output!DT213=\"\",T(Input_Output!DU213),\"\")","v":""},null,null,{"$f":"IF(Input_Output!DW213=\"\",T(Input_Output!DX213),\"\")","v":""},null,null,{"$f":"IF(Input_Output!DZ213=\"\",T(Input_Output!EA213),\"\")","v":""},null,null,{"$f":"IF(Input_Output!EC213=\"\",T(Input_Output!ED213),\"\")","v":""},null,null,{"$f":"IF(Input_Output!EF213=\"\",T(Input_Output!EG213),\"\")","v":""},null,null,{"$f":"IF(Input_Output!EI213=\"\",T(Input_Output!EJ213),\"\")","v":""},null,null,{"$f":"IF(Input_Output!EL213=\"\",T(Input_Output!EM213),\"\")","v":""},null,null,{"$f":"IF(Input_Output!EO213=\"\",T(Input_Output!EP213),\"\")","v":""},null,null,{"$f":"IF(Input_Output!ER213=\"\",T(Input_Output!ES213),\"\")","v":""},null,null,{"$f":"IF(Input_Output!EU213=\"\",T(Input_Output!EV213),\"\")","v":""},null,null,{"$f":"IF(Input_Output!EX213=\"\",T(Input_Output!EY213),\"\")","v":""},null,null,{"$f":"IF(Input_Output!FA213=\"\",T(Input_Output!FB213),\"\")","v":""},null,null,{"$f":"IF(Input_Output!FD213=\"\",T(Input_Output!FE213),\"\")","v":""},null,null,{"$f":"IF(Input_Output!FG213=\"\",T(Input_Output!FH213),\"\")","v":""},null,null,{"$f":"IF(Input_Output!FJ213=\"\",T(Input_Output!FK213),\"\")","v":""},null,null,{"$f":"IF(Input_Output!FM213=\"\",T(Input_Output!FN213),\"\")","v":""},null,null,{"$f":"IF(Input_Output!FP213=\"\",T(Input_Output!FQ213),\"\")","v":""},null,null,{"$f":"IF(Input_Output!FS213=\"\",T(Input_Output!FT213),\"\")","v":""},null,null,{"$f":"IF(Input_Output!FV213=\"\",T(Input_Output!FW213),\"\")","v":""},null,null,{"$f":"IF(Input_Output!FY213=\"\",T(Input_Output!FZ213),\"\")","v":""},null,null,{"$f":"IF(Input_Output!GB213=\"\",T(Input_Output!GC213),\"\")","v":""},null,null,{"$f":"IF(Input_Output!GE213=\"\",T(Input_Output!GF213),\"\")","v":""},null,null,{"$f":"IF(Input_Output!GH213=\"\",T(Input_Output!GI213),\"\")","v":""},null,null,{"$f":"IF(Input_Output!GK213=\"\",T(Input_Output!GL213),\"\")","v":""},null,null,{"$f":"IF(Input_Output!GN213=\"\",T(Input_Output!GO213),\"\")","v":""},null,null,{"$f":"IF(Input_Output!GQ213=\"\",T(Input_Output!GR213),\"\")","v":""},null,null,{"$f":"IF(Input_Output!GT213=\"\",T(Input_Output!GU213),\"\")","v":""},null,null,{"$f":"IF(Input_Output!GW213=\"\",T(Input_Output!GX213),\"\")","v":""},null,null,{"$f":"IF(Input_Output!GZ213=\"\",T(Input_Output!HA213),\"\")","v":""},null,null,{"$f":"IF(Input_Output!HC213=\"\",T(Input_Output!HD213),\"\")","v":""},null,null,{"$f":"IF(Input_Output!HF213=\"\",T(Input_Output!HG213),\"\")","v":""},null,null,{"$f":"IF(Input_Output!HI213=\"\",T(Input_Output!HJ213),\"\")","v":""},null,null,{"$f":"IF(Input_Output!HL213=\"\",T(Input_Output!HM213),\"\")","v":""},null,null,{"$f":"IF(Input_Output!HO213=\"\",T(Input_Output!HP213),\"\")","v":""},null,null,{"$f":"IF(Input_Output!HR213=\"\",T(Input_Output!HS213),\"\")","v":""},null,null,{"$f":"IF(Input_Output!HU213=\"\",T(Input_Output!HV213),\"\")","v":""},null,null,{"$f":"IF(Input_Output!HX213=\"\",T(Input_Output!HY213),\"\")","v":""},null,null,{"$f":"IF(Input_Output!IA213=\"\",T(Input_Output!IB213),\"\")","v":""},null,null,{"$f":"IF(Input_Output!ID213=\"\",T(Input_Output!IE213),\"\")","v":""},null,null,{"$f":"IF(Input_Output!IG213=\"\",T(Input_Output!IH213),\"\")","v":""},null,null,{"$f":"IF(Input_Output!IJ213=\"\",T(Input_Output!IK213),\"\")","v":""},null,null,{"$f":"IF(Input_Output!IM213=\"\",T(Input_Output!IN213),\"\")","v":""},null,null,{"$f":"IF(Input_Output!IP213=\"\",T(Input_Output!IQ213),\"\")","v":""},null,null,{"$f":"IF(Input_Output!IS213=\"\",T(Input_Output!IT213),\"\")","v":""}]
[null,null,null,null,{"$f":"IF(Input_Output!D214=\"\",T(Input_Output!E214),\"\")","v":""},null,null,{"$f":"IF(Input_Output!G214=\"\",T(Input_Output!H214),\"\")","v":""},null,null,{"$f":"IF(Input_Output!J214=\"\",T(Input_Output!K214),\"\")","v":""},null,null,{"$f":"IF(Input_Output!M214=\"\",T(Input_Output!N214),\"\")","v":""},null,null,{"$f":"IF(Input_Output!P214=\"\",T(Input_Output!Q214),\"\")","v":""},null,null,{"$f":"IF(Input_Output!S214=\"\",T(Input_Output!T214),\"\")","v":""},null,null,{"$f":"IF(Input_Output!V214=\"\",T(Input_Output!W214),\"\")","v":""},null,null,{"$f":"IF(Input_Output!Y214=\"\",T(Input_Output!Z214),\"\")","v":""},null,null,{"$f":"IF(Input_Output!AB214=\"\",T(Input_Output!AC214),\"\")","v":""},null,null,{"$f":"IF(Input_Output!AE214=\"\",T(Input_Output!AF214),\"\")","v":""},null,null,{"$f":"IF(Input_Output!AH214=\"\",T(Input_Output!AI214),\"\")","v":""},null,null,{"$f":"IF(Input_Output!AK214=\"\",T(Input_Output!AL214),\"\")","v":""},null,null,{"$f":"IF(Input_Output!AN214=\"\",T(Input_Output!AO214),\"\")","v":""},null,null,{"$f":"IF(Input_Output!AQ214=\"\",T(Input_Output!AR214),\"\")","v":""},null,null,{"$f":"IF(Input_Output!AT214=\"\",T(Input_Output!AU214),\"\")","v":""},null,null,{"$f":"IF(Input_Output!AW214=\"\",T(Input_Output!AX214),\"\")","v":""},null,null,{"$f":"IF(Input_Output!AZ214=\"\",T(Input_Output!BA214),\"\")","v":""},null,null,{"$f":"IF(Input_Output!BC214=\"\",T(Input_Output!BD214),\"\")","v":""},null,null,{"$f":"IF(Input_Output!BF214=\"\",T(Input_Output!BG214),\"\")","v":""},null,null,{"$f":"IF(Input_Output!BI214=\"\",T(Input_Output!BJ214),\"\")","v":""},null,null,{"$f":"IF(Input_Output!BL214=\"\",T(Input_Output!BM214),\"\")","v":""},null,null,{"$f":"IF(Input_Output!BO214=\"\",T(Input_Output!BP214),\"\")","v":""},null,null,{"$f":"IF(Input_Output!BR214=\"\",T(Input_Output!BS214),\"\")","v":""},null,null,{"$f":"IF(Input_Output!BU214=\"\",T(Input_Output!BV214),\"\")","v":""},null,null,{"$f":"IF(Input_Output!BX214=\"\",T(Input_Output!BY214),\"\")","v":""},null,null,{"$f":"IF(Input_Output!CA214=\"\",T(Input_Output!CB214),\"\")","v":""},null,null,{"$f":"IF(Input_Output!CD214=\"\",T(Input_Output!CE214),\"\")","v":""},null,null,{"$f":"IF(Input_Output!CG214=\"\",T(Input_Output!CH214),\"\")","v":""},null,null,{"$f":"IF(Input_Output!CJ214=\"\",T(Input_Output!CK214),\"\")","v":""},null,null,{"$f":"IF(Input_Output!CM214=\"\",T(Input_Output!CN214),\"\")","v":""},null,null,{"$f":"IF(Input_Output!CP214=\"\",T(Input_Output!CQ214),\"\")","v":""},null,null,{"$f":"IF(Input_Output!CS214=\"\",T(Input_Output!CT214),\"\")","v":""},null,null,{"$f":"IF(Input_Output!CV214=\"\",T(Input_Output!CW214),\"\")","v":""},null,null,{"$f":"IF(Input_Output!CY214=\"\",T(Input_Output!CZ214),\"\")","v":""},null,null,{"$f":"IF(Input_Output!DB214=\"\",T(Input_Output!DC214),\"\")","v":""},null,null,{"$f":"IF(Input_Output!DE214=\"\",T(Input_Output!DF214),\"\")","v":""},null,null,{"$f":"IF(Input_Output!DH214=\"\",T(Input_Output!DI214),\"\")","v":""},null,null,{"$f":"IF(Input_Output!DK214=\"\",T(Input_Output!DL214),\"\")","v":""},null,null,{"$f":"IF(Input_Output!DN214=\"\",T(Input_Output!DO214),\"\")","v":""},null,null,{"$f":"IF(Input_Output!DQ214=\"\",T(Input_Output!DR214),\"\")","v":""},null,null,{"$f":"IF(Input_Output!DT214=\"\",T(Input_Output!DU214),\"\")","v":""},null,null,{"$f":"IF(Input_Output!DW214=\"\",T(Input_Output!DX214),\"\")","v":""},null,null,{"$f":"IF(Input_Output!DZ214=\"\",T(Input_Output!EA214),\"\")","v":""},null,null,{"$f":"IF(Input_Output!EC214=\"\",T(Input_Output!ED214),\"\")","v":""},null,null,{"$f":"IF(Input_Output!EF214=\"\",T(Input_Output!EG214),\"\")","v":""},null,null,{"$f":"IF(Input_Output!EI214=\"\",T(Input_Output!EJ214),\"\")","v":""},null,null,{"$f":"IF(Input_Output!EL214=\"\",T(Input_Output!EM214),\"\")","v":""},null,null,{"$f":"IF(Input_Output!EO214=\"\",T(Input_Output!EP214),\"\")","v":""},null,null,{"$f":"IF(Input_Output!ER214=\"\",T(Input_Output!ES214),\"\")","v":""},null,null,{"$f":"IF(Input_Output!EU214=\"\",T(Input_Output!EV214),\"\")","v":""},null,null,{"$f":"IF(Input_Output!EX214=\"\",T(Input_Output!EY214),\"\")","v":""},null,null,{"$f":"IF(Input_Output!FA214=\"\",T(Input_Output!FB214),\"\")","v":""},null,null,{"$f":"IF(Input_Output!FD214=\"\",T(Input_Output!FE214),\"\")","v":""},null,null,{"$f":"IF(Input_Output!FG214=\"\",T(Input_Output!FH214),\"\")","v":""},null,null,{"$f":"IF(Input_Output!FJ214=\"\",T(Input_Output!FK214),\"\")","v":""},null,null,{"$f":"IF(Input_Output!FM214=\"\",T(Input_Output!FN214),\"\")","v":""},null,null,{"$f":"IF(Input_Output!FP214=\"\",T(Input_Output!FQ214),\"\")","v":""},null,null,{"$f":"IF(Input_Output!FS214=\"\",T(Input_Output!FT214),\"\")","v":""},null,null,{"$f":"IF(Input_Output!FV214=\"\",T(Input_Output!FW214),\"\")","v":""},null,null,{"$f":"IF(Input_Output!FY214=\"\",T(Input_Output!FZ214),\"\")","v":""},null,null,{"$f":"IF(Input_Output!GB214=\"\",T(Input_Output!GC214),\"\")","v":""},null,null,{"$f":"IF(Input_Output!GE214=\"\",T(Input_Output!GF214),\"\")","v":""},null,null,{"$f":"IF(Input_Output!GH214=\"\",T(Input_Output!GI214),\"\")","v":""},null,null,{"$f":"IF(Input_Output!GK214=\"\",T(Input_Output!GL214),\"\")","v":""},null,null,{"$f":"IF(Input_Output!GN214=\"\",T(Input_Output!GO214),\"\")","v":""},null,null,{"$f":"IF(Input_Output!GQ214=\"\",T(Input_Output!GR214),\"\")","v":""},null,null,{"$f":"IF(Input_Output!GT214=\"\",T(Input_Output!GU214),\"\")","v":""},null,null,{"$f":"IF(Input_Output!GW214=\"\",T(Input_Output!GX214),\"\")","v":""},null,null,{"$f":"IF(Input_Output!GZ214=\"\",T(Input_Output!HA214),\"\")","v":""},null,null,{"$f":"IF(Input_Output!HC214=\"\",T(Input_Output!HD214),\"\")","v":""},null,null,{"$f":"IF(Input_Output!HF214=\"\",T(Input_Output!HG214),\"\")","v":""},null,null,{"$f":"IF(Input_Output!HI214=\"\",T(Input_Output!HJ214),\"\")","v":""},null,null,{"$f":"IF(Input_Output!HL214=\"\",T(Input_Output!HM214),\"\")","v":""},null,null,{"$f":"IF(Input_Output!HO214=\"\",T(Input_Output!HP214),\"\")","v":""},null,null,{"$f":"IF(Input_Output!HR214=\"\",T(Input_Output!HS214),\"\")","v":""},null,null,{"$f":"IF(Input_Output!HU214=\"\",T(Input_Output!HV214),\"\")","v":""},null,null,{"$f":"IF(Input_Output!HX214=\"\",T(Input_Output!HY214),\"\")","v":""},null,null,{"$f":"IF(Input_Output!IA214=\"\",T(Input_Output!IB214),\"\")","v":""},null,null,{"$f":"IF(Input_Output!ID214=\"\",T(Input_Output!IE214),\"\")","v":""},null,null,{"$f":"IF(Input_Output!IG214=\"\",T(Input_Output!IH214),\"\")","v":""},null,null,{"$f":"IF(Input_Output!IJ214=\"\",T(Input_Output!IK214),\"\")","v":""},null,null,{"$f":"IF(Input_Output!IM214=\"\",T(Input_Output!IN214),\"\")","v":""},null,null,{"$f":"IF(Input_Output!IP214=\"\",T(Input_Output!IQ214),\"\")","v":""},null,null,{"$f":"IF(Input_Output!IS214=\"\",T(Input_Output!IT214),\"\")","v":""}]
[null,null,null,null,{"$f":"IF(Input_Output!D215=\"\",T(Input_Output!E215),\"\")","v":""},null,null,{"$f":"IF(Input_Output!G215=\"\",T(Input_Output!H215),\"\")","v":""},null,null,{"$f":"IF(Input_Output!J215=\"\",T(Input_Output!K215),\"\")","v":""},null,null,{"$f":"IF(Input_Output!M215=\"\",T(Input_Output!N215),\"\")","v":""},null,null,{"$f":"IF(Input_Output!P215=\"\",T(Input_Output!Q215),\"\")","v":""},null,null,{"$f":"IF(Input_Output!S215=\"\",T(Input_Output!T215),\"\")","v":""},null,null,{"$f":"IF(Input_Output!V215=\"\",T(Input_Output!W215),\"\")","v":""},null,null,{"$f":"IF(Input_Output!Y215=\"\",T(Input_Output!Z215),\"\")","v":""},null,null,{"$f":"IF(Input_Output!AB215=\"\",T(Input_Output!AC215),\"\")","v":""},null,null,{"$f":"IF(Input_Output!AE215=\"\",T(Input_Output!AF215),\"\")","v":""},null,null,{"$f":"IF(Input_Output!AH215=\"\",T(Input_Output!AI215),\"\")","v":""},null,null,{"$f":"IF(Input_Output!AK215=\"\",T(Input_Output!AL215),\"\")","v":""},null,null,{"$f":"IF(Input_Output!AN215=\"\",T(Input_Output!AO215),\"\")","v":""},null,null,{"$f":"IF(Input_Output!AQ215=\"\",T(Input_Output!AR215),\"\")","v":""},null,null,{"$f":"IF(Input_Output!AT215=\"\",T(Input_Output!AU215),\"\")","v":""},null,null,{"$f":"IF(Input_Output!AW215=\"\",T(Input_Output!AX215),\"\")","v":""},null,null,{"$f":"IF(Input_Output!AZ215=\"\",T(Input_Output!BA215),\"\")","v":""},null,null,{"$f":"IF(Input_Output!BC215=\"\",T(Input_Output!BD215),\"\")","v":""},null,null,{"$f":"IF(Input_Output!BF215=\"\",T(Input_Output!BG215),\"\")","v":""},null,null,{"$f":"IF(Input_Output!BI215=\"\",T(Input_Output!BJ215),\"\")","v":""},null,null,{"$f":"IF(Input_Output!BL215=\"\",T(Input_Output!BM215),\"\")","v":""},null,null,{"$f":"IF(Input_Output!BO215=\"\",T(Input_Output!BP215),\"\")","v":""},null,null,{"$f":"IF(Input_Output!BR215=\"\",T(Input_Output!BS215),\"\")","v":""},null,null,{"$f":"IF(Input_Output!BU215=\"\",T(Input_Output!BV215),\"\")","v":""},null,null,{"$f":"IF(Input_Output!BX215=\"\",T(Input_Output!BY215),\"\")","v":""},null,null,{"$f":"IF(Input_Output!CA215=\"\",T(Input_Output!CB215),\"\")","v":""},null,null,{"$f":"IF(Input_Output!CD215=\"\",T(Input_Output!CE215),\"\")","v":""},null,null,{"$f":"IF(Input_Output!CG215=\"\",T(Input_Output!CH215),\"\")","v":""},null,null,{"$f":"IF(Input_Output!CJ215=\"\",T(Input_Output!CK215),\"\")","v":""},null,null,{"$f":"IF(Input_Output!CM215=\"\",T(Input_Output!CN215),\"\")","v":""},null,null,{"$f":"IF(Input_Output!CP215=\"\",T(Input_Output!CQ215),\"\")","v":""},null,null,{"$f":"IF(Input_Output!CS215=\"\",T(Input_Output!CT215),\"\")","v":""},null,null,{"$f":"IF(Input_Output!CV215=\"\",T(Input_Output!CW215),\"\")","v":""},null,null,{"$f":"IF(Input_Output!CY215=\"\",T(Input_Output!CZ215),\"\")","v":""},null,null,{"$f":"IF(Input_Output!DB215=\"\",T(Input_Output!DC215),\"\")","v":""},null,null,{"$f":"IF(Input_Output!DE215=\"\",T(Input_Output!DF215),\"\")","v":""},null,null,{"$f":"IF(Input_Output!DH215=\"\",T(Input_Output!DI215),\"\")","v":""},null,null,{"$f":"IF(Input_Output!DK215=\"\",T(Input_Output!DL215),\"\")","v":""},null,null,{"$f":"IF(Input_Output!DN215=\"\",T(Input_Output!DO215),\"\")","v":""},null,null,{"$f":"IF(Input_Output!DQ215=\"\",T(Input_Output!DR215),\"\")","v":""},null,null,{"$f":"IF(Input_Output!DT215=\"\",T(Input_Output!DU215),\"\")","v":""},null,null,{"$f":"IF(Input_Output!DW215=\"\",T(Input_Output!DX215),\"\")","v":""},null,null,{"$f":"IF(Input_Output!DZ215=\"\",T(Input_Output!EA215),\"\")","v":""},null,null,{"$f":"IF(Input_Output!EC215=\"\",T(Input_Output!ED215),\"\")","v":""},null,null,{"$f":"IF(Input_Output!EF215=\"\",T(Input_Output!EG215),\"\")","v":""},null,null,{"$f":"IF(Input_Output!EI215=\"\",T(Input_Output!EJ215),\"\")","v":""},null,null,{"$f":"IF(Input_Output!EL215=\"\",T(Input_Output!EM215),\"\")","v":""},null,null,{"$f":"IF(Input_Output!EO215=\"\",T(Input_Output!EP215),\"\")","v":""},null,null,{"$f":"IF(Input_Output!ER215=\"\",T(Input_Output!ES215),\"\")","v":""},null,null,{"$f":"IF(Input_Output!EU215=\"\",T(Input_Output!EV215),\"\")","v":""},null,null,{"$f":"IF(Input_Output!EX215=\"\",T(Input_Output!EY215),\"\")","v":""},null,null,{"$f":"IF(Input_Output!FA215=\"\",T(Input_Output!FB215),\"\")","v":""},null,null,{"$f":"IF(Input_Output!FD215=\"\",T(Input_Output!FE215),\"\")","v":""},null,null,{"$f":"IF(Input_Output!FG215=\"\",T(Input_Output!FH215),\"\")","v":""},null,null,{"$f":"IF(Input_Output!FJ215=\"\",T(Input_Output!FK215),\"\")","v":""},null,null,{"$f":"IF(Input_Output!FM215=\"\",T(Input_Output!FN215),\"\")","v":""},null,null,{"$f":"IF(Input_Output!FP215=\"\",T(Input_Output!FQ215),\"\")","v":""},null,null,{"$f":"IF(Input_Output!FS215=\"\",T(Input_Output!FT215),\"\")","v":""},null,null,{"$f":"IF(Input_Output!FV215=\"\",T(Input_Output!FW215),\"\")","v":""},null,null,{"$f":"IF(Input_Output!FY215=\"\",T(Input_Output!FZ215),\"\")","v":""},null,null,{"$f":"IF(Input_Output!GB215=\"\",T(Input_Output!GC215),\"\")","v":""},null,null,{"$f":"IF(Input_Output!GE215=\"\",T(Input_Output!GF215),\"\")","v":""},null,null,{"$f":"IF(Input_Output!GH215=\"\",T(Input_Output!GI215),\"\")","v":""},null,null,{"$f":"IF(Input_Output!GK215=\"\",T(Input_Output!GL215),\"\")","v":""},null,null,{"$f":"IF(Input_Output!GN215=\"\",T(Input_Output!GO215),\"\")","v":""},null,null,{"$f":"IF(Input_Output!GQ215=\"\",T(Input_Output!GR215),\"\")","v":""},null,null,{"$f":"IF(Input_Output!GT215=\"\",T(Input_Output!GU215),\"\")","v":""},null,null,{"$f":"IF(Input_Output!GW215=\"\",T(Input_Output!GX215),\"\")","v":""},null,null,{"$f":"IF(Input_Output!GZ215=\"\",T(Input_Output!HA215),\"\")","v":""},null,null,{"$f":"IF(Input_Output!HC215=\"\",T(Input_Output!HD215),\"\")","v":""},null,null,{"$f":"IF(Input_Output!HF215=\"\",T(Input_Output!HG215),\"\")","v":""},null,null,{"$f":"IF(Input_Output!HI215=\"\",T(Input_Output!HJ215),\"\")","v":""},null,null,{"$f":"IF(Input_Output!HL215=\"\",T(Input_Output!HM215),\"\")","v":""},null,null,{"$f":"IF(Input_Output!HO215=\"\",T(Input_Output!HP215),\"\")","v":""},null,null,{"$f":"IF(Input_Output!HR215=\"\",T(Input_Output!HS215),\"\")","v":""},null,null,{"$f":"IF(Input_Output!HU215=\"\",T(Input_Output!HV215),\"\")","v":""},null,null,{"$f":"IF(Input_Output!HX215=\"\",T(Input_Output!HY215),\"\")","v":""},null,null,{"$f":"IF(Input_Output!IA215=\"\",T(Input_Output!IB215),\"\")","v":""},null,null,{"$f":"IF(Input_Output!ID215=\"\",T(Input_Output!IE215),\"\")","v":""},null,null,{"$f":"IF(Input_Output!IG215=\"\",T(Input_Output!IH215),\"\")","v":""},null,null,{"$f":"IF(Input_Output!IJ215=\"\",T(Input_Output!IK215),\"\")","v":""},null,null,{"$f":"IF(Input_Output!IM215=\"\",T(Input_Output!IN215),\"\")","v":""},null,null,{"$f":"IF(Input_Output!IP215=\"\",T(Input_Output!IQ215),\"\")","v":""},null,null,{"$f":"IF(Input_Output!IS215=\"\",T(Input_Output!IT215),\"\")","v":""}]
[null,null,null,null,{"$f":"IF(Input_Output!D216=\"\",T(Input_Output!E216),\"\")","v":""},null,null,{"$f":"IF(Input_Output!G216=\"\",T(Input_Output!H216),\"\")","v":""},null,null,{"$f":"IF(Input_Output!J216=\"\",T(Input_Output!K216),\"\")","v":""},null,null,{"$f":"IF(Input_Output!M216=\"\",T(Input_Output!N216),\"\")","v":""},null,null,{"$f":"IF(Input_Output!P216=\"\",T(Input_Output!Q216),\"\")","v":""},null,null,{"$f":"IF(Input_Output!S216=\"\",T(Input_Output!T216),\"\")","v":""},null,null,{"$f":"IF(Input_Output!V216=\"\",T(Input_Output!W216),\"\")","v":""},null,null,{"$f":"IF(Input_Output!Y216=\"\",T(Input_Output!Z216),\"\")","v":""},null,null,{"$f":"IF(Input_Output!AB216=\"\",T(Input_Output!AC216),\"\")","v":""},null,null,{"$f":"IF(Input_Output!AE216=\"\",T(Input_Output!AF216),\"\")","v":""},null,null,{"$f":"IF(Input_Output!AH216=\"\",T(Input_Output!AI216),\"\")","v":""},null,null,{"$f":"IF(Input_Output!AK216=\"\",T(Input_Output!AL216),\"\")","v":""},null,null,{"$f":"IF(Input_Output!AN216=\"\",T(Input_Output!AO216),\"\")","v":""},null,null,{"$f":"IF(Input_Output!AQ216=\"\",T(Input_Output!AR216),\"\")","v":""},null,null,{"$f":"IF(Input_Output!AT216=\"\",T(Input_Output!AU216),\"\")","v":""},null,null,{"$f":"IF(Input_Output!AW216=\"\",T(Input_Output!AX216),\"\")","v":""},null,null,{"$f":"IF(Input_Output!AZ216=\"\",T(Input_Output!BA216),\"\")","v":""},null,null,{"$f":"IF(Input_Output!BC216=\"\",T(Input_Output!BD216),\"\")","v":""},null,null,{"$f":"IF(Input_Output!BF216=\"\",T(Input_Output!BG216),\"\")","v":""},null,null,{"$f":"IF(Input_Output!BI216=\"\",T(Input_Output!BJ216),\"\")","v":""},null,null,{"$f":"IF(Input_Output!BL216=\"\",T(Input_Output!BM216),\"\")","v":""},null,null,{"$f":"IF(Input_Output!BO216=\"\",T(Input_Output!BP216),\"\")","v":""},null,null,{"$f":"IF(Input_Output!BR216=\"\",T(Input_Output!BS216),\"\")","v":""},null,null,{"$f":"IF(Input_Output!BU216=\"\",T(Input_Output!BV216),\"\")","v":""},null,null,{"$f":"IF(Input_Output!BX216=\"\",T(Input_Output!BY216),\"\")","v":""},null,null,{"$f":"IF(Input_Output!CA216=\"\",T(Input_Output!CB216),\"\")","v":""},null,null,{"$f":"IF(Input_Output!CD216=\"\",T(Input_Output!CE216),\"\")","v":""},null,null,{"$f":"IF(Input_Output!CG216=\"\",T(Input_Output!CH216),\"\")","v":""},null,null,{"$f":"IF(Input_Output!CJ216=\"\",T(Input_Output!CK216),\"\")","v":""},null,null,{"$f":"IF(Input_Output!CM216=\"\",T(Input_Output!CN216),\"\")","v":""},null,null,{"$f":"IF(Input_Output!CP216=\"\",T(Input_Output!CQ216),\"\")","v":""},null,null,{"$f":"IF(Input_Output!CS216=\"\",T(Input_Output!CT216),\"\")","v":""},null,null,{"$f":"IF(Input_Output!CV216=\"\",T(Input_Output!CW216),\"\")","v":""},null,null,{"$f":"IF(Input_Output!CY216=\"\",T(Input_Output!CZ216),\"\")","v":""},null,null,{"$f":"IF(Input_Output!DB216=\"\",T(Input_Output!DC216),\"\")","v":""},null,null,{"$f":"IF(Input_Output!DE216=\"\",T(Input_Output!DF216),\"\")","v":""},null,null,{"$f":"IF(Input_Output!DH216=\"\",T(Input_Output!DI216),\"\")","v":""},null,null,{"$f":"IF(Input_Output!DK216=\"\",T(Input_Output!DL216),\"\")","v":""},null,null,{"$f":"IF(Input_Output!DN216=\"\",T(Input_Output!DO216),\"\")","v":""},null,null,{"$f":"IF(Input_Output!DQ216=\"\",T(Input_Output!DR216),\"\")","v":""},null,null,{"$f":"IF(Input_Output!DT216=\"\",T(Input_Output!DU216),\"\")","v":""},null,null,{"$f":"IF(Input_Output!DW216=\"\",T(Input_Output!DX216),\"\")","v":""},null,null,{"$f":"IF(Input_Output!DZ216=\"\",T(Input_Output!EA216),\"\")","v":""},null,null,{"$f":"IF(Input_Output!EC216=\"\",T(Input_Output!ED216),\"\")","v":""},null,null,{"$f":"IF(Input_Output!EF216=\"\",T(Input_Output!EG216),\"\")","v":""},null,null,{"$f":"IF(Input_Output!EI216=\"\",T(Input_Output!EJ216),\"\")","v":""},null,null,{"$f":"IF(Input_Output!EL216=\"\",T(Input_Output!EM216),\"\")","v":""},null,null,{"$f":"IF(Input_Output!EO216=\"\",T(Input_Output!EP216),\"\")","v":""},null,null,{"$f":"IF(Input_Output!ER216=\"\",T(Input_Output!ES216),\"\")","v":""},null,null,{"$f":"IF(Input_Output!EU216=\"\",T(Input_Output!EV216),\"\")","v":""},null,null,{"$f":"IF(Input_Output!EX216=\"\",T(Input_Output!EY216),\"\")","v":""},null,null,{"$f":"IF(Input_Output!FA216=\"\",T(Input_Output!FB216),\"\")","v":""},null,null,{"$f":"IF(Input_Output!FD216=\"\",T(Input_Output!FE216),\"\")","v":""},null,null,{"$f":"IF(Input_Output!FG216=\"\",T(Input_Output!FH216),\"\")","v":""},null,null,{"$f":"IF(Input_Output!FJ216=\"\",T(Input_Output!FK216),\"\")","v":""},null,null,{"$f":"IF(Input_Output!FM216=\"\",T(Input_Output!FN216),\"\")","v":""},null,null,{"$f":"IF(Input_Output!FP216=\"\",T(Input_Output!FQ216),\"\")","v":""},null,null,{"$f":"IF(Input_Output!FS216=\"\",T(Input_Output!FT216),\"\")","v":""},null,null,{"$f":"IF(Input_Output!FV216=\"\",T(Input_Output!FW216),\"\")","v":""},null,null,{"$f":"IF(Input_Output!FY216=\"\",T(Input_Output!FZ216),\"\")","v":""},null,null,{"$f":"IF(Input_Output!GB216=\"\",T(Input_Output!GC216),\"\")","v":""},null,null,{"$f":"IF(Input_Output!GE216=\"\",T(Input_Output!GF216),\"\")","v":""},null,null,{"$f":"IF(Input_Output!GH216=\"\",T(Input_Output!GI216),\"\")","v":""},null,null,{"$f":"IF(Input_Output!GK216=\"\",T(Input_Output!GL216),\"\")","v":""},null,null,{"$f":"IF(Input_Output!GN216=\"\",T(Input_Output!GO216),\"\")","v":""},null,null,{"$f":"IF(Input_Output!GQ216=\"\",T(Input_Output!GR216),\"\")","v":""},null,null,{"$f":"IF(Input_Output!GT216=\"\",T(Input_Output!GU216),\"\")","v":""},null,null,{"$f":"IF(Input_Output!GW216=\"\",T(Input_Output!GX216),\"\")","v":""},null,null,{"$f":"IF(Input_Output!GZ216=\"\",T(Input_Output!HA216),\"\")","v":""},null,null,{"$f":"IF(Input_Output!HC216=\"\",T(Input_Output!HD216),\"\")","v":""},null,null,{"$f":"IF(Input_Output!HF216=\"\",T(Input_Output!HG216),\"\")","v":""},null,null,{"$f":"IF(Input_Output!HI216=\"\",T(Input_Output!HJ216),\"\")","v":""},null,null,{"$f":"IF(Input_Output!HL216=\"\",T(Input_Output!HM216),\"\")","v":""},null,null,{"$f":"IF(Input_Output!HO216=\"\",T(Input_Output!HP216),\"\")","v":""},null,null,{"$f":"IF(Input_Output!HR216=\"\",T(Input_Output!HS216),\"\")","v":""},null,null,{"$f":"IF(Input_Output!HU216=\"\",T(Input_Output!HV216),\"\")","v":""},null,null,{"$f":"IF(Input_Output!HX216=\"\",T(Input_Output!HY216),\"\")","v":""},null,null,{"$f":"IF(Input_Output!IA216=\"\",T(Input_Output!IB216),\"\")","v":""},null,null,{"$f":"IF(Input_Output!ID216=\"\",T(Input_Output!IE216),\"\")","v":""},null,null,{"$f":"IF(Input_Output!IG216=\"\",T(Input_Output!IH216),\"\")","v":""},null,null,{"$f":"IF(Input_Output!IJ216=\"\",T(Input_Output!IK216),\"\")","v":""},null,null,{"$f":"IF(Input_Output!IM216=\"\",T(Input_Output!IN216),\"\")","v":""},null,null,{"$f":"IF(Input_Output!IP216=\"\",T(Input_Output!IQ216),\"\")","v":""},null,null,{"$f":"IF(Input_Output!IS216=\"\",T(Input_Output!IT216),\"\")","v":""}]
[null,null,null,null,{"$f":"IF(Input_Output!D217=\"\",T(Input_Output!E217),\"\")","v":""},null,null,{"$f":"IF(Input_Output!G217=\"\",T(Input_Output!H217),\"\")","v":""},null,null,{"$f":"IF(Input_Output!J217=\"\",T(Input_Output!K217),\"\")","v":""},null,null,{"$f":"IF(Input_Output!M217=\"\",T(Input_Output!N217),\"\")","v":""},null,null,{"$f":"IF(Input_Output!P217=\"\",T(Input_Output!Q217),\"\")","v":""},null,null,{"$f":"IF(Input_Output!S217=\"\",T(Input_Output!T217),\"\")","v":""},null,null,{"$f":"IF(Input_Output!V217=\"\",T(Input_Output!W217),\"\")","v":""},null,null,{"$f":"IF(Input_Output!Y217=\"\",T(Input_Output!Z217),\"\")","v":""},null,null,{"$f":"IF(Input_Output!AB217=\"\",T(Input_Output!AC217),\"\")","v":""},null,null,{"$f":"IF(Input_Output!AE217=\"\",T(Input_Output!AF217),\"\")","v":""},null,null,{"$f":"IF(Input_Output!AH217=\"\",T(Input_Output!AI217),\"\")","v":""},null,null,{"$f":"IF(Input_Output!AK217=\"\",T(Input_Output!AL217),\"\")","v":""},null,null,{"$f":"IF(Input_Output!AN217=\"\",T(Input_Output!AO217),\"\")","v":""},null,null,{"$f":"IF(Input_Output!AQ217=\"\",T(Input_Output!AR217),\"\")","v":""},null,null,{"$f":"IF(Input_Output!AT217=\"\",T(Input_Output!AU217),\"\")","v":""},null,null,{"$f":"IF(Input_Output!AW217=\"\",T(Input_Output!AX217),\"\")","v":""},null,null,{"$f":"IF(Input_Output!AZ217=\"\",T(Input_Output!BA217),\"\")","v":""},null,null,{"$f":"IF(Input_Output!BC217=\"\",T(Input_Output!BD217),\"\")","v":""},null,null,{"$f":"IF(Input_Output!BF217=\"\",T(Input_Output!BG217),\"\")","v":""},null,null,{"$f":"IF(Input_Output!BI217=\"\",T(Input_Output!BJ217),\"\")","v":""},null,null,{"$f":"IF(Input_Output!BL217=\"\",T(Input_Output!BM217),\"\")","v":""},null,null,{"$f":"IF(Input_Output!BO217=\"\",T(Input_Output!BP217),\"\")","v":""},null,null,{"$f":"IF(Input_Output!BR217=\"\",T(Input_Output!BS217),\"\")","v":""},null,null,{"$f":"IF(Input_Output!BU217=\"\",T(Input_Output!BV217),\"\")","v":""},null,null,{"$f":"IF(Input_Output!BX217=\"\",T(Input_Output!BY217),\"\")","v":""},null,null,{"$f":"IF(Input_Output!CA217=\"\",T(Input_Output!CB217),\"\")","v":""},null,null,{"$f":"IF(Input_Output!CD217=\"\",T(Input_Output!CE217),\"\")","v":""},null,null,{"$f":"IF(Input_Output!CG217=\"\",T(Input_Output!CH217),\"\")","v":""},null,null,{"$f":"IF(Input_Output!CJ217=\"\",T(Input_Output!CK217),\"\")","v":""},null,null,{"$f":"IF(Input_Output!CM217=\"\",T(Input_Output!CN217),\"\")","v":""},null,null,{"$f":"IF(Input_Output!CP217=\"\",T(Input_Output!CQ217),\"\")","v":""},null,null,{"$f":"IF(Input_Output!CS217=\"\",T(Input_Output!CT217),\"\")","v":""},null,null,{"$f":"IF(Input_Output!CV217=\"\",T(Input_Output!CW217),\"\")","v":""},null,null,{"$f":"IF(Input_Output!CY217=\"\",T(Input_Output!CZ217),\"\")","v":""},null,null,{"$f":"IF(Input_Output!DB217=\"\",T(Input_Output!DC217),\"\")","v":""},null,null,{"$f":"IF(Input_Output!DE217=\"\",T(Input_Output!DF217),\"\")","v":""},null,null,{"$f":"IF(Input_Output!DH217=\"\",T(Input_Output!DI217),\"\")","v":""},null,null,{"$f":"IF(Input_Output!DK217=\"\",T(Input_Output!DL217),\"\")","v":""},null,null,{"$f":"IF(Input_Output!DN217=\"\",T(Input_Output!DO217),\"\")","v":""},null,null,{"$f":"IF(Input_Output!DQ217=\"\",T(Input_Output!DR217),\"\")","v":""},null,null,{"$f":"IF(Input_Output!DT217=\"\",T(Input_Output!DU217),\"\")","v":""},null,null,{"$f":"IF(Input_Output!DW217=\"\",T(Input_Output!DX217),\"\")","v":""},null,null,{"$f":"IF(Input_Output!DZ217=\"\",T(Input_Output!EA217),\"\")","v":""},null,null,{"$f":"IF(Input_Output!EC217=\"\",T(Input_Output!ED217),\"\")","v":""},null,null,{"$f":"IF(Input_Output!EF217=\"\",T(Input_Output!EG217),\"\")","v":""},null,null,{"$f":"IF(Input_Output!EI217=\"\",T(Input_Output!EJ217),\"\")","v":""},null,null,{"$f":"IF(Input_Output!EL217=\"\",T(Input_Output!EM217),\"\")","v":""},null,null,{"$f":"IF(Input_Output!EO217=\"\",T(Input_Output!EP217),\"\")","v":""},null,null,{"$f":"IF(Input_Output!ER217=\"\",T(Input_Output!ES217),\"\")","v":""},null,null,{"$f":"IF(Input_Output!EU217=\"\",T(Input_Output!EV217),\"\")","v":""},null,null,{"$f":"IF(Input_Output!EX217=\"\",T(Input_Output!EY217),\"\")","v":""},null,null,{"$f":"IF(Input_Output!FA217=\"\",T(Input_Output!FB217),\"\")","v":""},null,null,{"$f":"IF(Input_Output!FD217=\"\",T(Input_Output!FE217),\"\")","v":""},null,null,{"$f":"IF(Input_Output!FG217=\"\",T(Input_Output!FH217),\"\")","v":""},null,null,{"$f":"IF(Input_Output!FJ217=\"\",T(Input_Output!FK217),\"\")","v":""},null,null,{"$f":"IF(Input_Output!FM217=\"\",T(Input_Output!FN217),\"\")","v":""},null,null,{"$f":"IF(Input_Output!FP217=\"\",T(Input_Output!FQ217),\"\")","v":""},null,null,{"$f":"IF(Input_Output!FS217=\"\",T(Input_Output!FT217),\"\")","v":""},null,null,{"$f":"IF(Input_Output!FV217=\"\",T(Input_Output!FW217),\"\")","v":""},null,null,{"$f":"IF(Input_Output!FY217=\"\",T(Input_Output!FZ217),\"\")","v":""},null,null,{"$f":"IF(Input_Output!GB217=\"\",T(Input_Output!GC217),\"\")","v":""},null,null,{"$f":"IF(Input_Output!GE217=\"\",T(Input_Output!GF217),\"\")","v":""},null,null,{"$f":"IF(Input_Output!GH217=\"\",T(Input_Output!GI217),\"\")","v":""},null,null,{"$f":"IF(Input_Output!GK217=\"\",T(Input_Output!GL217),\"\")","v":""},null,null,{"$f":"IF(Input_Output!GN217=\"\",T(Input_Output!GO217),\"\")","v":""},null,null,{"$f":"IF(Input_Output!GQ217=\"\",T(Input_Output!GR217),\"\")","v":""},null,null,{"$f":"IF(Input_Output!GT217=\"\",T(Input_Output!GU217),\"\")","v":""},null,null,{"$f":"IF(Input_Output!GW217=\"\",T(Input_Output!GX217),\"\")","v":""},null,null,{"$f":"IF(Input_Output!GZ217=\"\",T(Input_Output!HA217),\"\")","v":""},null,null,{"$f":"IF(Input_Output!HC217=\"\",T(Input_Output!HD217),\"\")","v":""},null,null,{"$f":"IF(Input_Output!HF217=\"\",T(Input_Output!HG217),\"\")","v":""},null,null,{"$f":"IF(Input_Output!HI217=\"\",T(Input_Output!HJ217),\"\")","v":""},null,null,{"$f":"IF(Input_Output!HL217=\"\",T(Input_Output!HM217),\"\")","v":""},null,null,{"$f":"IF(Input_Output!HO217=\"\",T(Input_Output!HP217),\"\")","v":""},null,null,{"$f":"IF(Input_Output!HR217=\"\",T(Input_Output!HS217),\"\")","v":""},null,null,{"$f":"IF(Input_Output!HU217=\"\",T(Input_Output!HV217),\"\")","v":""},null,null,{"$f":"IF(Input_Output!HX217=\"\",T(Input_Output!HY217),\"\")","v":""},null,null,{"$f":"IF(Input_Output!IA217=\"\",T(Input_Output!IB217),\"\")","v":""},null,null,{"$f":"IF(Input_Output!ID217=\"\",T(Input_Output!IE217),\"\")","v":""},null,null,{"$f":"IF(Input_Output!IG217=\"\",T(Input_Output!IH217),\"\")","v":""},null,null,{"$f":"IF(Input_Output!IJ217=\"\",T(Input_Output!IK217),\"\")","v":""},null,null,{"$f":"IF(Input_Output!IM217=\"\",T(Input_Output!IN217),\"\")","v":""},null,null,{"$f":"IF(Input_Output!IP217=\"\",T(Input_Output!IQ217),\"\")","v":""},null,null,{"$f":"IF(Input_Output!IS217=\"\",T(Input_Output!IT217),\"\")","v":""}]
[null,null,null,null,{"$f":"IF(Input_Output!D218=\"\",T(Input_Output!E218),\"\")","v":""},null,null,{"$f":"IF(Input_Output!G218=\"\",T(Input_Output!H218),\"\")","v":""},null,null,{"$f":"IF(Input_Output!J218=\"\",T(Input_Output!K218),\"\")","v":""},null,null,{"$f":"IF(Input_Output!M218=\"\",T(Input_Output!N218),\"\")","v":""},null,null,{"$f":"IF(Input_Output!P218=\"\",T(Input_Output!Q218),\"\")","v":""},null,null,{"$f":"IF(Input_Output!S218=\"\",T(Input_Output!T218),\"\")","v":""},null,null,{"$f":"IF(Input_Output!V218=\"\",T(Input_Output!W218),\"\")","v":""},null,null,{"$f":"IF(Input_Output!Y218=\"\",T(Input_Output!Z218),\"\")","v":""},null,null,{"$f":"IF(Input_Output!AB218=\"\",T(Input_Output!AC218),\"\")","v":""},null,null,{"$f":"IF(Input_Output!AE218=\"\",T(Input_Output!AF218),\"\")","v":""},null,null,{"$f":"IF(Input_Output!AH218=\"\",T(Input_Output!AI218),\"\")","v":""},null,null,{"$f":"IF(Input_Output!AK218=\"\",T(Input_Output!AL218),\"\")","v":""},null,null,{"$f":"IF(Input_Output!AN218=\"\",T(Input_Output!AO218),\"\")","v":""},null,null,{"$f":"IF(Input_Output!AQ218=\"\",T(Input_Output!AR218),\"\")","v":""},null,null,{"$f":"IF(Input_Output!AT218=\"\",T(Input_Output!AU218),\"\")","v":""},null,null,{"$f":"IF(Input_Output!AW218=\"\",T(Input_Output!AX218),\"\")","v":""},null,null,{"$f":"IF(Input_Output!AZ218=\"\",T(Input_Output!BA218),\"\")","v":""},null,null,{"$f":"IF(Input_Output!BC218=\"\",T(Input_Output!BD218),\"\")","v":""},null,null,{"$f":"IF(Input_Output!BF218=\"\",T(Input_Output!BG218),\"\")","v":""},null,null,{"$f":"IF(Input_Output!BI218=\"\",T(Input_Output!BJ218),\"\")","v":""},null,null,{"$f":"IF(Input_Output!BL218=\"\",T(Input_Output!BM218),\"\")","v":""},null,null,{"$f":"IF(Input_Output!BO218=\"\",T(Input_Output!BP218),\"\")","v":""},null,null,{"$f":"IF(Input_Output!BR218=\"\",T(Input_Output!BS218),\"\")","v":""},null,null,{"$f":"IF(Input_Output!BU218=\"\",T(Input_Output!BV218),\"\")","v":""},null,null,{"$f":"IF(Input_Output!BX218=\"\",T(Input_Output!BY218),\"\")","v":""},null,null,{"$f":"IF(Input_Output!CA218=\"\",T(Input_Output!CB218),\"\")","v":""},null,null,{"$f":"IF(Input_Output!CD218=\"\",T(Input_Output!CE218),\"\")","v":""},null,null,{"$f":"IF(Input_Output!CG218=\"\",T(Input_Output!CH218),\"\")","v":""},null,null,{"$f":"IF(Input_Output!CJ218=\"\",T(Input_Output!CK218),\"\")","v":""},null,null,{"$f":"IF(Input_Output!CM218=\"\",T(Input_Output!CN218),\"\")","v":""},null,null,{"$f":"IF(Input_Output!CP218=\"\",T(Input_Output!CQ218),\"\")","v":""},null,null,{"$f":"IF(Input_Output!CS218=\"\",T(Input_Output!CT218),\"\")","v":""},null,null,{"$f":"IF(Input_Output!CV218=\"\",T(Input_Output!CW218),\"\")","v":""},null,null,{"$f":"IF(Input_Output!CY218=\"\",T(Input_Output!CZ218),\"\")","v":""},null,null,{"$f":"IF(Input_Output!DB218=\"\",T(Input_Output!DC218),\"\")","v":""},null,null,{"$f":"IF(Input_Output!DE218=\"\",T(Input_Output!DF218),\"\")","v":""},null,null,{"$f":"IF(Input_Output!DH218=\"\",T(Input_Output!DI218),\"\")","v":""},null,null,{"$f":"IF(Input_Output!DK218=\"\",T(Input_Output!DL218),\"\")","v":""},null,null,{"$f":"IF(Input_Output!DN218=\"\",T(Input_Output!DO218),\"\")","v":""},null,null,{"$f":"IF(Input_Output!DQ218=\"\",T(Input_Output!DR218),\"\")","v":""},null,null,{"$f":"IF(Input_Output!DT218=\"\",T(Input_Output!DU218),\"\")","v":""},null,null,{"$f":"IF(Input_Output!DW218=\"\",T(Input_Output!DX218),\"\")","v":""},null,null,{"$f":"IF(Input_Output!DZ218=\"\",T(Input_Output!EA218),\"\")","v":""},null,null,{"$f":"IF(Input_Output!EC218=\"\",T(Input_Output!ED218),\"\")","v":""},null,null,{"$f":"IF(Input_Output!EF218=\"\",T(Input_Output!EG218),\"\")","v":""},null,null,{"$f":"IF(Input_Output!EI218=\"\",T(Input_Output!EJ218),\"\")","v":""},null,null,{"$f":"IF(Input_Output!EL218=\"\",T(Input_Output!EM218),\"\")","v":""},null,null,{"$f":"IF(Input_Output!EO218=\"\",T(Input_Output!EP218),\"\")","v":""},null,null,{"$f":"IF(Input_Output!ER218=\"\",T(Input_Output!ES218),\"\")","v":""},null,null,{"$f":"IF(Input_Output!EU218=\"\",T(Input_Output!EV218),\"\")","v":""},null,null,{"$f":"IF(Input_Output!EX218=\"\",T(Input_Output!EY218),\"\")","v":""},null,null,{"$f":"IF(Input_Output!FA218=\"\",T(Input_Output!FB218),\"\")","v":""},null,null,{"$f":"IF(Input_Output!FD218=\"\",T(Input_Output!FE218),\"\")","v":""},null,null,{"$f":"IF(Input_Output!FG218=\"\",T(Input_Output!FH218),\"\")","v":""},null,null,{"$f":"IF(Input_Output!FJ218=\"\",T(Input_Output!FK218),\"\")","v":""},null,null,{"$f":"IF(Input_Output!FM218=\"\",T(Input_Output!FN218),\"\")","v":""},null,null,{"$f":"IF(Input_Output!FP218=\"\",T(Input_Output!FQ218),\"\")","v":""},null,null,{"$f":"IF(Input_Output!FS218=\"\",T(Input_Output!FT218),\"\")","v":""},null,null,{"$f":"IF(Input_Output!FV218=\"\",T(Input_Output!FW218),\"\")","v":""},null,null,{"$f":"IF(Input_Output!FY218=\"\",T(Input_Output!FZ218),\"\")","v":""},null,null,{"$f":"IF(Input_Output!GB218=\"\",T(Input_Output!GC218),\"\")","v":""},null,null,{"$f":"IF(Input_Output!GE218=\"\",T(Input_Output!GF218),\"\")","v":""},null,null,{"$f":"IF(Input_Output!GH218=\"\",T(Input_Output!GI218),\"\")","v":""},null,null,{"$f":"IF(Input_Output!GK218=\"\",T(Input_Output!GL218),\"\")","v":""},null,null,{"$f":"IF(Input_Output!GN218=\"\",T(Input_Output!GO218),\"\")","v":""},null,null,{"$f":"IF(Input_Output!GQ218=\"\",T(Input_Output!GR218),\"\")","v":""},null,null,{"$f":"IF(Input_Output!GT218=\"\",T(Input_Output!GU218),\"\")","v":""},null,null,{"$f":"IF(Input_Output!GW218=\"\",T(Input_Output!GX218),\"\")","v":""},null,null,{"$f":"IF(Input_Output!GZ218=\"\",T(Input_Output!HA218),\"\")","v":""},null,null,{"$f":"IF(Input_Output!HC218=\"\",T(Input_Output!HD218),\"\")","v":""},null,null,{"$f":"IF(Input_Output!HF218=\"\",T(Input_Output!HG218),\"\")","v":""},null,null,{"$f":"IF(Input_Output!HI218=\"\",T(Input_Output!HJ218),\"\")","v":""},null,null,{"$f":"IF(Input_Output!HL218=\"\",T(Input_Output!HM218),\"\")","v":""},null,null,{"$f":"IF(Input_Output!HO218=\"\",T(Input_Output!HP218),\"\")","v":""},null,null,{"$f":"IF(Input_Output!HR218=\"\",T(Input_Output!HS218),\"\")","v":""},null,null,{"$f":"IF(Input_Output!HU218=\"\",T(Input_Output!HV218),\"\")","v":""},null,null,{"$f":"IF(Input_Output!HX218=\"\",T(Input_Output!HY218),\"\")","v":""},null,null,{"$f":"IF(Input_Output!IA218=\"\",T(Input_Output!IB218),\"\")","v":""},null,null,{"$f":"IF(Input_Output!ID218=\"\",T(Input_Output!IE218),\"\")","v":""},null,null,{"$f":"IF(Input_Output!IG218=\"\",T(Input_Output!IH218),\"\")","v":""},null,null,{"$f":"IF(Input_Output!IJ218=\"\",T(Input_Output!IK218),\"\")","v":""},null,null,{"$f":"IF(Input_Output!IM218=\"\",T(Input_Output!IN218),\"\")","v":""},null,null,{"$f":"IF(Input_Output!IP218=\"\",T(Input_Output!IQ218),\"\")","v":""},null,null,{"$f":"IF(Input_Output!IS218=\"\",T(Input_Output!IT218),\"\")","v":""}]
[null,null,null,null,{"$f":"IF(Input_Output!D219=\"\",T(Input_Output!E219),\"\")","v":""},null,null,{"$f":"IF(Input_Output!G219=\"\",T(Input_Output!H219),\"\")","v":""},null,null,{"$f":"IF(Input_Output!J219=\"\",T(Input_Output!K219),\"\")","v":""},null,null,{"$f":"IF(Input_Output!M219=\"\",T(Input_Output!N219),\"\")","v":""},null,null,{"$f":"IF(Input_Output!P219=\"\",T(Input_Output!Q219),\"\")","v":""},null,null,{"$f":"IF(Input_Output!S219=\"\",T(Input_Output!T219),\"\")","v":""},null,null,{"$f":"IF(Input_Output!V219=\"\",T(Input_Output!W219),\"\")","v":""},null,null,{"$f":"IF(Input_Output!Y219=\"\",T(Input_Output!Z219),\"\")","v":""},null,null,{"$f":"IF(Input_Output!AB219=\"\",T(Input_Output!AC219),\"\")","v":""},null,null,{"$f":"IF(Input_Output!AE219=\"\",T(Input_Output!AF219),\"\")","v":""},null,null,{"$f":"IF(Input_Output!AH219=\"\",T(Input_Output!AI219),\"\")","v":""},null,null,{"$f":"IF(Input_Output!AK219=\"\",T(Input_Output!AL219),\"\")","v":""},null,null,{"$f":"IF(Input_Output!AN219=\"\",T(Input_Output!AO219),\"\")","v":""},null,null,{"$f":"IF(Input_Output!AQ219=\"\",T(Input_Output!AR219),\"\")","v":""},null,null,{"$f":"IF(Input_Output!AT219=\"\",T(Input_Output!AU219),\"\")","v":""},null,null,{"$f":"IF(Input_Output!AW219=\"\",T(Input_Output!AX219),\"\")","v":""},null,null,{"$f":"IF(Input_Output!AZ219=\"\",T(Input_Output!BA219),\"\")","v":""},null,null,{"$f":"IF(Input_Output!BC219=\"\",T(Input_Output!BD219),\"\")","v":""},null,null,{"$f":"IF(Input_Output!BF219=\"\",T(Input_Output!BG219),\"\")","v":""},null,null,{"$f":"IF(Input_Output!BI219=\"\",T(Input_Output!BJ219),\"\")","v":""},null,null,{"$f":"IF(Input_Output!BL219=\"\",T(Input_Output!BM219),\"\")","v":""},null,null,{"$f":"IF(Input_Output!BO219=\"\",T(Input_Output!BP219),\"\")","v":""},null,null,{"$f":"IF(Input_Output!BR219=\"\",T(Input_Output!BS219),\"\")","v":""},null,null,{"$f":"IF(Input_Output!BU219=\"\",T(Input_Output!BV219),\"\")","v":""},null,null,{"$f":"IF(Input_Output!BX219=\"\",T(Input_Output!BY219),\"\")","v":""},null,null,{"$f":"IF(Input_Output!CA219=\"\",T(Input_Output!CB219),\"\")","v":""},null,null,{"$f":"IF(Input_Output!CD219=\"\",T(Input_Output!CE219),\"\")","v":""},null,null,{"$f":"IF(Input_Output!CG219=\"\",T(Input_Output!CH219),\"\")","v":""},null,null,{"$f":"IF(Input_Output!CJ219=\"\",T(Input_Output!CK219),\"\")","v":""},null,null,{"$f":"IF(Input_Output!CM219=\"\",T(Input_Output!CN219),\"\")","v":""},null,null,{"$f":"IF(Input_Output!CP219=\"\",T(Input_Output!CQ219),\"\")","v":""},null,null,{"$f":"IF(Input_Output!CS219=\"\",T(Input_Output!CT219),\"\")","v":""},null,null,{"$f":"IF(Input_Output!CV219=\"\",T(Input_Output!CW219),\"\")","v":""},null,null,{"$f":"IF(Input_Output!CY219=\"\",T(Input_Output!CZ219),\"\")","v":""},null,null,{"$f":"IF(Input_Output!DB219=\"\",T(Input_Output!DC219),\"\")","v":""},null,null,{"$f":"IF(Input_Output!DE219=\"\",T(Input_Output!DF219),\"\")","v":""},null,null,{"$f":"IF(Input_Output!DH219=\"\",T(Input_Output!DI219),\"\")","v":""},null,null,{"$f":"IF(Input_Output!DK219=\"\",T(Input_Output!DL219),\"\")","v":""},null,null,{"$f":"IF(Input_Output!DN219=\"\",T(Input_Output!DO219),\"\")","v":""},null,null,{"$f":"IF(Input_Output!DQ219=\"\",T(Input_Output!DR219),\"\")","v":""},null,null,{"$f":"IF(Input_Output!DT219=\"\",T(Input_Output!DU219),\"\")","v":""},null,null,{"$f":"IF(Input_Output!DW219=\"\",T(Input_Output!DX219),\"\")","v":""},null,null,{"$f":"IF(Input_Output!DZ219=\"\",T(Input_Output!EA219),\"\")","v":""},null,null,{"$f":"IF(Input_Output!EC219=\"\",T(Input_Output!ED219),\"\")","v":""},null,null,{"$f":"IF(Input_Output!EF219=\"\",T(Input_Output!EG219),\"\")","v":""},null,null,{"$f":"IF(Input_Output!EI219=\"\",T(Input_Output!EJ219),\"\")","v":""},null,null,{"$f":"IF(Input_Output!EL219=\"\",T(Input_Output!EM219),\"\")","v":""},null,null,{"$f":"IF(Input_Output!EO219=\"\",T(Input_Output!EP219),\"\")","v":""},null,null,{"$f":"IF(Input_Output!ER219=\"\",T(Input_Output!ES219),\"\")","v":""},null,null,{"$f":"IF(Input_Output!EU219=\"\",T(Input_Output!EV219),\"\")","v":""},null,null,{"$f":"IF(Input_Output!EX219=\"\",T(Input_Output!EY219),\"\")","v":""},null,null,{"$f":"IF(Input_Output!FA219=\"\",T(Input_Output!FB219),\"\")","v":""},null,null,{"$f":"IF(Input_Output!FD219=\"\",T(Input_Output!FE219),\"\")","v":""},null,null,{"$f":"IF(Input_Output!FG219=\"\",T(Input_Output!FH219),\"\")","v":""},null,null,{"$f":"IF(Input_Output!FJ219=\"\",T(Input_Output!FK219),\"\")","v":""},null,null,{"$f":"IF(Input_Output!FM219=\"\",T(Input_Output!FN219),\"\")","v":""},null,null,{"$f":"IF(Input_Output!FP219=\"\",T(Input_Output!FQ219),\"\")","v":""},null,null,{"$f":"IF(Input_Output!FS219=\"\",T(Input_Output!FT219),\"\")","v":""},null,null,{"$f":"IF(Input_Output!FV219=\"\",T(Input_Output!FW219),\"\")","v":""},null,null,{"$f":"IF(Input_Output!FY219=\"\",T(Input_Output!FZ219),\"\")","v":""},null,null,{"$f":"IF(Input_Output!GB219=\"\",T(Input_Output!GC219),\"\")","v":""},null,null,{"$f":"IF(Input_Output!GE219=\"\",T(Input_Output!GF219),\"\")","v":""},null,null,{"$f":"IF(Input_Output!GH219=\"\",T(Input_Output!GI219),\"\")","v":""},null,null,{"$f":"IF(Input_Output!GK219=\"\",T(Input_Output!GL219),\"\")","v":""},null,null,{"$f":"IF(Input_Output!GN219=\"\",T(Input_Output!GO219),\"\")","v":""},null,null,{"$f":"IF(Input_Output!GQ219=\"\",T(Input_Output!GR219),\"\")","v":""},null,null,{"$f":"IF(Input_Output!GT219=\"\",T(Input_Output!GU219),\"\")","v":""},null,null,{"$f":"IF(Input_Output!GW219=\"\",T(Input_Output!GX219),\"\")","v":""},null,null,{"$f":"IF(Input_Output!GZ219=\"\",T(Input_Output!HA219),\"\")","v":""},null,null,{"$f":"IF(Input_Output!HC219=\"\",T(Input_Output!HD219),\"\")","v":""},null,null,{"$f":"IF(Input_Output!HF219=\"\",T(Input_Output!HG219),\"\")","v":""},null,null,{"$f":"IF(Input_Output!HI219=\"\",T(Input_Output!HJ219),\"\")","v":""},null,null,{"$f":"IF(Input_Output!HL219=\"\",T(Input_Output!HM219),\"\")","v":""},null,null,{"$f":"IF(Input_Output!HO219=\"\",T(Input_Output!HP219),\"\")","v":""},null,null,{"$f":"IF(Input_Output!HR219=\"\",T(Input_Output!HS219),\"\")","v":""},null,null,{"$f":"IF(Input_Output!HU219=\"\",T(Input_Output!HV219),\"\")","v":""},null,null,{"$f":"IF(Input_Output!HX219=\"\",T(Input_Output!HY219),\"\")","v":""},null,null,{"$f":"IF(Input_Output!IA219=\"\",T(Input_Output!IB219),\"\")","v":""},null,null,{"$f":"IF(Input_Output!ID219=\"\",T(Input_Output!IE219),\"\")","v":""},null,null,{"$f":"IF(Input_Output!IG219=\"\",T(Input_Output!IH219),\"\")","v":""},null,null,{"$f":"IF(Input_Output!IJ219=\"\",T(Input_Output!IK219),\"\")","v":""},null,null,{"$f":"IF(Input_Output!IM219=\"\",T(Input_Output!IN219),\"\")","v":""},null,null,{"$f":"IF(Input_Output!IP219=\"\",T(Input_Output!IQ219),\"\")","v":""},null,null,{"$f":"IF(Input_Output!IS219=\"\",T(Input_Output!IT219),\"\")","v":""}]
[null,null,null,null,{"$f":"IF(Input_Output!D220=\"\",T(Input_Output!E220),\"\")","v":""},null,null,{"$f":"IF(Input_Output!G220=\"\",T(Input_Output!H220),\"\")","v":""},null,null,{"$f":"IF(Input_Output!J220=\"\",T(Input_Output!K220),\"\")","v":""},null,null,{"$f":"IF(Input_Output!M220=\"\",T(Input_Output!N220),\"\")","v":""},null,null,{"$f":"IF(Input_Output!P220=\"\",T(Input_Output!Q220),\"\")","v":""},null,null,{"$f":"IF(Input_Output!S220=\"\",T(Input_Output!T220),\"\")","v":""},null,null,{"$f":"IF(Input_Output!V220=\"\",T(Input_Output!W220),\"\")","v":""},null,null,{"$f":"IF(Input_Output!Y220=\"\",T(Input_Output!Z220),\"\")","v":""},null,null,{"$f":"IF(Input_Output!AB220=\"\",T(Input_Output!AC220),\"\")","v":""},null,null,{"$f":"IF(Input_Output!AE220=\"\",T(Input_Output!AF220),\"\")","v":""},null,null,{"$f":"IF(Input_Output!AH220=\"\",T(Input_Output!AI220),\"\")","v":""},null,null,{"$f":"IF(Input_Output!AK220=\"\",T(Input_Output!AL220),\"\")","v":""},null,null,{"$f":"IF(Input_Output!AN220=\"\",T(Input_Output!AO220),\"\")","v":""},null,null,{"$f":"IF(Input_Output!AQ220=\"\",T(Input_Output!AR220),\"\")","v":""},null,null,{"$f":"IF(Input_Output!AT220=\"\",T(Input_Output!AU220),\"\")","v":""},null,null,{"$f":"IF(Input_Output!AW220=\"\",T(Input_Output!AX220),\"\")","v":""},null,null,{"$f":"IF(Input_Output!AZ220=\"\",T(Input_Output!BA220),\"\")","v":""},null,null,{"$f":"IF(Input_Output!BC220=\"\",T(Input_Output!BD220),\"\")","v":""},null,null,{"$f":"IF(Input_Output!BF220=\"\",T(Input_Output!BG220),\"\")","v":""},null,null,{"$f":"IF(Input_Output!BI220=\"\",T(Input_Output!BJ220),\"\")","v":""},null,null,{"$f":"IF(Input_Output!BL220=\"\",T(Input_Output!BM220),\"\")","v":""},null,null,{"$f":"IF(Input_Output!BO220=\"\",T(Input_Output!BP220),\"\")","v":""},null,null,{"$f":"IF(Input_Output!BR220=\"\",T(Input_Output!BS220),\"\")","v":""},null,null,{"$f":"IF(Input_Output!BU220=\"\",T(Input_Output!BV220),\"\")","v":""},null,null,{"$f":"IF(Input_Output!BX220=\"\",T(Input_Output!BY220),\"\")","v":""},null,null,{"$f":"IF(Input_Output!CA220=\"\",T(Input_Output!CB220),\"\")","v":""},null,null,{"$f":"IF(Input_Output!CD220=\"\",T(Input_Output!CE220),\"\")","v":""},null,null,{"$f":"IF(Input_Output!CG220=\"\",T(Input_Output!CH220),\"\")","v":""},null,null,{"$f":"IF(Input_Output!CJ220=\"\",T(Input_Output!CK220),\"\")","v":""},null,null,{"$f":"IF(Input_Output!CM220=\"\",T(Input_Output!CN220),\"\")","v":""},null,null,{"$f":"IF(Input_Output!CP220=\"\",T(Input_Output!CQ220),\"\")","v":""},null,null,{"$f":"IF(Input_Output!CS220=\"\",T(Input_Output!CT220),\"\")","v":""},null,null,{"$f":"IF(Input_Output!CV220=\"\",T(Input_Output!CW220),\"\")","v":""},null,null,{"$f":"IF(Input_Output!CY220=\"\",T(Input_Output!CZ220),\"\")","v":""},null,null,{"$f":"IF(Input_Output!DB220=\"\",T(Input_Output!DC220),\"\")","v":""},null,null,{"$f":"IF(Input_Output!DE220=\"\",T(Input_Output!DF220),\"\")","v":""},null,null,{"$f":"IF(Input_Output!DH220=\"\",T(Input_Output!DI220),\"\")","v":""},null,null,{"$f":"IF(Input_Output!DK220=\"\",T(Input_Output!DL220),\"\")","v":""},null,null,{"$f":"IF(Input_Output!DN220=\"\",T(Input_Output!DO220),\"\")","v":""},null,null,{"$f":"IF(Input_Output!DQ220=\"\",T(Input_Output!DR220),\"\")","v":""},null,null,{"$f":"IF(Input_Output!DT220=\"\",T(Input_Output!DU220),\"\")","v":""},null,null,{"$f":"IF(Input_Output!DW220=\"\",T(Input_Output!DX220),\"\")","v":""},null,null,{"$f":"IF(Input_Output!DZ220=\"\",T(Input_Output!EA220),\"\")","v":""},null,null,{"$f":"IF(Input_Output!EC220=\"\",T(Input_Output!ED220),\"\")","v":""},null,null,{"$f":"IF(Input_Output!EF220=\"\",T(Input_Output!EG220),\"\")","v":""},null,null,{"$f":"IF(Input_Output!EI220=\"\",T(Input_Output!EJ220),\"\")","v":""},null,null,{"$f":"IF(Input_Output!EL220=\"\",T(Input_Output!EM220),\"\")","v":""},null,null,{"$f":"IF(Input_Output!EO220=\"\",T(Input_Output!EP220),\"\")","v":""},null,null,{"$f":"IF(Input_Output!ER220=\"\",T(Input_Output!ES220),\"\")","v":""},null,null,{"$f":"IF(Input_Output!EU220=\"\",T(Input_Output!EV220),\"\")","v":""},null,null,{"$f":"IF(Input_Output!EX220=\"\",T(Input_Output!EY220),\"\")","v":""},null,null,{"$f":"IF(Input_Output!FA220=\"\",T(Input_Output!FB220),\"\")","v":""},null,null,{"$f":"IF(Input_Output!FD220=\"\",T(Input_Output!FE220),\"\")","v":""},null,null,{"$f":"IF(Input_Output!FG220=\"\",T(Input_Output!FH220),\"\")","v":""},null,null,{"$f":"IF(Input_Output!FJ220=\"\",T(Input_Output!FK220),\"\")","v":""},null,null,{"$f":"IF(Input_Output!FM220=\"\",T(Input_Output!FN220),\"\")","v":""},null,null,{"$f":"IF(Input_Output!FP220=\"\",T(Input_Output!FQ220),\"\")","v":""},null,null,{"$f":"IF(Input_Output!FS220=\"\",T(Input_Output!FT220),\"\")","v":""},null,null,{"$f":"IF(Input_Output!FV220=\"\",T(Input_Output!FW220),\"\")","v":""},null,null,{"$f":"IF(Input_Output!FY220=\"\",T(Input_Output!FZ220),\"\")","v":""},null,null,{"$f":"IF(Input_Output!GB220=\"\",T(Input_Output!GC220),\"\")","v":""},null,null,{"$f":"IF(Input_Output!GE220=\"\",T(Input_Output!GF220),\"\")","v":""},null,null,{"$f":"IF(Input_Output!GH220=\"\",T(Input_Output!GI220),\"\")","v":""},null,null,{"$f":"IF(Input_Output!GK220=\"\",T(Input_Output!GL220),\"\")","v":""},null,null,{"$f":"IF(Input_Output!GN220=\"\",T(Input_Output!GO220),\"\")","v":""},null,null,{"$f":"IF(Input_Output!GQ220=\"\",T(Input_Output!GR220),\"\")","v":""},null,null,{"$f":"IF(Input_Output!GT220=\"\",T(Input_Output!GU220),\"\")","v":""},null,null,{"$f":"IF(Input_Output!GW220=\"\",T(Input_Output!GX220),\"\")","v":""},null,null,{"$f":"IF(Input_Output!GZ220=\"\",T(Input_Output!HA220),\"\")","v":""},null,null,{"$f":"IF(Input_Output!HC220=\"\",T(Input_Output!HD220),\"\")","v":""},null,null,{"$f":"IF(Input_Output!HF220=\"\",T(Input_Output!HG220),\"\")","v":""},null,null,{"$f":"IF(Input_Output!HI220=\"\",T(Input_Output!HJ220),\"\")","v":""},null,null,{"$f":"IF(Input_Output!HL220=\"\",T(Input_Output!HM220),\"\")","v":""},null,null,{"$f":"IF(Input_Output!HO220=\"\",T(Input_Output!HP220),\"\")","v":""},null,null,{"$f":"IF(Input_Output!HR220=\"\",T(Input_Output!HS220),\"\")","v":""},null,null,{"$f":"IF(Input_Output!HU220=\"\",T(Input_Output!HV220),\"\")","v":""},null,null,{"$f":"IF(Input_Output!HX220=\"\",T(Input_Output!HY220),\"\")","v":""},null,null,{"$f":"IF(Input_Output!IA220=\"\",T(Input_Output!IB220),\"\")","v":""},null,null,{"$f":"IF(Input_Output!ID220=\"\",T(Input_Output!IE220),\"\")","v":""},null,null,{"$f":"IF(Input_Output!IG220=\"\",T(Input_Output!IH220),\"\")","v":""},null,null,{"$f":"IF(Input_Output!IJ220=\"\",T(Input_Output!IK220),\"\")","v":""},null,null,{"$f":"IF(Input_Output!IM220=\"\",T(Input_Output!IN220),\"\")","v":""},null,null,{"$f":"IF(Input_Output!IP220=\"\",T(Input_Output!IQ220),\"\")","v":""},null,null,{"$f":"IF(Input_Output!IS220=\"\",T(Input_Output!IT220),\"\")","v":""}]
[null,null,null,null,{"$f":"IF(Input_Output!D221=\"\",T(Input_Output!E221),\"\")","v":""},null,null,{"$f":"IF(Input_Output!G221=\"\",T(Input_Output!H221),\"\")","v":""},null,null,{"$f":"IF(Input_Output!J221=\"\",T(Input_Output!K221),\"\")","v":""},null,null,{"$f":"IF(Input_Output!M221=\"\",T(Input_Output!N221),\"\")","v":""},null,null,{"$f":"IF(Input_Output!P221=\"\",T(Input_Output!Q221),\"\")","v":""},null,null,{"$f":"IF(Input_Output!S221=\"\",T(Input_Output!T221),\"\")","v":""},null,null,{"$f":"IF(Input_Output!V221=\"\",T(Input_Output!W221),\"\")","v":""},null,null,{"$f":"IF(Input_Output!Y221=\"\",T(Input_Output!Z221),\"\")","v":""},null,null,{"$f":"IF(Input_Output!AB221=\"\",T(Input_Output!AC221),\"\")","v":""},null,null,{"$f":"IF(Input_Output!AE221=\"\",T(Input_Output!AF221),\"\")","v":""},null,null,{"$f":"IF(Input_Output!AH221=\"\",T(Input_Output!AI221),\"\")","v":""},null,null,{"$f":"IF(Input_Output!AK221=\"\",T(Input_Output!AL221),\"\")","v":""},null,null,{"$f":"IF(Input_Output!AN221=\"\",T(Input_Output!AO221),\"\")","v":""},null,null,{"$f":"IF(Input_Output!AQ221=\"\",T(Input_Output!AR221),\"\")","v":""},null,null,{"$f":"IF(Input_Output!AT221=\"\",T(Input_Output!AU221),\"\")","v":""},null,null,{"$f":"IF(Input_Output!AW221=\"\",T(Input_Output!AX221),\"\")","v":""},null,null,{"$f":"IF(Input_Output!AZ221=\"\",T(Input_Output!BA221),\"\")","v":""},null,null,{"$f":"IF(Input_Output!BC221=\"\",T(Input_Output!BD221),\"\")","v":""},null,null,{"$f":"IF(Input_Output!BF221=\"\",T(Input_Output!BG221),\"\")","v":""},null,null,{"$f":"IF(Input_Output!BI221=\"\",T(Input_Output!BJ221),\"\")","v":""},null,null,{"$f":"IF(Input_Output!BL221=\"\",T(Input_Output!BM221),\"\")","v":""},null,null,{"$f":"IF(Input_Output!BO221=\"\",T(Input_Output!BP221),\"\")","v":""},null,null,{"$f":"IF(Input_Output!BR221=\"\",T(Input_Output!BS221),\"\")","v":""},null,null,{"$f":"IF(Input_Output!BU221=\"\",T(Input_Output!BV221),\"\")","v":""},null,null,{"$f":"IF(Input_Output!BX221=\"\",T(Input_Output!BY221),\"\")","v":""},null,null,{"$f":"IF(Input_Output!CA221=\"\",T(Input_Output!CB221),\"\")","v":""},null,null,{"$f":"IF(Input_Output!CD221=\"\",T(Input_Output!CE221),\"\")","v":""},null,null,{"$f":"IF(Input_Output!CG221=\"\",T(Input_Output!CH221),\"\")","v":""},null,null,{"$f":"IF(Input_Output!CJ221=\"\",T(Input_Output!CK221),\"\")","v":""},null,null,{"$f":"IF(Input_Output!CM221=\"\",T(Input_Output!CN221),\"\")","v":""},null,null,{"$f":"IF(Input_Output!CP221=\"\",T(Input_Output!CQ221),\"\")","v":""},null,null,{"$f":"IF(Input_Output!CS221=\"\",T(Input_Output!CT221),\"\")","v":""},null,null,{"$f":"IF(Input_Output!CV221=\"\",T(Input_Output!CW221),\"\")","v":""},null,null,{"$f":"IF(Input_Output!CY221=\"\",T(Input_Output!CZ221),\"\")","v":""},null,null,{"$f":"IF(Input_Output!DB221=\"\",T(Input_Output!DC221),\"\")","v":""},null,null,{"$f":"IF(Input_Output!DE221=\"\",T(Input_Output!DF221),\"\")","v":""},null,null,{"$f":"IF(Input_Output!DH221=\"\",T(Input_Output!DI221),\"\")","v":""},null,null,{"$f":"IF(Input_Output!DK221=\"\",T(Input_Output!DL221),\"\")","v":""},null,null,{"$f":"IF(Input_Output!DN221=\"\",T(Input_Output!DO221),\"\")","v":""},null,null,{"$f":"IF(Input_Output!DQ221=\"\",T(Input_Output!DR221),\"\")","v":""},null,null,{"$f":"IF(Input_Output!DT221=\"\",T(Input_Output!DU221),\"\")","v":""},null,null,{"$f":"IF(Input_Output!DW221=\"\",T(Input_Output!DX221),\"\")","v":""},null,null,{"$f":"IF(Input_Output!DZ221=\"\",T(Input_Output!EA221),\"\")","v":""},null,null,{"$f":"IF(Input_Output!EC221=\"\",T(Input_Output!ED221),\"\")","v":""},null,null,{"$f":"IF(Input_Output!EF221=\"\",T(Input_Output!EG221),\"\")","v":""},null,null,{"$f":"IF(Input_Output!EI221=\"\",T(Input_Output!EJ221),\"\")","v":""},null,null,{"$f":"IF(Input_Output!EL221=\"\",T(Input_Output!EM221),\"\")","v":""},null,null,{"$f":"IF(Input_Output!EO221=\"\",T(Input_Output!EP221),\"\")","v":""},null,null,{"$f":"IF(Input_Output!ER221=\"\",T(Input_Output!ES221),\"\")","v":""},null,null,{"$f":"IF(Input_Output!EU221=\"\",T(Input_Output!EV221),\"\")","v":""},null,null,{"$f":"IF(Input_Output!EX221=\"\",T(Input_Output!EY221),\"\")","v":""},null,null,{"$f":"IF(Input_Output!FA221=\"\",T(Input_Output!FB221),\"\")","v":""},null,null,{"$f":"IF(Input_Output!FD221=\"\",T(Input_Output!FE221),\"\")","v":""},null,null,{"$f":"IF(Input_Output!FG221=\"\",T(Input_Output!FH221),\"\")","v":""},null,null,{"$f":"IF(Input_Output!FJ221=\"\",T(Input_Output!FK221),\"\")","v":""},null,null,{"$f":"IF(Input_Output!FM221=\"\",T(Input_Output!FN221),\"\")","v":""},null,null,{"$f":"IF(Input_Output!FP221=\"\",T(Input_Output!FQ221),\"\")","v":""},null,null,{"$f":"IF(Input_Output!FS221=\"\",T(Input_Output!FT221),\"\")","v":""},null,null,{"$f":"IF(Input_Output!FV221=\"\",T(Input_Output!FW221),\"\")","v":""},null,null,{"$f":"IF(Input_Output!FY221=\"\",T(Input_Output!FZ221),\"\")","v":""},null,null,{"$f":"IF(Input_Output!GB221=\"\",T(Input_Output!GC221),\"\")","v":""},null,null,{"$f":"IF(Input_Output!GE221=\"\",T(Input_Output!GF221),\"\")","v":""},null,null,{"$f":"IF(Input_Output!GH221=\"\",T(Input_Output!GI221),\"\")","v":""},null,null,{"$f":"IF(Input_Output!GK221=\"\",T(Input_Output!GL221),\"\")","v":""},null,null,{"$f":"IF(Input_Output!GN221=\"\",T(Input_Output!GO221),\"\")","v":""},null,null,{"$f":"IF(Input_Output!GQ221=\"\",T(Input_Output!GR221),\"\")","v":""},null,null,{"$f":"IF(Input_Output!GT221=\"\",T(Input_Output!GU221),\"\")","v":""},null,null,{"$f":"IF(Input_Output!GW221=\"\",T(Input_Output!GX221),\"\")","v":""},null,null,{"$f":"IF(Input_Output!GZ221=\"\",T(Input_Output!HA221),\"\")","v":""},null,null,{"$f":"IF(Input_Output!HC221=\"\",T(Input_Output!HD221),\"\")","v":""},null,null,{"$f":"IF(Input_Output!HF221=\"\",T(Input_Output!HG221),\"\")","v":""},null,null,{"$f":"IF(Input_Output!HI221=\"\",T(Input_Output!HJ221),\"\")","v":""},null,null,{"$f":"IF(Input_Output!HL221=\"\",T(Input_Output!HM221),\"\")","v":""},null,null,{"$f":"IF(Input_Output!HO221=\"\",T(Input_Output!HP221),\"\")","v":""},null,null,{"$f":"IF(Input_Output!HR221=\"\",T(Input_Output!HS221),\"\")","v":""},null,null,{"$f":"IF(Input_Output!HU221=\"\",T(Input_Output!HV221),\"\")","v":""},null,null,{"$f":"IF(Input_Output!HX221=\"\",T(Input_Output!HY221),\"\")","v":""},null,null,{"$f":"IF(Input_Output!IA221=\"\",T(Input_Output!IB221),\"\")","v":""},null,null,{"$f":"IF(Input_Output!ID221=\"\",T(Input_Output!IE221),\"\")","v":""},null,null,{"$f":"IF(Input_Output!IG221=\"\",T(Input_Output!IH221),\"\")","v":""},null,null,{"$f":"IF(Input_Output!IJ221=\"\",T(Input_Output!IK221),\"\")","v":""},null,null,{"$f":"IF(Input_Output!IM221=\"\",T(Input_Output!IN221),\"\")","v":""},null,null,{"$f":"IF(Input_Output!IP221=\"\",T(Input_Output!IQ221),\"\")","v":""},null,null,{"$f":"IF(Input_Output!IS221=\"\",T(Input_Output!IT221),\"\")","v":""}]
[null,null,null,null,{"$f":"IF(Input_Output!D222=\"\",T(Input_Output!E222),\"\")","v":""},null,null,{"$f":"IF(Input_Output!G222=\"\",T(Input_Output!H222),\"\")","v":""},null,null,{"$f":"IF(Input_Output!J222=\"\",T(Input_Output!K222),\"\")","v":""},null,null,{"$f":"IF(Input_Output!M222=\"\",T(Input_Output!N222),\"\")","v":""},null,null,{"$f":"IF(Input_Output!P222=\"\",T(Input_Output!Q222),\"\")","v":""},null,null,{"$f":"IF(Input_Output!S222=\"\",T(Input_Output!T222),\"\")","v":""},null,null,{"$f":"IF(Input_Output!V222=\"\",T(Input_Output!W222),\"\")","v":""},null,null,{"$f":"IF(Input_Output!Y222=\"\",T(Input_Output!Z222),\"\")","v":""},null,null,{"$f":"IF(Input_Output!AB222=\"\",T(Input_Output!AC222),\"\")","v":""},null,null,{"$f":"IF(Input_Output!AE222=\"\",T(Input_Output!AF222),\"\")","v":""},null,null,{"$f":"IF(Input_Output!AH222=\"\",T(Input_Output!AI222),\"\")","v":""},null,null,{"$f":"IF(Input_Output!AK222=\"\",T(Input_Output!AL222),\"\")","v":""},null,null,{"$f":"IF(Input_Output!AN222=\"\",T(Input_Output!AO222),\"\")","v":""},null,null,{"$f":"IF(Input_Output!AQ222=\"\",T(Input_Output!AR222),\"\")","v":""},null,null,{"$f":"IF(Input_Output!AT222=\"\",T(Input_Output!AU222),\"\")","v":""},null,null,{"$f":"IF(Input_Output!AW222=\"\",T(Input_Output!AX222),\"\")","v":""},null,null,{"$f":"IF(Input_Output!AZ222=\"\",T(Input_Output!BA222),\"\")","v":""},null,null,{"$f":"IF(Input_Output!BC222=\"\",T(Input_Output!BD222),\"\")","v":""},null,null,{"$f":"IF(Input_Output!BF222=\"\",T(Input_Output!BG222),\"\")","v":""},null,null,{"$f":"IF(Input_Output!BI222=\"\",T(Input_Output!BJ222),\"\")","v":""},null,null,{"$f":"IF(Input_Output!BL222=\"\",T(Input_Output!BM222),\"\")","v":""},null,null,{"$f":"IF(Input_Output!BO222=\"\",T(Input_Output!BP222),\"\")","v":""},null,null,{"$f":"IF(Input_Output!BR222=\"\",T(Input_Output!BS222),\"\")","v":""},null,null,{"$f":"IF(Input_Output!BU222=\"\",T(Input_Output!BV222),\"\")","v":""},null,null,{"$f":"IF(Input_Output!BX222=\"\",T(Input_Output!BY222),\"\")","v":""},null,null,{"$f":"IF(Input_Output!CA222=\"\",T(Input_Output!CB222),\"\")","v":""},null,null,{"$f":"IF(Input_Output!CD222=\"\",T(Input_Output!CE222),\"\")","v":""},null,null,{"$f":"IF(Input_Output!CG222=\"\",T(Input_Output!CH222),\"\")","v":""},null,null,{"$f":"IF(Input_Output!CJ222=\"\",T(Input_Output!CK222),\"\")","v":""},null,null,{"$f":"IF(Input_Output!CM222=\"\",T(Input_Output!CN222),\"\")","v":""},null,null,{"$f":"IF(Input_Output!CP222=\"\",T(Input_Output!CQ222),\"\")","v":""},null,null,{"$f":"IF(Input_Output!CS222=\"\",T(Input_Output!CT222),\"\")","v":""},null,null,{"$f":"IF(Input_Output!CV222=\"\",T(Input_Output!CW222),\"\")","v":""},null,null,{"$f":"IF(Input_Output!CY222=\"\",T(Input_Output!CZ222),\"\")","v":""},null,null,{"$f":"IF(Input_Output!DB222=\"\",T(Input_Output!DC222),\"\")","v":""},null,null,{"$f":"IF(Input_Output!DE222=\"\",T(Input_Output!DF222),\"\")","v":""},null,null,{"$f":"IF(Input_Output!DH222=\"\",T(Input_Output!DI222),\"\")","v":""},null,null,{"$f":"IF(Input_Output!DK222=\"\",T(Input_Output!DL222),\"\")","v":""},null,null,{"$f":"IF(Input_Output!DN222=\"\",T(Input_Output!DO222),\"\")","v":""},null,null,{"$f":"IF(Input_Output!DQ222=\"\",T(Input_Output!DR222),\"\")","v":""},null,null,{"$f":"IF(Input_Output!DT222=\"\",T(Input_Output!DU222),\"\")","v":""},null,null,{"$f":"IF(Input_Output!DW222=\"\",T(Input_Output!DX222),\"\")","v":""},null,null,{"$f":"IF(Input_Output!DZ222=\"\",T(Input_Output!EA222),\"\")","v":""},null,null,{"$f":"IF(Input_Output!EC222=\"\",T(Input_Output!ED222),\"\")","v":""},null,null,{"$f":"IF(Input_Output!EF222=\"\",T(Input_Output!EG222),\"\")","v":""},null,null,{"$f":"IF(Input_Output!EI222=\"\",T(Input_Output!EJ222),\"\")","v":""},null,null,{"$f":"IF(Input_Output!EL222=\"\",T(Input_Output!EM222),\"\")","v":""},null,null,{"$f":"IF(Input_Output!EO222=\"\",T(Input_Output!EP222),\"\")","v":""},null,null,{"$f":"IF(Input_Output!ER222=\"\",T(Input_Output!ES222),\"\")","v":""},null,null,{"$f":"IF(Input_Output!EU222=\"\",T(Input_Output!EV222),\"\")","v":""},null,null,{"$f":"IF(Input_Output!EX222=\"\",T(Input_Output!EY222),\"\")","v":""},null,null,{"$f":"IF(Input_Output!FA222=\"\",T(Input_Output!FB222),\"\")","v":""},null,null,{"$f":"IF(Input_Output!FD222=\"\",T(Input_Output!FE222),\"\")","v":""},null,null,{"$f":"IF(Input_Output!FG222=\"\",T(Input_Output!FH222),\"\")","v":""},null,null,{"$f":"IF(Input_Output!FJ222=\"\",T(Input_Output!FK222),\"\")","v":""},null,null,{"$f":"IF(Input_Output!FM222=\"\",T(Input_Output!FN222),\"\")","v":""},null,null,{"$f":"IF(Input_Output!FP222=\"\",T(Input_Output!FQ222),\"\")","v":""},null,null,{"$f":"IF(Input_Output!FS222=\"\",T(Input_Output!FT222),\"\")","v":""},null,null,{"$f":"IF(Input_Output!FV222=\"\",T(Input_Output!FW222),\"\")","v":""},null,null,{"$f":"IF(Input_Output!FY222=\"\",T(Input_Output!FZ222),\"\")","v":""},null,null,{"$f":"IF(Input_Output!GB222=\"\",T(Input_Output!GC222),\"\")","v":""},null,null,{"$f":"IF(Input_Output!GE222=\"\",T(Input_Output!GF222),\"\")","v":""},null,null,{"$f":"IF(Input_Output!GH222=\"\",T(Input_Output!GI222),\"\")","v":""},null,null,{"$f":"IF(Input_Output!GK222=\"\",T(Input_Output!GL222),\"\")","v":""},null,null,{"$f":"IF(Input_Output!GN222=\"\",T(Input_Output!GO222),\"\")","v":""},null,null,{"$f":"IF(Input_Output!GQ222=\"\",T(Input_Output!GR222),\"\")","v":""},null,null,{"$f":"IF(Input_Output!GT222=\"\",T(Input_Output!GU222),\"\")","v":""},null,null,{"$f":"IF(Input_Output!GW222=\"\",T(Input_Output!GX222),\"\")","v":""},null,null,{"$f":"IF(Input_Output!GZ222=\"\",T(Input_Output!HA222),\"\")","v":""},null,null,{"$f":"IF(Input_Output!HC222=\"\",T(Input_Output!HD222),\"\")","v":""},null,null,{"$f":"IF(Input_Output!HF222=\"\",T(Input_Output!HG222),\"\")","v":""},null,null,{"$f":"IF(Input_Output!HI222=\"\",T(Input_Output!HJ222),\"\")","v":""},null,null,{"$f":"IF(Input_Output!HL222=\"\",T(Input_Output!HM222),\"\")","v":""},null,null,{"$f":"IF(Input_Output!HO222=\"\",T(Input_Output!HP222),\"\")","v":""},null,null,{"$f":"IF(Input_Output!HR222=\"\",T(Input_Output!HS222),\"\")","v":""},null,null,{"$f":"IF(Input_Output!HU222=\"\",T(Input_Output!HV222),\"\")","v":""},null,null,{"$f":"IF(Input_Output!HX222=\"\",T(Input_Output!HY222),\"\")","v":""},null,null,{"$f":"IF(Input_Output!IA222=\"\",T(Input_Output!IB222),\"\")","v":""},null,null,{"$f":"IF(Input_Output!ID222=\"\",T(Input_Output!IE222),\"\")","v":""},null,null,{"$f":"IF(Input_Output!IG222=\"\",T(Input_Output!IH222),\"\")","v":""},null,null,{"$f":"IF(Input_Output!IJ222=\"\",T(Input_Output!IK222),\"\")","v":""},null,null,{"$f":"IF(Input_Output!IM222=\"\",T(Input_Output!IN222),\"\")","v":""},null,null,{"$f":"IF(Input_Output!IP222=\"\",T(Input_Output!IQ222),\"\")","v":""},null,null,{"$f":"IF(Input_Output!IS222=\"\",T(Input_Output!IT222),\"\")","v":""}]
[null,null,null,null,{"$f":"IF(Input_Output!D223=\"\",T(Input_Output!E223),\"\")","v":""},null,null,{"$f":"IF(Input_Output!G223=\"\",T(Input_Output!H223),\"\")","v":""},null,null,{"$f":"IF(Input_Output!J223=\"\",T(Input_Output!K223),\"\")","v":""},null,null,{"$f":"IF(Input_Output!M223=\"\",T(Input_Output!N223),\"\")","v":""},null,null,{"$f":"IF(Input_Output!P223=\"\",T(Input_Output!Q223),\"\")","v":""},null,null,{"$f":"IF(Input_Output!S223=\"\",T(Input_Output!T223),\"\")","v":""},null,null,{"$f":"IF(Input_Output!V223=\"\",T(Input_Output!W223),\"\")","v":""},null,null,{"$f":"IF(Input_Output!Y223=\"\",T(Input_Output!Z223),\"\")","v":""},null,null,{"$f":"IF(Input_Output!AB223=\"\",T(Input_Output!AC223),\"\")","v":""},null,null,{"$f":"IF(Input_Output!AE223=\"\",T(Input_Output!AF223),\"\")","v":""},null,null,{"$f":"IF(Input_Output!AH223=\"\",T(Input_Output!AI223),\"\")","v":""},null,null,{"$f":"IF(Input_Output!AK223=\"\",T(Input_Output!AL223),\"\")","v":""},null,null,{"$f":"IF(Input_Output!AN223=\"\",T(Input_Output!AO223),\"\")","v":""},null,null,{"$f":"IF(Input_Output!AQ223=\"\",T(Input_Output!AR223),\"\")","v":""},null,null,{"$f":"IF(Input_Output!AT223=\"\",T(Input_Output!AU223),\"\")","v":""},null,null,{"$f":"IF(Input_Output!AW223=\"\",T(Input_Output!AX223),\"\")","v":""},null,null,{"$f":"IF(Input_Output!AZ223=\"\",T(Input_Output!BA223),\"\")","v":""},null,null,{"$f":"IF(Input_Output!BC223=\"\",T(Input_Output!BD223),\"\")","v":""},null,null,{"$f":"IF(Input_Output!BF223=\"\",T(Input_Output!BG223),\"\")","v":""},null,null,{"$f":"IF(Input_Output!BI223=\"\",T(Input_Output!BJ223),\"\")","v":""},null,null,{"$f":"IF(Input_Output!BL223=\"\",T(Input_Output!BM223),\"\")","v":""},null,null,{"$f":"IF(Input_Output!BO223=\"\",T(Input_Output!BP223),\"\")","v":""},null,null,{"$f":"IF(Input_Output!BR223=\"\",T(Input_Output!BS223),\"\")","v":""},null,null,{"$f":"IF(Input_Output!BU223=\"\",T(Input_Output!BV223),\"\")","v":""},null,null,{"$f":"IF(Input_Output!BX223=\"\",T(Input_Output!BY223),\"\")","v":""},null,null,{"$f":"IF(Input_Output!CA223=\"\",T(Input_Output!CB223),\"\")","v":""},null,null,{"$f":"IF(Input_Output!CD223=\"\",T(Input_Output!CE223),\"\")","v":""},null,null,{"$f":"IF(Input_Output!CG223=\"\",T(Input_Output!CH223),\"\")","v":""},null,null,{"$f":"IF(Input_Output!CJ223=\"\",T(Input_Output!CK223),\"\")","v":""},null,null,{"$f":"IF(Input_Output!CM223=\"\",T(Input_Output!CN223),\"\")","v":""},null,null,{"$f":"IF(Input_Output!CP223=\"\",T(Input_Output!CQ223),\"\")","v":""},null,null,{"$f":"IF(Input_Output!CS223=\"\",T(Input_Output!CT223),\"\")","v":""},null,null,{"$f":"IF(Input_Output!CV223=\"\",T(Input_Output!CW223),\"\")","v":""},null,null,{"$f":"IF(Input_Output!CY223=\"\",T(Input_Output!CZ223),\"\")","v":""},null,null,{"$f":"IF(Input_Output!DB223=\"\",T(Input_Output!DC223),\"\")","v":""},null,null,{"$f":"IF(Input_Output!DE223=\"\",T(Input_Output!DF223),\"\")","v":""},null,null,{"$f":"IF(Input_Output!DH223=\"\",T(Input_Output!DI223),\"\")","v":""},null,null,{"$f":"IF(Input_Output!DK223=\"\",T(Input_Output!DL223),\"\")","v":""},null,null,{"$f":"IF(Input_Output!DN223=\"\",T(Input_Output!DO223),\"\")","v":""},null,null,{"$f":"IF(Input_Output!DQ223=\"\",T(Input_Output!DR223),\"\")","v":""},null,null,{"$f":"IF(Input_Output!DT223=\"\",T(Input_Output!DU223),\"\")","v":""},null,null,{"$f":"IF(Input_Output!DW223=\"\",T(Input_Output!DX223),\"\")","v":""},null,null,{"$f":"IF(Input_Output!DZ223=\"\",T(Input_Output!EA223),\"\")","v":""},null,null,{"$f":"IF(Input_Output!EC223=\"\",T(Input_Output!ED223),\"\")","v":""},null,null,{"$f":"IF(Input_Output!EF223=\"\",T(Input_Output!EG223),\"\")","v":""},null,null,{"$f":"IF(Input_Output!EI223=\"\",T(Input_Output!EJ223),\"\")","v":""},null,null,{"$f":"IF(Input_Output!EL223=\"\",T(Input_Output!EM223),\"\")","v":""},null,null,{"$f":"IF(Input_Output!EO223=\"\",T(Input_Output!EP223),\"\")","v":""},null,null,{"$f":"IF(Input_Output!ER223=\"\",T(Input_Output!ES223),\"\")","v":""},null,null,{"$f":"IF(Input_Output!EU223=\"\",T(Input_Output!EV223),\"\")","v":""},null,null,{"$f":"IF(Input_Output!EX223=\"\",T(Input_Output!EY223),\"\")","v":""},null,null,{"$f":"IF(Input_Output!FA223=\"\",T(Input_Output!FB223),\"\")","v":""},null,null,{"$f":"IF(Input_Output!FD223=\"\",T(Input_Output!FE223),\"\")","v":""},null,null,{"$f":"IF(Input_Output!FG223=\"\",T(Input_Output!FH223),\"\")","v":""},null,null,{"$f":"IF(Input_Output!FJ223=\"\",T(Input_Output!FK223),\"\")","v":""},null,null,{"$f":"IF(Input_Output!FM223=\"\",T(Input_Output!FN223),\"\")","v":""},null,null,{"$f":"IF(Input_Output!FP223=\"\",T(Input_Output!FQ223),\"\")","v":""},null,null,{"$f":"IF(Input_Output!FS223=\"\",T(Input_Output!FT223),\"\")","v":""},null,null,{"$f":"IF(Input_Output!FV223=\"\",T(Input_Output!FW223),\"\")","v":""},null,null,{"$f":"IF(Input_Output!FY223=\"\",T(Input_Output!FZ223),\"\")","v":""},null,null,{"$f":"IF(Input_Output!GB223=\"\",T(Input_Output!GC223),\"\")","v":""},null,null,{"$f":"IF(Input_Output!GE223=\"\",T(Input_Output!GF223),\"\")","v":""},null,null,{"$f":"IF(Input_Output!GH223=\"\",T(Input_Output!GI223),\"\")","v":""},null,null,{"$f":"IF(Input_Output!GK223=\"\",T(Input_Output!GL223),\"\")","v":""},null,null,{"$f":"IF(Input_Output!GN223=\"\",T(Input_Output!GO223),\"\")","v":""},null,null,{"$f":"IF(Input_Output!GQ223=\"\",T(Input_Output!GR223),\"\")","v":""},null,null,{"$f":"IF(Input_Output!GT223=\"\",T(Input_Output!GU223),\"\")","v":""},null,null,{"$f":"IF(Input_Output!GW223=\"\",T(Input_Output!GX223),\"\")","v":""},null,null,{"$f":"IF(Input_Output!GZ223=\"\",T(Input_Output!HA223),\"\")","v":""},null,null,{"$f":"IF(Input_Output!HC223=\"\",T(Input_Output!HD223),\"\")","v":""},null,null,{"$f":"IF(Input_Output!HF223=\"\",T(Input_Output!HG223),\"\")","v":""},null,null,{"$f":"IF(Input_Output!HI223=\"\",T(Input_Output!HJ223),\"\")","v":""},null,null,{"$f":"IF(Input_Output!HL223=\"\",T(Input_Output!HM223),\"\")","v":""},null,null,{"$f":"IF(Input_Output!HO223=\"\",T(Input_Output!HP223),\"\")","v":""},null,null,{"$f":"IF(Input_Output!HR223=\"\",T(Input_Output!HS223),\"\")","v":""},null,null,{"$f":"IF(Input_Output!HU223=\"\",T(Input_Output!HV223),\"\")","v":""},null,null,{"$f":"IF(Input_Output!HX223=\"\",T(Input_Output!HY223),\"\")","v":""},null,null,{"$f":"IF(Input_Output!IA223=\"\",T(Input_Output!IB223),\"\")","v":""},null,null,{"$f":"IF(Input_Output!ID223=\"\",T(Input_Output!IE223),\"\")","v":""},null,null,{"$f":"IF(Input_Output!IG223=\"\",T(Input_Output!IH223),\"\")","v":""},null,null,{"$f":"IF(Input_Output!IJ223=\"\",T(Input_Output!IK223),\"\")","v":""},null,null,{"$f":"IF(Input_Output!IM223=\"\",T(Input_Output!IN223),\"\")","v":""},null,null,{"$f":"IF(Input_Output!IP223=\"\",T(Input_Output!IQ223),\"\")","v":""},null,null,{"$f":"IF(Input_Output!IS223=\"\",T(Input_Output!IT223),\"\")","v":""}]
[null,null,null,null,{"$f":"IF(Input_Output!D224=\"\",T(Input_Output!E224),\"\")","v":""},null,null,{"$f":"IF(Input_Output!G224=\"\",T(Input_Output!H224),\"\")","v":""},null,null,{"$f":"IF(Input_Output!J224=\"\",T(Input_Output!K224),\"\")","v":""},null,null,{"$f":"IF(Input_Output!M224=\"\",T(Input_Output!N224),\"\")","v":""},null,null,{"$f":"IF(Input_Output!P224=\"\",T(Input_Output!Q224),\"\")","v":""},null,null,{"$f":"IF(Input_Output!S224=\"\",T(Input_Output!T224),\"\")","v":""},null,null,{"$f":"IF(Input_Output!V224=\"\",T(Input_Output!W224),\"\")","v":""},null,null,{"$f":"IF(Input_Output!Y224=\"\",T(Input_Output!Z224),\"\")","v":""},null,null,{"$f":"IF(Input_Output!AB224=\"\",T(Input_Output!AC224),\"\")","v":""},null,null,{"$f":"IF(Input_Output!AE224=\"\",T(Input_Output!AF224),\"\")","v":""},null,null,{"$f":"IF(Input_Output!AH224=\"\",T(Input_Output!AI224),\"\")","v":""},null,null,{"$f":"IF(Input_Output!AK224=\"\",T(Input_Output!AL224),\"\")","v":""},null,null,{"$f":"IF(Input_Output!AN224=\"\",T(Input_Output!AO224),\"\")","v":""},null,null,{"$f":"IF(Input_Output!AQ224=\"\",T(Input_Output!AR224),\"\")","v":""},null,null,{"$f":"IF(Input_Output!AT224=\"\",T(Input_Output!AU224),\"\")","v":""},null,null,{"$f":"IF(Input_Output!AW224=\"\",T(Input_Output!AX224),\"\")","v":""},null,null,{"$f":"IF(Input_Output!AZ224=\"\",T(Input_Output!BA224),\"\")","v":""},null,null,{"$f":"IF(Input_Output!BC224=\"\",T(Input_Output!BD224),\"\")","v":""},null,null,{"$f":"IF(Input_Output!BF224=\"\",T(Input_Output!BG224),\"\")","v":""},null,null,{"$f":"IF(Input_Output!BI224=\"\",T(Input_Output!BJ224),\"\")","v":""},null,null,{"$f":"IF(Input_Output!BL224=\"\",T(Input_Output!BM224),\"\")","v":""},null,null,{"$f":"IF(Input_Output!BO224=\"\",T(Input_Output!BP224),\"\")","v":""},null,null,{"$f":"IF(Input_Output!BR224=\"\",T(Input_Output!BS224),\"\")","v":""},null,null,{"$f":"IF(Input_Output!BU224=\"\",T(Input_Output!BV224),\"\")","v":""},null,null,{"$f":"IF(Input_Output!BX224=\"\",T(Input_Output!BY224),\"\")","v":""},null,null,{"$f":"IF(Input_Output!CA224=\"\",T(Input_Output!CB224),\"\")","v":""},null,null,{"$f":"IF(Input_Output!CD224=\"\",T(Input_Output!CE224),\"\")","v":""},null,null,{"$f":"IF(Input_Output!CG224=\"\",T(Input_Output!CH224),\"\")","v":""},null,null,{"$f":"IF(Input_Output!CJ224=\"\",T(Input_Output!CK224),\"\")","v":""},null,null,{"$f":"IF(Input_Output!CM224=\"\",T(Input_Output!CN224),\"\")","v":""},null,null,{"$f":"IF(Input_Output!CP224=\"\",T(Input_Output!CQ224),\"\")","v":""},null,null,{"$f":"IF(Input_Output!CS224=\"\",T(Input_Output!CT224),\"\")","v":""},null,null,{"$f":"IF(Input_Output!CV224=\"\",T(Input_Output!CW224),\"\")","v":""},null,null,{"$f":"IF(Input_Output!CY224=\"\",T(Input_Output!CZ224),\"\")","v":""},null,null,{"$f":"IF(Input_Output!DB224=\"\",T(Input_Output!DC224),\"\")","v":""},null,null,{"$f":"IF(Input_Output!DE224=\"\",T(Input_Output!DF224),\"\")","v":""},null,null,{"$f":"IF(Input_Output!DH224=\"\",T(Input_Output!DI224),\"\")","v":""},null,null,{"$f":"IF(Input_Output!DK224=\"\",T(Input_Output!DL224),\"\")","v":""},null,null,{"$f":"IF(Input_Output!DN224=\"\",T(Input_Output!DO224),\"\")","v":""},null,null,{"$f":"IF(Input_Output!DQ224=\"\",T(Input_Output!DR224),\"\")","v":""},null,null,{"$f":"IF(Input_Output!DT224=\"\",T(Input_Output!DU224),\"\")","v":""},null,null,{"$f":"IF(Input_Output!DW224=\"\",T(Input_Output!DX224),\"\")","v":""},null,null,{"$f":"IF(Input_Output!DZ224=\"\",T(Input_Output!EA224),\"\")","v":""},null,null,{"$f":"IF(Input_Output!EC224=\"\",T(Input_Output!ED224),\"\")","v":""},null,null,{"$f":"IF(Input_Output!EF224=\"\",T(Input_Output!EG224),\"\")","v":""},null,null,{"$f":"IF(Input_Output!EI224=\"\",T(Input_Output!EJ224),\"\")","v":""},null,null,{"$f":"IF(Input_Output!EL224=\"\",T(Input_Output!EM224),\"\")","v":""},null,null,{"$f":"IF(Input_Output!EO224=\"\",T(Input_Output!EP224),\"\")","v":""},null,null,{"$f":"IF(Input_Output!ER224=\"\",T(Input_Output!ES224),\"\")","v":""},null,null,{"$f":"IF(Input_Output!EU224=\"\",T(Input_Output!EV224),\"\")","v":""},null,null,{"$f":"IF(Input_Output!EX224=\"\",T(Input_Output!EY224),\"\")","v":""},null,null,{"$f":"IF(Input_Output!FA224=\"\",T(Input_Output!FB224),\"\")","v":""},null,null,{"$f":"IF(Input_Output!FD224=\"\",T(Input_Output!FE224),\"\")","v":""},null,null,{"$f":"IF(Input_Output!FG224=\"\",T(Input_Output!FH224),\"\")","v":""},null,null,{"$f":"IF(Input_Output!FJ224=\"\",T(Input_Output!FK224),\"\")","v":""},null,null,{"$f":"IF(Input_Output!FM224=\"\",T(Input_Output!FN224),\"\")","v":""},null,null,{"$f":"IF(Input_Output!FP224=\"\",T(Input_Output!FQ224),\"\")","v":""},null,null,{"$f":"IF(Input_Output!FS224=\"\",T(Input_Output!FT224),\"\")","v":""},null,null,{"$f":"IF(Input_Output!FV224=\"\",T(Input_Output!FW224),\"\")","v":""},null,null,{"$f":"IF(Input_Output!FY224=\"\",T(Input_Output!FZ224),\"\")","v":""},null,null,{"$f":"IF(Input_Output!GB224=\"\",T(Input_Output!GC224),\"\")","v":""},null,null,{"$f":"IF(Input_Output!GE224=\"\",T(Input_Output!GF224),\"\")","v":""},null,null,{"$f":"IF(Input_Output!GH224=\"\",T(Input_Output!GI224),\"\")","v":""},null,null,{"$f":"IF(Input_Output!GK224=\"\",T(Input_Output!GL224),\"\")","v":""},null,null,{"$f":"IF(Input_Output!GN224=\"\",T(Input_Output!GO224),\"\")","v":""},null,null,{"$f":"IF(Input_Output!GQ224=\"\",T(Input_Output!GR224),\"\")","v":""},null,null,{"$f":"IF(Input_Output!GT224=\"\",T(Input_Output!GU224),\"\")","v":""},null,null,{"$f":"IF(Input_Output!GW224=\"\",T(Input_Output!GX224),\"\")","v":""},null,null,{"$f":"IF(Input_Output!GZ224=\"\",T(Input_Output!HA224),\"\")","v":""},null,null,{"$f":"IF(Input_Output!HC224=\"\",T(Input_Output!HD224),\"\")","v":""},null,null,{"$f":"IF(Input_Output!HF224=\"\",T(Input_Output!HG224),\"\")","v":""},null,null,{"$f":"IF(Input_Output!HI224=\"\",T(Input_Output!HJ224),\"\")","v":""},null,null,{"$f":"IF(Input_Output!HL224=\"\",T(Input_Output!HM224),\"\")","v":""},null,null,{"$f":"IF(Input_Output!HO224=\"\",T(Input_Output!HP224),\"\")","v":""},null,null,{"$f":"IF(Input_Output!HR224=\"\",T(Input_Output!HS224),\"\")","v":""},null,null,{"$f":"IF(Input_Output!HU224=\"\",T(Input_Output!HV224),\"\")","v":""},null,null,{"$f":"IF(Input_Output!HX224=\"\",T(Input_Output!HY224),\"\")","v":""},null,null,{"$f":"IF(Input_Output!IA224=\"\",T(Input_Output!IB224),\"\")","v":""},null,null,{"$f":"IF(Input_Output!ID224=\"\",T(Input_Output!IE224),\"\")","v":""},null,null,{"$f":"IF(Input_Output!IG224=\"\",T(Input_Output!IH224),\"\")","v":""},null,null,{"$f":"IF(Input_Output!IJ224=\"\",T(Input_Output!IK224),\"\")","v":""},null,null,{"$f":"IF(Input_Output!IM224=\"\",T(Input_Output!IN224),\"\")","v":""},null,null,{"$f":"IF(Input_Output!IP224=\"\",T(Input_Output!IQ224),\"\")","v":""},null,null,{"$f":"IF(Input_Output!IS224=\"\",T(Input_Output!IT224),\"\")","v":""}]
[null,null,null,null,{"$f":"IF(Input_Output!D225=\"\",T(Input_Output!E225),\"\")","v":""},null,null,{"$f":"IF(Input_Output!G225=\"\",T(Input_Output!H225),\"\")","v":""},null,null,{"$f":"IF(Input_Output!J225=\"\",T(Input_Output!K225),\"\")","v":""},null,null,{"$f":"IF(Input_Output!M225=\"\",T(Input_Output!N225),\"\")","v":""},null,null,{"$f":"IF(Input_Output!P225=\"\",T(Input_Output!Q225),\"\")","v":""},null,null,{"$f":"IF(Input_Output!S225=\"\",T(Input_Output!T225),\"\")","v":""},null,null,{"$f":"IF(Input_Output!V225=\"\",T(Input_Output!W225),\"\")","v":""},null,null,{"$f":"IF(Input_Output!Y225=\"\",T(Input_Output!Z225),\"\")","v":""},null,null,{"$f":"IF(Input_Output!AB225=\"\",T(Input_Output!AC225),\"\")","v":""},null,null,{"$f":"IF(Input_Output!AE225=\"\",T(Input_Output!AF225),\"\")","v":""},null,null,{"$f":"IF(Input_Output!AH225=\"\",T(Input_Output!AI225),\"\")","v":""},null,null,{"$f":"IF(Input_Output!AK225=\"\",T(Input_Output!AL225),\"\")","v":""},null,null,{"$f":"IF(Input_Output!AN225=\"\",T(Input_Output!AO225),\"\")","v":""},null,null,{"$f":"IF(Input_Output!AQ225=\"\",T(Input_Output!AR225),\"\")","v":""},null,null,{"$f":"IF(Input_Output!AT225=\"\",T(Input_Output!AU225),\"\")","v":""},null,null,{"$f":"IF(Input_Output!AW225=\"\",T(Input_Output!AX225),\"\")","v":""},null,null,{"$f":"IF(Input_Output!AZ225=\"\",T(Input_Output!BA225),\"\")","v":""},null,null,{"$f":"IF(Input_Output!BC225=\"\",T(Input_Output!BD225),\"\")","v":""},null,null,{"$f":"IF(Input_Output!BF225=\"\",T(Input_Output!BG225),\"\")","v":""},null,null,{"$f":"IF(Input_Output!BI225=\"\",T(Input_Output!BJ225),\"\")","v":""},null,null,{"$f":"IF(Input_Output!BL225=\"\",T(Input_Output!BM225),\"\")","v":""},null,null,{"$f":"IF(Input_Output!BO225=\"\",T(Input_Output!BP225),\"\")","v":""},null,null,{"$f":"IF(Input_Output!BR225=\"\",T(Input_Output!BS225),\"\")","v":""},null,null,{"$f":"IF(Input_Output!BU225=\"\",T(Input_Output!BV225),\"\")","v":""},null,null,{"$f":"IF(Input_Output!BX225=\"\",T(Input_Output!BY225),\"\")","v":""},null,null,{"$f":"IF(Input_Output!CA225=\"\",T(Input_Output!CB225),\"\")","v":""},null,null,{"$f":"IF(Input_Output!CD225=\"\",T(Input_Output!CE225),\"\")","v":""},null,null,{"$f":"IF(Input_Output!CG225=\"\",T(Input_Output!CH225),\"\")","v":""},null,null,{"$f":"IF(Input_Output!CJ225=\"\",T(Input_Output!CK225),\"\")","v":""},null,null,{"$f":"IF(Input_Output!CM225=\"\",T(Input_Output!CN225),\"\")","v":""},null,null,{"$f":"IF(Input_Output!CP225=\"\",T(Input_Output!CQ225),\"\")","v":""},null,null,{"$f":"IF(Input_Output!CS225=\"\",T(Input_Output!CT225),\"\")","v":""},null,null,{"$f":"IF(Input_Output!CV225=\"\",T(Input_Output!CW225),\"\")","v":""},null,null,{"$f":"IF(Input_Output!CY225=\"\",T(Input_Output!CZ225),\"\")","v":""},null,null,{"$f":"IF(Input_Output!DB225=\"\",T(Input_Output!DC225),\"\")","v":""},null,null,{"$f":"IF(Input_Output!DE225=\"\",T(Input_Output!DF225),\"\")","v":""},null,null,{"$f":"IF(Input_Output!DH225=\"\",T(Input_Output!DI225),\"\")","v":""},null,null,{"$f":"IF(Input_Output!DK225=\"\",T(Input_Output!DL225),\"\")","v":""},null,null,{"$f":"IF(Input_Output!DN225=\"\",T(Input_Output!DO225),\"\")","v":""},null,null,{"$f":"IF(Input_Output!DQ225=\"\",T(Input_Output!DR225),\"\")","v":""},null,null,{"$f":"IF(Input_Output!DT225=\"\",T(Input_Output!DU225),\"\")","v":""},null,null,{"$f":"IF(Input_Output!DW225=\"\",T(Input_Output!DX225),\"\")","v":""},null,null,{"$f":"IF(Input_Output!DZ225=\"\",T(Input_Output!EA225),\"\")","v":""},null,null,{"$f":"IF(Input_Output!EC225=\"\",T(Input_Output!ED225),\"\")","v":""},null,null,{"$f":"IF(Input_Output!EF225=\"\",T(Input_Output!EG225),\"\")","v":""},null,null,{"$f":"IF(Input_Output!EI225=\"\",T(Input_Output!EJ225),\"\")","v":""},null,null,{"$f":"IF(Input_Output!EL225=\"\",T(Input_Output!EM225),\"\")","v":""},null,null,{"$f":"IF(Input_Output!EO225=\"\",T(Input_Output!EP225),\"\")","v":""},null,null,{"$f":"IF(Input_Output!ER225=\"\",T(Input_Output!ES225),\"\")","v":""},null,null,{"$f":"IF(Input_Output!EU225=\"\",T(Input_Output!EV225),\"\")","v":""},null,null,{"$f":"IF(Input_Output!EX225=\"\",T(Input_Output!EY225),\"\")","v":""},null,null,{"$f":"IF(Input_Output!FA225=\"\",T(Input_Output!FB225),\"\")","v":""},null,null,{"$f":"IF(Input_Output!FD225=\"\",T(Input_Output!FE225),\"\")","v":""},null,null,{"$f":"IF(Input_Output!FG225=\"\",T(Input_Output!FH225),\"\")","v":""},null,null,{"$f":"IF(Input_Output!FJ225=\"\",T(Input_Output!FK225),\"\")","v":""},null,null,{"$f":"IF(Input_Output!FM225=\"\",T(Input_Output!FN225),\"\")","v":""},null,null,{"$f":"IF(Input_Output!FP225=\"\",T(Input_Output!FQ225),\"\")","v":""},null,null,{"$f":"IF(Input_Output!FS225=\"\",T(Input_Output!FT225),\"\")","v":""},null,null,{"$f":"IF(Input_Output!FV225=\"\",T(Input_Output!FW225),\"\")","v":""},null,null,{"$f":"IF(Input_Output!FY225=\"\",T(Input_Output!FZ225),\"\")","v":""},null,null,{"$f":"IF(Input_Output!GB225=\"\",T(Input_Output!GC225),\"\")","v":""},null,null,{"$f":"IF(Input_Output!GE225=\"\",T(Input_Output!GF225),\"\")","v":""},null,null,{"$f":"IF(Input_Output!GH225=\"\",T(Input_Output!GI225),\"\")","v":""},null,null,{"$f":"IF(Input_Output!GK225=\"\",T(Input_Output!GL225),\"\")","v":""},null,null,{"$f":"IF(Input_Output!GN225=\"\",T(Input_Output!GO225),\"\")","v":""},null,null,{"$f":"IF(Input_Output!GQ225=\"\",T(Input_Output!GR225),\"\")","v":""},null,null,{"$f":"IF(Input_Output!GT225=\"\",T(Input_Output!GU225),\"\")","v":""},null,null,{"$f":"IF(Input_Output!GW225=\"\",T(Input_Output!GX225),\"\")","v":""},null,null,{"$f":"IF(Input_Output!GZ225=\"\",T(Input_Output!HA225),\"\")","v":""},null,null,{"$f":"IF(Input_Output!HC225=\"\",T(Input_Output!HD225),\"\")","v":""},null,null,{"$f":"IF(Input_Output!HF225=\"\",T(Input_Output!HG225),\"\")","v":""},null,null,{"$f":"IF(Input_Output!HI225=\"\",T(Input_Output!HJ225),\"\")","v":""},null,null,{"$f":"IF(Input_Output!HL225=\"\",T(Input_Output!HM225),\"\")","v":""},null,null,{"$f":"IF(Input_Output!HO225=\"\",T(Input_Output!HP225),\"\")","v":""},null,null,{"$f":"IF(Input_Output!HR225=\"\",T(Input_Output!HS225),\"\")","v":""},null,null,{"$f":"IF(Input_Output!HU225=\"\",T(Input_Output!HV225),\"\")","v":""},null,null,{"$f":"IF(Input_Output!HX225=\"\",T(Input_Output!HY225),\"\")","v":""},null,null,{"$f":"IF(Input_Output!IA225=\"\",T(Input_Output!IB225),\"\")","v":""},null,null,{"$f":"IF(Input_Output!ID225=\"\",T(Input_Output!IE225),\"\")","v":""},null,null,{"$f":"IF(Input_Output!IG225=\"\",T(Input_Output!IH225),\"\")","v":""},null,null,{"$f":"IF(Input_Output!IJ225=\"\",T(Input_Output!IK225),\"\")","v":""},null,null,{"$f":"IF(Input_Output!IM225=\"\",T(Input_Output!IN225),\"\")","v":""},null,null,{"$f":"IF(Input_Output!IP225=\"\",T(Input_Output!IQ225),\"\")","v":""},null,null,{"$f":"IF(Input_Output!IS225=\"\",T(Input_Output!IT225),\"\")","v":""}]
[null,null,null,null,{"$f":"IF(Input_Output!D226=\"\",T(Input_Output!E226),\"\")","v":""},null,null,{"$f":"IF(Input_Output!G226=\"\",T(Input_Output!H226),\"\")","v":""},null,null,{"$f":"IF(Input_Output!J226=\"\",T(Input_Output!K226),\"\")","v":""},null,null,{"$f":"IF(Input_Output!M226=\"\",T(Input_Output!N226),\"\")","v":""},null,null,{"$f":"IF(Input_Output!P226=\"\",T(Input_Output!Q226),\"\")","v":""},null,null,{"$f":"IF(Input_Output!S226=\"\",T(Input_Output!T226),\"\")","v":""},null,null,{"$f":"IF(Input_Output!V226=\"\",T(Input_Output!W226),\"\")","v":""},null,null,{"$f":"IF(Input_Output!Y226=\"\",T(Input_Output!Z226),\"\")","v":""},null,null,{"$f":"IF(Input_Output!AB226=\"\",T(Input_Output!AC226),\"\")","v":""},null,null,{"$f":"IF(Input_Output!AE226=\"\",T(Input_Output!AF226),\"\")","v":""},null,null,{"$f":"IF(Input_Output!AH226=\"\",T(Input_Output!AI226),\"\")","v":""},null,null,{"$f":"IF(Input_Output!AK226=\"\",T(Input_Output!AL226),\"\")","v":""},null,null,{"$f":"IF(Input_Output!AN226=\"\",T(Input_Output!AO226),\"\")","v":""},null,null,{"$f":"IF(Input_Output!AQ226=\"\",T(Input_Output!AR226),\"\")","v":""},null,null,{"$f":"IF(Input_Output!AT226=\"\",T(Input_Output!AU226),\"\")","v":""},null,null,{"$f":"IF(Input_Output!AW226=\"\",T(Input_Output!AX226),\"\")","v":""},null,null,{"$f":"IF(Input_Output!AZ226=\"\",T(Input_Output!BA226),\"\")","v":""},null,null,{"$f":"IF(Input_Output!BC226=\"\",T(Input_Output!BD226),\"\")","v":""},null,null,{"$f":"IF(Input_Output!BF226=\"\",T(Input_Output!BG226),\"\")","v":""},null,null,{"$f":"IF(Input_Output!BI226=\"\",T(Input_Output!BJ226),\"\")","v":""},null,null,{"$f":"IF(Input_Output!BL226=\"\",T(Input_Output!BM226),\"\")","v":""},null,null,{"$f":"IF(Input_Output!BO226=\"\",T(Input_Output!BP226),\"\")","v":""},null,null,{"$f":"IF(Input_Output!BR226=\"\",T(Input_Output!BS226),\"\")","v":""},null,null,{"$f":"IF(Input_Output!BU226=\"\",T(Input_Output!BV226),\"\")","v":""},null,null,{"$f":"IF(Input_Output!BX226=\"\",T(Input_Output!BY226),\"\")","v":""},null,null,{"$f":"IF(Input_Output!CA226=\"\",T(Input_Output!CB226),\"\")","v":""},null,null,{"$f":"IF(Input_Output!CD226=\"\",T(Input_Output!CE226),\"\")","v":""},null,null,{"$f":"IF(Input_Output!CG226=\"\",T(Input_Output!CH226),\"\")","v":""},null,null,{"$f":"IF(Input_Output!CJ226=\"\",T(Input_Output!CK226),\"\")","v":""},null,null,{"$f":"IF(Input_Output!CM226=\"\",T(Input_Output!CN226),\"\")","v":""},null,null,{"$f":"IF(Input_Output!CP226=\"\",T(Input_Output!CQ226),\"\")","v":""},null,null,{"$f":"IF(Input_Output!CS226=\"\",T(Input_Output!CT226),\"\")","v":""},null,null,{"$f":"IF(Input_Output!CV226=\"\",T(Input_Output!CW226),\"\")","v":""},null,null,{"$f":"IF(Input_Output!CY226=\"\",T(Input_Output!CZ226),\"\")","v":""},null,null,{"$f":"IF(Input_Output!DB226=\"\",T(Input_Output!DC226),\"\")","v":""},null,null,{"$f":"IF(Input_Output!DE226=\"\",T(Input_Output!DF226),\"\")","v":""},null,null,{"$f":"IF(Input_Output!DH226=\"\",T(Input_Output!DI226),\"\")","v":""},null,null,{"$f":"IF(Input_Output!DK226=\"\",T(Input_Output!DL226),\"\")","v":""},null,null,{"$f":"IF(Input_Output!DN226=\"\",T(Input_Output!DO226),\"\")","v":""},null,null,{"$f":"IF(Input_Output!DQ226=\"\",T(Input_Output!DR226),\"\")","v":""},null,null,{"$f":"IF(Input_Output!DT226=\"\",T(Input_Output!DU226),\"\")","v":""},null,null,{"$f":"IF(Input_Output!DW226=\"\",T(Input_Output!DX226),\"\")","v":""},null,null,{"$f":"IF(Input_Output!DZ226=\"\",T(Input_Output!EA226),\"\")","v":""},null,null,{"$f":"IF(Input_Output!EC226=\"\",T(Input_Output!ED226),\"\")","v":""},null,null,{"$f":"IF(Input_Output!EF226=\"\",T(Input_Output!EG226),\"\")","v":""},null,null,{"$f":"IF(Input_Output!EI226=\"\",T(Input_Output!EJ226),\"\")","v":""},null,null,{"$f":"IF(Input_Output!EL226=\"\",T(Input_Output!EM226),\"\")","v":""},null,null,{"$f":"IF(Input_Output!EO226=\"\",T(Input_Output!EP226),\"\")","v":""},null,null,{"$f":"IF(Input_Output!ER226=\"\",T(Input_Output!ES226),\"\")","v":""},null,null,{"$f":"IF(Input_Output!EU226=\"\",T(Input_Output!EV226),\"\")","v":""},null,null,{"$f":"IF(Input_Output!EX226=\"\",T(Input_Output!EY226),\"\")","v":""},null,null,{"$f":"IF(Input_Output!FA226=\"\",T(Input_Output!FB226),\"\")","v":""},null,null,{"$f":"IF(Input_Output!FD226=\"\",T(Input_Output!FE226),\"\")","v":""},null,null,{"$f":"IF(Input_Output!FG226=\"\",T(Input_Output!FH226),\"\")","v":""},null,null,{"$f":"IF(Input_Output!FJ226=\"\",T(Input_Output!FK226),\"\")","v":""},null,null,{"$f":"IF(Input_Output!FM226=\"\",T(Input_Output!FN226),\"\")","v":""},null,null,{"$f":"IF(Input_Output!FP226=\"\",T(Input_Output!FQ226),\"\")","v":""},null,null,{"$f":"IF(Input_Output!FS226=\"\",T(Input_Output!FT226),\"\")","v":""},null,null,{"$f":"IF(Input_Output!FV226=\"\",T(Input_Output!FW226),\"\")","v":""},null,null,{"$f":"IF(Input_Output!FY226=\"\",T(Input_Output!FZ226),\"\")","v":""},null,null,{"$f":"IF(Input_Output!GB226=\"\",T(Input_Output!GC226),\"\")","v":""},null,null,{"$f":"IF(Input_Output!GE226=\"\",T(Input_Output!GF226),\"\")","v":""},null,null,{"$f":"IF(Input_Output!GH226=\"\",T(Input_Output!GI226),\"\")","v":""},null,null,{"$f":"IF(Input_Output!GK226=\"\",T(Input_Output!GL226),\"\")","v":""},null,null,{"$f":"IF(Input_Output!GN226=\"\",T(Input_Output!GO226),\"\")","v":""},null,null,{"$f":"IF(Input_Output!GQ226=\"\",T(Input_Output!GR226),\"\")","v":""},null,null,{"$f":"IF(Input_Output!GT226=\"\",T(Input_Output!GU226),\"\")","v":""},null,null,{"$f":"IF(Input_Output!GW226=\"\",T(Input_Output!GX226),\"\")","v":""},null,null,{"$f":"IF(Input_Output!GZ226=\"\",T(Input_Output!HA226),\"\")","v":""},null,null,{"$f":"IF(Input_Output!HC226=\"\",T(Input_Output!HD226),\"\")","v":""},null,null,{"$f":"IF(Input_Output!HF226=\"\",T(Input_Output!HG226),\"\")","v":""},null,null,{"$f":"IF(Input_Output!HI226=\"\",T(Input_Output!HJ226),\"\")","v":""},null,null,{"$f":"IF(Input_Output!HL226=\"\",T(Input_Output!HM226),\"\")","v":""},null,null,{"$f":"IF(Input_Output!HO226=\"\",T(Input_Output!HP226),\"\")","v":""},null,null,{"$f":"IF(Input_Output!HR226=\"\",T(Input_Output!HS226),\"\")","v":""},null,null,{"$f":"IF(Input_Output!HU226=\"\",T(Input_Output!HV226),\"\")","v":""},null,null,{"$f":"IF(Input_Output!HX226=\"\",T(Input_Output!HY226),\"\")","v":""},null,null,{"$f":"IF(Input_Output!IA226=\"\",T(Input_Output!IB226),\"\")","v":""},null,null,{"$f":"IF(Input_Output!ID226=\"\",T(Input_Output!IE226),\"\")","v":""},null,null,{"$f":"IF(Input_Output!IG226=\"\",T(Input_Output!IH226),\"\")","v":""},null,null,{"$f":"IF(Input_Output!IJ226=\"\",T(Input_Output!IK226),\"\")","v":""},null,null,{"$f":"IF(Input_Output!IM226=\"\",T(Input_Output!IN226),\"\")","v":""},null,null,{"$f":"IF(Input_Output!IP226=\"\",T(Input_Output!IQ226),\"\")","v":""},null,null,{"$f":"IF(Input_Output!IS226=\"\",T(Input_Output!IT226),\"\")","v":""}]
[null,null,null,null,{"$f":"IF(Input_Output!D227=\"\",T(Input_Output!E227),\"\")","v":""},null,null,{"$f":"IF(Input_Output!G227=\"\",T(Input_Output!H227),\"\")","v":""},null,null,{"$f":"IF(Input_Output!J227=\"\",T(Input_Output!K227),\"\")","v":""},null,null,{"$f":"IF(Input_Output!M227=\"\",T(Input_Output!N227),\"\")","v":""},null,null,{"$f":"IF(Input_Output!P227=\"\",T(Input_Output!Q227),\"\")","v":""},null,null,{"$f":"IF(Input_Output!S227=\"\",T(Input_Output!T227),\"\")","v":""},null,null,{"$f":"IF(Input_Output!V227=\"\",T(Input_Output!W227),\"\")","v":""},null,null,{"$f":"IF(Input_Output!Y227=\"\",T(Input_Output!Z227),\"\")","v":""},null,null,{"$f":"IF(Input_Output!AB227=\"\",T(Input_Output!AC227),\"\")","v":""},null,null,{"$f":"IF(Input_Output!AE227=\"\",T(Input_Output!AF227),\"\")","v":""},null,null,{"$f":"IF(Input_Output!AH227=\"\",T(Input_Output!AI227),\"\")","v":""},null,null,{"$f":"IF(Input_Output!AK227=\"\",T(Input_Output!AL227),\"\")","v":""},null,null,{"$f":"IF(Input_Output!AN227=\"\",T(Input_Output!AO227),\"\")","v":""},null,null,{"$f":"IF(Input_Output!AQ227=\"\",T(Input_Output!AR227),\"\")","v":""},null,null,{"$f":"IF(Input_Output!AT227=\"\",T(Input_Output!AU227),\"\")","v":""},null,null,{"$f":"IF(Input_Output!AW227=\"\",T(Input_Output!AX227),\"\")","v":""},null,null,{"$f":"IF(Input_Output!AZ227=\"\",T(Input_Output!BA227),\"\")","v":""},null,null,{"$f":"IF(Input_Output!BC227=\"\",T(Input_Output!BD227),\"\")","v":""},null,null,{"$f":"IF(Input_Output!BF227=\"\",T(Input_Output!BG227),\"\")","v":""},null,null,{"$f":"IF(Input_Output!BI227=\"\",T(Input_Output!BJ227),\"\")","v":""},null,null,{"$f":"IF(Input_Output!BL227=\"\",T(Input_Output!BM227),\"\")","v":""},null,null,{"$f":"IF(Input_Output!BO227=\"\",T(Input_Output!BP227),\"\")","v":""},null,null,{"$f":"IF(Input_Output!BR227=\"\",T(Input_Output!BS227),\"\")","v":""},null,null,{"$f":"IF(Input_Output!BU227=\"\",T(Input_Output!BV227),\"\")","v":""},null,null,{"$f":"IF(Input_Output!BX227=\"\",T(Input_Output!BY227),\"\")","v":""},null,null,{"$f":"IF(Input_Output!CA227=\"\",T(Input_Output!CB227),\"\")","v":""},null,null,{"$f":"IF(Input_Output!CD227=\"\",T(Input_Output!CE227),\"\")","v":""},null,null,{"$f":"IF(Input_Output!CG227=\"\",T(Input_Output!CH227),\"\")","v":""},null,null,{"$f":"IF(Input_Output!CJ227=\"\",T(Input_Output!CK227),\"\")","v":""},null,null,{"$f":"IF(Input_Output!CM227=\"\",T(Input_Output!CN227),\"\")","v":""},null,null,{"$f":"IF(Input_Output!CP227=\"\",T(Input_Output!CQ227),\"\")","v":""},null,null,{"$f":"IF(Input_Output!CS227=\"\",T(Input_Output!CT227),\"\")","v":""},null,null,{"$f":"IF(Input_Output!CV227=\"\",T(Input_Output!CW227),\"\")","v":""},null,null,{"$f":"IF(Input_Output!CY227=\"\",T(Input_Output!CZ227),\"\")","v":""},null,null,{"$f":"IF(Input_Output!DB227=\"\",T(Input_Output!DC227),\"\")","v":""},null,null,{"$f":"IF(Input_Output!DE227=\"\",T(Input_Output!DF227),\"\")","v":""},null,null,{"$f":"IF(Input_Output!DH227=\"\",T(Input_Output!DI227),\"\")","v":""},null,null,{"$f":"IF(Input_Output!DK227=\"\",T(Input_Output!DL227),\"\")","v":""},null,null,{"$f":"IF(Input_Output!DN227=\"\",T(Input_Output!DO227),\"\")","v":""},null,null,{"$f":"IF(Input_Output!DQ227=\"\",T(Input_Output!DR227),\"\")","v":""},null,null,{"$f":"IF(Input_Output!DT227=\"\",T(Input_Output!DU227),\"\")","v":""},null,null,{"$f":"IF(Input_Output!DW227=\"\",T(Input_Output!DX227),\"\")","v":""},null,null,{"$f":"IF(Input_Output!DZ227=\"\",T(Input_Output!EA227),\"\")","v":""},null,null,{"$f":"IF(Input_Output!EC227=\"\",T(Input_Output!ED227),\"\")","v":""},null,null,{"$f":"IF(Input_Output!EF227=\"\",T(Input_Output!EG227),\"\")","v":""},null,null,{"$f":"IF(Input_Output!EI227=\"\",T(Input_Output!EJ227),\"\")","v":""},null,null,{"$f":"IF(Input_Output!EL227=\"\",T(Input_Output!EM227),\"\")","v":""},null,null,{"$f":"IF(Input_Output!EO227=\"\",T(Input_Output!EP227),\"\")","v":""},null,null,{"$f":"IF(Input_Output!ER227=\"\",T(Input_Output!ES227),\"\")","v":""},null,null,{"$f":"IF(Input_Output!EU227=\"\",T(Input_Output!EV227),\"\")","v":""},null,null,{"$f":"IF(Input_Output!EX227=\"\",T(Input_Output!EY227),\"\")","v":""},null,null,{"$f":"IF(Input_Output!FA227=\"\",T(Input_Output!FB227),\"\")","v":""},null,null,{"$f":"IF(Input_Output!FD227=\"\",T(Input_Output!FE227),\"\")","v":""},null,null,{"$f":"IF(Input_Output!FG227=\"\",T(Input_Output!FH227),\"\")","v":""},null,null,{"$f":"IF(Input_Output!FJ227=\"\",T(Input_Output!FK227),\"\")","v":""},null,null,{"$f":"IF(Input_Output!FM227=\"\",T(Input_Output!FN227),\"\")","v":""},null,null,{"$f":"IF(Input_Output!FP227=\"\",T(Input_Output!FQ227),\"\")","v":""},null,null,{"$f":"IF(Input_Output!FS227=\"\",T(Input_Output!FT227),\"\")","v":""},null,null,{"$f":"IF(Input_Output!FV227=\"\",T(Input_Output!FW227),\"\")","v":""},null,null,{"$f":"IF(Input_Output!FY227=\"\",T(Input_Output!FZ227),\"\")","v":""},null,null,{"$f":"IF(Input_Output!GB227=\"\",T(Input_Output!GC227),\"\")","v":""},null,null,{"$f":"IF(Input_Output!GE227=\"\",T(Input_Output!GF227),\"\")","v":""},null,null,{"$f":"IF(Input_Output!GH227=\"\",T(Input_Output!GI227),\"\")","v":""},null,null,{"$f":"IF(Input_Output!GK227=\"\",T(Input_Output!GL227),\"\")","v":""},null,null,{"$f":"IF(Input_Output!GN227=\"\",T(Input_Output!GO227),\"\")","v":""},null,null,{"$f":"IF(Input_Output!GQ227=\"\",T(Input_Output!GR227),\"\")","v":""},null,null,{"$f":"IF(Input_Output!GT227=\"\",T(Input_Output!GU227),\"\")","v":""},null,null,{"$f":"IF(Input_Output!GW227=\"\",T(Input_Output!GX227),\"\")","v":""},null,null,{"$f":"IF(Input_Output!GZ227=\"\",T(Input_Output!HA227),\"\")","v":""},null,null,{"$f":"IF(Input_Output!HC227=\"\",T(Input_Output!HD227),\"\")","v":""},null,null,{"$f":"IF(Input_Output!HF227=\"\",T(Input_Output!HG227),\"\")","v":""},null,null,{"$f":"IF(Input_Output!HI227=\"\",T(Input_Output!HJ227),\"\")","v":""},null,null,{"$f":"IF(Input_Output!HL227=\"\",T(Input_Output!HM227),\"\")","v":""},null,null,{"$f":"IF(Input_Output!HO227=\"\",T(Input_Output!HP227),\"\")","v":""},null,null,{"$f":"IF(Input_Output!HR227=\"\",T(Input_Output!HS227),\"\")","v":""},null,null,{"$f":"IF(Input_Output!HU227=\"\",T(Input_Output!HV227),\"\")","v":""},null,null,{"$f":"IF(Input_Output!HX227=\"\",T(Input_Output!HY227),\"\")","v":""},null,null,{"$f":"IF(Input_Output!IA227=\"\",T(Input_Output!IB227),\"\")","v":""},null,null,{"$f":"IF(Input_Output!ID227=\"\",T(Input_Output!IE227),\"\")","v":""},null,null,{"$f":"IF(Input_Output!IG227=\"\",T(Input_Output!IH227),\"\")","v":""},null,null,{"$f":"IF(Input_Output!IJ227=\"\",T(Input_Output!IK227),\"\")","v":""},null,null,{"$f":"IF(Input_Output!IM227=\"\",T(Input_Output!IN227),\"\")","v":""},null,null,{"$f":"IF(Input_Output!IP227=\"\",T(Input_Output!IQ227),\"\")","v":""},null,null,{"$f":"IF(Input_Output!IS227=\"\",T(Input_Output!IT227),\"\")","v":""}]
[null,null,null,null,{"$f":"IF(Input_Output!D228=\"\",T(Input_Output!E228),\"\")","v":""},null,null,{"$f":"IF(Input_Output!G228=\"\",T(Input_Output!H228),\"\")","v":""},null,null,{"$f":"IF(Input_Output!J228=\"\",T(Input_Output!K228),\"\")","v":""},null,null,{"$f":"IF(Input_Output!M228=\"\",T(Input_Output!N228),\"\")","v":""},null,null,{"$f":"IF(Input_Output!P228=\"\",T(Input_Output!Q228),\"\")","v":""},null,null,{"$f":"IF(Input_Output!S228=\"\",T(Input_Output!T228),\"\")","v":""},null,null,{"$f":"IF(Input_Output!V228=\"\",T(Input_Output!W228),\"\")","v":""},null,null,{"$f":"IF(Input_Output!Y228=\"\",T(Input_Output!Z228),\"\")","v":""},null,null,{"$f":"IF(Input_Output!AB228=\"\",T(Input_Output!AC228),\"\")","v":""},null,null,{"$f":"IF(Input_Output!AE228=\"\",T(Input_Output!AF228),\"\")","v":""},null,null,{"$f":"IF(Input_Output!AH228=\"\",T(Input_Output!AI228),\"\")","v":""},null,null,{"$f":"IF(Input_Output!AK228=\"\",T(Input_Output!AL228),\"\")","v":""},null,null,{"$f":"IF(Input_Output!AN228=\"\",T(Input_Output!AO228),\"\")","v":""},null,null,{"$f":"IF(Input_Output!AQ228=\"\",T(Input_Output!AR228),\"\")","v":""},null,null,{"$f":"IF(Input_Output!AT228=\"\",T(Input_Output!AU228),\"\")","v":""},null,null,{"$f":"IF(Input_Output!AW228=\"\",T(Input_Output!AX228),\"\")","v":""},null,null,{"$f":"IF(Input_Output!AZ228=\"\",T(Input_Output!BA228),\"\")","v":""},null,null,{"$f":"IF(Input_Output!BC228=\"\",T(Input_Output!BD228),\"\")","v":""},null,null,{"$f":"IF(Input_Output!BF228=\"\",T(Input_Output!BG228),\"\")","v":""},null,null,{"$f":"IF(Input_Output!BI228=\"\",T(Input_Output!BJ228),\"\")","v":""},null,null,{"$f":"IF(Input_Output!BL228=\"\",T(Input_Output!BM228),\"\")","v":""},null,null,{"$f":"IF(Input_Output!BO228=\"\",T(Input_Output!BP228),\"\")","v":""},null,null,{"$f":"IF(Input_Output!BR228=\"\",T(Input_Output!BS228),\"\")","v":""},null,null,{"$f":"IF(Input_Output!BU228=\"\",T(Input_Output!BV228),\"\")","v":""},null,null,{"$f":"IF(Input_Output!BX228=\"\",T(Input_Output!BY228),\"\")","v":""},null,null,{"$f":"IF(Input_Output!CA228=\"\",T(Input_Output!CB228),\"\")","v":""},null,null,{"$f":"IF(Input_Output!CD228=\"\",T(Input_Output!CE228),\"\")","v":""},null,null,{"$f":"IF(Input_Output!CG228=\"\",T(Input_Output!CH228),\"\")","v":""},null,null,{"$f":"IF(Input_Output!CJ228=\"\",T(Input_Output!CK228),\"\")","v":""},null,null,{"$f":"IF(Input_Output!CM228=\"\",T(Input_Output!CN228),\"\")","v":""},null,null,{"$f":"IF(Input_Output!CP228=\"\",T(Input_Output!CQ228),\"\")","v":""},null,null,{"$f":"IF(Input_Output!CS228=\"\",T(Input_Output!CT228),\"\")","v":""},null,null,{"$f":"IF(Input_Output!CV228=\"\",T(Input_Output!CW228),\"\")","v":""},null,null,{"$f":"IF(Input_Output!CY228=\"\",T(Input_Output!CZ228),\"\")","v":""},null,null,{"$f":"IF(Input_Output!DB228=\"\",T(Input_Output!DC228),\"\")","v":""},null,null,{"$f":"IF(Input_Output!DE228=\"\",T(Input_Output!DF228),\"\")","v":""},null,null,{"$f":"IF(Input_Output!DH228=\"\",T(Input_Output!DI228),\"\")","v":""},null,null,{"$f":"IF(Input_Output!DK228=\"\",T(Input_Output!DL228),\"\")","v":""},null,null,{"$f":"IF(Input_Output!DN228=\"\",T(Input_Output!DO228),\"\")","v":""},null,null,{"$f":"IF(Input_Output!DQ228=\"\",T(Input_Output!DR228),\"\")","v":""},null,null,{"$f":"IF(Input_Output!DT228=\"\",T(Input_Output!DU228),\"\")","v":""},null,null,{"$f":"IF(Input_Output!DW228=\"\",T(Input_Output!DX228),\"\")","v":""},null,null,{"$f":"IF(Input_Output!DZ228=\"\",T(Input_Output!EA228),\"\")","v":""},null,null,{"$f":"IF(Input_Output!EC228=\"\",T(Input_Output!ED228),\"\")","v":""},null,null,{"$f":"IF(Input_Output!EF228=\"\",T(Input_Output!EG228),\"\")","v":""},null,null,{"$f":"IF(Input_Output!EI228=\"\",T(Input_Output!EJ228),\"\")","v":""},null,null,{"$f":"IF(Input_Output!EL228=\"\",T(Input_Output!EM228),\"\")","v":""},null,null,{"$f":"IF(Input_Output!EO228=\"\",T(Input_Output!EP228),\"\")","v":""},null,null,{"$f":"IF(Input_Output!ER228=\"\",T(Input_Output!ES228),\"\")","v":""},null,null,{"$f":"IF(Input_Output!EU228=\"\",T(Input_Output!EV228),\"\")","v":""},null,null,{"$f":"IF(Input_Output!EX228=\"\",T(Input_Output!EY228),\"\")","v":""},null,null,{"$f":"IF(Input_Output!FA228=\"\",T(Input_Output!FB228),\"\")","v":""},null,null,{"$f":"IF(Input_Output!FD228=\"\",T(Input_Output!FE228),\"\")","v":""},null,null,{"$f":"IF(Input_Output!FG228=\"\",T(Input_Output!FH228),\"\")","v":""},null,null,{"$f":"IF(Input_Output!FJ228=\"\",T(Input_Output!FK228),\"\")","v":""},null,null,{"$f":"IF(Input_Output!FM228=\"\",T(Input_Output!FN228),\"\")","v":""},null,null,{"$f":"IF(Input_Output!FP228=\"\",T(Input_Output!FQ228),\"\")","v":""},null,null,{"$f":"IF(Input_Output!FS228=\"\",T(Input_Output!FT228),\"\")","v":""},null,null,{"$f":"IF(Input_Output!FV228=\"\",T(Input_Output!FW228),\"\")","v":""},null,null,{"$f":"IF(Input_Output!FY228=\"\",T(Input_Output!FZ228),\"\")","v":""},null,null,{"$f":"IF(Input_Output!GB228=\"\",T(Input_Output!GC228),\"\")","v":""},null,null,{"$f":"IF(Input_Output!GE228=\"\",T(Input_Output!GF228),\"\")","v":""},null,null,{"$f":"IF(Input_Output!GH228=\"\",T(Input_Output!GI228),\"\")","v":""},null,null,{"$f":"IF(Input_Output!GK228=\"\",T(Input_Output!GL228),\"\")","v":""},null,null,{"$f":"IF(Input_Output!GN228=\"\",T(Input_Output!GO228),\"\")","v":""},null,null,{"$f":"IF(Input_Output!GQ228=\"\",T(Input_Output!GR228),\"\")","v":""},null,null,{"$f":"IF(Input_Output!GT228=\"\",T(Input_Output!GU228),\"\")","v":""},null,null,{"$f":"IF(Input_Output!GW228=\"\",T(Input_Output!GX228),\"\")","v":""},null,null,{"$f":"IF(Input_Output!GZ228=\"\",T(Input_Output!HA228),\"\")","v":""},null,null,{"$f":"IF(Input_Output!HC228=\"\",T(Input_Output!HD228),\"\")","v":""},null,null,{"$f":"IF(Input_Output!HF228=\"\",T(Input_Output!HG228),\"\")","v":""},null,null,{"$f":"IF(Input_Output!HI228=\"\",T(Input_Output!HJ228),\"\")","v":""},null,null,{"$f":"IF(Input_Output!HL228=\"\",T(Input_Output!HM228),\"\")","v":""},null,null,{"$f":"IF(Input_Output!HO228=\"\",T(Input_Output!HP228),\"\")","v":""},null,null,{"$f":"IF(Input_Output!HR228=\"\",T(Input_Output!HS228),\"\")","v":""},null,null,{"$f":"IF(Input_Output!HU228=\"\",T(Input_Output!HV228),\"\")","v":""},null,null,{"$f":"IF(Input_Output!HX228=\"\",T(Input_Output!HY228),\"\")","v":""},null,null,{"$f":"IF(Input_Output!IA228=\"\",T(Input_Output!IB228),\"\")","v":""},null,null,{"$f":"IF(Input_Output!ID228=\"\",T(Input_Output!IE228),\"\")","v":""},null,null,{"$f":"IF(Input_Output!IG228=\"\",T(Input_Output!IH228),\"\")","v":""},null,null,{"$f":"IF(Input_Output!IJ228=\"\",T(Input_Output!IK228),\"\")","v":""},null,null,{"$f":"IF(Input_Output!IM228=\"\",T(Input_Output!IN228),\"\")","v":""},null,null,{"$f":"IF(Input_Output!IP228=\"\",T(Input_Output!IQ228),\"\")","v":""},null,null,{"$f":"IF(Input_Output!IS228=\"\",T(Input_Output!IT228),\"\")","v":""}]
[null,null,null,null,{"$f":"IF(Input_Output!D229=\"\",T(Input_Output!E229),\"\")","v":""},null,null,{"$f":"IF(Input_Output!G229=\"\",T(Input_Output!H229),\"\")","v":""},null,null,{"$f":"IF(Input_Output!J229=\"\",T(Input_Output!K229),\"\")","v":""},null,null,{"$f":"IF(Input_Output!M229=\"\",T(Input_Output!N229),\"\")","v":""},null,null,{"$f":"IF(Input_Output!P229=\"\",T(Input_Output!Q229),\"\")","v":""},null,null,{"$f":"IF(Input_Output!S229=\"\",T(Input_Output!T229),\"\")","v":""},null,null,{"$f":"IF(Input_Output!V229=\"\",T(Input_Output!W229),\"\")","v":""},null,null,{"$f":"IF(Input_Output!Y229=\"\",T(Input_Output!Z229),\"\")","v":""},null,null,{"$f":"IF(Input_Output!AB229=\"\",T(Input_Output!AC229),\"\")","v":""},null,null,{"$f":"IF(Input_Output!AE229=\"\",T(Input_Output!AF229),\"\")","v":""},null,null,{"$f":"IF(Input_Output!AH229=\"\",T(Input_Output!AI229),\"\")","v":""},null,null,{"$f":"IF(Input_Output!AK229=\"\",T(Input_Output!AL229),\"\")","v":""},null,null,{"$f":"IF(Input_Output!AN229=\"\",T(Input_Output!AO229),\"\")","v":""},null,null,{"$f":"IF(Input_Output!AQ229=\"\",T(Input_Output!AR229),\"\")","v":""},null,null,{"$f":"IF(Input_Output!AT229=\"\",T(Input_Output!AU229),\"\")","v":""},null,null,{"$f":"IF(Input_Output!AW229=\"\",T(Input_Output!AX229),\"\")","v":""},null,null,{"$f":"IF(Input_Output!AZ229=\"\",T(Input_Output!BA229),\"\")","v":""},null,null,{"$f":"IF(Input_Output!BC229=\"\",T(Input_Output!BD229),\"\")","v":""},null,null,{"$f":"IF(Input_Output!BF229=\"\",T(Input_Output!BG229),\"\")","v":""},null,null,{"$f":"IF(Input_Output!BI229=\"\",T(Input_Output!BJ229),\"\")","v":""},null,null,{"$f":"IF(Input_Output!BL229=\"\",T(Input_Output!BM229),\"\")","v":""},null,null,{"$f":"IF(Input_Output!BO229=\"\",T(Input_Output!BP229),\"\")","v":""},null,null,{"$f":"IF(Input_Output!BR229=\"\",T(Input_Output!BS229),\"\")","v":""},null,null,{"$f":"IF(Input_Output!BU229=\"\",T(Input_Output!BV229),\"\")","v":""},null,null,{"$f":"IF(Input_Output!BX229=\"\",T(Input_Output!BY229),\"\")","v":""},null,null,{"$f":"IF(Input_Output!CA229=\"\",T(Input_Output!CB229),\"\")","v":""},null,null,{"$f":"IF(Input_Output!CD229=\"\",T(Input_Output!CE229),\"\")","v":""},null,null,{"$f":"IF(Input_Output!CG229=\"\",T(Input_Output!CH229),\"\")","v":""},null,null,{"$f":"IF(Input_Output!CJ229=\"\",T(Input_Output!CK229),\"\")","v":""},null,null,{"$f":"IF(Input_Output!CM229=\"\",T(Input_Output!CN229),\"\")","v":""},null,null,{"$f":"IF(Input_Output!CP229=\"\",T(Input_Output!CQ229),\"\")","v":""},null,null,{"$f":"IF(Input_Output!CS229=\"\",T(Input_Output!CT229),\"\")","v":""},null,null,{"$f":"IF(Input_Output!CV229=\"\",T(Input_Output!CW229),\"\")","v":""},null,null,{"$f":"IF(Input_Output!CY229=\"\",T(Input_Output!CZ229),\"\")","v":""},null,null,{"$f":"IF(Input_Output!DB229=\"\",T(Input_Output!DC229),\"\")","v":""},null,null,{"$f":"IF(Input_Output!DE229=\"\",T(Input_Output!DF229),\"\")","v":""},null,null,{"$f":"IF(Input_Output!DH229=\"\",T(Input_Output!DI229),\"\")","v":""},null,null,{"$f":"IF(Input_Output!DK229=\"\",T(Input_Output!DL229),\"\")","v":""},null,null,{"$f":"IF(Input_Output!DN229=\"\",T(Input_Output!DO229),\"\")","v":""},null,null,{"$f":"IF(Input_Output!DQ229=\"\",T(Input_Output!DR229),\"\")","v":""},null,null,{"$f":"IF(Input_Output!DT229=\"\",T(Input_Output!DU229),\"\")","v":""},null,null,{"$f":"IF(Input_Output!DW229=\"\",T(Input_Output!DX229),\"\")","v":""},null,null,{"$f":"IF(Input_Output!DZ229=\"\",T(Input_Output!EA229),\"\")","v":""},null,null,{"$f":"IF(Input_Output!EC229=\"\",T(Input_Output!ED229),\"\")","v":""},null,null,{"$f":"IF(Input_Output!EF229=\"\",T(Input_Output!EG229),\"\")","v":""},null,null,{"$f":"IF(Input_Output!EI229=\"\",T(Input_Output!EJ229),\"\")","v":""},null,null,{"$f":"IF(Input_Output!EL229=\"\",T(Input_Output!EM229),\"\")","v":""},null,null,{"$f":"IF(Input_Output!EO229=\"\",T(Input_Output!EP229),\"\")","v":""},null,null,{"$f":"IF(Input_Output!ER229=\"\",T(Input_Output!ES229),\"\")","v":""},null,null,{"$f":"IF(Input_Output!EU229=\"\",T(Input_Output!EV229),\"\")","v":""},null,null,{"$f":"IF(Input_Output!EX229=\"\",T(Input_Output!EY229),\"\")","v":""},null,null,{"$f":"IF(Input_Output!FA229=\"\",T(Input_Output!FB229),\"\")","v":""},null,null,{"$f":"IF(Input_Output!FD229=\"\",T(Input_Output!FE229),\"\")","v":""},null,null,{"$f":"IF(Input_Output!FG229=\"\",T(Input_Output!FH229),\"\")","v":""},null,null,{"$f":"IF(Input_Output!FJ229=\"\",T(Input_Output!FK229),\"\")","v":""},null,null,{"$f":"IF(Input_Output!FM229=\"\",T(Input_Output!FN229),\"\")","v":""},null,null,{"$f":"IF(Input_Output!FP229=\"\",T(Input_Output!FQ229),\"\")","v":""},null,null,{"$f":"IF(Input_Output!FS229=\"\",T(Input_Output!FT229),\"\")","v":""},null,null,{"$f":"IF(Input_Output!FV229=\"\",T(Input_Output!FW229),\"\")","v":""},null,null,{"$f":"IF(Input_Output!FY229=\"\",T(Input_Output!FZ229),\"\")","v":""},null,null,{"$f":"IF(Input_Output!GB229=\"\",T(Input_Output!GC229),\"\")","v":""},null,null,{"$f":"IF(Input_Output!GE229=\"\",T(Input_Output!GF229),\"\")","v":""},null,null,{"$f":"IF(Input_Output!GH229=\"\",T(Input_Output!GI229),\"\")","v":""},null,null,{"$f":"IF(Input_Output!GK229=\"\",T(Input_Output!GL229),\"\")","v":""},null,null,{"$f":"IF(Input_Output!GN229=\"\",T(Input_Output!GO229),\"\")","v":""},null,null,{"$f":"IF(Input_Output!GQ229=\"\",T(Input_Output!GR229),\"\")","v":""},null,null,{"$f":"IF(Input_Output!GT229=\"\",T(Input_Output!GU229),\"\")","v":""},null,null,{"$f":"IF(Input_Output!GW229=\"\",T(Input_Output!GX229),\"\")","v":""},null,null,{"$f":"IF(Input_Output!GZ229=\"\",T(Input_Output!HA229),\"\")","v":""},null,null,{"$f":"IF(Input_Output!HC229=\"\",T(Input_Output!HD229),\"\")","v":""},null,null,{"$f":"IF(Input_Output!HF229=\"\",T(Input_Output!HG229),\"\")","v":""},null,null,{"$f":"IF(Input_Output!HI229=\"\",T(Input_Output!HJ229),\"\")","v":""},null,null,{"$f":"IF(Input_Output!HL229=\"\",T(Input_Output!HM229),\"\")","v":""},null,null,{"$f":"IF(Input_Output!HO229=\"\",T(Input_Output!HP229),\"\")","v":""},null,null,{"$f":"IF(Input_Output!HR229=\"\",T(Input_Output!HS229),\"\")","v":""},null,null,{"$f":"IF(Input_Output!HU229=\"\",T(Input_Output!HV229),\"\")","v":""},null,null,{"$f":"IF(Input_Output!HX229=\"\",T(Input_Output!HY229),\"\")","v":""},null,null,{"$f":"IF(Input_Output!IA229=\"\",T(Input_Output!IB229),\"\")","v":""},null,null,{"$f":"IF(Input_Output!ID229=\"\",T(Input_Output!IE229),\"\")","v":""},null,null,{"$f":"IF(Input_Output!IG229=\"\",T(Input_Output!IH229),\"\")","v":""},null,null,{"$f":"IF(Input_Output!IJ229=\"\",T(Input_Output!IK229),\"\")","v":""},null,null,{"$f":"IF(Input_Output!IM229=\"\",T(Input_Output!IN229),\"\")","v":""},null,null,{"$f":"IF(Input_Output!IP229=\"\",T(Input_Output!IQ229),\"\")","v":""},null,null,{"$f":"IF(Input_Output!IS229=\"\",T(Input_Output!IT229),\"\")","v":""}]
[null,null,null,null,{"$f":"IF(Input_Output!D230=\"\",T(Input_Output!E230),\"\")","v":""},null,null,{"$f":"IF(Input_Output!G230=\"\",T(Input_Output!H230),\"\")","v":""},null,null,{"$f":"IF(Input_Output!J230=\"\",T(Input_Output!K230),\"\")","v":""},null,null,{"$f":"IF(Input_Output!M230=\"\",T(Input_Output!N230),\"\")","v":""},null,null,{"$f":"IF(Input_Output!P230=\"\",T(Input_Output!Q230),\"\")","v":""},null,null,{"$f":"IF(Input_Output!S230=\"\",T(Input_Output!T230),\"\")","v":""},null,null,{"$f":"IF(Input_Output!V230=\"\",T(Input_Output!W230),\"\")","v":""},null,null,{"$f":"IF(Input_Output!Y230=\"\",T(Input_Output!Z230),\"\")","v":""},null,null,{"$f":"IF(Input_Output!AB230=\"\",T(Input_Output!AC230),\"\")","v":""},null,null,{"$f":"IF(Input_Output!AE230=\"\",T(Input_Output!AF230),\"\")","v":""},null,null,{"$f":"IF(Input_Output!AH230=\"\",T(Input_Output!AI230),\"\")","v":""},null,null,{"$f":"IF(Input_Output!AK230=\"\",T(Input_Output!AL230),\"\")","v":""},null,null,{"$f":"IF(Input_Output!AN230=\"\",T(Input_Output!AO230),\"\")","v":""},null,null,{"$f":"IF(Input_Output!AQ230=\"\",T(Input_Output!AR230),\"\")","v":""},null,null,{"$f":"IF(Input_Output!AT230=\"\",T(Input_Output!AU230),\"\")","v":""},null,null,{"$f":"IF(Input_Output!AW230=\"\",T(Input_Output!AX230),\"\")","v":""},null,null,{"$f":"IF(Input_Output!AZ230=\"\",T(Input_Output!BA230),\"\")","v":""},null,null,{"$f":"IF(Input_Output!BC230=\"\",T(Input_Output!BD230),\"\")","v":""},null,null,{"$f":"IF(Input_Output!BF230=\"\",T(Input_Output!BG230),\"\")","v":""},null,null,{"$f":"IF(Input_Output!BI230=\"\",T(Input_Output!BJ230),\"\")","v":""},null,null,{"$f":"IF(Input_Output!BL230=\"\",T(Input_Output!BM230),\"\")","v":""},null,null,{"$f":"IF(Input_Output!BO230=\"\",T(Input_Output!BP230),\"\")","v":""},null,null,{"$f":"IF(Input_Output!BR230=\"\",T(Input_Output!BS230),\"\")","v":""},null,null,{"$f":"IF(Input_Output!BU230=\"\",T(Input_Output!BV230),\"\")","v":""},null,null,{"$f":"IF(Input_Output!BX230=\"\",T(Input_Output!BY230),\"\")","v":""},null,null,{"$f":"IF(Input_Output!CA230=\"\",T(Input_Output!CB230),\"\")","v":""},null,null,{"$f":"IF(Input_Output!CD230=\"\",T(Input_Output!CE230),\"\")","v":""},null,null,{"$f":"IF(Input_Output!CG230=\"\",T(Input_Output!CH230),\"\")","v":""},null,null,{"$f":"IF(Input_Output!CJ230=\"\",T(Input_Output!CK230),\"\")","v":""},null,null,{"$f":"IF(Input_Output!CM230=\"\",T(Input_Output!CN230),\"\")","v":""},null,null,{"$f":"IF(Input_Output!CP230=\"\",T(Input_Output!CQ230),\"\")","v":""},null,null,{"$f":"IF(Input_Output!CS230=\"\",T(Input_Output!CT230),\"\")","v":""},null,null,{"$f":"IF(Input_Output!CV230=\"\",T(Input_Output!CW230),\"\")","v":""},null,null,{"$f":"IF(Input_Output!CY230=\"\",T(Input_Output!CZ230),\"\")","v":""},null,null,{"$f":"IF(Input_Output!DB230=\"\",T(Input_Output!DC230),\"\")","v":""},null,null,{"$f":"IF(Input_Output!DE230=\"\",T(Input_Output!DF230),\"\")","v":""},null,null,{"$f":"IF(Input_Output!DH230=\"\",T(Input_Output!DI230),\"\")","v":""},null,null,{"$f":"IF(Input_Output!DK230=\"\",T(Input_Output!DL230),\"\")","v":""},null,null,{"$f":"IF(Input_Output!DN230=\"\",T(Input_Output!DO230),\"\")","v":""},null,null,{"$f":"IF(Input_Output!DQ230=\"\",T(Input_Output!DR230),\"\")","v":""},null,null,{"$f":"IF(Input_Output!DT230=\"\",T(Input_Output!DU230),\"\")","v":""},null,null,{"$f":"IF(Input_Output!DW230=\"\",T(Input_Output!DX230),\"\")","v":""},null,null,{"$f":"IF(Input_Output!DZ230=\"\",T(Input_Output!EA230),\"\")","v":""},null,null,{"$f":"IF(Input_Output!EC230=\"\",T(Input_Output!ED230),\"\")","v":""},null,null,{"$f":"IF(Input_Output!EF230=\"\",T(Input_Output!EG230),\"\")","v":""},null,null,{"$f":"IF(Input_Output!EI230=\"\",T(Input_Output!EJ230),\"\")","v":""},null,null,{"$f":"IF(Input_Output!EL230=\"\",T(Input_Output!EM230),\"\")","v":""},null,null,{"$f":"IF(Input_Output!EO230=\"\",T(Input_Output!EP230),\"\")","v":""},null,null,{"$f":"IF(Input_Output!ER230=\"\",T(Input_Output!ES230),\"\")","v":""},null,null,{"$f":"IF(Input_Output!EU230=\"\",T(Input_Output!EV230),\"\")","v":""},null,null,{"$f":"IF(Input_Output!EX230=\"\",T(Input_Output!EY230),\"\")","v":""},null,null,{"$f":"IF(Input_Output!FA230=\"\",T(Input_Output!FB230),\"\")","v":""},null,null,{"$f":"IF(Input_Output!FD230=\"\",T(Input_Output!FE230),\"\")","v":""},null,null,{"$f":"IF(Input_Output!FG230=\"\",T(Input_Output!FH230),\"\")","v":""},null,null,{"$f":"IF(Input_Output!FJ230=\"\",T(Input_Output!FK230),\"\")","v":""},null,null,{"$f":"IF(Input_Output!FM230=\"\",T(Input_Output!FN230),\"\")","v":""},null,null,{"$f":"IF(Input_Output!FP230=\"\",T(Input_Output!FQ230),\"\")","v":""},null,null,{"$f":"IF(Input_Output!FS230=\"\",T(Input_Output!FT230),\"\")","v":""},null,null,{"$f":"IF(Input_Output!FV230=\"\",T(Input_Output!FW230),\"\")","v":""},null,null,{"$f":"IF(Input_Output!FY230=\"\",T(Input_Output!FZ230),\"\")","v":""},null,null,{"$f":"IF(Input_Output!GB230=\"\",T(Input_Output!GC230),\"\")","v":""},null,null,{"$f":"IF(Input_Output!GE230=\"\",T(Input_Output!GF230),\"\")","v":""},null,null,{"$f":"IF(Input_Output!GH230=\"\",T(Input_Output!GI230),\"\")","v":""},null,null,{"$f":"IF(Input_Output!GK230=\"\",T(Input_Output!GL230),\"\")","v":""},null,null,{"$f":"IF(Input_Output!GN230=\"\",T(Input_Output!GO230),\"\")","v":""},null,null,{"$f":"IF(Input_Output!GQ230=\"\",T(Input_Output!GR230),\"\")","v":""},null,null,{"$f":"IF(Input_Output!GT230=\"\",T(Input_Output!GU230),\"\")","v":""},null,null,{"$f":"IF(Input_Output!GW230=\"\",T(Input_Output!GX230),\"\")","v":""},null,null,{"$f":"IF(Input_Output!GZ230=\"\",T(Input_Output!HA230),\"\")","v":""},null,null,{"$f":"IF(Input_Output!HC230=\"\",T(Input_Output!HD230),\"\")","v":""},null,null,{"$f":"IF(Input_Output!HF230=\"\",T(Input_Output!HG230),\"\")","v":""},null,null,{"$f":"IF(Input_Output!HI230=\"\",T(Input_Output!HJ230),\"\")","v":""},null,null,{"$f":"IF(Input_Output!HL230=\"\",T(Input_Output!HM230),\"\")","v":""},null,null,{"$f":"IF(Input_Output!HO230=\"\",T(Input_Output!HP230),\"\")","v":""},null,null,{"$f":"IF(Input_Output!HR230=\"\",T(Input_Output!HS230),\"\")","v":""},null,null,{"$f":"IF(Input_Output!HU230=\"\",T(Input_Output!HV230),\"\")","v":""},null,null,{"$f":"IF(Input_Output!HX230=\"\",T(Input_Output!HY230),\"\")","v":""},null,null,{"$f":"IF(Input_Output!IA230=\"\",T(Input_Output!IB230),\"\")","v":""},null,null,{"$f":"IF(Input_Output!ID230=\"\",T(Input_Output!IE230),\"\")","v":""},null,null,{"$f":"IF(Input_Output!IG230=\"\",T(Input_Output!IH230),\"\")","v":""},null,null,{"$f":"IF(Input_Output!IJ230=\"\",T(Input_Output!IK230),\"\")","v":""},null,null,{"$f":"IF(Input_Output!IM230=\"\",T(Input_Output!IN230),\"\")","v":""},null,null,{"$f":"IF(Input_Output!IP230=\"\",T(Input_Output!IQ230),\"\")","v":""},null,null,{"$f":"IF(Input_Output!IS230=\"\",T(Input_Output!IT230),\"\")","v":""}]
[null,null,null,null,{"$f":"IF(Input_Output!D231=\"\",T(Input_Output!E231),\"\")","v":""},null,null,{"$f":"IF(Input_Output!G231=\"\",T(Input_Output!H231),\"\")","v":""},null,null,{"$f":"IF(Input_Output!J231=\"\",T(Input_Output!K231),\"\")","v":""},null,null,{"$f":"IF(Input_Output!M231=\"\",T(Input_Output!N231),\"\")","v":""},null,null,{"$f":"IF(Input_Output!P231=\"\",T(Input_Output!Q231),\"\")","v":""},null,null,{"$f":"IF(Input_Output!S231=\"\",T(Input_Output!T231),\"\")","v":""},null,null,{"$f":"IF(Input_Output!V231=\"\",T(Input_Output!W231),\"\")","v":""},null,null,{"$f":"IF(Input_Output!Y231=\"\",T(Input_Output!Z231),\"\")","v":""},null,null,{"$f":"IF(Input_Output!AB231=\"\",T(Input_Output!AC231),\"\")","v":""},null,null,{"$f":"IF(Input_Output!AE231=\"\",T(Input_Output!AF231),\"\")","v":""},null,null,{"$f":"IF(Input_Output!AH231=\"\",T(Input_Output!AI231),\"\")","v":""},null,null,{"$f":"IF(Input_Output!AK231=\"\",T(Input_Output!AL231),\"\")","v":""},null,null,{"$f":"IF(Input_Output!AN231=\"\",T(Input_Output!AO231),\"\")","v":""},null,null,{"$f":"IF(Input_Output!AQ231=\"\",T(Input_Output!AR231),\"\")","v":""},null,null,{"$f":"IF(Input_Output!AT231=\"\",T(Input_Output!AU231),\"\")","v":""},null,null,{"$f":"IF(Input_Output!AW231=\"\",T(Input_Output!AX231),\"\")","v":""},null,null,{"$f":"IF(Input_Output!AZ231=\"\",T(Input_Output!BA231),\"\")","v":""},null,null,{"$f":"IF(Input_Output!BC231=\"\",T(Input_Output!BD231),\"\")","v":""},null,null,{"$f":"IF(Input_Output!BF231=\"\",T(Input_Output!BG231),\"\")","v":""},null,null,{"$f":"IF(Input_Output!BI231=\"\",T(Input_Output!BJ231),\"\")","v":""},null,null,{"$f":"IF(Input_Output!BL231=\"\",T(Input_Output!BM231),\"\")","v":""},null,null,{"$f":"IF(Input_Output!BO231=\"\",T(Input_Output!BP231),\"\")","v":""},null,null,{"$f":"IF(Input_Output!BR231=\"\",T(Input_Output!BS231),\"\")","v":""},null,null,{"$f":"IF(Input_Output!BU231=\"\",T(Input_Output!BV231),\"\")","v":""},null,null,{"$f":"IF(Input_Output!BX231=\"\",T(Input_Output!BY231),\"\")","v":""},null,null,{"$f":"IF(Input_Output!CA231=\"\",T(Input_Output!CB231),\"\")","v":""},null,null,{"$f":"IF(Input_Output!CD231=\"\",T(Input_Output!CE231),\"\")","v":""},null,null,{"$f":"IF(Input_Output!CG231=\"\",T(Input_Output!CH231),\"\")","v":""},null,null,{"$f":"IF(Input_Output!CJ231=\"\",T(Input_Output!CK231),\"\")","v":""},null,null,{"$f":"IF(Input_Output!CM231=\"\",T(Input_Output!CN231),\"\")","v":""},null,null,{"$f":"IF(Input_Output!CP231=\"\",T(Input_Output!CQ231),\"\")","v":""},null,null,{"$f":"IF(Input_Output!CS231=\"\",T(Input_Output!CT231),\"\")","v":""},null,null,{"$f":"IF(Input_Output!CV231=\"\",T(Input_Output!CW231),\"\")","v":""},null,null,{"$f":"IF(Input_Output!CY231=\"\",T(Input_Output!CZ231),\"\")","v":""},null,null,{"$f":"IF(Input_Output!DB231=\"\",T(Input_Output!DC231),\"\")","v":""},null,null,{"$f":"IF(Input_Output!DE231=\"\",T(Input_Output!DF231),\"\")","v":""},null,null,{"$f":"IF(Input_Output!DH231=\"\",T(Input_Output!DI231),\"\")","v":""},null,null,{"$f":"IF(Input_Output!DK231=\"\",T(Input_Output!DL231),\"\")","v":""},null,null,{"$f":"IF(Input_Output!DN231=\"\",T(Input_Output!DO231),\"\")","v":""},null,null,{"$f":"IF(Input_Output!DQ231=\"\",T(Input_Output!DR231),\"\")","v":""},null,null,{"$f":"IF(Input_Output!DT231=\"\",T(Input_Output!DU231),\"\")","v":""},null,null,{"$f":"IF(Input_Output!DW231=\"\",T(Input_Output!DX231),\"\")","v":""},null,null,{"$f":"IF(Input_Output!DZ231=\"\",T(Input_Output!EA231),\"\")","v":""},null,null,{"$f":"IF(Input_Output!EC231=\"\",T(Input_Output!ED231),\"\")","v":""},null,null,{"$f":"IF(Input_Output!EF231=\"\",T(Input_Output!EG231),\"\")","v":""},null,null,{"$f":"IF(Input_Output!EI231=\"\",T(Input_Output!EJ231),\"\")","v":""},null,null,{"$f":"IF(Input_Output!EL231=\"\",T(Input_Output!EM231),\"\")","v":""},null,null,{"$f":"IF(Input_Output!EO231=\"\",T(Input_Output!EP231),\"\")","v":""},null,null,{"$f":"IF(Input_Output!ER231=\"\",T(Input_Output!ES231),\"\")","v":""},null,null,{"$f":"IF(Input_Output!EU231=\"\",T(Input_Output!EV231),\"\")","v":""},null,null,{"$f":"IF(Input_Output!EX231=\"\",T(Input_Output!EY231),\"\")","v":""},null,null,{"$f":"IF(Input_Output!FA231=\"\",T(Input_Output!FB231),\"\")","v":""},null,null,{"$f":"IF(Input_Output!FD231=\"\",T(Input_Output!FE231),\"\")","v":""},null,null,{"$f":"IF(Input_Output!FG231=\"\",T(Input_Output!FH231),\"\")","v":""},null,null,{"$f":"IF(Input_Output!FJ231=\"\",T(Input_Output!FK231),\"\")","v":""},null,null,{"$f":"IF(Input_Output!FM231=\"\",T(Input_Output!FN231),\"\")","v":""},null,null,{"$f":"IF(Input_Output!FP231=\"\",T(Input_Output!FQ231),\"\")","v":""},null,null,{"$f":"IF(Input_Output!FS231=\"\",T(Input_Output!FT231),\"\")","v":""},null,null,{"$f":"IF(Input_Output!FV231=\"\",T(Input_Output!FW231),\"\")","v":""},null,null,{"$f":"IF(Input_Output!FY231=\"\",T(Input_Output!FZ231),\"\")","v":""},null,null,{"$f":"IF(Input_Output!GB231=\"\",T(Input_Output!GC231),\"\")","v":""},null,null,{"$f":"IF(Input_Output!GE231=\"\",T(Input_Output!GF231),\"\")","v":""},null,null,{"$f":"IF(Input_Output!GH231=\"\",T(Input_Output!GI231),\"\")","v":""},null,null,{"$f":"IF(Input_Output!GK231=\"\",T(Input_Output!GL231),\"\")","v":""},null,null,{"$f":"IF(Input_Output!GN231=\"\",T(Input_Output!GO231),\"\")","v":""},null,null,{"$f":"IF(Input_Output!GQ231=\"\",T(Input_Output!GR231),\"\")","v":""},null,null,{"$f":"IF(Input_Output!GT231=\"\",T(Input_Output!GU231),\"\")","v":""},null,null,{"$f":"IF(Input_Output!GW231=\"\",T(Input_Output!GX231),\"\")","v":""},null,null,{"$f":"IF(Input_Output!GZ231=\"\",T(Input_Output!HA231),\"\")","v":""},null,null,{"$f":"IF(Input_Output!HC231=\"\",T(Input_Output!HD231),\"\")","v":""},null,null,{"$f":"IF(Input_Output!HF231=\"\",T(Input_Output!HG231),\"\")","v":""},null,null,{"$f":"IF(Input_Output!HI231=\"\",T(Input_Output!HJ231),\"\")","v":""},null,null,{"$f":"IF(Input_Output!HL231=\"\",T(Input_Output!HM231),\"\")","v":""},null,null,{"$f":"IF(Input_Output!HO231=\"\",T(Input_Output!HP231),\"\")","v":""},null,null,{"$f":"IF(Input_Output!HR231=\"\",T(Input_Output!HS231),\"\")","v":""},null,null,{"$f":"IF(Input_Output!HU231=\"\",T(Input_Output!HV231),\"\")","v":""},null,null,{"$f":"IF(Input_Output!HX231=\"\",T(Input_Output!HY231),\"\")","v":""},null,null,{"$f":"IF(Input_Output!IA231=\"\",T(Input_Output!IB231),\"\")","v":""},null,null,{"$f":"IF(Input_Output!ID231=\"\",T(Input_Output!IE231),\"\")","v":""},null,null,{"$f":"IF(Input_Output!IG231=\"\",T(Input_Output!IH231),\"\")","v":""},null,null,{"$f":"IF(Input_Output!IJ231=\"\",T(Input_Output!IK231),\"\")","v":""},null,null,{"$f":"IF(Input_Output!IM231=\"\",T(Input_Output!IN231),\"\")","v":""},null,null,{"$f":"IF(Input_Output!IP231=\"\",T(Input_Output!IQ231),\"\")","v":""},null,null,{"$f":"IF(Input_Output!IS231=\"\",T(Input_Output!IT231),\"\")","v":""}]
[null,null,null,null,{"$f":"IF(Input_Output!D232=\"\",T(Input_Output!E232),\"\")","v":""},null,null,{"$f":"IF(Input_Output!G232=\"\",T(Input_Output!H232),\"\")","v":""},null,null,{"$f":"IF(Input_Output!J232=\"\",T(Input_Output!K232),\"\")","v":""},null,null,{"$f":"IF(Input_Output!M232=\"\",T(Input_Output!N232),\"\")","v":""},null,null,{"$f":"IF(Input_Output!P232=\"\",T(Input_Output!Q232),\"\")","v":""},null,null,{"$f":"IF(Input_Output!S232=\"\",T(Input_Output!T232),\"\")","v":""},null,null,{"$f":"IF(Input_Output!V232=\"\",T(Input_Output!W232),\"\")","v":""},null,null,{"$f":"IF(Input_Output!Y232=\"\",T(Input_Output!Z232),\"\")","v":""},null,null,{"$f":"IF(Input_Output!AB232=\"\",T(Input_Output!AC232),\"\")","v":""},null,null,{"$f":"IF(Input_Output!AE232=\"\",T(Input_Output!AF232),\"\")","v":""},null,null,{"$f":"IF(Input_Output!AH232=\"\",T(Input_Output!AI232),\"\")","v":""},null,null,{"$f":"IF(Input_Output!AK232=\"\",T(Input_Output!AL232),\"\")","v":""},null,null,{"$f":"IF(Input_Output!AN232=\"\",T(Input_Output!AO232),\"\")","v":""},null,null,{"$f":"IF(Input_Output!AQ232=\"\",T(Input_Output!AR232),\"\")","v":""},null,null,{"$f":"IF(Input_Output!AT232=\"\",T(Input_Output!AU232),\"\")","v":""},null,null,{"$f":"IF(Input_Output!AW232=\"\",T(Input_Output!AX232),\"\")","v":""},null,null,{"$f":"IF(Input_Output!AZ232=\"\",T(Input_Output!BA232),\"\")","v":""},null,null,{"$f":"IF(Input_Output!BC232=\"\",T(Input_Output!BD232),\"\")","v":""},null,null,{"$f":"IF(Input_Output!BF232=\"\",T(Input_Output!BG232),\"\")","v":""},null,null,{"$f":"IF(Input_Output!BI232=\"\",T(Input_Output!BJ232),\"\")","v":""},null,null,{"$f":"IF(Input_Output!BL232=\"\",T(Input_Output!BM232),\"\")","v":""},null,null,{"$f":"IF(Input_Output!BO232=\"\",T(Input_Output!BP232),\"\")","v":""},null,null,{"$f":"IF(Input_Output!BR232=\"\",T(Input_Output!BS232),\"\")","v":""},null,null,{"$f":"IF(Input_Output!BU232=\"\",T(Input_Output!BV232),\"\")","v":""},null,null,{"$f":"IF(Input_Output!BX232=\"\",T(Input_Output!BY232),\"\")","v":""},null,null,{"$f":"IF(Input_Output!CA232=\"\",T(Input_Output!CB232),\"\")","v":""},null,null,{"$f":"IF(Input_Output!CD232=\"\",T(Input_Output!CE232),\"\")","v":""},null,null,{"$f":"IF(Input_Output!CG232=\"\",T(Input_Output!CH232),\"\")","v":""},null,null,{"$f":"IF(Input_Output!CJ232=\"\",T(Input_Output!CK232),\"\")","v":""},null,null,{"$f":"IF(Input_Output!CM232=\"\",T(Input_Output!CN232),\"\")","v":""},null,null,{"$f":"IF(Input_Output!CP232=\"\",T(Input_Output!CQ232),\"\")","v":""},null,null,{"$f":"IF(Input_Output!CS232=\"\",T(Input_Output!CT232),\"\")","v":""},null,null,{"$f":"IF(Input_Output!CV232=\"\",T(Input_Output!CW232),\"\")","v":""},null,null,{"$f":"IF(Input_Output!CY232=\"\",T(Input_Output!CZ232),\"\")","v":""},null,null,{"$f":"IF(Input_Output!DB232=\"\",T(Input_Output!DC232),\"\")","v":""},null,null,{"$f":"IF(Input_Output!DE232=\"\",T(Input_Output!DF232),\"\")","v":""},null,null,{"$f":"IF(Input_Output!DH232=\"\",T(Input_Output!DI232),\"\")","v":""},null,null,{"$f":"IF(Input_Output!DK232=\"\",T(Input_Output!DL232),\"\")","v":""},null,null,{"$f":"IF(Input_Output!DN232=\"\",T(Input_Output!DO232),\"\")","v":""},null,null,{"$f":"IF(Input_Output!DQ232=\"\",T(Input_Output!DR232),\"\")","v":""},null,null,{"$f":"IF(Input_Output!DT232=\"\",T(Input_Output!DU232),\"\")","v":""},null,null,{"$f":"IF(Input_Output!DW232=\"\",T(Input_Output!DX232),\"\")","v":""},null,null,{"$f":"IF(Input_Output!DZ232=\"\",T(Input_Output!EA232),\"\")","v":""},null,null,{"$f":"IF(Input_Output!EC232=\"\",T(Input_Output!ED232),\"\")","v":""},null,null,{"$f":"IF(Input_Output!EF232=\"\",T(Input_Output!EG232),\"\")","v":""},null,null,{"$f":"IF(Input_Output!EI232=\"\",T(Input_Output!EJ232),\"\")","v":""},null,null,{"$f":"IF(Input_Output!EL232=\"\",T(Input_Output!EM232),\"\")","v":""},null,null,{"$f":"IF(Input_Output!EO232=\"\",T(Input_Output!EP232),\"\")","v":""},null,null,{"$f":"IF(Input_Output!ER232=\"\",T(Input_Output!ES232),\"\")","v":""},null,null,{"$f":"IF(Input_Output!EU232=\"\",T(Input_Output!EV232),\"\")","v":""},null,null,{"$f":"IF(Input_Output!EX232=\"\",T(Input_Output!EY232),\"\")","v":""},null,null,{"$f":"IF(Input_Output!FA232=\"\",T(Input_Output!FB232),\"\")","v":""},null,null,{"$f":"IF(Input_Output!FD232=\"\",T(Input_Output!FE232),\"\")","v":""},null,null,{"$f":"IF(Input_Output!FG232=\"\",T(Input_Output!FH232),\"\")","v":""},null,null,{"$f":"IF(Input_Output!FJ232=\"\",T(Input_Output!FK232),\"\")","v":""},null,null,{"$f":"IF(Input_Output!FM232=\"\",T(Input_Output!FN232),\"\")","v":""},null,null,{"$f":"IF(Input_Output!FP232=\"\",T(Input_Output!FQ232),\"\")","v":""},null,null,{"$f":"IF(Input_Output!FS232=\"\",T(Input_Output!FT232),\"\")","v":""},null,null,{"$f":"IF(Input_Output!FV232=\"\",T(Input_Output!FW232),\"\")","v":""},null,null,{"$f":"IF(Input_Output!FY232=\"\",T(Input_Output!FZ232),\"\")","v":""},null,null,{"$f":"IF(Input_Output!GB232=\"\",T(Input_Output!GC232),\"\")","v":""},null,null,{"$f":"IF(Input_Output!GE232=\"\",T(Input_Output!GF232),\"\")","v":""},null,null,{"$f":"IF(Input_Output!GH232=\"\",T(Input_Output!GI232),\"\")","v":""},null,null,{"$f":"IF(Input_Output!GK232=\"\",T(Input_Output!GL232),\"\")","v":""},null,null,{"$f":"IF(Input_Output!GN232=\"\",T(Input_Output!GO232),\"\")","v":""},null,null,{"$f":"IF(Input_Output!GQ232=\"\",T(Input_Output!GR232),\"\")","v":""},null,null,{"$f":"IF(Input_Output!GT232=\"\",T(Input_Output!GU232),\"\")","v":""},null,null,{"$f":"IF(Input_Output!GW232=\"\",T(Input_Output!GX232),\"\")","v":""},null,null,{"$f":"IF(Input_Output!GZ232=\"\",T(Input_Output!HA232),\"\")","v":""},null,null,{"$f":"IF(Input_Output!HC232=\"\",T(Input_Output!HD232),\"\")","v":""},null,null,{"$f":"IF(Input_Output!HF232=\"\",T(Input_Output!HG232),\"\")","v":""},null,null,{"$f":"IF(Input_Output!HI232=\"\",T(Input_Output!HJ232),\"\")","v":""},null,null,{"$f":"IF(Input_Output!HL232=\"\",T(Input_Output!HM232),\"\")","v":""},null,null,{"$f":"IF(Input_Output!HO232=\"\",T(Input_Output!HP232),\"\")","v":""},null,null,{"$f":"IF(Input_Output!HR232=\"\",T(Input_Output!HS232),\"\")","v":""},null,null,{"$f":"IF(Input_Output!HU232=\"\",T(Input_Output!HV232),\"\")","v":""},null,null,{"$f":"IF(Input_Output!HX232=\"\",T(Input_Output!HY232),\"\")","v":""},null,null,{"$f":"IF(Input_Output!IA232=\"\",T(Input_Output!IB232),\"\")","v":""},null,null,{"$f":"IF(Input_Output!ID232=\"\",T(Input_Output!IE232),\"\")","v":""},null,null,{"$f":"IF(Input_Output!IG232=\"\",T(Input_Output!IH232),\"\")","v":""},null,null,{"$f":"IF(Input_Output!IJ232=\"\",T(Input_Output!IK232),\"\")","v":""},null,null,{"$f":"IF(Input_Output!IM232=\"\",T(Input_Output!IN232),\"\")","v":""},null,null,{"$f":"IF(Input_Output!IP232=\"\",T(Input_Output!IQ232),\"\")","v":""},null,null,{"$f":"IF(Input_Output!IS232=\"\",T(Input_Output!IT232),\"\")","v":""}]

{"sheet":"Input_Output","index":1,"n_rows":32,"n_cols":253,"rows_kept":32,"cut":false,"hidden":false,"merged":[[9,6,9,7],[29,237,29,238],[29,240,29,241],[1,6,1,7],[2,6,2,7],[3,6,3,7],[4,6,4,7],[6,6,6,7],[8,6,8,7],[27,237,27,238],[29,243,29,244],[29,246,29,247],[25,249,25,250],[25,246,25,247],[29,249,29,250],[29,252,29,253],[25,252,25,253],[27,240,27,241],[27,243,27,244],[27,246,27,247],[27,249,27,250],[27,252,27,253],[25,237,25,238],[25,240,25,241],[25,243,25,244],[23,237,23,238],[23,240,23,241],[24,237,24,238],[24,240,24,241],[24,243,24,244],[24,246,24,247],[23,243,23,244],[23,246,23,247],[18,249,18,250],[18,252,18,253],[22,249,22,250],[22,252,22,253],[24,249,24,250],[24,252,24,253],[18,237,18,238],[18,240,18,241],[18,243,18,244],[18,246,18,247],[23,249,23,250],[23,252,23,253],[22,237,22,238],[22,240,22,241],[22,243,22,244],[22,246,22,247],[15,237,15,238],[15,240,15,241],[16,237,16,238],[16,240,16,241],[16,243,16,244],[16,246,16,247],[15,243,15,244],[15,246,15,247],[12,249,12,250],[12,252,12,253],[13,249,13,250],[13,252,13,253],[16,249,16,250],[16,252,16,253],[12,237,12,238],[12,240,12,241],[12,243,12,244],[12,246,12,247],[15,249,15,250],[15,252,15,253],[13,237,13,238],[13,240,13,241],[13,243,13,244],[13,246,13,247],[9,237,9,238],[9,240,9,241],[11,237,11,238],[11,240,11,241],[11,243,11,244],[11,246,11,247],[9,243,9,244],[9,246,9,247],[6,249,6,250],[6,252,6,253],[8,249,8,250],[8,252,8,253],[11,249,11,250],[11,252,11,253],[6,237,6,238],[6,240,6,241],[6,243,6,244],[6,246,6,247],[9,249,9,250],[9,252,9,253],[8,237,8,238],[8,240,8,241],[8,243,8,244],[8,246,8,247],[3,243,3,244],[3,246,3,247],[3,249,3,250],[3,252,3,253],[4,243,4,244],[4,246,4,247],[4,249,4,250],[4,252,4,253],[4,237,4,238],[4,240,4,241],[1,243,1,244],[1,246,1,247],[1,249,1,250],[1,252,1,253],[2,243,2,244],[2,246,2,247],[2,249,2,250],[2,252,2,253],[1,237,1,238],[1,240,1,241],[2,237,2,238],[2,240,2,241],[3,237,3,238],[3,240,3,241],[29,219,29,220],[29,222,29,223],[29,225,29,226],[29,228,29,229],[29,231,29,232],[29,234,29,235],[25,219,25,220],[25,222,25,223],[27,219,27,220],[27,222,27,223],[27,225,27,226],[27,228,27,229],[25,225,25,226],[25,228,25,229],[23,231,23,232],[23,234,23,235],[24,231,24,232],[24,234,24,235],[27,231,27,232],[27,234,27,235],[23,219,23,220],[23,222,23,223],[23,225,23,226],[23,228,23,229],[25,231,25,232],[25,234,25,235],[24,219,24,220],[24,222,24,223],[24,225,24,226],[24,228,24,229],[18,219,18,220],[18,222,18,223],[22,219,22,220],[22,222,22,223],[22,225,22,226],[22,228,22,229],[18,225,18,226],[18,228,18,229],[15,231,15,232],[15,234,15,235],[16,231,16,232],[16,234,16,235],[22,231,22,232],[22,234,22,235],[15,219,15,220],[15,222,15,223],[15,225,15,226],[15,228,15,229],[18,231,18,232],[18,234,18,235],[16,219,16,220],[16,222,16,223],[16,225,16,226],[16,228,16,229],[13,219,13,220],[13,222,13,223],[13,225,13,226],[13,228,13,229],[12,225,12,226],[12,228,12,229],[9,231,9,232],[9,234,9,235],[11,231,11,232],[11,234,11,235],[13,231,13,232],[13,234,13,235],[12,231,12,232],[12,234,12,235],[11,219,11,220],[11,222,11,223],[11,225,11,226],[11,228,11,229],[12,219,12,220],[12,222,12,223],[6,219,6,220],[6,222,6,223],[9,219,9,220],[9,222,9,223],[9,225,9,226],[9,228,9,229],[8,219,8,220],[8,222,8,223],[8,225,8,226],[8,228,8,229],[8,231,8,232],[8,234,8,235],[6,225,6,226],[6,228,6,229],[4,225,4,226],[4,228,4,229],[6,231,6,232],[6,234,6,235],[4,231,4,232],[4,234,4,235],[3,225,3,226],[3,228,3,229],[3,231,3,232],[3,234,3,235],[4,219,4,220],[4,222,4,223],[1,225,1,226],[1,228,1,229],[1,231,1,232],[1,234,1,235],[2,225,2,226],[2,228,2,229],[2,231,2,232],[2,234,2,235],[1,219,1,220],[1,222,1,223],[2,219,2,220],[2,222,2,223],[3,219,3,220],[3,222,3,223],[29,201,29,202],[29,204,29,205],[29,207,29,208],[29,210,29,211],[29,213,29,214],[29,216,29,217],[25,201,25,202],[25,204,25,205],[27,201,27,202],[27,204,27,205],[27,207,27,208],[27,210,27,211],[25,207,25,208],[25,210,25,211],[23,213,23,214],[23,216,23,217],[24,213,24,214],[24,216,24,217],[27,213,27,214],[27,216,27,217],[23,201,23,202],[23,204,23,205],[23,207,23,208],[23,210,23,211],[25,213,25,214],[25,216,25,217],[24,201,24,202],[24,204,24,205],[24,207,24,208],[24,210,24,211],[18,201,18,202],[18,204,18,205],[22,201,22,202],[22,204,22,205],[22,207,22,208],[22,210,22,211],[18,207,18,208],[18,210,18,211],[15,213,15,214],[15,216,15,217],[16,213,16,214],[16,216,16,217],[22,213,22,214],[22,216,22,217],[15,201,15,202],[15,204,15,205],[15,207,15,208],[15,210,15,211],[18,213,18,214],[18,216,18,217],[16,201,16,202],[16,204,16,205],[16,207,16,208],[16,210,16,211],[13,201,13,202],[13,204,13,205],[13,207,13,208],[13,210,13,211],[12,207,12,208],[12,210,12,211],[9,213,9,214],[9,216,9,217],[11,213,11,214],[11,216,11,217],[13,213,13,214],[13,216,13,217],[12,213,12,214],[12,216,12,217],[11,201,11,202],[11,204,11,205],[11,207,11,208],[11,210,11,211],[12,201,12,202],[12,204,12,205],[6,201,6,202],[6,204,6,205],[9,201,9,202],[9,204,9,205],[9,207,9,208],[9,210,9,211],[8,201,8,202],[8,204,8,205],[8,207,8,208],[8,210,8,211],[8,213,8,214],[8,216,8,217],[6,207,6,208],[6,210,6,211],[4,207,4,208],[4,210,4,211],[6,213,6,214],[6,216,6,217],[4,213,4,214],[4,216,4,217],[3,207,3,208],[3,210,3,211],[3,213,3,214],[3,216,3,217],[4,201,4,202],[4,204,4,205],[1,207,1,208],[1,210,1,211],[1,213,1,214],[1,216,1,217],[2,207,2,208],[2,210,2,211],[2,213,2,214],[2,216,2,217],[1,201,1,202],[1,204,1,205],[2,201,2,202],[2,204,2,205],[3,201,3,202],[3,204,3,205],[29,183,29,184],[29,186,29,187],[29,189,29,190],[29,192,29,193],[29,195,29,196],[29,198,29,199],[25,183,25,184],[25,186,25,187],[27,183,27,184],[27,186,27,187],[27,189,27,190],[27,192,27,193],[25,189,25,190],[25,192,25,193],[23,195,23,196],[23,198,23,199],[24,195,24,196],[24,198,24,199],[27,195,27,196],[27,198,27,199],[23,183,23,184],[23,186,23,187],[23,189,23,190],[23,192,23,193],[25,195,25,196],[25,198,25,199],[24,183,24,184],[24,186,24,187],[24,189,24,190],[24,192,24,193],[18,183,18,184],[18,186,18,187],[22,183,22,184],[22,186,22,187],[22,189,22,190],[22,192,22,193],[18,189,18,190],[18,192,18,193],[15,195,15,196],[15,198,15,199],[16,195,16,196],[16,198,16,199],[22,195,22,196],[22,198,22,199],[15,183,15,184],[15,186,15,187],[15,189,15,190],[15,192,15,193],[18,195,18,196],[18,198,18,199],[16,183,16,184],[16,186,16,187],[16,189,16,190],[16,192,16,193],[13,183,13,184],[13,186,13,187],[13,189,13,190],[13,192,13,193],[12,189,12,190],[12,192,12,193],[9,195,9,196],[9,198,9,199],[11,195,11,196],[11,198,11,199],[13,195,13,196],[13,198,13,199],[12,195,12,196],[12,198,12,199],[11,183,11,184],[11,186,11,187],[11,189,11,190],[11,192,11,193],[12,183,12,184],[12,186,12,187],[6,183,6,184],[6,186,6,187],[9,183,9,184],[9,186,9,187],[9,189,9,190],[9,192,9,193],[8,183,8,184],[8,186,8,187],[8,189,8,190],[8,192,8,193],[8,195,8,196],[8,198,8,199],[6,189,6,190],[6,192,6,193],[4,189,4,190],[4,192,4,193],[6,195,6,196],[6,198,6,199],[4,195,4,196],[4,198,4,199],[3,189,3,190],[3,192,3,193],[3,195,3,196],[3,198,3,199],[4,183,4,184],[4,186,4,187],[1,189,1,190],[1,192,1,193],[1,195,1,196],[1,198,1,199],[2,189,2,190],[2,192,2,193],[2,195,2,196],[2,198,2,199],[1,183,1,184],[1,186,1,187],[2,183,2,184],[2,186,2,187],[3,183,3,184],[3,186,3,187],[29,165,29,166],[29,168,29,169],[29,171,29,172],[29,174,29,175],[29,177,29,178],[29,180,29,181],[25,165,25,166],[25,168,25,169],[27,165,27,166],[27,168,27,169],[27,171,27,172],[27,174,27,175],[25,171,25,172],[25,174,25,175],[23,177,23,178],[23,180,23,181],[24,177,24,178],[24,180,24,181],[27,177,27,178],[27,180,27,181],[23,165,23,166],[23,168,23,169],[23,171,23,172],[23,174,23,175],[25,177,25,178],[25,180,25,181],[24,165,24,166],[24,168,24,169],[24,171,24,172],[24,174,24,175],[18,165,18,166],[18,168,18,169],[22,165,22,166],[22,168,22,169],[22,171,22,172],[22,174,22,175],[18,171,18,172],[18,174,18,175],[15,177,15,178],[15,180,15,181],[16,177,16,178],[16,180,16,181],[22,177,22,178],[22,180,22,181],[15,165,15,166],[15,168,15,169],[15,171,15,172],[15,174,15,175],[18,177,18,178],[18,180,18,181],[16,165,16,166],[16,168,16,169],[16,171,16,172],[16,174,16,175],[13,165,13,166],[13,168,13,169],[13,171,13,172],[13,174,13,175],[12,171,12,172],[12,174,12,175],[9,177,9,178],[9,180,9,181],[11,177,11,178],[11,180,11,181],[13,177,13,178],[13,180,13,181],[12,177,12,178],[12,180,12,181],[11,165,11,166],[11,168,11,169],[11,171,11,172],[11,174,11,175],[12,165,12,166],[12,168,12,169],[6,165,6,166],[6,168,6,169],[9,165,9,166],[9,168,9,169],[9,171,9,172],[9,174,9,175],[8,165,8,166],[8,168,8,169],[8,171,8,172],[8,174,8,175],[8,177,8,178],[8,180,8,181],[6,171,6,172],[6,174,6,175],[4,171,4,172],[4,174,4,175],[6,177,6,178],[6,180,6,181],[4,177,4,178],[4,180,4,181],[3,171,3,172],[3,174,3,175],[3,177,3,178],[3,180,3,181],[4,165,4,166],[4,168,4,169],[1,171,1,172],[1,174,1,175],[1,177,1,178],[1,180,1,181],[2,171,2,172],[2,174,2,175],[2,177,2,178],[2,180,2,181],[1,165,1,166],[1,168,1,169],[2,165,2,166],[2,168,2,169],[3,165,3,166],[3,168,3,169],[29,147,29,148],[29,150,29,151],[29,153,29,154],[29,156,29,157],[29,159,29,160],[29,162,29,163],[25,147,25,148],[25,150,25,151],[27,147,27,148],[27,150,27,151],[27,153,27,154],[27,156,27,157],[25,153,25,154],[25,156,25,157],[23,159,23,160],[23,162,23,163],[24,159,24,160],[24,162,24,163],[27,159,27,160],[27,162,27,163],[23,147,23,148],[23,150,23,151],[23,153,23,154],[23,156,23,157],[25,159,25,160],[25,162,25,163],[24,147,24,148],[24,150,24,151],[24,153,24,154],[24,156,24,157],[18,147,18,148],[18,150,18,151],[22,147,22,148],[22,150,22,151],[22,153,22,154],[22,156,22,157],[18,153,18,154],[18,156,18,157],[15,159,15,160],[15,162,15,163],[16,159,16,160],[16,162,16,163],[22,159,22,160],[22,162,22,163],[15,147,15,148],[15,150,15,151],[15,153,15,154],[15,156,15,157],[18,159,18,160],[18,162,18,163],[16,147,16,148],[16,150,16,151],[16,153,16,154],[16,156,16,157],[13,147,13,148],[13,150,13,151],[13,153,13,154],[13,156,13,157],[12,153,12,154],[12,156,12,157],[9,159,9,160],[9,162,9,163],[11,159,11,160],[11,162,11,163],[13,159,13,160],[13,162,13,163],[12,159,12,160],[12,162,12,163],[11,147,11,148],[11,150,11,151],[11,153,11,154],[11,156,11,157],[12,147,12,148],[12,150,12,151],[6,147,6,148],[6,150,6,151],[9,147,9,148],[9,150,9,151],[9,153,9,154],[9,156,9,157],[8,147,8,148],[8,150,8,151],[8,153,8,154],[8,156,8,157],[8,159,8,160],[8,162,8,163],[6,153,6,154],[6,156,6,157],[4,153,4,154],[4,156,4,157],[6,159,6,160],[6,162,6,163],[4,159,4,160],[4,162,4,163],[3,153,3,154],[3,156,3,157],[3,159,3,160],[3,162,3,163],[4,147,4,148],[4,150,4,151],[1,153,1,154],[1,156,1,157],[1,159,1,160],[1,162,1,163],[2,153,2,154],[2,156,2,157],[2,159,2,160],[2,162,2,163],[1,147,1,148],[1,150,1,151],[2,147,2,148],[2,150,2,151],[3,147,3,148],[3,150,3,151],[29,129,29,130],[29,132,29,133],[29,135,29,136],[29,138,29,139],[29,141,29,142],[29,144,29,145],[25,129,25,130],[25,132,25,133],[27,129,27,130],[27,132,27,133],[27,135,27,136],[27,138,27,139],[25,135,25,136],[25,138,25,139],[23,141,23,142],[23,144,23,145],[24,141,24,142],[24,144,24,145],[27,141,27,142],[27,144,27,145],[23,129,23,130],[23,132,23,133],[23,135,23,136],[23,138,23,139],[25,141,25,142],[25,144,25,145],[24,129,24,130],[24,132,24,133],[24,135,24,136],[24,138,24,139],[18,129,18,130],[18,132,18,133],[22,129,22,130],[22,132,22,133],[22,135,22,136],[22,138,22,139],[18,135,18,136],[18,138,18,139],[15,141,15,142],[15,144,15,145],[16,141,16,142],[16,144,16,145],[22,141,22,142],[22,144,22,145],[15,129,15,130],[15,132,15,133],[15,135,15,136],[15,138,15,139],[18,141,18,142],[18,144,18,145],[16,129,16,130],[16,132,16,133],[16,135,16,136],[16,138,16,139],[13,129,13,130],[13,132,13,133],[13,135,13,136],[13,138,13,139],[12,135,12,136],[12,138,12,139],[9,141,9,142],[9,144,9,145],[11,141,11,142],[11,144,11,145],[13,141,13,142],[13,144,13,145],[12,141,12,142],[12,144,12,145],[11,129,11,130],[11,132,11,133],[11,135,11,136],[11,138,11,139],[12,129,12,130],[12,132,12,133],[6,129,6,130],[6,132,6,133],[9,129,9,130],[9,132,9,133],[9,135,9,136],[9,138,9,139],[8,129,8,130],[8,132,8,133],[8,135,8,136],[8,138,8,139],[8,141,8,142],[8,144,8,145],[6,135,6,136],[6,138,6,139],[4,135,4,136],[4,138,4,139],[6,141,6,142],[6,144,6,145],[4,141,4,142],[4,144,4,145],[3,135,3,136],[3,138,3,139],[3,141,3,142],[3,144,3,145],[4,129,4,130],[4,132,4,133],[1,135,1,136],[1,138,1,139],[1,141,1,142],[1,144,1,145],[2,135,2,136],[2,138,2,139],[2,141,2,142],[2,144,2,145],[1,129,1,130],[1,132,1,133],[2,129,2,130],[2,132,2,133],[3,129,3,130],[3,132,3,133],[29,111,29,112],[29,114,29,115],[29,117,29,118],[29,120,29,121],[29,123,29,124],[29,126,29,127],[25,111,25,112],[25,114,25,115],[27,111,27,112],[27,114,27,115],[27,117,27,118],[27,120,27,121],[25,117,25,118],[25,120,25,121],[23,123,23,124],[23,126,23,127],[24,123,24,124],[24,126,24,127],[27,123,27,124],[27,126,27,127],[23,111,23,112],[23,114,23,115],[23,117,23,118],[23,120,23,121],[25,123,25,124],[25,126,25,127],[24,111,24,112],[24,114,24,115],[24,117,24,118],[24,120,24,121],[18,111,18,112],[18,114,18,115],[22,111,22,112],[22,114,22,115],[22,117,22,118],[22,120,22,121],[18,117,18,118],[18,120,18,121],[15,123,15,124],[15,126,15,127],[16,123,16,124],[16,126,16,127],[22,123,22,124],[22,126,22,127],[15,111,15,112],[15,114,15,115],[15,117,15,118],[15,120,15,121],[18,123,18,124],[18,126,18,127],[16,111,16,112],[16,114,16,115],[16,117,16,118],[16,120,16,121],[13,111,13,112],[13,114,13,115],[13,117,13,118],[13,120,13,121],[12,117,12,118],[12,120,12,121],[9,123,9,124],[9,126,9,127],[11,123,11,124],[11,126,11,127],[13,123,13,124],[13,126,13,127],[12,123,12,124],[12,126,12,127],[11,111,11,112],[11,114,11,115],[11,117,11,118],[11,120,11,121],[12,111,12,112],[12,114,12,115],[6,111,6,112],[6,114,6,115],[9,111,9,112],[9,114,9,115],[9,117,9,118],[9,120,9,121],[8,111,8,112],[8,114,8,115],[8,117,8,118],[8,120,8,121],[8,123,8,124],[8,126,8,127],[6,117,6,118],[6,120,6,121],[4,117,4,118],[4,120,4,121],[6,123,6,124],[6,126,6,127],[4,123,4,124],[4,126,4,127],[3,117,3,118],[3,120,3,121],[3,123,3,124],[3,126,3,127],[4,111,4,112],[4,114,4,115],[1,117,1,118],[1,120,1,121],[1,123,1,124],[1,126,1,127],[2,117,2,118],[2,120,2,121],[2,123,2,124],[2,126,2,127],[1,111,1,112],[1,114,1,115],[2,111,2,112],[2,114,2,115],[3,111,3,112],[3,114,3,115],[29,93,29,94],[29,96,29,97],[29,99,29,100],[29,102,29,103],[29,105,29,106],[29,108,29,109],[25,93,25,94],[25,96,25,97],[27,93,27,94],[27,96,27,97],[27,99,27,100],[27,102,27,103],[25,99,25,100],[25,102,25,103],[23,105,23,106],[23,108,23,109],[24,105,24,106],[24,108,24,109],[27,105,27,106],[27,108,27,109],[23,93,23,94],[23,96,23,97],[23,99,23,100],[23,102,23,103],[25,105,25,106],[25,108,25,109],[24,93,24,94],[24,96,24,97],[24,99,24,100],[24,102,24,103],[18,93,18,94],[18,96,18,97],[22,93,22,94],[22,96,22,97],[22,99,22,100],[22,102,22,103],[18,99,18,100],[18,102,18,103],[15,105,15,106],[15,108,15,109],[16,105,16,106],[16,108,16,109],[22,105,22,106],[22,108,22,109],[15,93,15,94],[15,96,15,97],[15,99,15,100],[15,102,15,103],[18,105,18,106],[18,108,18,109],[16,93,16,94],[16,96,16,97],[16,99,16,100],[16,102,16,103],[13,93,13,94],[13,96,13,97],[13,99,13,100],[13,102,13,103],[12,99,12,100],[12,102,12,103],[9,105,9,106],[9,108,9,109],[11,105,11,106],[11,108,11,109],[13,105,13,106],[13,108,13,109],[12,105,12,106],[12,108,12,109],[11,93,11,94],[11,96,11,97],[11,99,11,100],[11,102,11,103],[12,93,12,94],[12,96,12,97],[6,93,6,94],[6,96,6,97],[9,93,9,94],[9,96,9,97],[9,99,9,100],[9,102,9,103],[8,93,8,94]],"merged_total":1596,"flags":["merged_cut"]}
[]
[null,"Compound"]
[null,"Crop"]
[null,"Region / Country"]
[null,"GAP"]
[]
[null,"Total number of data (n)",null,{"$f":"IF(OR(COUNTBLANK(D$33:E$232)=400,Check!D1=\"Check\"),\"-\",COUNT(D$33:D$232))","v":"-"},null,null,{"$f":"IF(OR(COUNTBLANK(G$33:H$232)=400,Check!G1=\"Check\"),\"-\",COUNT(G$33:G$232))","v":"-"},null,null,{"$f":"IF(OR(COUNTBLANK(J$33:K$232)=400,Check!J1=\"Check\"),\"-\",COUNT(J$33:J$232))","v":"-"},null,null,{"$f":"IF(OR(COUNTBLANK(M$33:N$232)=400,Check!M1=\"Check\"),\"-\",COUNT(M$33:M$232))","v":"-"},null,null,{"$f":"IF(OR(COUNTBLANK(P$33:Q$232)=400,Check!P1=\"Check\"),\"-\",COUNT(P$33:P$232))","v":"-"},null,null,{"$f":"IF(OR(COUNTBLANK(S$33:T$232)=400,Check!S1=\"Check\"),\"-\",COUNT(S$33:S$232))","v":"-"},null,null,{"$f":"IF(OR(COUNTBLANK(V$33:W$232)=400,Check!V1=\"Check\"),\"-\",COUNT(V$33:V$232))","v":"-"},null,null,{"$f":"IF(OR(COUNTBLANK(Y$33:Z$232)=400,Check!Y1=\"Check\"),\"-\",COUNT(Y$33:Y$232))","v":"-"},null,null,{"$f":"IF(OR(COUNTBLANK(AB$33:AC$232)=400,Check!AB1=\"Check\"),\"-\",COUNT(AB$33:AB$232))","v":"-"},null,null,{"$f":"IF(OR(COUNTBLANK(AE$33:AF$232)=400,Check!AE1=\"Check\"),\"-\",COUNT(AE$33:AE$232))","v":"-"},null,null,{"$f":"IF(OR(COUNTBLANK(AH$33:AI$232)=400,Check!AH1=\"Check\"),\"-\",COUNT(AH$33:AH$232))","v":"-"},null,null,{"$f":"IF(OR(COUNTBLANK(AK$33:AL$232)=400,Check!AK1=\"Check\"),\"-\",COUNT(AK$33:AK$232))","v":"-"},null,null,{"$f":"IF(OR(COUNTBLANK(AN$33:AO$232)=400,Check!AN1=\"Check\"),\"-\",COUNT(AN$33:AN$232))","v":"-"},null,null,{"$f":"IF(OR(COUNTBLANK(AQ$33:AR$232)=400,Check!AQ1=\"Check\"),\"-\",COUNT(AQ$33:AQ$232))","v":"-"},null,null,{"$f":"IF(OR(COUNTBLANK(AT$33:AU$232)=400,Check!AT1=\"Check\"),\"-\",COUNT(AT$33:AT$232))","v":"-"},null,null,{"$f":"IF(OR(COUNTBLANK(AW$33:AX$232)=400,Check!AW1=\"Check\"),\"-\",COUNT(AW$33:AW$232))","v":"-"},null,null,{"$f":"IF(OR(COUNTBLANK(AZ$33:BA$232)=400,Check!AZ1=\"Check\"),\"-\",COUNT(AZ$33:AZ$232))","v":"-"},null,null,{"$f":"IF(OR(COUNTBLANK(BC$33:BD$232)=400,Check!BC1=\"Check\"),\"-\",COUNT(BC$33:BC$232))","v":"-"},null,null,{"$f":"IF(OR(COUNTBLANK(BF$33:BG$232)=400,Check!BF1=\"Check\"),\"-\",COUNT(BF$33:BF$232))","v":"-"},null,null,{"$f":"IF(OR(COUNTBLANK(BI$33:BJ$232)=400,Check!BI1=\"Check\"),\"-\",COUNT(BI$33:BI$232))","v":"-"},null,null,{"$f":"IF(OR(COUNTBLANK(BL$33:BM$232)=400,Check!BL1=\"Check\"),\"-\",COUNT(BL$33:BL$232))","v":"-"},null,null,{"$f":"IF(OR(COUNTBLANK(BO$33:BP$232)=400,Check!BO1=\"Check\"),\"-\",COUNT(BO$33:BO$232))","v":"-"},null,null,{"$f":"IF(OR(COUNTBLANK(BR$33:BS$232)=400,Check!BR1=\"Check\"),\"-\",COUNT(BR$33:BR$232))","v":"-"},null,null,{"$f":"IF(OR(COUNTBLANK(BU$33:BV$232)=400,Check!BU1=\"Check\"),\"-\",COUNT(BU$33:BU$232))","v":"-"},null,null,{"$f":"IF(OR(COUNTBLANK(BX$33:BY$232)=400,Check!BX1=\"Check\"),\"-\",COUNT(BX$33:BX$232))","v":"-"},null,null,{"$f":"IF(OR(COUNTBLANK(CA$33:CB$232)=400,Check!CA1=\"Check\"),\"-\",COUNT(CA$33:CA$232))","v":"-"},null,null,{"$f":"IF(OR(COUNTBLANK(CD$33:CE$232)=400,Check!CD1=\"Check\"),\"-\",COUNT(CD$33:CD$232))","v":"-"},null,null,{"$f":"IF(OR(COUNTBLANK(CG$33:CH$232)=400,Check!CG1=\"Check\"),\"-\",COUNT(CG$33:CG$232))","v":"-"},null,null,{"$f":"IF(OR(COUNTBLANK(CJ$33:CK$232)=400,Check!CJ1=\"Check\"),\"-\",COUNT(CJ$33:CJ$232))","v":"-"},null,null,{"$f":"IF(OR(COUNTBLANK(CM$33:CN$232)=400,Check!CM1=\"Check\"),\"-\",COUNT(CM$33:CM$232))","v":"-"},null,null,{"$f":"IF(OR(COUNTBLANK(CP$33:CQ$232)=400,Check!CP1=\"Check\"),\"-\",COUNT(CP$33:CP$232))","v":"-"},null,null,{"$f":"IF(OR(COUNTBLANK(CS$33:CT$232)=400,Check!CS1=\"Check\"),\"-\",COUNT(CS$33:CS$232))","v":"-"},null,null,{"$f":"IF(OR(COUNTBLANK(CV$33:CW$232)=400,Check!CV1=\"Check\"),\"-\",COUNT(CV$33:CV$232))","v":"-"},null,null,{"$f":"IF(OR(COUNTBLANK(CY$33:CZ$232)=400,Check!CY1=\"Check\"),\"-\",COUNT(CY$33:CY$232))","v":"-"},null,null,{"$f":"IF(OR(COUNTBLANK(DB$33:DC$232)=400,Check!DB1=\"Check\"),\"-\",COUNT(DB$33:DB$232))","v":"-"},null,null,{"$f":"IF(OR(COUNTBLANK(DE$33:DF$232)=400,Check!DE1=\"Check\"),\"-\",COUNT(DE$33:DE$232))","v":"-"},null,null,{"$f":"IF(OR(COUNTBLANK(DH$33:DI$232)=400,Check!DH1=\"Check\"),\"-\",COUNT(DH$33:DH$232))","v":"-"},null,null,{"$f":"IF(OR(COUNTBLANK(DK$33:DL$232)=400,Check!DK1=\"Check\"),\"-\",COUNT(DK$33:DK$232))","v":"-"},null,null,{"$f":"IF(OR(COUNTBLANK(DN$33:DO$232)=400,Check!DN1=\"Check\"),\"-\",COUNT(DN$33:DN$232))","v":"-"},null,null,{"$f":"IF(OR(COUNTBLANK(DQ$33:DR$232)=400,Check!DQ1=\"Check\"),\"-\",COUNT(DQ$33:DQ$232))","v":"-"},null,null,{"$f":"IF(OR(COUNTBLANK(DT$33:DU$232)=400,Check!DT1=\"Check\"),\"-\",COUNT(DT$33:DT$232))","v":"-"},null,null,{"$f":"IF(OR(COUNTBLANK(DW$33:DX$232)=400,Check!DW1=\"Check\"),\"-\",COUNT(DW$33:DW$232))","v":"-"},null,null,{"$f":"IF(OR(COUNTBLANK(DZ$33:EA$232)=400,Check!DZ1=\"Check\"),\"-\",COUNT(DZ$33:DZ$232))","v":"-"},null,null,{"$f":"IF(OR(COUNTBLANK(EC$33:ED$232)=400,Check!EC1=\"Check\"),\"-\",COUNT(EC$33:EC$232))","v":"-"},null,null,{"$f":"IF(OR(COUNTBLANK(EF$33:EG$232)=400,Check!EF1=\"Check\"),\"-\",COUNT(EF$33:EF$232))","v":"-"},null,null,{"$f":"IF(OR(COUNTBLANK(EI$33:EJ$232)=400,Check!EI1=\"Check\"),\"-\",COUNT(EI$33:EI$232))","v":"-"},null,null,{"$f":"IF(OR(COUNTBLANK(EL$33:EM$232)=400,Check!EL1=\"Check\"),\"-\",COUNT(EL$33:EL$232))","v":"-"},null,null,{"$f":"IF(OR(COUNTBLANK(EO$33:EP$232)=400,Check!EO1=\"Check\"),\"-\",COUNT(EO$33:EO$232))","v":"-"},null,null,{"$f":"IF(OR(COUNTBLANK(ER$33:ES$232)=400,Check!ER1=\"Check\"),\"-\",COUNT(ER$33:ER$232))","v":"-"},null,null,{"$f":"IF(OR(COUNTBLANK(EU$33:EV$232)=400,Check!EU1=\"Check\"),\"-\",COUNT(EU$33:EU$232))","v":"-"},null,null,{"$f":"IF(OR(COUNTBLANK(EX$33:EY$232)=400,Check!EX1=\"Check\"),\"-\",COUNT(EX$33:EX$232))","v":"-"},null,null,{"$f":"IF(OR(COUNTBLANK(FA$33:FB$232)=400,Check!FA1=\"Check\"),\"-\",COUNT(FA$33:FA$232))","v":"-"},null,null,{"$f":"IF(OR(COUNTBLANK(FD$33:FE$232)=400,Check!FD1=\"Check\"),\"-\",COUNT(FD$33:FD$232))","v":"-"},null,null,{"$f":"IF(OR(COUNTBLANK(FG$33:FH$232)=400,Check!FG1=\"Check\"),\"-\",COUNT(FG$33:FG$232))","v":"-"},null,null,{"$f":"IF(OR(COUNTBLANK(FJ$33:FK$232)=400,Check!FJ1=\"Check\"),\"-\",COUNT(FJ$33:FJ$232))","v":"-"},null,null,{"$f":"IF(OR(COUNTBLANK(FM$33:FN$232)=400,Check!FM1=\"Check\"),\"-\",COUNT(FM$33:FM$232))","v":"-"},null,null,{"$f":"IF(OR(COUNTBLANK(FP$33:FQ$232)=400,Check!FP1=\"Check\"),\"-\",COUNT(FP$33:FP$232))","v":"-"},null,null,{"$f":"IF(OR(COUNTBLANK(FS$33:FT$232)=400,Check!FS1=\"Check\"),\"-\",COUNT(FS$33:FS$232))","v":"-"},null,null,{"$f":"IF(OR(COUNTBLANK(FV$33:FW$232)=400,Check!FV1=\"Check\"),\"-\",COUNT(FV$33:FV$232))","v":"-"},null,null,{"$f":"IF(OR(COUNTBLANK(FY$33:FZ$232)=400,Check!FY1=\"Check\"),\"-\",COUNT(FY$33:FY$232))","v":"-"},null,null,{"$f":"IF(OR(COUNTBLANK(GB$33:GC$232)=400,Check!GB1=\"Check\"),\"-\",COUNT(GB$33:GB$232))","v":"-"},null,null,{"$f":"IF(OR(COUNTBLANK(GE$33:GF$232)=400,Check!GE1=\"Check\"),\"-\",COUNT(GE$33:GE$232))","v":"-"},null,null,{"$f":"IF(OR(COUNTBLANK(GH$33:GI$232)=400,Check!GH1=\"Check\"),\"-\",COUNT(GH$33:GH$232))","v":"-"},null,null,{"$f":"IF(OR(COUNTBLANK(GK$33:GL$232)=400,Check!GK1=\"Check\"),\"-\",COUNT(GK$33:GK$232))","v":"-"},null,null,{"$f":"IF(OR(COUNTBLANK(GN$33:GO$232)=400,Check!GN1=\"Check\"),\"-\",COUNT(GN$33:GN$232))","v":"-"},null,null,{"$f":"IF(OR(COUNTBLANK(GQ$33:GR$232)=400,Check!GQ1=\"Check\"),\"-\",COUNT(GQ$33:GQ$232))","v":"-"},null,null,{"$f":"IF(OR(COUNTBLANK(GT$33:GU$232)=400,Check!GT1=\"Check\"),\"-\",COUNT(GT$33:GT$232))","v":"-"},null,null,{"$f":"IF(OR(COUNTBLANK(GW$33:GX$232)=400,Check!GW1=\"Check\"),\"-\",COUNT(GW$33:GW$232))","v":"-"},null,null,{"$f":"IF(OR(COUNTBLANK(GZ$33:HA$232)=400,Check!GZ1=\"Check\"),\"-\",COUNT(GZ$33:GZ$232))","v":"-"},null,null,{"$f":"IF(OR(COUNTBLANK(HC$33:HD$232)=400,Check!HC1=\"Check\"),\"-\",COUNT(HC$33:HC$232))","v":"-"},null,null,{"$f":"IF(OR(COUNTBLANK(HF$33:HG$232)=400,Check!HF1=\"Check\"),\"-\",COUNT(HF$33:HF$232))","v":"-"},null,null,{"$f":"IF(OR(COUNTBLANK(HI$33:HJ$232)=400,Check!HI1=\"Check\"),\"-\",COUNT(HI$33:HI$232))","v":"-"},null,null,{"$f":"IF(OR(COUNTBLANK(HL$33:HM$232)=400,Check!HL1=\"Check\"),\"-\",COUNT(HL$33:HL$232))","v":"-"},null,null,{"$f":"IF(OR(COUNTBLANK(HO$33:HP$232)=400,Check!HO1=\"Check\"),\"-\",COUNT(HO$33:HO$232))","v":"-"},null,null,{"$f":"IF(OR(COUNTBLANK(HR$33:HS$232)=400,Check!HR1=\"Check\"),\"-\",COUNT(HR$33:HR$232))","v":"-"},null,null,{"$f":"IF(OR(COUNTBLANK(HU$33:HV$232)=400,Check!HU1=\"Check\"),\"-\",COUNT(HU$33:HU$232))","v":"-"},null,null,{"$f":"IF(OR(COUNTBLANK(HX$33:HY$232)=400,Check!HX1=\"Check\"),\"-\",COUNT(HX$33:HX$232))","v":"-"},null,null,{"$f":"IF(OR(COUNTBLANK(IA$33:IB$232)=400,Check!IA1=\"Check\"),\"-\",COUNT(IA$33:IA$232))","v":"-"},null,null,{"$f":"IF(OR(COUNTBLANK(ID$33:IE$232)=400,Check!ID1=\"Check\"),\"-\",COUNT(ID$33:ID$232))","v":"-"},null,null,{"$f":"IF(OR(COUNTBLANK(IG$33:IH$232)=400,Check!IG1=\"Check\"),\"-\",COUNT(IG$33:IG$232))","v":"-"},null,null,{"$f":"IF(OR(COUNTBLANK(IJ$33:IK$232)=400,Check!IJ1=\"Check\"),\"-\",COUNT(IJ$33:IJ$232))","v":"-"},null,null,{"$f":"IF(OR(COUNTBLANK(IM$33:IN$232)=400,Check!IM1=\"Check\"),\"-\",COUNT(IM$33:IM$232))","v":"-"},null,null,{"$f":"IF(OR(COUNTBLANK(IP$33:IQ$232)=400,Check!IP1=\"Check\"),\"-\",COUNT(IP$33:IP$232))","v":"-"},null,null,{"$f":"IF(OR(COUNTBLANK(IS$33:IT$232)=400,Check!IS1=\"Check\"),\"-\",COUNT(IS$33:IS$232))","v":"-"}]
[]
[null,"Percentage of censored data",null,{"$f":"IF(OR(COUNTBLANK(D$33:E$232)=400,Check!D1=\"Check\"),\"-\",(200-COUNTBLANK(E$33:E$232))/COUNT(D$33:D$232))","v":"-"},null,null,{"$f":"IF(OR(COUNTBLANK(G$33:H$232)=400,Check!G1=\"Check\"),\"-\",(200-COUNTBLANK(H$33:H$232))/COUNT(G$33:G$232))","v":"-"},null,null,{"$f":"IF(OR(COUNTBLANK(J$33:K$232)=400,Check!J1=\"Check\"),\"-\",(200-COUNTBLANK(K$33:K$232))/COUNT(J$33:J$232))","v":"-"},null,null,{"$f":"IF(OR(COUNTBLANK(M$33:N$232)=400,Check!M1=\"Check\"),\"-\",(200-COUNTBLANK(N$33:N$232))/COUNT(M$33:M$232))","v":"-"},null,null,{"$f":"IF(OR(COUNTBLANK(P$33:Q$232)=400,Check!P1=\"Check\"),\"-\",(200-COUNTBLANK(Q$33:Q$232))/COUNT(P$33:P$232))","v":"-"},null,null,{"$f":"IF(OR(COUNTBLANK(S$33:T$232)=400,Check!S1=\"Check\"),\"-\",(200-COUNTBLANK(T$33:T$232))/COUNT(S$33:S$232))","v":"-"},null,null,{"$f":"IF(OR(COUNTBLANK(V$33:W$232)=400,Check!V1=\"Check\"),\"-\",(200-COUNTBLANK(W$33:W$232))/COUNT(V$33:V$232))","v":"-"},null,null,{"$f":"IF(OR(COUNTBLANK(Y$33:Z$232)=400,Check!Y1=\"Check\"),\"-\",(200-COUNTBLANK(Z$33:Z$232))/COUNT(Y$33:Y$232))","v":"-"},null,null,{"$f":"IF(OR(COUNTBLANK(AB$33:AC$232)=400,Check!AB1=\"Check\"),\"-\",(200-COUNTBLANK(AC$33:AC$232))/COUNT(AB$33:AB$232))","v":"-"},null,null,{"$f":"IF(OR(COUNTBLANK(AE$33:AF$232)=400,Check!AE1=\"Check\"),\"-\",(200-COUNTBLANK(AF$33:AF$232))/COUNT(AE$33:AE$232))","v":"-"},null,null,{"$f":"IF(OR(COUNTBLANK(AH$33:AI$232)=400,Check!AH1=\"Check\"),\"-\",(200-COUNTBLANK(AI$33:AI$232))/COUNT(AH$33:AH$232))","v":"-"},null,null,{"$f":"IF(OR(COUNTBLANK(AK$33:AL$232)=400,Check!AK1=\"Check\"),\"-\",(200-COUNTBLANK(AL$33:AL$232))/COUNT(AK$33:AK$232))","v":"-"},null,null,{"$f":"IF(OR(COUNTBLANK(AN$33:AO$232)=400,Check!AN1=\"Check\"),\"-\",(200-COUNTBLANK(AO$33:AO$232))/COUNT(AN$33:AN$232))","v":"-"},null,null,{"$f":"IF(OR(COUNTBLANK(AQ$33:AR$232)=400,Check!AQ1=\"Check\"),\"-\",(200-COUNTBLANK(AR$33:AR$232))/COUNT(AQ$33:AQ$232))","v":"-"},null,null,{"$f":"IF(OR(COUNTBLANK(AT$33:AU$232)=400,Check!AT1=\"Check\"),\"-\",(200-COUNTBLANK(AU$33:AU$232))/COUNT(AT$33:AT$232))","v":"-"},null,null,{"$f":"IF(OR(COUNTBLANK(AW$33:AX$232)=400,Check!AW1=\"Check\"),\"-\",(200-COUNTBLANK(AX$33:AX$232))/COUNT(AW$33:AW$232))","v":"-"},null,null,{"$f":"IF(OR(COUNTBLANK(AZ$33:BA$232)=400,Check!AZ1=\"Check\"),\"-\",(200-COUNTBLANK(BA$33:BA$232))/COUNT(AZ$33:AZ$232))","v":"-"},null,null,{"$f":"IF(OR(COUNTBLANK(BC$33:BD$232)=400,Check!BC1=\"Check\"),\"-\",(200-COUNTBLANK(BD$33:BD$232))/COUNT(BC$33:BC$232))","v":"-"},null,null,{"$f":"IF(OR(COUNTBLANK(BF$33:BG$232)=400,Check!BF1=\"Check\"),\"-\",(200-COUNTBLANK(BG$33:BG$232))/COUNT(BF$33:BF$232))","v":"-"},null,null,{"$f":"IF(OR(COUNTBLANK(BI$33:BJ$232)=400,Check!BI1=\"Check\"),\"-\",(200-COUNTBLANK(BJ$33:BJ$232))/COUNT(BI$33:BI$232))","v":"-"},null,null,{"$f":"IF(OR(COUNTBLANK(BL$33:BM$232)=400,Check!BL1=\"Check\"),\"-\",(200-COUNTBLANK(BM$33:BM$232))/COUNT(BL$33:BL$232))","v":"-"},null,null,{"$f":"IF(OR(COUNTBLANK(BO$33:BP$232)=400,Check!BO1=\"Check\"),\"-\",(200-COUNTBLANK(BP$33:BP$232))/COUNT(BO$33:BO$232))","v":"-"},null,null,{"$f":"IF(OR(COUNTBLANK(BR$33:BS$232)=400,Check!BR1=\"Check\"),\"-\",(200-COUNTBLANK(BS$33:BS$232))/COUNT(BR$33:BR$232))","v":"-"},null,null,{"$f":"IF(OR(COUNTBLANK(BU$33:BV$232)=400,Check!BU1=\"Check\"),\"-\",(200-COUNTBLANK(BV$33:BV$232))/COUNT(BU$33:BU$232))","v":"-"},null,null,{"$f":"IF(OR(COUNTBLANK(BX$33:BY$232)=400,Check!BX1=\"Check\"),\"-\",(200-COUNTBLANK(BY$33:BY$232))/COUNT(BX$33:BX$232))","v":"-"},null,null,{"$f":"IF(OR(COUNTBLANK(CA$33:CB$232)=400,Check!CA1=\"Check\"),\"-\",(200-COUNTBLANK(CB$33:CB$232))/COUNT(CA$33:CA$232))","v":"-"},null,null,{"$f":"IF(OR(COUNTBLANK(CD$33:CE$232)=400,Check!CD1=\"Check\"),\"-\",(200-COUNTBLANK(CE$33:CE$232))/COUNT(CD$33:CD$232))","v":"-"},null,null,{"$f":"IF(OR(COUNTBLANK(CG$33:CH$232)=400,Check!CG1=\"Check\"),\"-\",(200-COUNTBLANK(CH$33:CH$232))/COUNT(CG$33:CG$232))","v":"-"},null,null,{"$f":"IF(OR(COUNTBLANK(CJ$33:CK$232)=400,Check!CJ1=\"Check\"),\"-\",(200-COUNTBLANK(CK$33:CK$232))/COUNT(CJ$33:CJ$232))","v":"-"},null,null,{"$f":"IF(OR(COUNTBLANK(CM$33:CN$232)=400,Check!CM1=\"Check\"),\"-\",(200-COUNTBLANK(CN$33:CN$232))/COUNT(CM$33:CM$232))","v":"-"},null,null,{"$f":"IF(OR(COUNTBLANK(CP$33:CQ$232)=400,Check!CP1=\"Check\"),\"-\",(200-COUNTBLANK(CQ$33:CQ$232))/COUNT(CP$33:CP$232))","v":"-"},null,null,{"$f":"IF(OR(COUNTBLANK(CS$33:CT$232)=400,Check!CS1=\"Check\"),\"-\",(200-COUNTBLANK(CT$33:CT$232))/COUNT(CS$33:CS$232))","v":"-"},null,null,{"$f":"IF(OR(COUNTBLANK(CV$33:CW$232)=400,Check!CV1=\"Check\"),\"-\",(200-COUNTBLANK(CW$33:CW$232))/COUNT(CV$33:CV$232))","v":"-"},null,null,{"$f":"IF(OR(COUNTBLANK(CY$33:CZ$232)=400,Check!CY1=\"Check\"),\"-\",(200-COUNTBLANK(CZ$33:CZ$232))/COUNT(CY$33:CY$232))","v":"-"},null,null,{"$f":"IF(OR(COUNTBLANK(DB$33:DC$232)=400,Check!DB1=\"Check\"),\"-\",(200-COUNTBLANK(DC$33:DC$232))/COUNT(DB$33:DB$232))","v":"-"},null,null,{"$f":"IF(OR(COUNTBLANK(DE$33:DF$232)=400,Check!DE1=\"Check\"),\"-\",(200-COUNTBLANK(DF$33:DF$232))/COUNT(DE$33:DE$232))","v":"-"},null,null,{"$f":"IF(OR(COUNTBLANK(DH$33:DI$232)=400,Check!DH1=\"Check\"),\"-\",(200-COUNTBLANK(DI$33:DI$232))/COUNT(DH$33:DH$232))","v":"-"},null,null,{"$f":"IF(OR(COUNTBLANK(DK$33:DL$232)=400,Check!DK1=\"Check\"),\"-\",(200-COUNTBLANK(DL$33:DL$232))/COUNT(DK$33:DK$232))","v":"-"},null,null,{"$f":"IF(OR(COUNTBLANK(DN$33:DO$232)=400,Check!DN1=\"Check\"),\"-\",(200-COUNTBLANK(DO$33:DO$232))/COUNT(DN$33:DN$232))","v":"-"},null,null,{"$f":"IF(OR(COUNTBLANK(DQ$33:DR$232)=400,Check!DQ1=\"Check\"),\"-\",(200-COUNTBLANK(DR$33:DR$232))/COUNT(DQ$33:DQ$232))","v":"-"},null,null,{"$f":"IF(OR(COUNTBLANK(DT$33:DU$232)=400,Check!DT1=\"Check\"),\"-\",(200-COUNTBLANK(DU$33:DU$232))/COUNT(DT$33:DT$232))","v":"-"},null,null,{"$f":"IF(OR(COUNTBLANK(DW$33:DX$232)=400,Check!DW1=\"Check\"),\"-\",(200-COUNTBLANK(DX$33:DX$232))/COUNT(DW$33:DW$232))","v":"-"},null,null,{"$f":"IF(OR(COUNTBLANK(DZ$33:EA$232)=400,Check!DZ1=\"Check\"),\"-\",(200-COUNTBLANK(EA$33:EA$232))/COUNT(DZ$33:DZ$232))","v":"-"},null,null,{"$f":"IF(OR(COUNTBLANK(EC$33:ED$232)=400,Check!EC1=\"Check\"),\"-\",(200-COUNTBLANK(ED$33:ED$232))/COUNT(EC$33:EC$232))","v":"-"},null,null,{"$f":"IF(OR(COUNTBLANK(EF$33:EG$232)=400,Check!EF1=\"Check\"),\"-\",(200-COUNTBLANK(EG$33:EG$232))/COUNT(EF$33:EF$232))","v":"-"},null,null,{"$f":"IF(OR(COUNTBLANK(EI$33:EJ$232)=400,Check!EI1=\"Check\"),\"-\",(200-COUNTBLANK(EJ$33:EJ$232))/COUNT(EI$33:EI$232))","v":"-"},null,null,{"$f":"IF(OR(COUNTBLANK(EL$33:EM$232)=400,Check!EL1=\"Check\"),\"-\",(200-COUNTBLANK(EM$33:EM$232))/COUNT(EL$33:EL$232))","v":"-"},null,null,{"$f":"IF(OR(COUNTBLANK(EO$33:EP$232)=400,Check!EO1=\"Check\"),\"-\",(200-COUNTBLANK(EP$33:EP$232))/COUNT(EO$33:EO$232))","v":"-"},null,null,{"$f":"IF(OR(COUNTBLANK(ER$33:ES$232)=400,Check!ER1=\"Check\"),\"-\",(200-COUNTBLANK(ES$33:ES$232))/COUNT(ER$33:ER$232))","v":"-"},null,null,{"$f":"IF(OR(COUNTBLANK(EU$33:EV$232)=400,Check!EU1=\"Check\"),\"-\",(200-COUNTBLANK(EV$33:EV$232))/COUNT(EU$33:EU$232))","v":"-"},null,null,{"$f":"IF(OR(COUNTBLANK(EX$33:EY$232)=400,Check!EX1=\"Check\"),\"-\",(200-COUNTBLANK(EY$33:EY$232))/COUNT(EX$33:EX$232))","v":"-"},null,null,{"$f":"IF(OR(COUNTBLANK(FA$33:FB$232)=400,Check!FA1=\"Check\"),\"-\",(200-COUNTBLANK(FB$33:FB$232))/COUNT(FA$33:FA$232))","v":"-"},null,null,{"$f":"IF(OR(COUNTBLANK(FD$33:FE$232)=400,Check!FD1=\"Check\"),\"-\",(200-COUNTBLANK(FE$33:FE$232))/COUNT(FD$33:FD$232))","v":"-"},null,null,{"$f":"IF(OR(COUNTBLANK(FG$33:FH$232)=400,Check!FG1=\"Check\"),\"-\",(200-COUNTBLANK(FH$33:FH$232))/COUNT(FG$33:FG$232))","v":"-"},null,null,{"$f":"IF(OR(COUNTBLANK(FJ$33:FK$232)=400,Check!FJ1=\"Check\"),\"-\",(200-COUNTBLANK(FK$33:FK$232))/COUNT(FJ$33:FJ$232))","v":"-"},null,null,{"$f":"IF(OR(COUNTBLANK(FM$33:FN$232)=400,Check!FM1=\"Check\"),\"-\",(200-COUNTBLANK(FN$33:FN$232))/COUNT(FM$33:FM$232))","v":"-"},null,null,{"$f":"IF(OR(COUNTBLANK(FP$33:FQ$232)=400,Check!FP1=\"Check\"),\"-\",(200-COUNTBLANK(FQ$33:FQ$232))/COUNT(FP$33:FP$232))","v":"-"},null,null,{"$f":"IF(OR(COUNTBLANK(FS$33:FT$232)=400,Check!FS1=\"Check\"),\"-\",(200-COUNTBLANK(FT$33:FT$232))/COUNT(FS$33:FS$232))","v":"-"},null,null,{"$f":"IF(OR(COUNTBLANK(FV$33:FW$232)=400,Check!FV1=\"Check\"),\"-\",(200-COUNTBLANK(FW$33:FW$232))/COUNT(FV$33:FV$232))","v":"-"},null,null,{"$f":"IF(OR(COUNTBLANK(FY$33:FZ$232)=400,Check!FY1=\"Check\"),\"-\",(200-COUNTBLANK(FZ$33:FZ$232))/COUNT(FY$33:FY$232))","v":"-"},null,null,{"$f":"IF(OR(COUNTBLANK(GB$33:GC$232)=400,Check!GB1=\"Check\"),\"-\",(200-COUNTBLANK(GC$33:GC$232))/COUNT(GB$33:GB$232))","v":"-"},null,null,{"$f":"IF(OR(COUNTBLANK(GE$33:GF$232)=400,Check!GE1=\"Check\"),\"-\",(200-COUNTBLANK(GF$33:GF$232))/COUNT(GE$33:GE$232))","v":"-"},null,null,{"$f":"IF(OR(COUNTBLANK(GH$33:GI$232)=400,Check!GH1=\"Check\"),\"-\",(200-COUNTBLANK(GI$33:GI$232))/COUNT(GH$33:GH$232))","v":"-"},null,null,{"$f":"IF(OR(COUNTBLANK(GK$33:GL$232)=400,Check!GK1=\"Check\"),\"-\",(200-COUNTBLANK(GL$33:GL$232))/COUNT(GK$33:GK$232))","v":"-"},null,null,{"$f":"IF(OR(COUNTBLANK(GN$33:GO$232)=400,Check!GN1=\"Check\"),\"-\",(200-COUNTBLANK(GO$33:GO$232))/COUNT(GN$33:GN$232))","v":"-"},null,null,{"$f":"IF(OR(COUNTBLANK(GQ$33:GR$232)=400,Check!GQ1=\"Check\"),\"-\",(200-COUNTBLANK(GR$33:GR$232))/COUNT(GQ$33:GQ$232))","v":"-"},null,null,{"$f":"IF(OR(COUNTBLANK(GT$33:GU$232)=400,Check!GT1=\"Check\"),\"-\",(200-COUNTBLANK(GU$33:GU$232))/COUNT(GT$33:GT$232))","v":"-"},null,null,{"$f":"IF(OR(COUNTBLANK(GW$33:GX$232)=400,Check!GW1=\"Check\"),\"-\",(200-COUNTBLANK(GX$33:GX$232))/COUNT(GW$33:GW$232))","v":"-"},null,null,{"$f":"IF(OR(COUNTBLANK(GZ$33:HA$232)=400,Check!GZ1=\"Check\"),\"-\",(200-COUNTBLANK(HA$33:HA$232))/COUNT(GZ$33:GZ$232))","v":"-"},null,null,{"$f":"IF(OR(COUNTBLANK(HC$33:HD$232)=400,Check!HC1=\"Check\"),\"-\",(200-COUNTBLANK(HD$33:HD$232))/COUNT(HC$33:HC$232))","v":"-"},null,null,{"$f":"IF(OR(COUNTBLANK(HF$33:HG$232)=400,Check!HF1=\"Check\"),\"-\",(200-COUNTBLANK(HG$33:HG$232))/COUNT(HF$33:HF$232))","v":"-"},null,null,{"$f":"IF(OR(COUNTBLANK(HI$33:HJ$232)=400,Check!HI1=\"Check\"),\"-\",(200-COUNTBLANK(HJ$33:HJ$232))/COUNT(HI$33:HI$232))","v":"-"},null,null,{"$f":"IF(OR(COUNTBLANK(HL$33:HM$232)=400,Check!HL1=\"Check\"),\"-\",(200-COUNTBLANK(HM$33:HM$232))/COUNT(HL$33:HL$232))","v":"-"},null,null,{"$f":"IF(OR(COUNTBLANK(HO$33:HP$232)=400,Check!HO1=\"Check\"),\"-\",(200-COUNTBLANK(HP$33:HP$232))/COUNT(HO$33:HO$232))","v":"-"},null,null,{"$f":"IF(OR(COUNTBLANK(HR$33:HS$232)=400,Check!HR1=\"Check\"),\"-\",(200-COUNTBLANK(HS$33:HS$232))/COUNT(HR$33:HR$232))","v":"-"},null,null,{"$f":"IF(OR(COUNTBLANK(HU$33:HV$232)=400,Check!HU1=\"Check\"),\"-\",(200-COUNTBLANK(HV$33:HV$232))/COUNT(HU$33:HU$232))","v":"-"},null,null,{"$f":"IF(OR(COUNTBLANK(HX$33:HY$232)=400,Check!HX1=\"Check\"),\"-\",(200-COUNTBLANK(HY$33:HY$232))/COUNT(HX$33:HX$232))","v":"-"},null,null,{"$f":"IF(OR(COUNTBLANK(IA$33:IB$232)=400,Check!IA1=\"Check\"),\"-\",(200-COUNTBLANK(IB$33:IB$232))/COUNT(IA$33:IA$232))","v":"-"},null,null,{"$f":"IF(OR(COUNTBLANK(ID$33:IE$232)=400,Check!ID1=\"Check\"),\"-\",(200-COUNTBLANK(IE$33:IE$232))/COUNT(ID$33:ID$232))","v":"-"},null,null,{"$f":"IF(OR(COUNTBLANK(IG$33:IH$232)=400,Check!IG1=\"Check\"),\"-\",(200-COUNTBLANK(IH$33:IH$232))/COUNT(IG$33:IG$232))","v":"-"},null,null,{"$f":"IF(OR(COUNTBLANK(IJ$33:IK$232)=400,Check!IJ1=\"Check\"),\"-\",(200-COUNTBLANK(IK$33:IK$232))/COUNT(IJ$33:IJ$232))","v":"-"},null,null,{"$f":"IF(OR(COUNTBLANK(IM$33:IN$232)=400,Check!IM1=\"Check\"),\"-\",(200-COUNTBLANK(IN$33:IN$232))/COUNT(IM$33:IM$232))","v":"-"},null,null,{"$f":"IF(OR(COUNTBLANK(IP$33:IQ$232)=400,Check!IP1=\"Check\"),\"-\",(200-COUNTBLANK(IQ$33:IQ$232))/COUNT(IP$33:IP$232))","v":"-"},null,null,{"$f":"IF(OR(COUNTBLANK(IS$33:IT$232)=400,Check!IS1=\"Check\"),\"-\",(200-COUNTBLANK(IT$33:IT$232))/COUNT(IS$33:IS$232))","v":"-"}]
[null,"Number of non-censored data",null,{"$f":"IF(OR(COUNTBLANK(D$33:E$232)=400,Check!D1=\"Check\"),\"-\",(1-D$9)*D$7)","v":"-"},null,null,{"$f":"IF(OR(COUNTBLANK(G$33:H$232)=400,Check!G1=\"Check\"),\"-\",(1-G$9)*G$7)","v":"-"},null,null,{"$f":"IF(OR(COUNTBLANK(J$33:K$232)=400,Check!J1=\"Check\"),\"-\",(1-J$9)*J$7)","v":"-"},null,null,{"$f":"IF(OR(COUNTBLANK(M$33:N$232)=400,Check!M1=\"Check\"),\"-\",(1-M$9)*M$7)","v":"-"},null,null,{"$f":"IF(OR(COUNTBLANK(P$33:Q$232)=400,Check!P1=\"Check\"),\"-\",(1-P$9)*P$7)","v":"-"},null,null,{"$f":"IF(OR(COUNTBLANK(S$33:T$232)=400,Check!S1=\"Check\"),\"-\",(1-S$9)*S$7)","v":"-"},null,null,{"$f":"IF(OR(COUNTBLANK(V$33:W$232)=400,Check!V1=\"Check\"),\"-\",(1-V$9)*V$7)","v":"-"},null,null,{"$f":"IF(OR(COUNTBLANK(Y$33:Z$232)=400,Check!Y1=\"Check\"),\"-\",(1-Y$9)*Y$7)","v":"-"},null,null,{"$f":"IF(OR(COUNTBLANK(AB$33:AC$232)=400,Check!AB1=\"Check\"),\"-\",(1-AB$9)*AB$7)","v":"-"},null,null,{"$f":"IF(OR(COUNTBLANK(AE$33:AF$232)=400,Check!AE1=\"Check\"),\"-\",(1-AE$9)*AE$7)","v":"-"},null,null,{"$f":"IF(OR(COUNTBLANK(AH$33:AI$232)=400,Check!AH1=\"Check\"),\"-\",(1-AH$9)*AH$7)","v":"-"},null,null,{"$f":"IF(OR(COUNTBLANK(AK$33:AL$232)=400,Check!AK1=\"Check\"),\"-\",(1-AK$9)*AK$7)","v":"-"},null,null,{"$f":"IF(OR(COUNTBLANK(AN$33:AO$232)=400,Check!AN1=\"Check\"),\"-\",(1-AN$9)*AN$7)","v":"-"},null,null,{"$f":"IF(OR(COUNTBLANK(AQ$33:AR$232)=400,Check!AQ1=\"Check\"),\"-\",(1-AQ$9)*AQ$7)","v":"-"},null,null,{"$f":"IF(OR(COUNTBLANK(AT$33:AU$232)=400,Check!AT1=\"Check\"),\"-\",(1-AT$9)*AT$7)","v":"-"},null,null,{"$f":"IF(OR(COUNTBLANK(AW$33:AX$232)=400,Check!AW1=\"Check\"),\"-\",(1-AW$9)*AW$7)","v":"-"},null,null,{"$f":"IF(OR(COUNTBLANK(AZ$33:BA$232)=400,Check!AZ1=\"Check\"),\"-\",(1-AZ$9)*AZ$7)","v":"-"},null,null,{"$f":"IF(OR(COUNTBLANK(BC$33:BD$232)=400,Check!BC1=\"Check\"),\"-\",(1-BC$9)*BC$7)","v":"-"},null,null,{"$f":"IF(OR(COUNTBLANK(BF$33:BG$232)=400,Check!BF1=\"Check\"),\"-\",(1-BF$9)*BF$7)","v":"-"},null,null,{"$f":"IF(OR(COUNTBLANK(BI$33:BJ$232)=400,Check!BI1=\"Check\"),\"-\",(1-BI$9)*BI$7)","v":"-"},null,null,{"$f":"IF(OR(COUNTBLANK(BL$33:BM$232)=400,Check!BL1=\"Check\"),\"-\",(1-BL$9)*BL$7)","v":"-"},null,null,{"$f":"IF(OR(COUNTBLANK(BO$33:BP$232)=400,Check!BO1=\"Check\"),\"-\",(1-BO$9)*BO$7)","v":"-"},null,null,{"$f":"IF(OR(COUNTBLANK(BR$33:BS$232)=400,Check!BR1=\"Check\"),\"-\",(1-BR$9)*BR$7)","v":"-"},null,null,{"$f":"IF(OR(COUNTBLANK(BU$33:BV$232)=400,Check!BU1=\"Check\"),\"-\",(1-BU$9)*BU$7)","v":"-"},null,null,{"$f":"IF(OR(COUNTBLANK(BX$33:BY$232)=400,Check!BX1=\"Check\"),\"-\",(1-BX$9)*BX$7)","v":"-"},null,null,{"$f":"IF(OR(COUNTBLANK(CA$33:CB$232)=400,Check!CA1=\"Check\"),\"-\",(1-CA$9)*CA$7)","v":"-"},null,null,{"$f":"IF(OR(COUNTBLANK(CD$33:CE$232)=400,Check!CD1=\"Check\"),\"-\",(1-CD$9)*CD$7)","v":"-"},null,null,{"$f":"IF(OR(COUNTBLANK(CG$33:CH$232)=400,Check!CG1=\"Check\"),\"-\",(1-CG$9)*CG$7)","v":"-"},null,null,{"$f":"IF(OR(COUNTBLANK(CJ$33:CK$232)=400,Check!CJ1=\"Check\"),\"-\",(1-CJ$9)*CJ$7)","v":"-"},null,null,{"$f":"IF(OR(COUNTBLANK(CM$33:CN$232)=400,Check!CM1=\"Check\"),\"-\",(1-CM$9)*CM$7)","v":"-"},null,null,{"$f":"IF(OR(COUNTBLANK(CP$33:CQ$232)=400,Check!CP1=\"Check\"),\"-\",(1-CP$9)*CP$7)","v":"-"},null,null,{"$f":"IF(OR(COUNTBLANK(CS$33:CT$232)=400,Check!CS1=\"Check\"),\"-\",(1-CS$9)*CS$7)","v":"-"},null,null,{"$f":"IF(OR(COUNTBLANK(CV$33:CW$232)=400,Check!CV1=\"Check\"),\"-\",(1-CV$9)*CV$7)","v":"-"},null,null,{"$f":"IF(OR(COUNTBLANK(CY$33:CZ$232)=400,Check!CY1=\"Check\"),\"-\",(1-CY$9)*CY$7)","v":"-"},null,null,{"$f":"IF(OR(COUNTBLANK(DB$33:DC$232)=400,Check!DB1=\"Check\"),\"-\",(1-DB$9)*DB$7)","v":"-"},null,null,{"$f":"IF(OR(COUNTBLANK(DE$33:DF$232)=400,Check!DE1=\"Check\"),\"-\",(1-DE$9)*DE$7)","v":"-"},null,null,{"$f":"IF(OR(COUNTBLANK(DH$33:DI$232)=400,Check!DH1=\"Check\"),\"-\",(1-DH$9)*DH$7)","v":"-"},null,null,{"$f":"IF(OR(COUNTBLANK(DK$33:DL$232)=400,Check!DK1=\"Check\"),\"-\",(1-DK$9)*DK$7)","v":"-"},null,null,{"$f":"IF(OR(COUNTBLANK(DN$33:DO$232)=400,Check!DN1=\"Check\"),\"-\",(1-DN$9)*DN$7)","v":"-"},null,null,{"$f":"IF(OR(COUNTBLANK(DQ$33:DR$232)=400,Check!DQ1=\"Check\"),\"-\",(1-DQ$9)*DQ$7)","v":"-"},null,null,{"$f":"IF(OR(COUNTBLANK(DT$33:DU$232)=400,Check!DT1=\"Check\"),\"-\",(1-DT$9)*DT$7)","v":"-"},null,null,{"$f":"IF(OR(COUNTBLANK(DW$33:DX$232)=400,Check!DW1=\"Check\"),\"-\",(1-DW$9)*DW$7)","v":"-"},null,null,{"$f":"IF(OR(COUNTBLANK(DZ$33:EA$232)=400,Check!DZ1=\"Check\"),\"-\",(1-DZ$9)*DZ$7)","v":"-"},null,null,{"$f":"IF(OR(COUNTBLANK(EC$33:ED$232)=400,Check!EC1=\"Check\"),\"-\",(1-EC$9)*EC$7)","v":"-"},null,null,{"$f":"IF(OR(COUNTBLANK(EF$33:EG$232)=400,Check!EF1=\"Check\"),\"-\",(1-EF$9)*EF$7)","v":"-"},null,null,{"$f":"IF(OR(COUNTBLANK(EI$33:EJ$232)=400,Check!EI1=\"Check\"),\"-\",(1-EI$9)*EI$7)","v":"-"},null,null,{"$f":"IF(OR(COUNTBLANK(EL$33:EM$232)=400,Check!EL1=\"Check\"),\"-\",(1-EL$9)*EL$7)","v":"-"},null,null,{"$f":"IF(OR(COUNTBLANK(EO$33:EP$232)=400,Check!EO1=\"Check\"),\"-\",(1-EO$9)*EO$7)","v":"-"},null,null,{"$f":"IF(OR(COUNTBLANK(ER$33:ES$232)=400,Check!ER1=\"Check\"),\"-\",(1-ER$9)*ER$7)","v":"-"},null,null,{"$f":"IF(OR(COUNTBLANK(EU$33:EV$232)=400,Check!EU1=\"Check\"),\"-\",(1-EU$9)*EU$7)","v":"-"},null,null,{"$f":"IF(OR(COUNTBLANK(EX$33:EY$232)=400,Check!EX1=\"Check\"),\"-\",(1-EX$9)*EX$7)","v":"-"},null,null,{"$f":"IF(OR(COUNTBLANK(FA$33:FB$232)=400,Check!FA1=\"Check\"),\"-\",(1-FA$9)*FA$7)","v":"-"},null,null,{"$f":"IF(OR(COUNTBLANK(FD$33:FE$232)=400,Check!FD1=\"Check\"),\"-\",(1-FD$9)*FD$7)","v":"-"},null,null,{"$f":"IF(OR(COUNTBLANK(FG$33:FH$232)=400,Check!FG1=\"Check\"),\"-\",(1-FG$9)*FG$7)","v":"-"},null,null,{"$f":"IF(OR(COUNTBLANK(FJ$33:FK$232)=400,Check!FJ1=\"Check\"),\"-\",(1-FJ$9)*FJ$7)","v":"-"},null,null,{"$f":"IF(OR(COUNTBLANK(FM$33:FN$232)=400,Check!FM1=\"Check\"),\"-\",(1-FM$9)*FM$7)","v":"-"},null,null,{"$f":"IF(OR(COUNTBLANK(FP$33:FQ$232)=400,Check!FP1=\"Check\"),\"-\",(1-FP$9)*FP$7)","v":"-"},null,null,{"$f":"IF(OR(COUNTBLANK(FS$33:FT$232)=400,Check!FS1=\"Check\"),\"-\",(1-FS$9)*FS$7)","v":"-"},null,null,{"$f":"IF(OR(COUNTBLANK(FV$33:FW$232)=400,Check!FV1=\"Check\"),\"-\",(1-FV$9)*FV$7)","v":"-"},null,null,{"$f":"IF(OR(COUNTBLANK(FY$33:FZ$232)=400,Check!FY1=\"Check\"),\"-\",(1-FY$9)*FY$7)","v":"-"},null,null,{"$f":"IF(OR(COUNTBLANK(GB$33:GC$232)=400,Check!GB1=\"Check\"),\"-\",(1-GB$9)*GB$7)","v":"-"},null,null,{"$f":"IF(OR(COUNTBLANK(GE$33:GF$232)=400,Check!GE1=\"Check\"),\"-\",(1-GE$9)*GE$7)","v":"-"},null,null,{"$f":"IF(OR(COUNTBLANK(GH$33:GI$232)=400,Check!GH1=\"Check\"),\"-\",(1-GH$9)*GH$7)","v":"-"},null,null,{"$f":"IF(OR(COUNTBLANK(GK$33:GL$232)=400,Check!GK1=\"Check\"),\"-\",(1-GK$9)*GK$7)","v":"-"},null,null,{"$f":"IF(OR(COUNTBLANK(GN$33:GO$232)=400,Check!GN1=\"Check\"),\"-\",(1-GN$9)*GN$7)","v":"-"},null,null,{"$f":"IF(OR(COUNTBLANK(GQ$33:GR$232)=400,Check!GQ1=\"Check\"),\"-\",(1-GQ$9)*GQ$7)","v":"-"},null,null,{"$f":"IF(OR(COUNTBLANK(GT$33:GU$232)=400,Check!GT1=\"Check\"),\"-\",(1-GT$9)*GT$7)","v":"-"},null,null,{"$f":"IF(OR(COUNTBLANK(GW$33:GX$232)=400,Check!GW1=\"Check\"),\"-\",(1-GW$9)*GW$7)","v":"-"},null,null,{"$f":"IF(OR(COUNTBLANK(GZ$33:HA$232)=400,Check!GZ1=\"Check\"),\"-\",(1-GZ$9)*GZ$7)","v":"-"},null,null,{"$f":"IF(OR(COUNTBLANK(HC$33:HD$232)=400,Check!HC1=\"Check\"),\"-\",(1-HC$9)*HC$7)","v":"-"},null,null,{"$f":"IF(OR(COUNTBLANK(HF$33:HG$232)=400,Check!HF1=\"Check\"),\"-\",(1-HF$9)*HF$7)","v":"-"},null,null,{"$f":"IF(OR(COUNTBLANK(HI$33:HJ$232)=400,Check!HI1=\"Check\"),\"-\",(1-HI$9)*HI$7)","v":"-"},null,null,{"$f":"IF(OR(COUNTBLANK(HL$33:HM$232)=400,Check!HL1=\"Check\"),\"-\",(1-HL$9)*HL$7)","v":"-"},null,null,{"$f":"IF(OR(COUNTBLANK(HO$33:HP$232)=400,Check!HO1=\"Check\"),\"-\",(1-HO$9)*HO$7)","v":"-"},null,null,{"$f":"IF(OR(COUNTBLANK(HR$33:HS$232)=400,Check!HR1=\"Check\"),\"-\",(1-HR$9)*HR$7)","v":"-"},null,null,{"$f":"IF(OR(COUNTBLANK(HU$33:HV$232)=400,Check!HU1=\"Check\"),\"-\",(1-HU$9)*HU$7)","v":"-"},null,null,{"$f":"IF(OR(COUNTBLANK(HX$33:HY$232)=400,Check!HX1=\"Check\"),\"-\",(1-HX$9)*HX$7)","v":"-"},null,null,{"$f":"IF(OR(COUNTBLANK(IA$33:IB$232)=400,Check!IA1=\"Check\"),\"-\",(1-IA$9)*IA$7)","v":"-"},null,null,{"$f":"IF(OR(COUNTBLANK(ID$33:IE$232)=400,Check!ID1=\"Check\"),\"-\",(1-ID$9)*ID$7)","v":"-"},null,null,{"$f":"IF(OR(COUNTBLANK(IG$33:IH$232)=400,Check!IG1=\"Check\"),\"-\",(1-IG$9)*IG$7)","v":"-"},null,null,{"$f":"IF(OR(COUNTBLANK(IJ$33:IK$232)=400,Check!IJ1=\"Check\"),\"-\",(1-IJ$9)*IJ$7)","v":"-"},null,null,{"$f":"IF(OR(COUNTBLANK(IM$33:IN$232)=400,Check!IM1=\"Check\"),\"-\",(1-IM$9)*IM$7)","v":"-"},null,null,{"$f":"IF(OR(COUNTBLANK(IP$33:IQ$232)=400,Check!IP1=\"Check\"),\"-\",(1-IP$9)*IP$7)","v":"-"},null,null,{"$f":"IF(OR(COUNTBLANK(IS$33:IT$232)=400,Check!IS1=\"Check\"),\"-\",(1-IS$9)*IS$7)","v":"-"}]
[]
[null,"Lowest residue",null,{"$f":"IF(OR(COUNTBLANK(D$33:E$232)=400,Check!D1=\"Check\"),\"-\",MIN(D$33:D$232))","v":"-"},null,null,{"$f":"IF(OR(COUNTBLANK(G$33:H$232)=400,Check!G1=\"Check\"),\"-\",MIN(G$33:G$232))","v":"-"},null,null,{"$f":"IF(OR(COUNTBLANK(J$33:K$232)=400,Check!J1=\"Check\"),\"-\",MIN(J$33:J$232))","v":"-"},null,null,{"$f":"IF(OR(COUNTBLANK(M$33:N$232)=400,Check!M1=\"Check\"),\"-\",MIN(M$33:M$232))","v":"-"},null,null,{"$f":"IF(OR(COUNTBLANK(P$33:Q$232)=400,Check!P1=\"Check\"),\"-\",MIN(P$33:P$232))","v":"-"},null,null,{"$f":"IF(OR(COUNTBLANK(S$33:T$232)=400,Check!S1=\"Check\"),\"-\",MIN(S$33:S$232))","v":"-"},null,null,{"$f":"IF(OR(COUNTBLANK(V$33:W$232)=400,Check!V1=\"Check\"),\"-\",MIN(V$33:V$232))","v":"-"},null,null,{"$f":"IF(OR(COUNTBLANK(Y$33:Z$232)=400,Check!Y1=\"Check\"),\"-\",MIN(Y$33:Y$232))","v":"-"},null,null,{"$f":"IF(OR(COUNTBLANK(AB$33:AC$232)=400,Check!AB1=\"Check\"),\"-\",MIN(AB$33:AB$232))","v":"-"},null,null,{"$f":"IF(OR(COUNTBLANK(AE$33:AF$232)=400,Check!AE1=\"Check\"),\"-\",MIN(AE$33:AE$232))","v":"-"},null,null,{"$f":"IF(OR(COUNTBLANK(AH$33:AI$232)=400,Check!AH1=\"Check\"),\"-\",MIN(AH$33:AH$232))","v":"-"},null,null,{"$f":"IF(OR(COUNTBLANK(AK$33:AL$232)=400,Check!AK1=\"Check\"),\"-\",MIN(AK$33:AK$232))","v":"-"},null,null,{"$f":"IF(OR(COUNTBLANK(AN$33:AO$232)=400,Check!AN1=\"Check\"),\"-\",MIN(AN$33:AN$232))","v":"-"},null,null,{"$f":"IF(OR(COUNTBLANK(AQ$33:AR$232)=400,Check!AQ1=\"Check\"),\"-\",MIN(AQ$33:AQ$232))","v":"-"},null,null,{"$f":"IF(OR(COUNTBLANK(AT$33:AU$232)=400,Check!AT1=\"Check\"),\"-\",MIN(AT$33:AT$232))","v":"-"},null,null,{"$f":"IF(OR(COUNTBLANK(AW$33:AX$232)=400,Check!AW1=\"Check\"),\"-\",MIN(AW$33:AW$232))","v":"-"},null,null,{"$f":"IF(OR(COUNTBLANK(AZ$33:BA$232)=400,Check!AZ1=\"Check\"),\"-\",MIN(AZ$33:AZ$232))","v":"-"},null,null,{"$f":"IF(OR(COUNTBLANK(BC$33:BD$232)=400,Check!BC1=\"Check\"),\"-\",MIN(BC$33:BC$232))","v":"-"},null,null,{"$f":"IF(OR(COUNTBLANK(BF$33:BG$232)=400,Check!BF1=\"Check\"),\"-\",MIN(BF$33:BF$232))","v":"-"},null,null,{"$f":"IF(OR(COUNTBLANK(BI$33:BJ$232)=400,Check!BI1=\"Check\"),\"-\",MIN(BI$33:BI$232))","v":"-"},null,null,{"$f":"IF(OR(COUNTBLANK(BL$33:BM$232)=400,Check!BL1=\"Check\"),\"-\",MIN(BL$33:BL$232))","v":"-"},null,null,{"$f":"IF(OR(COUNTBLANK(BO$33:BP$232)=400,Check!BO1=\"Check\"),\"-\",MIN(BO$33:BO$232))","v":"-"},null,null,{"$f":"IF(OR(COUNTBLANK(BR$33:BS$232)=400,Check!BR1=\"Check\"),\"-\",MIN(BR$33:BR$232))","v":"-"},null,null,{"$f":"IF(OR(COUNTBLANK(BU$33:BV$232)=400,Check!BU1=\"Check\"),\"-\",MIN(BU$33:BU$232))","v":"-"},null,null,{"$f":"IF(OR(COUNTBLANK(BX$33:BY$232)=400,Check!BX1=\"Check\"),\"-\",MIN(BX$33:BX$232))","v":"-"},null,null,{"$f":"IF(OR(COUNTBLANK(CA$33:CB$232)=400,Check!CA1=\"Check\"),\"-\",MIN(CA$33:CA$232))","v":"-"},null,null,{"$f":"IF(OR(COUNTBLANK(CD$33:CE$232)=400,Check!CD1=\"Check\"),\"-\",MIN(CD$33:CD$232))","v":"-"},null,null,{"$f":"IF(OR(COUNTBLANK(CG$33:CH$232)=400,Check!CG1=\"Check\"),\"-\",MIN(CG$33:CG$232))","v":"-"},null,null,{"$f":"IF(OR(COUNTBLANK(CJ$33:CK$232)=400,Check!CJ1=\"Check\"),\"-\",MIN(CJ$33:CJ$232))","v":"-"},null,null,{"$f":"IF(OR(COUNTBLANK(CM$33:CN$232)=400,Check!CM1=\"Check\"),\"-\",MIN(CM$33:CM$232))","v":"-"},null,null,{"$f":"IF(OR(COUNTBLANK(CP$33:CQ$232)=400,Check!CP1=\"Check\"),\"-\",MIN(CP$33:CP$232))","v":"-"},null,null,{"$f":"IF(OR(COUNTBLANK(CS$33:CT$232)=400,Check!CS1=\"Check\"),\"-\",MIN(CS$33:CS$232))","v":"-"},null,null,{"$f":"IF(OR(COUNTBLANK(CV$33:CW$232)=400,Check!CV1=\"Check\"),\"-\",MIN(CV$33:CV$232))","v":"-"},null,null,{"$f":"IF(OR(COUNTBLANK(CY$33:CZ$232)=400,Check!CY1=\"Check\"),\"-\",MIN(CY$33:CY$232))","v":"-"},null,null,{"$f":"IF(OR(COUNTBLANK(DB$33:DC$232)=400,Check!DB1=\"Check\"),\"-\",MIN(DB$33:DB$232))","v":"-"},null,null,{"$f":"IF(OR(COUNTBLANK(DE$33:DF$232)=400,Check!DE1=\"Check\"),\"-\",MIN(DE$33:DE$232))","v":"-"},null,null,{"$f":"IF(OR(COUNTBLANK(DH$33:DI$232)=400,Check!DH1=\"Check\"),\"-\",MIN(DH$33:DH$232))","v":"-"},null,null,{"$f":"IF(OR(COUNTBLANK(DK$33:DL$232)=400,Check!DK1=\"Check\"),\"-\",MIN(DK$33:DK$232))","v":"-"},null,null,{"$f":"IF(OR(COUNTBLANK(DN$33:DO$232)=400,Check!DN1=\"Check\"),\"-\",MIN(DN$33:DN$232))","v":"-"},null,null,{"$f":"IF(OR(COUNTBLANK(DQ$33:DR$232)=400,Check!DQ1=\"Check\"),\"-\",MIN(DQ$33:DQ$232))","v":"-"},null,null,{"$f":"IF(OR(COUNTBLANK(DT$33:DU$232)=400,Check!DT1=\"Check\"),\"-\",MIN(DT$33:DT$232))","v":"-"},null,null,{"$f":"IF(OR(COUNTBLANK(DW$33:DX$232)=400,Check!DW1=\"Check\"),\"-\",MIN(DW$33:DW$232))","v":"-"},null,null,{"$f":"IF(OR(COUNTBLANK(DZ$33:EA$232)=400,Check!DZ1=\"Check\"),\"-\",MIN(DZ$33:DZ$232))","v":"-"},null,null,{"$f":"IF(OR(COUNTBLANK(EC$33:ED$232)=400,Check!EC1=\"Check\"),\"-\",MIN(EC$33:EC$232))","v":"-"},null,null,{"$f":"IF(OR(COUNTBLANK(EF$33:EG$232)=400,Check!EF1=\"Check\"),\"-\",MIN(EF$33:EF$232))","v":"-"},null,null,{"$f":"IF(OR(COUNTBLANK(EI$33:EJ$232)=400,Check!EI1=\"Check\"),\"-\",MIN(EI$33:EI$232))","v":"-"},null,null,{"$f":"IF(OR(COUNTBLANK(EL$33:EM$232)=400,Check!EL1=\"Check\"),\"-\",MIN(EL$33:EL$232))","v":"-"},null,null,{"$f":"IF(OR(COUNTBLANK(EO$33:EP$232)=400,Check!EO1=\"Check\"),\"-\",MIN(EO$33:EO$232))","v":"-"},null,null,{"$f":"IF(OR(COUNTBLANK(ER$33:ES$232)=400,Check!ER1=\"Check\"),\"-\",MIN(ER$33:ER$232))","v":"-"},null,null,{"$f":"IF(OR(COUNTBLANK(EU$33:EV$232)=400,Check!EU1=\"Check\"),\"-\",MIN(EU$33:EU$232))","v":"-"},null,null,{"$f":"IF(OR(COUNTBLANK(EX$33:EY$232)=400,Check!EX1=\"Check\"),\"-\",MIN(EX$33:EX$232))","v":"-"},null,null,{"$f":"IF(OR(COUNTBLANK(FA$33:FB$232)=400,Check!FA1=\"Check\"),\"-\",MIN(FA$33:FA$232))","v":"-"},null,null,{"$f":"IF(OR(COUNTBLANK(FD$33:FE$232)=400,Check!FD1=\"Check\"),\"-\",MIN(FD$33:FD$232))","v":"-"},null,null,{"$f":"IF(OR(COUNTBLANK(FG$33:FH$232)=400,Check!FG1=\"Check\"),\"-\",MIN(FG$33:FG$232))","v":"-"},null,null,{"$f":"IF(OR(COUNTBLANK(FJ$33:FK$232)=400,Check!FJ1=\"Check\"),\"-\",MIN(FJ$33:FJ$232))","v":"-"},null,null,{"$f":"IF(OR(COUNTBLANK(FM$33:FN$232)=400,Check!FM1=\"Check\"),\"-\",MIN(FM$33:FM$232))","v":"-"},null,null,{"$f":"IF(OR(COUNTBLANK(FP$33:FQ$232)=400,Check!FP1=\"Check\"),\"-\",MIN(FP$33:FP$232))","v":"-"},null,null,{"$f":"IF(OR(COUNTBLANK(FS$33:FT$232)=400,Check!FS1=\"Check\"),\"-\",MIN(FS$33:FS$232))","v":"-"},null,null,{"$f":"IF(OR(COUNTBLANK(FV$33:FW$232)=400,Check!FV1=\"Check\"),\"-\",MIN(FV$33:FV$232))","v":"-"},null,null,{"$f":"IF(OR(COUNTBLANK(FY$33:FZ$232)=400,Check!FY1=\"Check\"),\"-\",MIN(FY$33:FY$232))","v":"-"},null,null,{"$f":"IF(OR(COUNTBLANK(GB$33:GC$232)=400,Check!GB1=\"Check\"),\"-\",MIN(GB$33:GB$232))","v":"-"},null,null,{"$f":"IF(OR(COUNTBLANK(GE$33:GF$232)=400,Check!GE1=\"Check\"),\"-\",MIN(GE$33:GE$232))","v":"-"},null,null,{"$f":"IF(OR(COUNTBLANK(GH$33:GI$232)=400,Check!GH1=\"Check\"),\"-\",MIN(GH$33:GH$232))","v":"-"},null,null,{"$f":"IF(OR(COUNTBLANK(GK$33:GL$232)=400,Check!GK1=\"Check\"),\"-\",MIN(GK$33:GK$232))","v":"-"},null,null,{"$f":"IF(OR(COUNTBLANK(GN$33:GO$232)=400,Check!GN1=\"Check\"),\"-\",MIN(GN$33:GN$232))","v":"-"},null,null,{"$f":"IF(OR(COUNTBLANK(GQ$33:GR$232)=400,Check!GQ1=\"Check\"),\"-\",MIN(GQ$33:GQ$232))","v":"-"},null,null,{"$f":"IF(OR(COUNTBLANK(GT$33:GU$232)=400,Check!GT1=\"Check\"),\"-\",MIN(GT$33:GT$232))","v":"-"},null,null,{"$f":"IF(OR(COUNTBLANK(GW$33:GX$232)=400,Check!GW1=\"Check\"),\"-\",MIN(GW$33:GW$232))","v":"-"},null,null,{"$f":"IF(OR(COUNTBLANK(GZ$33:HA$232)=400,Check!GZ1=\"Check\"),\"-\",MIN(GZ$33:GZ$232))","v":"-"},null,null,{"$f":"IF(OR(COUNTBLANK(HC$33:HD$232)=400,Check!HC1=\"Check\"),\"-\",MIN(HC$33:HC$232))","v":"-"},null,null,{"$f":"IF(OR(COUNTBLANK(HF$33:HG$232)=400,Check!HF1=\"Check\"),\"-\",MIN(HF$33:HF$232))","v":"-"},null,null,{"$f":"IF(OR(COUNTBLANK(HI$33:HJ$232)=400,Check!HI1=\"Check\"),\"-\",MIN(HI$33:HI$232))","v":"-"},null,null,{"$f":"IF(OR(COUNTBLANK(HL$33:HM$232)=400,Check!HL1=\"Check\"),\"-\",MIN(HL$33:HL$232))","v":"-"},null,null,{"$f":"IF(OR(COUNTBLANK(HO$33:HP$232)=400,Check!HO1=\"Check\"),\"-\",MIN(HO$33:HO$232))","v":"-"},null,null,{"$f":"IF(OR(COUNTBLANK(HR$33:HS$232)=400,Check!HR1=\"Check\"),\"-\",MIN(HR$33:HR$232))","v":"-"},null,null,{"$f":"IF(OR(COUNTBLANK(HU$33:HV$232)=400,Check!HU1=\"Check\"),\"-\",MIN(HU$33:HU$232))","v":"-"},null,null,{"$f":"IF(OR(COUNTBLANK(HX$33:HY$232)=400,Check!HX1=\"Check\"),\"-\",MIN(HX$33:HX$232))","v":"-"},null,null,{"$f":"IF(OR(COUNTBLANK(IA$33:IB$232)=400,Check!IA1=\"Check\"),\"-\",MIN(IA$33:IA$232))","v":"-"},null,null,{"$f":"IF(OR(COUNTBLANK(ID$33:IE$232)=400,Check!ID1=\"Check\"),\"-\",MIN(ID$33:ID$232))","v":"-"},null,null,{"$f":"IF(OR(COUNTBLANK(IG$33:IH$232)=400,Check!IG1=\"Check\"),\"-\",MIN(IG$33:IG$232))","v":"-"},null,null,{"$f":"IF(OR(COUNTBLANK(IJ$33:IK$232)=400,Check!IJ1=\"Check\"),\"-\",MIN(IJ$33:IJ$232))","v":"-"},null,null,{"$f":"IF(OR(COUNTBLANK(IM$33:IN$232)=400,Check!IM1=\"Check\"),\"-\",MIN(IM$33:IM$232))","v":"-"},null,null,{"$f":"IF(OR(COUNTBLANK(IP$33:IQ$232)=400,Check!IP1=\"Check\"),\"-\",MIN(IP$33:IP$232))","v":"-"},null,null,{"$f":"IF(OR(COUNTBLANK(IS$33:IT$232)=400,Check!IS1=\"Check\"),\"-\",MIN(IS$33:IS$232))","v":"-"}]
[null,"Highest residue",null,{"$f":"IF(OR(COUNTBLANK(D$33:E$232)=400,Check!D1=\"Check\"),\"-\",MAX(D$33:D$232))","v":"-"},null,null,{"$f":"IF(OR(COUNTBLANK(G$33:H$232)=400,Check!G1=\"Check\"),\"-\",MAX(G$33:G$232))","v":"-"},null,null,{"$f":"IF(OR(COUNTBLANK(J$33:K$232)=400,Check!J1=\"Check\"),\"-\",MAX(J$33:J$232))","v":"-"},null,null,{"$f":"IF(OR(COUNTBLANK(M$33:N$232)=400,Check!M1=\"Check\"),\"-\",MAX(M$33:M$232))","v":"-"},null,null,{"$f":"IF(OR(COUNTBLANK(P$33:Q$232)=400,Check!P1=\"Check\"),\"-\",MAX(P$33:P$232))","v":"-"},null,null,{"$f":"IF(OR(COUNTBLANK(S$33:T$232)=400,Check!S1=\"Check\"),\"-\",MAX(S$33:S$232))","v":"-"},null,null,{"$f":"IF(OR(COUNTBLANK(V$33:W$232)=400,Check!V1=\"Check\"),\"-\",MAX(V$33:V$232))","v":"-"},null,null,{"$f":"IF(OR(COUNTBLANK(Y$33:Z$232)=400,Check!Y1=\"Check\"),\"-\",MAX(Y$33:Y$232))","v":"-"},null,null,{"$f":"IF(OR(COUNTBLANK(AB$33:AC$232)=400,Check!AB1=\"Check\"),\"-\",MAX(AB$33:AB$232))","v":"-"},null,null,{"$f":"IF(OR(COUNTBLANK(AE$33:AF$232)=400,Check!AE1=\"Check\"),\"-\",MAX(AE$33:AE$232))","v":"-"},null,null,{"$f":"IF(OR(COUNTBLANK(AH$33:AI$232)=400,Check!AH1=\"Check\"),\"-\",MAX(AH$33:AH$232))","v":"-"},null,null,{"$f":"IF(OR(COUNTBLANK(AK$33:AL$232)=400,Check!AK1=\"Check\"),\"-\",MAX(AK$33:AK$232))","v":"-"},null,null,{"$f":"IF(OR(COUNTBLANK(AN$33:AO$232)=400,Check!AN1=\"Check\"),\"-\",MAX(AN$33:AN$232))","v":"-"},null,null,{"$f":"IF(OR(COUNTBLANK(AQ$33:AR$232)=400,Check!AQ1=\"Check\"),\"-\",MAX(AQ$33:AQ$232))","v":"-"},null,null,{"$f":"IF(OR(COUNTBLANK(AT$33:AU$232)=400,Check!AT1=\"Check\"),\"-\",MAX(AT$33:AT$232))","v":"-"},null,null,{"$f":"IF(OR(COUNTBLANK(AW$33:AX$232)=400,Check!AW1=\"Check\"),\"-\",MAX(AW$33:AW$232))","v":"-"},null,null,{"$f":"IF(OR(COUNTBLANK(AZ$33:BA$232)=400,Check!AZ1=\"Check\"),\"-\",MAX(AZ$33:AZ$232))","v":"-"},null,null,{"$f":"IF(OR(COUNTBLANK(BC$33:BD$232)=400,Check!BC1=\"Check\"),\"-\",MAX(BC$33:BC$232))","v":"-"},null,null,{"$f":"IF(OR(COUNTBLANK(BF$33:BG$232)=400,Check!BF1=\"Check\"),\"-\",MAX(BF$33:BF$232))","v":"-"},null,null,{"$f":"IF(OR(COUNTBLANK(BI$33:BJ$232)=400,Check!BI1=\"Check\"),\"-\",MAX(BI$33:BI$232))","v":"-"},null,null,{"$f":"IF(OR(COUNTBLANK(BL$33:BM$232)=400,Check!BL1=\"Check\"),\"-\",MAX(BL$33:BL$232))","v":"-"},null,null,{"$f":"IF(OR(COUNTBLANK(BO$33:BP$232)=400,Check!BO1=\"Check\"),\"-\",MAX(BO$33:BO$232))","v":"-"},null,null,{"$f":"IF(OR(COUNTBLANK(BR$33:BS$232)=400,Check!BR1=\"Check\"),\"-\",MAX(BR$33:BR$232))","v":"-"},null,null,{"$f":"IF(OR(COUNTBLANK(BU$33:BV$232)=400,Check!BU1=\"Check\"),\"-\",MAX(BU$33:BU$232))","v":"-"},null,null,{"$f":"IF(OR(COUNTBLANK(BX$33:BY$232)=400,Check!BX1=\"Check\"),\"-\",MAX(BX$33:BX$232))","v":"-"},null,null,{"$f":"IF(OR(COUNTBLANK(CA$33:CB$232)=400,Check!CA1=\"Check\"),\"-\",MAX(CA$33:CA$232))","v":"-"},null,null,{"$f":"IF(OR(COUNTBLANK(CD$33:CE$232)=400,Check!CD1=\"Check\"),\"-\",MAX(CD$33:CD$232))","v":"-"},null,null,{"$f":"IF(OR(COUNTBLANK(CG$33:CH$232)=400,Check!CG1=\"Check\"),\"-\",MAX(CG$33:CG$232))","v":"-"},null,null,{"$f":"IF(OR(COUNTBLANK(CJ$33:CK$232)=400,Check!CJ1=\"Check\"),\"-\",MAX(CJ$33:CJ$232))","v":"-"},null,null,{"$f":"IF(OR(COUNTBLANK(CM$33:CN$232)=400,Check!CM1=\"Check\"),\"-\",MAX(CM$33:CM$232))","v":"-"},null,null,{"$f":"IF(OR(COUNTBLANK(CP$33:CQ$232)=400,Check!CP1=\"Check\"),\"-\",MAX(CP$33:CP$232))","v":"-"},null,null,{"$f":"IF(OR(COUNTBLANK(CS$33:CT$232)=400,Check!CS1=\"Check\"),\"-\",MAX(CS$33:CS$232))","v":"-"},null,null,{"$f":"IF(OR(COUNTBLANK(CV$33:CW$232)=400,Check!CV1=\"Check\"),\"-\",MAX(CV$33:CV$232))","v":"-"},null,null,{"$f":"IF(OR(COUNTBLANK(CY$33:CZ$232)=400,Check!CY1=\"Check\"),\"-\",MAX(CY$33:CY$232))","v":"-"},null,null,{"$f":"IF(OR(COUNTBLANK(DB$33:DC$232)=400,Check!DB1=\"Check\"),\"-\",MAX(DB$33:DB$232))","v":"-"},null,null,{"$f":"IF(OR(COUNTBLANK(DE$33:DF$232)=400,Check!DE1=\"Check\"),\"-\",MAX(DE$33:DE$232))","v":"-"},null,null,{"$f":"IF(OR(COUNTBLANK(DH$33:DI$232)=400,Check!DH1=\"Check\"),\"-\",MAX(DH$33:DH$232))","v":"-"},null,null,{"$f":"IF(OR(COUNTBLANK(DK$33:DL$232)=400,Check!DK1=\"Check\"),\"-\",MAX(DK$33:DK$232))","v":"-"},null,null,{"$f":"IF(OR(COUNTBLANK(DN$33:DO$232)=400,Check!DN1=\"Check\"),\"-\",MAX(DN$33:DN$232))","v":"-"},null,null,{"$f":"IF(OR(COUNTBLANK(DQ$33:DR$232)=400,Check!DQ1=\"Check\"),\"-\",MAX(DQ$33:DQ$232))","v":"-"},null,null,{"$f":"IF(OR(COUNTBLANK(DT$33:DU$232)=400,Check!DT1=\"Check\"),\"-\",MAX(DT$33:DT$232))","v":"-"},null,null,{"$f":"IF(OR(COUNTBLANK(DW$33:DX$232)=400,Check!DW1=\"Check\"),\"-\",MAX(DW$33:DW$232))","v":"-"},null,null,{"$f":"IF(OR(COUNTBLANK(DZ$33:EA$232)=400,Check!DZ1=\"Check\"),\"-\",MAX(DZ$33:DZ$232))","v":"-"},null,null,{"$f":"IF(OR(COUNTBLANK(EC$33:ED$232)=400,Check!EC1=\"Check\"),\"-\",MAX(EC$33:EC$232))","v":"-"},null,null,{"$f":"IF(OR(COUNTBLANK(EF$33:EG$232)=400,Check!EF1=\"Check\"),\"-\",MAX(EF$33:EF$232))","v":"-"},null,null,{"$f":"IF(OR(COUNTBLANK(EI$33:EJ$232)=400,Check!EI1=\"Check\"),\"-\",MAX(EI$33:EI$232))","v":"-"},null,null,{"$f":"IF(OR(COUNTBLANK(EL$33:EM$232)=400,Check!EL1=\"Check\"),\"-\",MAX(EL$33:EL$232))","v":"-"},null,null,{"$f":"IF(OR(COUNTBLANK(EO$33:EP$232)=400,Check!EO1=\"Check\"),\"-\",MAX(EO$33:EO$232))","v":"-"},null,null,{"$f":"IF(OR(COUNTBLANK(ER$33:ES$232)=400,Check!ER1=\"Check\"),\"-\",MAX(ER$33:ER$232))","v":"-"},null,null,{"$f":"IF(OR(COUNTBLANK(EU$33:EV$232)=400,Check!EU1=\"Check\"),\"-\",MAX(EU$33:EU$232))","v":"-"},null,null,{"$f":"IF(OR(COUNTBLANK(EX$33:EY$232)=400,Check!EX1=\"Check\"),\"-\",MAX(EX$33:EX$232))","v":"-"},null,null,{"$f":"IF(OR(COUNTBLANK(FA$33:FB$232)=400,Check!FA1=\"Check\"),\"-\",MAX(FA$33:FA$232))","v":"-"},null,null,{"$f":"IF(OR(COUNTBLANK(FD$33:FE$232)=400,Check!FD1=\"Check\"),\"-\",MAX(FD$33:FD$232))","v":"-"},null,null,{"$f":"IF(OR(COUNTBLANK(FG$33:FH$232)=400,Check!FG1=\"Check\"),\"-\",MAX(FG$33:FG$232))","v":"-"},null,null,{"$f":"IF(OR(COUNTBLANK(FJ$33:FK$232)=400,Check!FJ1=\"Check\"),\"-\",MAX(FJ$33:FJ$232))","v":"-"},null,null,{"$f":"IF(OR(COUNTBLANK(FM$33:FN$232)=400,Check!FM1=\"Check\"),\"-\",MAX(FM$33:FM$232))","v":"-"},null,null,{"$f":"IF(OR(COUNTBLANK(FP$33:FQ$232)=400,Check!FP1=\"Check\"),\"-\",MAX(FP$33:FP$232))","v":"-"},null,null,{"$f":"IF(OR(COUNTBLANK(FS$33:FT$232)=400,Check!FS1=\"Check\"),\"-\",MAX(FS$33:FS$232))","v":"-"},null,null,{"$f":"IF(OR(COUNTBLANK(FV$33:FW$232)=400,Check!FV1=\"Check\"),\"-\",MAX(FV$33:FV$232))","v":"-"},null,null,{"$f":"IF(OR(COUNTBLANK(FY$33:FZ$232)=400,Check!FY1=\"Check\"),\"-\",MAX(FY$33:FY$232))","v":"-"},null,null,{"$f":"IF(OR(COUNTBLANK(GB$33:GC$232)=400,Check!GB1=\"Check\"),\"-\",MAX(GB$33:GB$232))","v":"-"},null,null,{"$f":"IF(OR(COUNTBLANK(GE$33:GF$232)=400,Check!GE1=\"Check\"),\"-\",MAX(GE$33:GE$232))","v":"-"},null,null,{"$f":"IF(OR(COUNTBLANK(GH$33:GI$232)=400,Check!GH1=\"Check\"),\"-\",MAX(GH$33:GH$232))","v":"-"},null,null,{"$f":"IF(OR(COUNTBLANK(GK$33:GL$232)=400,Check!GK1=\"Check\"),\"-\",MAX(GK$33:GK$232))","v":"-"},null,null,{"$f":"IF(OR(COUNTBLANK(GN$33:GO$232)=400,Check!GN1=\"Check\"),\"-\",MAX(GN$33:GN$232))","v":"-"},null,null,{"$f":"IF(OR(COUNTBLANK(GQ$33:GR$232)=400,Check!GQ1=\"Check\"),\"-\",MAX(GQ$33:GQ$232))","v":"-"},null,null,{"$f":"IF(OR(COUNTBLANK(GT$33:GU$232)=400,Check!GT1=\"Check\"),\"-\",MAX(GT$33:GT$232))","v":"-"},null,null,{"$f":"IF(OR(COUNTBLANK(GW$33:GX$232)=400,Check!GW1=\"Check\"),\"-\",MAX(GW$33:GW$232))","v":"-"},null,null,{"$f":"IF(OR(COUNTBLANK(GZ$33:HA$232)=400,Check!GZ1=\"Check\"),\"-\",MAX(GZ$33:GZ$232))","v":"-"},null,null,{"$f":"IF(OR(COUNTBLANK(HC$33:HD$232)=400,Check!HC1=\"Check\"),\"-\",MAX(HC$33:HC$232))","v":"-"},null,null,{"$f":"IF(OR(COUNTBLANK(HF$33:HG$232)=400,Check!HF1=\"Check\"),\"-\",MAX(HF$33:HF$232))","v":"-"},null,null,{"$f":"IF(OR(COUNTBLANK(HI$33:HJ$232)=400,Check!HI1=\"Check\"),\"-\",MAX(HI$33:HI$232))","v":"-"},null,null,{"$f":"IF(OR(COUNTBLANK(HL$33:HM$232)=400,Check!HL1=\"Check\"),\"-\",MAX(HL$33:HL$232))","v":"-"},null,null,{"$f":"IF(OR(COUNTBLANK(HO$33:HP$232)=400,Check!HO1=\"Check\"),\"-\",MAX(HO$33:HO$232))","v":"-"},null,null,{"$f":"IF(OR(COUNTBLANK(HR$33:HS$232)=400,Check!HR1=\"Check\"),\"-\",MAX(HR$33:HR$232))","v":"-"},null,null,{"$f":"IF(OR(COUNTBLANK(HU$33:HV$232)=400,Check!HU1=\"Check\"),\"-\",MAX(HU$33:HU$232))","v":"-"},null,null,{"$f":"IF(OR(COUNTBLANK(HX$33:HY$232)=400,Check!HX1=\"Check\"),\"-\",MAX(HX$33:HX$232))","v":"-"},null,null,{"$f":"IF(OR(COUNTBLANK(IA$33:IB$232)=400,Check!IA1=\"Check\"),\"-\",MAX(IA$33:IA$232))","v":"-"},null,null,{"$f":"IF(OR(COUNTBLANK(ID$33:IE$232)=400,Check!ID1=\"Check\"),\"-\",MAX(ID$33:ID$232))","v":"-"},null,null,{"$f":"IF(OR(COUNTBLANK(IG$33:IH$232)=400,Check!IG1=\"Check\"),\"-\",MAX(IG$33:IG$232))","v":"-"},null,null,{"$f":"IF(OR(COUNTBLANK(IJ$33:IK$232)=400,Check!IJ1=\"Check\"),\"-\",MAX(IJ$33:IJ$232))","v":"-"},null,null,{"$f":"IF(OR(COUNTBLANK(IM$33:IN$232)=400,Check!IM1=\"Check\"),\"-\",MAX(IM$33:IM$232))","v":"-"},null,null,{"$f":"IF(OR(COUNTBLANK(IP$33:IQ$232)=400,Check!IP1=\"Check\"),\"-\",MAX(IP$33:IP$232))","v":"-"},null,null,{"$f":"IF(OR(COUNTBLANK(IS$33:IT$232)=400,Check!IS1=\"Check\"),\"-\",MAX(IS$33:IS$232))","v":"-"}]
[null,"Median residue",null,{"$f":"IF(OR(COUNTBLANK(D$33:E$232)=400,Check!D1=\"Check\"),\"-\",MEDIAN(D$33:D$232))","v":"-"},null,null,{"$f":"IF(OR(COUNTBLANK(G$33:H$232)=400,Check!G1=\"Check\"),\"-\",MEDIAN(G$33:G$232))","v":"-"},null,null,{"$f":"IF(OR(COUNTBLANK(J$33:K$232)=400,Check!J1=\"Check\"),\"-\",MEDIAN(J$33:J$232))","v":"-"},null,null,{"$f":"IF(OR(COUNTBLANK(M$33:N$232)=400,Check!M1=\"Check\"),\"-\",MEDIAN(M$33:M$232))","v":"-"},null,null,{"$f":"IF(OR(COUNTBLANK(P$33:Q$232)=400,Check!P1=\"Check\"),\"-\",MEDIAN(P$33:P$232))","v":"-"},null,null,{"$f":"IF(OR(COUNTBLANK(S$33:T$232)=400,Check!S1=\"Check\"),\"-\",MEDIAN(S$33:S$232))","v":"-"},null,null,{"$f":"IF(OR(COUNTBLANK(V$33:W$232)=400,Check!V1=\"Check\"),\"-\",MEDIAN(V$33:V$232))","v":"-"},null,null,{"$f":"IF(OR(COUNTBLANK(Y$33:Z$232)=400,Check!Y1=\"Check\"),\"-\",MEDIAN(Y$33:Y$232))","v":"-"},null,null,{"$f":"IF(OR(COUNTBLANK(AB$33:AC$232)=400,Check!AB1=\"Check\"),\"-\",MEDIAN(AB$33:AB$232))","v":"-"},null,null,{"$f":"IF(OR(COUNTBLANK(AE$33:AF$232)=400,Check!AE1=\"Check\"),\"-\",MEDIAN(AE$33:AE$232))","v":"-"},null,null,{"$f":"IF(OR(COUNTBLANK(AH$33:AI$232)=400,Check!AH1=\"Check\"),\"-\",MEDIAN(AH$33:AH$232))","v":"-"},null,null,{"$f":"IF(OR(COUNTBLANK(AK$33:AL$232)=400,Check!AK1=\"Check\"),\"-\",MEDIAN(AK$33:AK$232))","v":"-"},null,null,{"$f":"IF(OR(COUNTBLANK(AN$33:AO$232)=400,Check!AN1=\"Check\"),\"-\",MEDIAN(AN$33:AN$232))","v":"-"},null,null,{"$f":"IF(OR(COUNTBLANK(AQ$33:AR$232)=400,Check!AQ1=\"Check\"),\"-\",MEDIAN(AQ$33:AQ$232))","v":"-"},null,null,{"$f":"IF(OR(COUNTBLANK(AT$33:AU$232)=400,Check!AT1=\"Check\"),\"-\",MEDIAN(AT$33:AT$232))","v":"-"},null,null,{"$f":"IF(OR(COUNTBLANK(AW$33:AX$232)=400,Check!AW1=\"Check\"),\"-\",MEDIAN(AW$33:AW$232))","v":"-"},null,null,{"$f":"IF(OR(COUNTBLANK(AZ$33:BA$232)=400,Check!AZ1=\"Check\"),\"-\",MEDIAN(AZ$33:AZ$232))","v":"-"},null,null,{"$f":"IF(OR(COUNTBLANK(BC$33:BD$232)=400,Check!BC1=\"Check\"),\"-\",MEDIAN(BC$33:BC$232))","v":"-"},null,null,{"$f":"IF(OR(COUNTBLANK(BF$33:BG$232)=400,Check!BF1=\"Check\"),\"-\",MEDIAN(BF$33:BF$232))","v":"-"},null,null,{"$f":"IF(OR(COUNTBLANK(BI$33:BJ$232)=400,Check!BI1=\"Check\"),\"-\",MEDIAN(BI$33:BI$232))","v":"-"},null,null,{"$f":"IF(OR(COUNTBLANK(BL$33:BM$232)=400,Check!BL1=\"Check\"),\"-\",MEDIAN(BL$33:BL$232))","v":"-"},null,null,{"$f":"IF(OR(COUNTBLANK(BO$33:BP$232)=400,Check!BO1=\"Check\"),\"-\",MEDIAN(BO$33:BO$232))","v":"-"},null,null,{"$f":"IF(OR(COUNTBLANK(BR$33:BS$232)=400,Check!BR1=\"Check\"),\"-\",MEDIAN(BR$33:BR$232))","v":"-"},null,null,{"$f":"IF(OR(COUNTBLANK(BU$33:BV$232)=400,Check!BU1=\"Check\"),\"-\",MEDIAN(BU$33:BU$232))","v":"-"},null,null,{"$f":"IF(OR(COUNTBLANK(BX$33:BY$232)=400,Check!BX1=\"Check\"),\"-\",MEDIAN(BX$33:BX$232))","v":"-"},null,null,{"$f":"IF(OR(COUNTBLANK(CA$33:CB$232)=400,Check!CA1=\"Check\"),\"-\",MEDIAN(CA$33:CA$232))","v":"-"},null,null,{"$f":"IF(OR(COUNTBLANK(CD$33:CE$232)=400,Check!CD1=\"Check\"),\"-\",MEDIAN(CD$33:CD$232))","v":"-"},null,null,{"$f":"IF(OR(COUNTBLANK(CG$33:CH$232)=400,Check!CG1=\"Check\"),\"-\",MEDIAN(CG$33:CG$232))","v":"-"},null,null,{"$f":"IF(OR(COUNTBLANK(CJ$33:CK$232)=400,Check!CJ1=\"Check\"),\"-\",MEDIAN(CJ$33:CJ$232))","v":"-"},null,null,{"$f":"IF(OR(COUNTBLANK(CM$33:CN$232)=400,Check!CM1=\"Check\"),\"-\",MEDIAN(CM$33:CM$232))","v":"-"},null,null,{"$f":"IF(OR(COUNTBLANK(CP$33:CQ$232)=400,Check!CP1=\"Check\"),\"-\",MEDIAN(CP$33:CP$232))","v":"-"},null,null,{"$f":"IF(OR(COUNTBLANK(CS$33:CT$232)=400,Check!CS1=\"Check\"),\"-\",MEDIAN(CS$33:CS$232))","v":"-"},null,null,{"$f":"IF(OR(COUNTBLANK(CV$33:CW$232)=400,Check!CV1=\"Check\"),\"-\",MEDIAN(CV$33:CV$232))","v":"-"},null,null,{"$f":"IF(OR(COUNTBLANK(CY$33:CZ$232)=400,Check!CY1=\"Check\"),\"-\",MEDIAN(CY$33:CY$232))","v":"-"},null,null,{"$f":"IF(OR(COUNTBLANK(DB$33:DC$232)=400,Check!DB1=\"Check\"),\"-\",MEDIAN(DB$33:DB$232))","v":"-"},null,null,{"$f":"IF(OR(COUNTBLANK(DE$33:DF$232)=400,Check!DE1=\"Check\"),\"-\",MEDIAN(DE$33:DE$232))","v":"-"},null,null,{"$f":"IF(OR(COUNTBLANK(DH$33:DI$232)=400,Check!DH1=\"Check\"),\"-\",MEDIAN(DH$33:DH$232))","v":"-"},null,null,{"$f":"IF(OR(COUNTBLANK(DK$33:DL$232)=400,Check!DK1=\"Check\"),\"-\",MEDIAN(DK$33:DK$232))","v":"-"},null,null,{"$f":"IF(OR(COUNTBLANK(DN$33:DO$232)=400,Check!DN1=\"Check\"),\"-\",MEDIAN(DN$33:DN$232))","v":"-"},null,null,{"$f":"IF(OR(COUNTBLANK(DQ$33:DR$232)=400,Check!DQ1=\"Check\"),\"-\",MEDIAN(DQ$33:DQ$232))","v":"-"},null,null,{"$f":"IF(OR(COUNTBLANK(DT$33:DU$232)=400,Check!DT1=\"Check\"),\"-\",MEDIAN(DT$33:DT$232))","v":"-"},null,null,{"$f":"IF(OR(COUNTBLANK(DW$33:DX$232)=400,Check!DW1=\"Check\"),\"-\",MEDIAN(DW$33:DW$232))","v":"-"},null,null,{"$f":"IF(OR(COUNTBLANK(DZ$33:EA$232)=400,Check!DZ1=\"Check\"),\"-\",MEDIAN(DZ$33:DZ$232))","v":"-"},null,null,{"$f":"IF(OR(COUNTBLANK(EC$33:ED$232)=400,Check!EC1=\"Check\"),\"-\",MEDIAN(EC$33:EC$232))","v":"-"},null,null,{"$f":"IF(OR(COUNTBLANK(EF$33:EG$232)=400,Check!EF1=\"Check\"),\"-\",MEDIAN(EF$33:EF$232))","v":"-"},null,null,{"$f":"IF(OR(COUNTBLANK(EI$33:EJ$232)=400,Check!EI1=\"Check\"),\"-\",MEDIAN(EI$33:EI$232))","v":"-"},null,null,{"$f":"IF(OR(COUNTBLANK(EL$33:EM$232)=400,Check!EL1=\"Check\"),\"-\",MEDIAN(EL$33:EL$232))","v":"-"},null,null,{"$f":"IF(OR(COUNTBLANK(EO$33:EP$232)=400,Check!EO1=\"Check\"),\"-\",MEDIAN(EO$33:EO$232))","v":"-"},null,null,{"$f":"IF(OR(COUNTBLANK(ER$33:ES$232)=400,Check!ER1=\"Check\"),\"-\",MEDIAN(ER$33:ER$232))","v":"-"},null,null,{"$f":"IF(OR(COUNTBLANK(EU$33:EV$232)=400,Check!EU1=\"Check\"),\"-\",MEDIAN(EU$33:EU$232))","v":"-"},null,null,{"$f":"IF(OR(COUNTBLANK(EX$33:EY$232)=400,Check!EX1=\"Check\"),\"-\",MEDIAN(EX$33:EX$232))","v":"-"},null,null,{"$f":"IF(OR(COUNTBLANK(FA$33:FB$232)=400,Check!FA1=\"Check\"),\"-\",MEDIAN(FA$33:FA$232))","v":"-"},null,null,{"$f":"IF(OR(COUNTBLANK(FD$33:FE$232)=400,Check!FD1=\"Check\"),\"-\",MEDIAN(FD$33:FD$232))","v":"-"},null,null,{"$f":"IF(OR(COUNTBLANK(FG$33:FH$232)=400,Check!FG1=\"Check\"),\"-\",MEDIAN(FG$33:FG$232))","v":"-"},null,null,{"$f":"IF(OR(COUNTBLANK(FJ$33:FK$232)=400,Check!FJ1=\"Check\"),\"-\",MEDIAN(FJ$33:FJ$232))","v":"-"},null,null,{"$f":"IF(OR(COUNTBLANK(FM$33:FN$232)=400,Check!FM1=\"Check\"),\"-\",MEDIAN(FM$33:FM$232))","v":"-"},null,null,{"$f":"IF(OR(COUNTBLANK(FP$33:FQ$232)=400,Check!FP1=\"Check\"),\"-\",MEDIAN(FP$33:FP$232))","v":"-"},null,null,{"$f":"IF(OR(COUNTBLANK(FS$33:FT$232)=400,Check!FS1=\"Check\"),\"-\",MEDIAN(FS$33:FS$232))","v":"-"},null,null,{"$f":"IF(OR(COUNTBLANK(FV$33:FW$232)=400,Check!FV1=\"Check\"),\"-\",MEDIAN(FV$33:FV$232))","v":"-"},null,null,{"$f":"IF(OR(COUNTBLANK(FY$33:FZ$232)=400,Check!FY1=\"Check\"),\"-\",MEDIAN(FY$33:FY$232))","v":"-"},null,null,{"$f":"IF(OR(COUNTBLANK(GB$33:GC$232)=400,Check!GB1=\"Check\"),\"-\",MEDIAN(GB$33:GB$232))","v":"-"},null,null,{"$f":"IF(OR(COUNTBLANK(GE$33:GF$232)=400,Check!GE1=\"Check\"),\"-\",MEDIAN(GE$33:GE$232))","v":"-"},null,null,{"$f":"IF(OR(COUNTBLANK(GH$33:GI$232)=400,Check!GH1=\"Check\"),\"-\",MEDIAN(GH$33:GH$232))","v":"-"},null,null,{"$f":"IF(OR(COUNTBLANK(GK$33:GL$232)=400,Check!GK1=\"Check\"),\"-\",MEDIAN(GK$33:GK$232))","v":"-"},null,null,{"$f":"IF(OR(COUNTBLANK(GN$33:GO$232)=400,Check!GN1=\"Check\"),\"-\",MEDIAN(GN$33:GN$232))","v":"-"},null,null,{"$f":"IF(OR(COUNTBLANK(GQ$33:GR$232)=400,Check!GQ1=\"Check\"),\"-\",MEDIAN(GQ$33:GQ$232))","v":"-"},null,null,{"$f":"IF(OR(COUNTBLANK(GT$33:GU$232)=400,Check!GT1=\"Check\"),\"-\",MEDIAN(GT$33:GT$232))","v":"-"},null,null,{"$f":"IF(OR(COUNTBLANK(GW$33:GX$232)=400,Check!GW1=\"Check\"),\"-\",MEDIAN(GW$33:GW$232))","v":"-"},null,null,{"$f":"IF(OR(COUNTBLANK(GZ$33:HA$232)=400,Check!GZ1=\"Check\"),\"-\",MEDIAN(GZ$33:GZ$232))","v":"-"},null,null,{"$f":"IF(OR(COUNTBLANK(HC$33:HD$232)=400,Check!HC1=\"Check\"),\"-\",MEDIAN(HC$33:HC$232))","v":"-"},null,null,{"$f":"IF(OR(COUNTBLANK(HF$33:HG$232)=400,Check!HF1=\"Check\"),\"-\",MEDIAN(HF$33:HF$232))","v":"-"},null,null,{"$f":"IF(OR(COUNTBLANK(HI$33:HJ$232)=400,Check!HI1=\"Check\"),\"-\",MEDIAN(HI$33:HI$232))","v":"-"},null,null,{"$f":"IF(OR(COUNTBLANK(HL$33:HM$232)=400,Check!HL1=\"Check\"),\"-\",MEDIAN(HL$33:HL$232))","v":"-"},null,null,{"$f":"IF(OR(COUNTBLANK(HO$33:HP$232)=400,Check!HO1=\"Check\"),\"-\",MEDIAN(HO$33:HO$232))","v":"-"},null,null,{"$f":"IF(OR(COUNTBLANK(HR$33:HS$232)=400,Check!HR1=\"Check\"),\"-\",MEDIAN(HR$33:HR$232))","v":"-"},null,null,{"$f":"IF(OR(COUNTBLANK(HU$33:HV$232)=400,Check!HU1=\"Check\"),\"-\",MEDIAN(HU$33:HU$232))","v":"-"},null,null,{"$f":"IF(OR(COUNTBLANK(HX$33:HY$232)=400,Check!HX1=\"Check\"),\"-\",MEDIAN(HX$33:HX$232))","v":"-"},null,null,{"$f":"IF(OR(COUNTBLANK(IA$33:IB$232)=400,Check!IA1=\"Check\"),\"-\",MEDIAN(IA$33:IA$232))","v":"-"},null,null,{"$f":"IF(OR(COUNTBLANK(ID$33:IE$232)=400,Check!ID1=\"Check\"),\"-\",MEDIAN(ID$33:ID$232))","v":"-"},null,null,{"$f":"IF(OR(COUNTBLANK(IG$33:IH$232)=400,Check!IG1=\"Check\"),\"-\",MEDIAN(IG$33:IG$232))","v":"-"},null,null,{"$f":"IF(OR(COUNTBLANK(IJ$33:IK$232)=400,Check!IJ1=\"Check\"),\"-\",MEDIAN(IJ$33:IJ$232))","v":"-"},null,null,{"$f":"IF(OR(COUNTBLANK(IM$33:IN$232)=400,Check!IM1=\"Check\"),\"-\",MEDIAN(IM$33:IM$232))","v":"-"},null,null,{"$f":"IF(OR(COUNTBLANK(IP$33:IQ$232)=400,Check!IP1=\"Check\"),\"-\",MEDIAN(IP$33:IP$232))","v":"-"},null,null,{"$f":"IF(OR(COUNTBLANK(IS$33:IT$232)=400,Check!IS1=\"Check\"),\"-\",MEDIAN(IS$33:IS$232))","v":"-"}]
[]
[null,"Mean",null,{"$f":"IF(OR(COUNTBLANK(D$33:E$232)=400,Check!D1=\"Check\"),\"-\",AVERAGE(D$33:D$232))","v":"-"},null,null,{"$f":"IF(OR(COUNTBLANK(G$33:H$232)=400,Check!G1=\"Check\"),\"-\",AVERAGE(G$33:G$232))","v":"-"},null,null,{"$f":"IF(OR(COUNTBLANK(J$33:K$232)=400,Check!J1=\"Check\"),\"-\",AVERAGE(J$33:J$232))","v":"-"},null,null,{"$f":"IF(OR(COUNTBLANK(M$33:N$232)=400,Check!M1=\"Check\"),\"-\",AVERAGE(M$33:M$232))","v":"-"},null,null,{"$f":"IF(OR(COUNTBLANK(P$33:Q$232)=400,Check!P1=\"Check\"),\"-\",AVERAGE(P$33:P$232))","v":"-"},null,null,{"$f":"IF(OR(COUNTBLANK(S$33:T$232)=400,Check!S1=\"Check\"),\"-\",AVERAGE(S$33:S$232))","v":"-"},null,null,{"$f":"IF(OR(COUNTBLANK(V$33:W$232)=400,Check!V1=\"Check\"),\"-\",AVERAGE(V$33:V$232))","v":"-"},null,null,{"$f":"IF(OR(COUNTBLANK(Y$33:Z$232)=400,Check!Y1=\"Check\"),\"-\",AVERAGE(Y$33:Y$232))","v":"-"},null,null,{"$f":"IF(OR(COUNTBLANK(AB$33:AC$232)=400,Check!AB1=\"Check\"),\"-\",AVERAGE(AB$33:AB$232))","v":"-"},null,null,{"$f":"IF(OR(COUNTBLANK(AE$33:AF$232)=400,Check!AE1=\"Check\"),\"-\",AVERAGE(AE$33:AE$232))","v":"-"},null,null,{"$f":"IF(OR(COUNTBLANK(AH$33:AI$232)=400,Check!AH1=\"Check\"),\"-\",AVERAGE(AH$33:AH$232))","v":"-"},null,null,{"$f":"IF(OR(COUNTBLANK(AK$33:AL$232)=400,Check!AK1=\"Check\"),\"-\",AVERAGE(AK$33:AK$232))","v":"-"},null,null,{"$f":"IF(OR(COUNTBLANK(AN$33:AO$232)=400,Check!AN1=\"Check\"),\"-\",AVERAGE(AN$33:AN$232))","v":"-"},null,null,{"$f":"IF(OR(COUNTBLANK(AQ$33:AR$232)=400,Check!AQ1=\"Check\"),\"-\",AVERAGE(AQ$33:AQ$232))","v":"-"},null,null,{"$f":"IF(OR(COUNTBLANK(AT$33:AU$232)=400,Check!AT1=\"Check\"),\"-\",AVERAGE(AT$33:AT$232))","v":"-"},null,null,{"$f":"IF(OR(COUNTBLANK(AW$33:AX$232)=400,Check!AW1=\"Check\"),\"-\",AVERAGE(AW$33:AW$232))","v":"-"},null,null,{"$f":"IF(OR(COUNTBLANK(AZ$33:BA$232)=400,Check!AZ1=\"Check\"),\"-\",AVERAGE(AZ$33:AZ$232))","v":"-"},null,null,{"$f":"IF(OR(COUNTBLANK(BC$33:BD$232)=400,Check!BC1=\"Check\"),\"-\",AVERAGE(BC$33:BC$232))","v":"-"},null,null,{"$f":"IF(OR(COUNTBLANK(BF$33:BG$232)=400,Check!BF1=\"Check\"),\"-\",AVERAGE(BF$33:BF$232))","v":"-"},null,null,{"$f":"IF(OR(COUNTBLANK(BI$33:BJ$232)=400,Check!BI1=\"Check\"),\"-\",AVERAGE(BI$33:BI$232))","v":"-"},null,null,{"$f":"IF(OR(COUNTBLANK(BL$33:BM$232)=400,Check!BL1=\"Check\"),\"-\",AVERAGE(BL$33:BL$232))","v":"-"},null,null,{"$f":"IF(OR(COUNTBLANK(BO$33:BP$232)=400,Check!BO1=\"Check\"),\"-\",AVERAGE(BO$33:BO$232))","v":"-"},null,null,{"$f":"IF(OR(COUNTBLANK(BR$33:BS$232)=400,Check!BR1=\"Check\"),\"-\",AVERAGE(BR$33:BR$232))","v":"-"},null,null,{"$f":"IF(OR(COUNTBLANK(BU$33:BV$232)=400,Check!BU1=\"Check\"),\"-\",AVERAGE(BU$33:BU$232))","v":"-"},null,null,{"$f":"IF(OR(COUNTBLANK(BX$33:BY$232)=400,Check!BX1=\"Check\"),\"-\",AVERAGE(BX$33:BX$232))","v":"-"},null,null,{"$f":"IF(OR(COUNTBLANK(CA$33:CB$232)=400,Check!CA1=\"Check\"),\"-\",AVERAGE(CA$33:CA$232))","v":"-"},null,null,{"$f":"IF(OR(COUNTBLANK(CD$33:CE$232)=400,Check!CD1=\"Check\"),\"-\",AVERAGE(CD$33:CD$232))","v":"-"},null,null,{"$f":"IF(OR(COUNTBLANK(CG$33:CH$232)=400,Check!CG1=\"Check\"),\"-\",AVERAGE(CG$33:CG$232))","v":"-"},null,null,{"$f":"IF(OR(COUNTBLANK(CJ$33:CK$232)=400,Check!CJ1=\"Check\"),\"-\",AVERAGE(CJ$33:CJ$232))","v":"-"},null,null,{"$f":"IF(OR(COUNTBLANK(CM$33:CN$232)=400,Check!CM1=\"Check\"),\"-\",AVERAGE(CM$33:CM$232))","v":"-"},null,null,{"$f":"IF(OR(COUNTBLANK(CP$33:CQ$232)=400,Check!CP1=\"Check\"),\"-\",AVERAGE(CP$33:CP$232))","v":"-"},null,null,{"$f":"IF(OR(COUNTBLANK(CS$33:CT$232)=400,Check!CS1=\"Check\"),\"-\",AVERAGE(CS$33:CS$232))","v":"-"},null,null,{"$f":"IF(OR(COUNTBLANK(CV$33:CW$232)=400,Check!CV1=\"Check\"),\"-\",AVERAGE(CV$33:CV$232))","v":"-"},null,null,{"$f":"IF(OR(COUNTBLANK(CY$33:CZ$232)=400,Check!CY1=\"Check\"),\"-\",AVERAGE(CY$33:CY$232))","v":"-"},null,null,{"$f":"IF(OR(COUNTBLANK(DB$33:DC$232)=400,Check!DB1=\"Check\"),\"-\",AVERAGE(DB$33:DB$232))","v":"-"},null,null,{"$f":"IF(OR(COUNTBLANK(DE$33:DF$232)=400,Check!DE1=\"Check\"),\"-\",AVERAGE(DE$33:DE$232))","v":"-"},null,null,{"$f":"IF(OR(COUNTBLANK(DH$33:DI$232)=400,Check!DH1=\"Check\"),\"-\",AVERAGE(DH$33:DH$232))","v":"-"},null,null,{"$f":"IF(OR(COUNTBLANK(DK$33:DL$232)=400,Check!DK1=\"Check\"),\"-\",AVERAGE(DK$33:DK$232))","v":"-"},null,null,{"$f":"IF(OR(COUNTBLANK(DN$33:DO$232)=400,Check!DN1=\"Check\"),\"-\",AVERAGE(DN$33:DN$232))","v":"-"},null,null,{"$f":"IF(OR(COUNTBLANK(DQ$33:DR$232)=400,Check!DQ1=\"Check\"),\"-\",AVERAGE(DQ$33:DQ$232))","v":"-"},null,null,{"$f":"IF(OR(COUNTBLANK(DT$33:DU$232)=400,Check!DT1=\"Check\"),\"-\",AVERAGE(DT$33:DT$232))","v":"-"},null,null,{"$f":"IF(OR(COUNTBLANK(DW$33:DX$232)=400,Check!DW1=\"Check\"),\"-\",AVERAGE(DW$33:DW$232))","v":"-"},null,null,{"$f":"IF(OR(COUNTBLANK(DZ$33:EA$232)=400,Check!DZ1=\"Check\"),\"-\",AVERAGE(DZ$33:DZ$232))","v":"-"},null,null,{"$f":"IF(OR(COUNTBLANK(EC$33:ED$232)=400,Check!EC1=\"Check\"),\"-\",AVERAGE(EC$33:EC$232))","v":"-"},null,null,{"$f":"IF(OR(COUNTBLANK(EF$33:EG$232)=400,Check!EF1=\"Check\"),\"-\",AVERAGE(EF$33:EF$232))","v":"-"},null,null,{"$f":"IF(OR(COUNTBLANK(EI$33:EJ$232)=400,Check!EI1=\"Check\"),\"-\",AVERAGE(EI$33:EI$232))","v":"-"},null,null,{"$f":"IF(OR(COUNTBLANK(EL$33:EM$232)=400,Check!EL1=\"Check\"),\"-\",AVERAGE(EL$33:EL$232))","v":"-"},null,null,{"$f":"IF(OR(COUNTBLANK(EO$33:EP$232)=400,Check!EO1=\"Check\"),\"-\",AVERAGE(EO$33:EO$232))","v":"-"},null,null,{"$f":"IF(OR(COUNTBLANK(ER$33:ES$232)=400,Check!ER1=\"Check\"),\"-\",AVERAGE(ER$33:ER$232))","v":"-"},null,null,{"$f":"IF(OR(COUNTBLANK(EU$33:EV$232)=400,Check!EU1=\"Check\"),\"-\",AVERAGE(EU$33:EU$232))","v":"-"},null,null,{"$f":"IF(OR(COUNTBLANK(EX$33:EY$232)=400,Check!EX1=\"Check\"),\"-\",AVERAGE(EX$33:EX$232))","v":"-"},null,null,{"$f":"IF(OR(COUNTBLANK(FA$33:FB$232)=400,Check!FA1=\"Check\"),\"-\",AVERAGE(FA$33:FA$232))","v":"-"},null,null,{"$f":"IF(OR(COUNTBLANK(FD$33:FE$232)=400,Check!FD1=\"Check\"),\"-\",AVERAGE(FD$33:FD$232))","v":"-"},null,null,{"$f":"IF(OR(COUNTBLANK(FG$33:FH$232)=400,Check!FG1=\"Check\"),\"-\",AVERAGE(FG$33:FG$232))","v":"-"},null,null,{"$f":"IF(OR(COUNTBLANK(FJ$33:FK$232)=400,Check!FJ1=\"Check\"),\"-\",AVERAGE(FJ$33:FJ$232))","v":"-"},null,null,{"$f":"IF(OR(COUNTBLANK(FM$33:FN$232)=400,Check!FM1=\"Check\"),\"-\",AVERAGE(FM$33:FM$232))","v":"-"},null,null,{"$f":"IF(OR(COUNTBLANK(FP$33:FQ$232)=400,Check!FP1=\"Check\"),\"-\",AVERAGE(FP$33:FP$232))","v":"-"},null,null,{"$f":"IF(OR(COUNTBLANK(FS$33:FT$232)=400,Check!FS1=\"Check\"),\"-\",AVERAGE(FS$33:FS$232))","v":"-"},null,null,{"$f":"IF(OR(COUNTBLANK(FV$33:FW$232)=400,Check!FV1=\"Check\"),\"-\",AVERAGE(FV$33:FV$232))","v":"-"},null,null,{"$f":"IF(OR(COUNTBLANK(FY$33:FZ$232)=400,Check!FY1=\"Check\"),\"-\",AVERAGE(FY$33:FY$232))","v":"-"},null,null,{"$f":"IF(OR(COUNTBLANK(GB$33:GC$232)=400,Check!GB1=\"Check\"),\"-\",AVERAGE(GB$33:GB$232))","v":"-"},null,null,{"$f":"IF(OR(COUNTBLANK(GE$33:GF$232)=400,Check!GE1=\"Check\"),\"-\",AVERAGE(GE$33:GE$232))","v":"-"},null,null,{"$f":"IF(OR(COUNTBLANK(GH$33:GI$232)=400,Check!GH1=\"Check\"),\"-\",AVERAGE(GH$33:GH$232))","v":"-"},null,null,{"$f":"IF(OR(COUNTBLANK(GK$33:GL$232)=400,Check!GK1=\"Check\"),\"-\",AVERAGE(GK$33:GK$232))","v":"-"},null,null,{"$f":"IF(OR(COUNTBLANK(GN$33:GO$232)=400,Check!GN1=\"Check\"),\"-\",AVERAGE(GN$33:GN$232))","v":"-"},null,null,{"$f":"IF(OR(COUNTBLANK(GQ$33:GR$232)=400,Check!GQ1=\"Check\"),\"-\",AVERAGE(GQ$33:GQ$232))","v":"-"},null,null,{"$f":"IF(OR(COUNTBLANK(GT$33:GU$232)=400,Check!GT1=\"Check\"),\"-\",AVERAGE(GT$33:GT$232))","v":"-"},null,null,{"$f":"IF(OR(COUNTBLANK(GW$33:GX$232)=400,Check!GW1=\"Check\"),\"-\",AVERAGE(GW$33:GW$232))","v":"-"},null,null,{"$f":"IF(OR(COUNTBLANK(GZ$33:HA$232)=400,Check!GZ1=\"Check\"),\"-\",AVERAGE(GZ$33:GZ$232))","v":"-"},null,null,{"$f":"IF(OR(COUNTBLANK(HC$33:HD$232)=400,Check!HC1=\"Check\"),\"-\",AVERAGE(HC$33:HC$232))","v":"-"},null,null,{"$f":"IF(OR(COUNTBLANK(HF$33:HG$232)=400,Check!HF1=\"Check\"),\"-\",AVERAGE(HF$33:HF$232))","v":"-"},null,null,{"$f":"IF(OR(COUNTBLANK(HI$33:HJ$232)=400,Check!HI1=\"Check\"),\"-\",AVERAGE(HI$33:HI$232))","v":"-"},null,null,{"$f":"IF(OR(COUNTBLANK(HL$33:HM$232)=400,Check!HL1=\"Check\"),\"-\",AVERAGE(HL$33:HL$232))","v":"-"},null,null,{"$f":"IF(OR(COUNTBLANK(HO$33:HP$232)=400,Check!HO1=\"Check\"),\"-\",AVERAGE(HO$33:HO$232))","v":"-"},null,null,{"$f":"IF(OR(COUNTBLANK(HR$33:HS$232)=400,Check!HR1=\"Check\"),\"-\",AVERAGE(HR$33:HR$232))","v":"-"},null,null,{"$f":"IF(OR(COUNTBLANK(HU$33:HV$232)=400,Check!HU1=\"Check\"),\"-\",AVERAGE(HU$33:HU$232))","v":"-"},null,null,{"$f":"IF(OR(COUNTBLANK(HX$33:HY$232)=400,Check!HX1=\"Check\"),\"-\",AVERAGE(HX$33:HX$232))","v":"-"},null,null,{"$f":"IF(OR(COUNTBLANK(IA$33:IB$232)=400,Check!IA1=\"Check\"),\"-\",AVERAGE(IA$33:IA$232))","v":"-"},null,null,{"$f":"IF(OR(COUNTBLANK(ID$33:IE$232)=400,Check!ID1=\"Check\"),\"-\",AVERAGE(ID$33:ID$232))","v":"-"},null,null,{"$f":"IF(OR(COUNTBLANK(IG$33:IH$232)=400,Check!IG1=\"Check\"),\"-\",AVERAGE(IG$33:IG$232))","v":"-"},null,null,{"$f":"IF(OR(COUNTBLANK(IJ$33:IK$232)=400,Check!IJ1=\"Check\"),\"-\",AVERAGE(IJ$33:IJ$232))","v":"-"},null,null,{"$f":"IF(OR(COUNTBLANK(IM$33:IN$232)=400,Check!IM1=\"Check\"),\"-\",AVERAGE(IM$33:IM$232))","v":"-"},null,null,{"$f":"IF(OR(COUNTBLANK(IP$33:IQ$232)=400,Check!IP1=\"Check\"),\"-\",AVERAGE(IP$33:IP$232))","v":"-"},null,null,{"$f":"IF(OR(COUNTBLANK(IS$33:IT$232)=400,Check!IS1=\"Check\"),\"-\",AVERAGE(IS$33:IS$232))","v":"-"}]
[null,"Standard deviation (SD)",null,{"$f":"IF(OR(COUNTBLANK(D$33:E$232)=400,Check!D1=\"Check\"),\"-\",STDEV(D$33:D$232))","v":"-"},null,null,{"$f":"IF(OR(COUNTBLANK(G$33:H$232)=400,Check!G1=\"Check\"),\"-\",STDEV(G$33:G$232))","v":"-"},null,null,{"$f":"IF(OR(COUNTBLANK(J$33:K$232)=400,Check!J1=\"Check\"),\"-\",STDEV(J$33:J$232))","v":"-"},null,null,{"$f":"IF(OR(COUNTBLANK(M$33:N$232)=400,Check!M1=\"Check\"),\"-\",STDEV(M$33:M$232))","v":"-"},null,null,{"$f":"IF(OR(COUNTBLANK(P$33:Q$232)=400,Check!P1=\"Check\"),\"-\",STDEV(P$33:P$232))","v":"-"},null,null,{"$f":"IF(OR(COUNTBLANK(S$33:T$232)=400,Check!S1=\"Check\"),\"-\",STDEV(S$33:S$232))","v":"-"},null,null,{"$f":"IF(OR(COUNTBLANK(V$33:W$232)=400,Check!V1=\"Check\"),\"-\",STDEV(V$33:V$232))","v":"-"},null,null,{"$f":"IF(OR(COUNTBLANK(Y$33:Z$232)=400,Check!Y1=\"Check\"),\"-\",STDEV(Y$33:Y$232))","v":"-"},null,null,{"$f":"IF(OR(COUNTBLANK(AB$33:AC$232)=400,Check!AB1=\"Check\"),\"-\",STDEV(AB$33:AB$232))","v":"-"},null,null,{"$f":"IF(OR(COUNTBLANK(AE$33:AF$232)=400,Check!AE1=\"Check\"),\"-\",STDEV(AE$33:AE$232))","v":"-"},null,null,{"$f":"IF(OR(COUNTBLANK(AH$33:AI$232)=400,Check!AH1=\"Check\"),\"-\",STDEV(AH$33:AH$232))","v":"-"},null,null,{"$f":"IF(OR(COUNTBLANK(AK$33:AL$232)=400,Check!AK1=\"Check\"),\"-\",STDEV(AK$33:AK$232))","v":"-"},null,null,{"$f":"IF(OR(COUNTBLANK(AN$33:AO$232)=400,Check!AN1=\"Check\"),\"-\",STDEV(AN$33:AN$232))","v":"-"},null,null,{"$f":"IF(OR(COUNTBLANK(AQ$33:AR$232)=400,Check!AQ1=\"Check\"),\"-\",STDEV(AQ$33:AQ$232))","v":"-"},null,null,{"$f":"IF(OR(COUNTBLANK(AT$33:AU$232)=400,Check!AT1=\"Check\"),\"-\",STDEV(AT$33:AT$232))","v":"-"},null,null,{"$f":"IF(OR(COUNTBLANK(AW$33:AX$232)=400,Check!AW1=\"Check\"),\"-\",STDEV(AW$33:AW$232))","v":"-"},null,null,{"$f":"IF(OR(COUNTBLANK(AZ$33:BA$232)=400,Check!AZ1=\"Check\"),\"-\",STDEV(AZ$33:AZ$232))","v":"-"},null,null,{"$f":"IF(OR(COUNTBLANK(BC$33:BD$232)=400,Check!BC1=\"Check\"),\"-\",STDEV(BC$33:BC$232))","v":"-"},null,null,{"$f":"IF(OR(COUNTBLANK(BF$33:BG$232)=400,Check!BF1=\"Check\"),\"-\",STDEV(BF$33:BF$232))","v":"-"},null,null,{"$f":"IF(OR(COUNTBLANK(BI$33:BJ$232)=400,Check!BI1=\"Check\"),\"-\",STDEV(BI$33:BI$232))","v":"-"},null,null,{"$f":"IF(OR(COUNTBLANK(BL$33:BM$232)=400,Check!BL1=\"Check\"),\"-\",STDEV(BL$33:BL$232))","v":"-"},null,null,{"$f":"IF(OR(COUNTBLANK(BO$33:BP$232)=400,Check!BO1=\"Check\"),\"-\",STDEV(BO$33:BO$232))","v":"-"},null,null,{"$f":"IF(OR(COUNTBLANK(BR$33:BS$232)=400,Check!BR1=\"Check\"),\"-\",STDEV(BR$33:BR$232))","v":"-"},null,null,{"$f":"IF(OR(COUNTBLANK(BU$33:BV$232)=400,Check!BU1=\"Check\"),\"-\",STDEV(BU$33:BU$232))","v":"-"},null,null,{"$f":"IF(OR(COUNTBLANK(BX$33:BY$232)=400,Check!BX1=\"Check\"),\"-\",STDEV(BX$33:BX$232))","v":"-"},null,null,{"$f":"IF(OR(COUNTBLANK(CA$33:CB$232)=400,Check!CA1=\"Check\"),\"-\",STDEV(CA$33:CA$232))","v":"-"},null,null,{"$f":"IF(OR(COUNTBLANK(CD$33:CE$232)=400,Check!CD1=\"Check\"),\"-\",STDEV(CD$33:CD$232))","v":"-"},null,null,{"$f":"IF(OR(COUNTBLANK(CG$33:CH$232)=400,Check!CG1=\"Check\"),\"-\",STDEV(CG$33:CG$232))","v":"-"},null,null,{"$f":"IF(OR(COUNTBLANK(CJ$33:CK$232)=400,Check!CJ1=\"Check\"),\"-\",STDEV(CJ$33:CJ$232))","v":"-"},null,null,{"$f":"IF(OR(COUNTBLANK(CM$33:CN$232)=400,Check!CM1=\"Check\"),\"-\",STDEV(CM$33:CM$232))","v":"-"},null,null,{"$f":"IF(OR(COUNTBLANK(CP$33:CQ$232)=400,Check!CP1=\"Check\"),\"-\",STDEV(CP$33:CP$232))","v":"-"},null,null,{"$f":"IF(OR(COUNTBLANK(CS$33:CT$232)=400,Check!CS1=\"Check\"),\"-\",STDEV(CS$33:CS$232))","v":"-"},null,null,{"$f":"IF(OR(COUNTBLANK(CV$33:CW$232)=400,Check!CV1=\"Check\"),\"-\",STDEV(CV$33:CV$232))","v":"-"},null,null,{"$f":"IF(OR(COUNTBLANK(CY$33:CZ$232)=400,Check!CY1=\"Check\"),\"-\",STDEV(CY$33:CY$232))","v":"-"},null,null,{"$f":"IF(OR(COUNTBLANK(DB$33:DC$232)=400,Check!DB1=\"Check\"),\"-\",STDEV(DB$33:DB$232))","v":"-"},null,null,{"$f":"IF(OR(COUNTBLANK(DE$33:DF$232)=400,Check!DE1=\"Check\"),\"-\",STDEV(DE$33:DE$232))","v":"-"},null,null,{"$f":"IF(OR(COUNTBLANK(DH$33:DI$232)=400,Check!DH1=\"Check\"),\"-\",STDEV(DH$33:DH$232))","v":"-"},null,null,{"$f":"IF(OR(COUNTBLANK(DK$33:DL$232)=400,Check!DK1=\"Check\"),\"-\",STDEV(DK$33:DK$232))","v":"-"},null,null,{"$f":"IF(OR(COUNTBLANK(DN$33:DO$232)=400,Check!DN1=\"Check\"),\"-\",STDEV(DN$33:DN$232))","v":"-"},null,null,{"$f":"IF(OR(COUNTBLANK(DQ$33:DR$232)=400,Check!DQ1=\"Check\"),\"-\",STDEV(DQ$33:DQ$232))","v":"-"},null,null,{"$f":"IF(OR(COUNTBLANK(DT$33:DU$232)=400,Check!DT1=\"Check\"),\"-\",STDEV(DT$33:DT$232))","v":"-"},null,null,{"$f":"IF(OR(COUNTBLANK(DW$33:DX$232)=400,Check!DW1=\"Check\"),\"-\",STDEV(DW$33:DW$232))","v":"-"},null,null,{"$f":"IF(OR(COUNTBLANK(DZ$33:EA$232)=400,Check!DZ1=\"Check\"),\"-\",STDEV(DZ$33:DZ$232))","v":"-"},null,null,{"$f":"IF(OR(COUNTBLANK(EC$33:ED$232)=400,Check!EC1=\"Check\"),\"-\",STDEV(EC$33:EC$232))","v":"-"},null,null,{"$f":"IF(OR(COUNTBLANK(EF$33:EG$232)=400,Check!EF1=\"Check\"),\"-\",STDEV(EF$33:EF$232))","v":"-"},null,null,{"$f":"IF(OR(COUNTBLANK(EI$33:EJ$232)=400,Check!EI1=\"Check\"),\"-\",STDEV(EI$33:EI$232))","v":"-"},null,null,{"$f":"IF(OR(COUNTBLANK(EL$33:EM$232)=400,Check!EL1=\"Check\"),\"-\",STDEV(EL$33:EL$232))","v":"-"},null,null,{"$f":"IF(OR(COUNTBLANK(EO$33:EP$232)=400,Check!EO1=\"Check\"),\"-\",STDEV(EO$33:EO$232))","v":"-"},null,null,{"$f":"IF(OR(COUNTBLANK(ER$33:ES$232)=400,Check!ER1=\"Check\"),\"-\",STDEV(ER$33:ER$232))","v":"-"},null,null,{"$f":"IF(OR(COUNTBLANK(EU$33:EV$232)=400,Check!EU1=\"Check\"),\"-\",STDEV(EU$33:EU$232))","v":"-"},null,null,{"$f":"IF(OR(COUNTBLANK(EX$33:EY$232)=400,Check!EX1=\"Check\"),\"-\",STDEV(EX$33:EX$232))","v":"-"},null,null,{"$f":"IF(OR(COUNTBLANK(FA$33:FB$232)=400,Check!FA1=\"Check\"),\"-\",STDEV(FA$33:FA$232))","v":"-"},null,null,{"$f":"IF(OR(COUNTBLANK(FD$33:FE$232)=400,Check!FD1=\"Check\"),\"-\",STDEV(FD$33:FD$232))","v":"-"},null,null,{"$f":"IF(OR(COUNTBLANK(FG$33:FH$232)=400,Check!FG1=\"Check\"),\"-\",STDEV(FG$33:FG$232))","v":"-"},null,null,{"$f":"IF(OR(COUNTBLANK(FJ$33:FK$232)=400,Check!FJ1=\"Check\"),\"-\",STDEV(FJ$33:FJ$232))","v":"-"},null,null,{"$f":"IF(OR(COUNTBLANK(FM$33:FN$232)=400,Check!FM1=\"Check\"),\"-\",STDEV(FM$33:FM$232))","v":"-"},null,null,{"$f":"IF(OR(COUNTBLANK(FP$33:FQ$232)=400,Check!FP1=\"Check\"),\"-\",STDEV(FP$33:FP$232))","v":"-"},null,null,{"$f":"IF(OR(COUNTBLANK(FS$33:FT$232)=400,Check!FS1=\"Check\"),\"-\",STDEV(FS$33:FS$232))","v":"-"},null,null,{"$f":"IF(OR(COUNTBLANK(FV$33:FW$232)=400,Check!FV1=\"Check\"),\"-\",STDEV(FV$33:FV$232))","v":"-"},null,null,{"$f":"IF(OR(COUNTBLANK(FY$33:FZ$232)=400,Check!FY1=\"Check\"),\"-\",STDEV(FY$33:FY$232))","v":"-"},null,null,{"$f":"IF(OR(COUNTBLANK(GB$33:GC$232)=400,Check!GB1=\"Check\"),\"-\",STDEV(GB$33:GB$232))","v":"-"},null,null,{"$f":"IF(OR(COUNTBLANK(GE$33:GF$232)=400,Check!GE1=\"Check\"),\"-\",STDEV(GE$33:GE$232))","v":"-"},null,null,{"$f":"IF(OR(COUNTBLANK(GH$33:GI$232)=400,Check!GH1=\"Check\"),\"-\",STDEV(GH$33:GH$232))","v":"-"},null,null,{"$f":"IF(OR(COUNTBLANK(GK$33:GL$232)=400,Check!GK1=\"Check\"),\"-\",STDEV(GK$33:GK$232))","v":"-"},null,null,{"$f":"IF(OR(COUNTBLANK(GN$33:GO$232)=400,Check!GN1=\"Check\"),\"-\",STDEV(GN$33:GN$232))","v":"-"},null,null,{"$f":"IF(OR(COUNTBLANK(GQ$33:GR$232)=400,Check!GQ1=\"Check\"),\"-\",STDEV(GQ$33:GQ$232))","v":"-"},null,null,{"$f":"IF(OR(COUNTBLANK(GT$33:GU$232)=400,Check!GT1=\"Check\"),\"-\",STDEV(GT$33:GT$232))","v":"-"},null,null,{"$f":"IF(OR(COUNTBLANK(GW$33:GX$232)=400,Check!GW1=\"Check\"),\"-\",STDEV(GW$33:GW$232))","v":"-"},null,null,{"$f":"IF(OR(COUNTBLANK(GZ$33:HA$232)=400,Check!GZ1=\"Check\"),\"-\",STDEV(GZ$33:GZ$232))","v":"-"},null,null,{"$f":"IF(OR(COUNTBLANK(HC$33:HD$232)=400,Check!HC1=\"Check\"),\"-\",STDEV(HC$33:HC$232))","v":"-"},null,null,{"$f":"IF(OR(COUNTBLANK(HF$33:HG$232)=400,Check!HF1=\"Check\"),\"-\",STDEV(HF$33:HF$232))","v":"-"},null,null,{"$f":"IF(OR(COUNTBLANK(HI$33:HJ$232)=400,Check!HI1=\"Check\"),\"-\",STDEV(HI$33:HI$232))","v":"-"},null,null,{"$f":"IF(OR(COUNTBLANK(HL$33:HM$232)=400,Check!HL1=\"Check\"),\"-\",STDEV(HL$33:HL$232))","v":"-"},null,null,{"$f":"IF(OR(COUNTBLANK(HO$33:HP$232)=400,Check!HO1=\"Check\"),\"-\",STDEV(HO$33:HO$232))","v":"-"},null,null,{"$f":"IF(OR(COUNTBLANK(HR$33:HS$232)=400,Check!HR1=\"Check\"),\"-\",STDEV(HR$33:HR$232))","v":"-"},null,null,{"$f":"IF(OR(COUNTBLANK(HU$33:HV$232)=400,Check!HU1=\"Check\"),\"-\",STDEV(HU$33:HU$232))","v":"-"},null,null,{"$f":"IF(OR(COUNTBLANK(HX$33:HY$232)=400,Check!HX1=\"Check\"),\"-\",STDEV(HX$33:HX$232))","v":"-"},null,null,{"$f":"IF(OR(COUNTBLANK(IA$33:IB$232)=400,Check!IA1=\"Check\"),\"-\",STDEV(IA$33:IA$232))","v":"-"},null,null,{"$f":"IF(OR(COUNTBLANK(ID$33:IE$232)=400,Check!ID1=\"Check\"),\"-\",STDEV(ID$33:ID$232))","v":"-"},null,null,{"$f":"IF(OR(COUNTBLANK(IG$33:IH$232)=400,Check!IG1=\"Check\"),\"-\",STDEV(IG$33:IG$232))","v":"-"},null,null,{"$f":"IF(OR(COUNTBLANK(IJ$33:IK$232)=400,Check!IJ1=\"Check\"),\"-\",STDEV(IJ$33:IJ$232))","v":"-"},null,null,{"$f":"IF(OR(COUNTBLANK(IM$33:IN$232)=400,Check!IM1=\"Check\"),\"-\",STDEV(IM$33:IM$232))","v":"-"},null,null,{"$f":"IF(OR(COUNTBLANK(IP$33:IQ$232)=400,Check!IP1=\"Check\"),\"-\",STDEV(IP$33:IP$232))","v":"-"},null,null,{"$f":"IF(OR(COUNTBLANK(IS$33:IT$232)=400,Check!IS1=\"Check\"),\"-\",STDEV(IS$33:IS$232))","v":"-"}]
[]
[null,"Correction factor for censoring (CF)",null,{"$f":"IF(OR(COUNTBLANK(D$33:E$232)=400,Check!D1=\"Check\"),\"-\",1-2/3*D$9)","v":"-"},null,null,{"$f":"IF(OR(COUNTBLANK(G$33:H$232)=400,Check!G1=\"Check\"),\"-\",1-2/3*G$9)","v":"-"},null,null,{"$f":"IF(OR(COUNTBLANK(J$33:K$232)=400,Check!J1=\"Check\"),\"-\",1-2/3*J$9)","v":"-"},null,null,{"$f":"IF(OR(COUNTBLANK(M$33:N$232)=400,Check!M1=\"Check\"),\"-\",1-2/3*M$9)","v":"-"},null,null,{"$f":"IF(OR(COUNTBLANK(P$33:Q$232)=400,Check!P1=\"Check\"),\"-\",1-2/3*P$9)","v":"-"},null,null,{"$f":"IF(OR(COUNTBLANK(S$33:T$232)=400,Check!S1=\"Check\"),\"-\",1-2/3*S$9)","v":"-"},null,null,{"$f":"IF(OR(COUNTBLANK(V$33:W$232)=400,Check!V1=\"Check\"),\"-\",1-2/3*V$9)","v":"-"},null,null,{"$f":"IF(OR(COUNTBLANK(Y$33:Z$232)=400,Check!Y1=\"Check\"),\"-\",1-2/3*Y$9)","v":"-"},null,null,{"$f":"IF(OR(COUNTBLANK(AB$33:AC$232)=400,Check!AB1=\"Check\"),\"-\",1-2/3*AB$9)","v":"-"},null,null,{"$f":"IF(OR(COUNTBLANK(AE$33:AF$232)=400,Check!AE1=\"Check\"),\"-\",1-2/3*AE$9)","v":"-"},null,null,{"$f":"IF(OR(COUNTBLANK(AH$33:AI$232)=400,Check!AH1=\"Check\"),\"-\",1-2/3*AH$9)","v":"-"},null,null,{"$f":"IF(OR(COUNTBLANK(AK$33:AL$232)=400,Check!AK1=\"Check\"),\"-\",1-2/3*AK$9)","v":"-"},null,null,{"$f":"IF(OR(COUNTBLANK(AN$33:AO$232)=400,Check!AN1=\"Check\"),\"-\",1-2/3*AN$9)","v":"-"},null,null,{"$f":"IF(OR(COUNTBLANK(AQ$33:AR$232)=400,Check!AQ1=\"Check\"),\"-\",1-2/3*AQ$9)","v":"-"},null,null,{"$f":"IF(OR(COUNTBLANK(AT$33:AU$232)=400,Check!AT1=\"Check\"),\"-\",1-2/3*AT$9)","v":"-"},null,null,{"$f":"IF(OR(COUNTBLANK(AW$33:AX$232)=400,Check!AW1=\"Check\"),\"-\",1-2/3*AW$9)","v":"-"},null,null,{"$f":"IF(OR(COUNTBLANK(AZ$33:BA$232)=400,Check!AZ1=\"Check\"),\"-\",1-2/3*AZ$9)","v":"-"},null,null,{"$f":"IF(OR(COUNTBLANK(BC$33:BD$232)=400,Check!BC1=\"Check\"),\"-\",1-2/3*BC$9)","v":"-"},null,null,{"$f":"IF(OR(COUNTBLANK(BF$33:BG$232)=400,Check!BF1=\"Check\"),\"-\",1-2/3*BF$9)","v":"-"},null,null,{"$f":"IF(OR(COUNTBLANK(BI$33:BJ$232)=400,Check!BI1=\"Check\"),\"-\",1-2/3*BI$9)","v":"-"},null,null,{"$f":"IF(OR(COUNTBLANK(BL$33:BM$232)=400,Check!BL1=\"Check\"),\"-\",1-2/3*BL$9)","v":"-"},null,null,{"$f":"IF(OR(COUNTBLANK(BO$33:BP$232)=400,Check!BO1=\"Check\"),\"-\",1-2/3*BO$9)","v":"-"},null,null,{"$f":"IF(OR(COUNTBLANK(BR$33:BS$232)=400,Check!BR1=\"Check\"),\"-\",1-2/3*BR$9)","v":"-"},null,null,{"$f":"IF(OR(COUNTBLANK(BU$33:BV$232)=400,Check!BU1=\"Check\"),\"-\",1-2/3*BU$9)","v":"-"},null,null,{"$f":"IF(OR(COUNTBLANK(BX$33:BY$232)=400,Check!BX1=\"Check\"),\"-\",1-2/3*BX$9)","v":"-"},null,null,{"$f":"IF(OR(COUNTBLANK(CA$33:CB$232)=400,Check!CA1=\"Check\"),\"-\",1-2/3*CA$9)","v":"-"},null,null,{"$f":"IF(OR(COUNTBLANK(CD$33:CE$232)=400,Check!CD1=\"Check\"),\"-\",1-2/3*CD$9)","v":"-"},null,null,{"$f":"IF(OR(COUNTBLANK(CG$33:CH$232)=400,Check!CG1=\"Check\"),\"-\",1-2/3*CG$9)","v":"-"},null,null,{"$f":"IF(OR(COUNTBLANK(CJ$33:CK$232)=400,Check!CJ1=\"Check\"),\"-\",1-2/3*CJ$9)","v":"-"},null,null,{"$f":"IF(OR(COUNTBLANK(CM$33:CN$232)=400,Check!CM1=\"Check\"),\"-\",1-2/3*CM$9)","v":"-"},null,null,{"$f":"IF(OR(COUNTBLANK(CP$33:CQ$232)=400,Check!CP1=\"Check\"),\"-\",1-2/3*CP$9)","v":"-"},null,null,{"$f":"IF(OR(COUNTBLANK(CS$33:CT$232)=400,Check!CS1=\"Check\"),\"-\",1-2/3*CS$9)","v":"-"},null,null,{"$f":"IF(OR(COUNTBLANK(CV$33:CW$232)=400,Check!CV1=\"Check\"),\"-\",1-2/3*CV$9)","v":"-"},null,null,{"$f":"IF(OR(COUNTBLANK(CY$33:CZ$232)=400,Check!CY1=\"Check\"),\"-\",1-2/3*CY$9)","v":"-"},null,null,{"$f":"IF(OR(COUNTBLANK(DB$33:DC$232)=400,Check!DB1=\"Check\"),\"-\",1-2/3*DB$9)","v":"-"},null,null,{"$f":"IF(OR(COUNTBLANK(DE$33:DF$232)=400,Check!DE1=\"Check\"),\"-\",1-2/3*DE$9)","v":"-"},null,null,{"$f":"IF(OR(COUNTBLANK(DH$33:DI$232)=400,Check!DH1=\"Check\"),\"-\",1-2/3*DH$9)","v":"-"},null,null,{"$f":"IF(OR(COUNTBLANK(DK$33:DL$232)=400,Check!DK1=\"Check\"),\"-\",1-2/3*DK$9)","v":"-"},null,null,{"$f":"IF(OR(COUNTBLANK(DN$33:DO$232)=400,Check!DN1=\"Check\"),\"-\",1-2/3*DN$9)","v":"-"},null,null,{"$f":"IF(OR(COUNTBLANK(DQ$33:DR$232)=400,Check!DQ1=\"Check\"),\"-\",1-2/3*DQ$9)","v":"-"},null,null,{"$f":"IF(OR(COUNTBLANK(DT$33:DU$232)=400,Check!DT1=\"Check\"),\"-\",1-2/3*DT$9)","v":"-"},null,null,{"$f":"IF(OR(COUNTBLANK(DW$33:DX$232)=400,Check!DW1=\"Check\"),\"-\",1-2/3*DW$9)","v":"-"},null,null,{"$f":"IF(OR(COUNTBLANK(DZ$33:EA$232)=400,Check!DZ1=\"Check\"),\"-\",1-2/3*DZ$9)","v":"-"},null,null,{"$f":"IF(OR(COUNTBLANK(EC$33:ED$232)=400,Check!EC1=\"Check\"),\"-\",1-2/3*EC$9)","v":"-"},null,null,{"$f":"IF(OR(COUNTBLANK(EF$33:EG$232)=400,Check!EF1=\"Check\"),\"-\",1-2/3*EF$9)","v":"-"},null,null,{"$f":"IF(OR(COUNTBLANK(EI$33:EJ$232)=400,Check!EI1=\"Check\"),\"-\",1-2/3*EI$9)","v":"-"},null,null,{"$f":"IF(OR(COUNTBLANK(EL$33:EM$232)=400,Check!EL1=\"Check\"),\"-\",1-2/3*EL$9)","v":"-"},null,null,{"$f":"IF(OR(COUNTBLANK(EO$33:EP$232)=400,Check!EO1=\"Check\"),\"-\",1-2/3*EO$9)","v":"-"},null,null,{"$f":"IF(OR(COUNTBLANK(ER$33:ES$232)=400,Check!ER1=\"Check\"),\"-\",1-2/3*ER$9)","v":"-"},null,null,{"$f":"IF(OR(COUNTBLANK(EU$33:EV$232)=400,Check!EU1=\"Check\"),\"-\",1-2/3*EU$9)","v":"-"},null,null,{"$f":"IF(OR(COUNTBLANK(EX$33:EY$232)=400,Check!EX1=\"Check\"),\"-\",1-2/3*EX$9)","v":"-"},null,null,{"$f":"IF(OR(COUNTBLANK(FA$33:FB$232)=400,Check!FA1=\"Check\"),\"-\",1-2/3*FA$9)","v":"-"},null,null,{"$f":"IF(OR(COUNTBLANK(FD$33:FE$232)=400,Check!FD1=\"Check\"),\"-\",1-2/3*FD$9)","v":"-"},null,null,{"$f":"IF(OR(COUNTBLANK(FG$33:FH$232)=400,Check!FG1=\"Check\"),\"-\",1-2/3*FG$9)","v":"-"},null,null,{"$f":"IF(OR(COUNTBLANK(FJ$33:FK$232)=400,Check!FJ1=\"Check\"),\"-\",1-2/3*FJ$9)","v":"-"},null,null,{"$f":"IF(OR(COUNTBLANK(FM$33:FN$232)=400,Check!FM1=\"Check\"),\"-\",1-2/3*FM$9)","v":"-"},null,null,{"$f":"IF(OR(COUNTBLANK(FP$33:FQ$232)=400,Check!FP1=\"Check\"),\"-\",1-2/3*FP$9)","v":"-"},null,null,{"$f":"IF(OR(COUNTBLANK(FS$33:FT$232)=400,Check!FS1=\"Check\"),\"-\",1-2/3*FS$9)","v":"-"},null,null,{"$f":"IF(OR(COUNTBLANK(FV$33:FW$232)=400,Check!FV1=\"Check\"),\"-\",1-2/3*FV$9)","v":"-"},null,null,{"$f":"IF(OR(COUNTBLANK(FY$33:FZ$232)=400,Check!FY1=\"Check\"),\"-\",1-2/3*FY$9)","v":"-"},null,null,{"$f":"IF(OR(COUNTBLANK(GB$33:GC$232)=400,Check!GB1=\"Check\"),\"-\",1-2/3*GB$9)","v":"-"},null,null,{"$f":"IF(OR(COUNTBLANK(GE$33:GF$232)=400,Check!GE1=\"Check\"),\"-\",1-2/3*GE$9)","v":"-"},null,null,{"$f":"IF(OR(COUNTBLANK(GH$33:GI$232)=400,Check!GH1=\"Check\"),\"-\",1-2/3*GH$9)","v":"-"},null,null,{"$f":"IF(OR(COUNTBLANK(GK$33:GL$232)=400,Check!GK1=\"Check\"),\"-\",1-2/3*GK$9)","v":"-"},null,null,{"$f":"IF(OR(COUNTBLANK(GN$33:GO$232)=400,Check!GN1=\"Check\"),\"-\",1-2/3*GN$9)","v":"-"},null,null,{"$f":"IF(OR(COUNTBLANK(GQ$33:GR$232)=400,Check!GQ1=\"Check\"),\"-\",1-2/3*GQ$9)","v":"-"},null,null,{"$f":"IF(OR(COUNTBLANK(GT$33:GU$232)=400,Check!GT1=\"Check\"),\"-\",1-2/3*GT$9)","v":"-"},null,null,{"$f":"IF(OR(COUNTBLANK(GW$33:GX$232)=400,Check!GW1=\"Check\"),\"-\",1-2/3*GW$9)","v":"-"},null,null,{"$f":"IF(OR(COUNTBLANK(GZ$33:HA$232)=400,Check!GZ1=\"Check\"),\"-\",1-2/3*GZ$9)","v":"-"},null,null,{"$f":"IF(OR(COUNTBLANK(HC$33:HD$232)=400,Check!HC1=\"Check\"),\"-\",1-2/3*HC$9)","v":"-"},null,null,{"$f":"IF(OR(COUNTBLANK(HF$33:HG$232)=400,Check!HF1=\"Check\"),\"-\",1-2/3*HF$9)","v":"-"},null,null,{"$f":"IF(OR(COUNTBLANK(HI$33:HJ$232)=400,Check!HI1=\"Check\"),\"-\",1-2/3*HI$9)","v":"-"},null,null,{"$f":"IF(OR(COUNTBLANK(HL$33:HM$232)=400,Check!HL1=\"Check\"),\"-\",1-2/3*HL$9)","v":"-"},null,null,{"$f":"IF(OR(COUNTBLANK(HO$33:HP$232)=400,Check!HO1=\"Check\"),\"-\",1-2/3*HO$9)","v":"-"},null,null,{"$f":"IF(OR(COUNTBLANK(HR$33:HS$232)=400,Check!HR1=\"Check\"),\"-\",1-2/3*HR$9)","v":"-"},null,null,{"$f":"IF(OR(COUNTBLANK(HU$33:HV$232)=400,Check!HU1=\"Check\"),\"-\",1-2/3*HU$9)","v":"-"},null,null,{"$f":"IF(OR(COUNTBLANK(HX$33:HY$232)=400,Check!HX1=\"Check\"),\"-\",1-2/3*HX$9)","v":"-"},null,null,{"$f":"IF(OR(COUNTBLANK(IA$33:IB$232)=400,Check!IA1=\"Check\"),\"-\",1-2/3*IA$9)","v":"-"},null,null,{"$f":"IF(OR(COUNTBLANK(ID$33:IE$232)=400,Check!ID1=\"Check\"),\"-\",1-2/3*ID$9)","v":"-"},null,null,{"$f":"IF(OR(COUNTBLANK(IG$33:IH$232)=400,Check!IG1=\"Check\"),\"-\",1-2/3*IG$9)","v":"-"},null,null,{"$f":"IF(OR(COUNTBLANK(IJ$33:IK$232)=400,Check!IJ1=\"Check\"),\"-\",1-2/3*IJ$9)","v":"-"},null,null,{"$f":"IF(OR(COUNTBLANK(IM$33:IN$232)=400,Check!IM1=\"Check\"),\"-\",1-2/3*IM$9)","v":"-"},null,null,{"$f":"IF(OR(COUNTBLANK(IP$33:IQ$232)=400,Check!IP1=\"Check\"),\"-\",1-2/3*IP$9)","v":"-"},null,null,{"$f":"IF(OR(COUNTBLANK(IS$33:IT$232)=400,Check!IS1=\"Check\"),\"-\",1-2/3*IS$9)","v":"-"}]
[]
[null,"Proposed MRL estimate"]
[]
[null,"- Highest residue",null,{"$f":"IF(OR(COUNTBLANK(D$33:E$232)=400,Check!D1=\"Check\"),\"-\",D$13)","v":"-"},null,null,{"$f":"IF(OR(COUNTBLANK(G$33:H$232)=400,Check!G1=\"Check\"),\"-\",G$13)","v":"-"},null,null,{"$f":"IF(OR(COUNTBLANK(J$33:K$232)=400,Check!J1=\"Check\"),\"-\",J$13)","v":"-"},null,null,{"$f":"IF(OR(COUNTBLANK(M$33:N$232)=400,Check!M1=\"Check\"),\"-\",M$13)","v":"-"},null,null,{"$f":"IF(OR(COUNTBLANK(P$33:Q$232)=400,Check!P1=\"Check\"),\"-\",P$13)","v":"-"},null,null,{"$f":"IF(OR(COUNTBLANK(S$33:T$232)=400,Check!S1=\"Check\"),\"-\",S$13)","v":"-"},null,null,{"$f":"IF(OR(COUNTBLANK(V$33:W$232)=400,Check!V1=\"Check\"),\"-\",V$13)","v":"-"},null,null,{"$f":"IF(OR(COUNTBLANK(Y$33:Z$232)=400,Check!Y1=\"Check\"),\"-\",Y$13)","v":"-"},null,null,{"$f":"IF(OR(COUNTBLANK(AB$33:AC$232)=400,Check!AB1=\"Check\"),\"-\",AB$13)","v":"-"},null,null,{"$f":"IF(OR(COUNTBLANK(AE$33:AF$232)=400,Check!AE1=\"Check\"),\"-\",AE$13)","v":"-"},null,null,{"$f":"IF(OR(COUNTBLANK(AH$33:AI$232)=400,Check!AH1=\"Check\"),\"-\",AH$13)","v":"-"},null,null,{"$f":"IF(OR(COUNTBLANK(AK$33:AL$232)=400,Check!AK1=\"Check\"),\"-\",AK$13)","v":"-"},null,null,{"$f":"IF(OR(COUNTBLANK(AN$33:AO$232)=400,Check!AN1=\"Check\"),\"-\",AN$13)","v":"-"},null,null,{"$f":"IF(OR(COUNTBLANK(AQ$33:AR$232)=400,Check!AQ1=\"Check\"),\"-\",AQ$13)","v":"-"},null,null,{"$f":"IF(OR(COUNTBLANK(AT$33:AU$232)=400,Check!AT1=\"Check\"),\"-\",AT$13)","v":"-"},null,null,{"$f":"IF(OR(COUNTBLANK(AW$33:AX$232)=400,Check!AW1=\"Check\"),\"-\",AW$13)","v":"-"},null,null,{"$f":"IF(OR(COUNTBLANK(AZ$33:BA$232)=400,Check!AZ1=\"Check\"),\"-\",AZ$13)","v":"-"},null,null,{"$f":"IF(OR(COUNTBLANK(BC$33:BD$232)=400,Check!BC1=\"Check\"),\"-\",BC$13)","v":"-"},null,null,{"$f":"IF(OR(COUNTBLANK(BF$33:BG$232)=400,Check!BF1=\"Check\"),\"-\",BF$13)","v":"-"},null,null,{"$f":"IF(OR(COUNTBLANK(BI$33:BJ$232)=400,Check!BI1=\"Check\"),\"-\",BI$13)","v":"-"},null,null,{"$f":"IF(OR(COUNTBLANK(BL$33:BM$232)=400,Check!BL1=\"Check\"),\"-\",BL$13)","v":"-"},null,null,{"$f":"IF(OR(COUNTBLANK(BO$33:BP$232)=400,Check!BO1=\"Check\"),\"-\",BO$13)","v":"-"},null,null,{"$f":"IF(OR(COUNTBLANK(BR$33:BS$232)=400,Check!BR1=\"Check\"),\"-\",BR$13)","v":"-"},null,null,{"$f":"IF(OR(COUNTBLANK(BU$33:BV$232)=400,Check!BU1=\"Check\"),\"-\",BU$13)","v":"-"},null,null,{"$f":"IF(OR(COUNTBLANK(BX$33:BY$232)=400,Check!BX1=\"Check\"),\"-\",BX$13)","v":"-"},null,null,{"$f":"IF(OR(COUNTBLANK(CA$33:CB$232)=400,Check!CA1=\"Check\"),\"-\",CA$13)","v":"-"},null,null,{"$f":"IF(OR(COUNTBLANK(CD$33:CE$232)=400,Check!CD1=\"Check\"),\"-\",CD$13)","v":"-"},null,null,{"$f":"IF(OR(COUNTBLANK(CG$33:CH$232)=400,Check!CG1=\"Check\"),\"-\",CG$13)","v":"-"},null,null,{"$f":"IF(OR(COUNTBLANK(CJ$33:CK$232)=400,Check!CJ1=\"Check\"),\"-\",CJ$13)","v":"-"},null,null,{"$f":"IF(OR(COUNTBLANK(CM$33:CN$232)=400,Check!CM1=\"Check\"),\"-\",CM$13)","v":"-"},null,null,{"$f":"IF(OR(COUNTBLANK(CP$33:CQ$232)=400,Check!CP1=\"Check\"),\"-\",CP$13)","v":"-"},null,null,{"$f":"IF(OR(COUNTBLANK(CS$33:CT$232)=400,Check!CS1=\"Check\"),\"-\",CS$13)","v":"-"},null,null,{"$f":"IF(OR(COUNTBLANK(CV$33:CW$232)=400,Check!CV1=\"Check\"),\"-\",CV$13)","v":"-"},null,null,{"$f":"IF(OR(COUNTBLANK(CY$33:CZ$232)=400,Check!CY1=\"Check\"),\"-\",CY$13)","v":"-"},null,null,{"$f":"IF(OR(COUNTBLANK(DB$33:DC$232)=400,Check!DB1=\"Check\"),\"-\",DB$13)","v":"-"},null,null,{"$f":"IF(OR(COUNTBLANK(DE$33:DF$232)=400,Check!DE1=\"Check\"),\"-\",DE$13)","v":"-"},null,null,{"$f":"IF(OR(COUNTBLANK(DH$33:DI$232)=400,Check!DH1=\"Check\"),\"-\",DH$13)","v":"-"},null,null,{"$f":"IF(OR(COUNTBLANK(DK$33:DL$232)=400,Check!DK1=\"Check\"),\"-\",DK$13)","v":"-"},null,null,{"$f":"IF(OR(COUNTBLANK(DN$33:DO$232)=400,Check!DN1=\"Check\"),\"-\",DN$13)","v":"-"},null,null,{"$f":"IF(OR(COUNTBLANK(DQ$33:DR$232)=400,Check!DQ1=\"Check\"),\"-\",DQ$13)","v":"-"},null,null,{"$f":"IF(OR(COUNTBLANK(DT$33:DU$232)=400,Check!DT1=\"Check\"),\"-\",DT$13)","v":"-"},null,null,{"$f":"IF(OR(COUNTBLANK(DW$33:DX$232)=400,Check!DW1=\"Check\"),\"-\",DW$13)","v":"-"},null,null,{"$f":"IF(OR(COUNTBLANK(DZ$33:EA$232)=400,Check!DZ1=\"Check\"),\"-\",DZ$13)","v":"-"},null,null,{"$f":"IF(OR(COUNTBLANK(EC$33:ED$232)=400,Check!EC1=\"Check\"),\"-\",EC$13)","v":"-"},null,null,{"$f":"IF(OR(COUNTBLANK(EF$33:EG$232)=400,Check!EF1=\"Check\"),\"-\",EF$13)","v":"-"},null,null,{"$f":"IF(OR(COUNTBLANK(EI$33:EJ$232)=400,Check!EI1=\"Check\"),\"-\",EI$13)","v":"-"},null,null,{"$f":"IF(OR(COUNTBLANK(EL$33:EM$232)=400,Check!EL1=\"Check\"),\"-\",EL$13)","v":"-"},null,null,{"$f":"IF(OR(COUNTBLANK(EO$33:EP$232)=400,Check!EO1=\"Check\"),\"-\",EO$13)","v":"-"},null,null,{"$f":"IF(OR(COUNTBLANK(ER$33:ES$232)=400,Check!ER1=\"Check\"),\"-\",ER$13)","v":"-"},null,null,{"$f":"IF(OR(COUNTBLANK(EU$33:EV$232)=400,Check!EU1=\"Check\"),\"-\",EU$13)","v":"-"},null,null,{"$f":"IF(OR(COUNTBLANK(EX$33:EY$232)=400,Check!EX1=\"Check\"),\"-\",EX$13)","v":"-"},null,null,{"$f":"IF(OR(COUNTBLANK(FA$33:FB$232)=400,Check!FA1=\"Check\"),\"-\",FA$13)","v":"-"},null,null,{"$f":"IF(OR(COUNTBLANK(FD$33:FE$232)=400,Check!FD1=\"Check\"),\"-\",FD$13)","v":"-"},null,null,{"$f":"IF(OR(COUNTBLANK(FG$33:FH$232)=400,Check!FG1=\"Check\"),\"-\",FG$13)","v":"-"},null,null,{"$f":"IF(OR(COUNTBLANK(FJ$33:FK$232)=400,Check!FJ1=\"Check\"),\"-\",FJ$13)","v":"-"},null,null,{"$f":"IF(OR(COUNTBLANK(FM$33:FN$232)=400,Check!FM1=\"Check\"),\"-\",FM$13)","v":"-"},null,null,{"$f":"IF(OR(COUNTBLANK(FP$33:FQ$232)=400,Check!FP1=\"Check\"),\"-\",FP$13)","v":"-"},null,null,{"$f":"IF(OR(COUNTBLANK(FS$33:FT$232)=400,Check!FS1=\"Check\"),\"-\",FS$13)","v":"-"},null,null,{"$f":"IF(OR(COUNTBLANK(FV$33:FW$232)=400,Check!FV1=\"Check\"),\"-\",FV$13)","v":"-"},null,null,{"$f":"IF(OR(COUNTBLANK(FY$33:FZ$232)=400,Check!FY1=\"Check\"),\"-\",FY$13)","v":"-"},null,null,{"$f":"IF(OR(COUNTBLANK(GB$33:GC$232)=400,Check!GB1=\"Check\"),\"-\",GB$13)","v":"-"},null,null,{"$f":"IF(OR(COUNTBLANK(GE$33:GF$232)=400,Check!GE1=\"Check\"),\"-\",GE$13)","v":"-"},null,null,{"$f":"IF(OR(COUNTBLANK(GH$33:GI$232)=400,Check!GH1=\"Check\"),\"-\",GH$13)","v":"-"},null,null,{"$f":"IF(OR(COUNTBLANK(GK$33:GL$232)=400,Check!GK1=\"Check\"),\"-\",GK$13)","v":"-"},null,null,{"$f":"IF(OR(COUNTBLANK(GN$33:GO$232)=400,Check!GN1=\"Check\"),\"-\",GN$13)","v":"-"},null,null,{"$f":"IF(OR(COUNTBLANK(GQ$33:GR$232)=400,Check!GQ1=\"Check\"),\"-\",GQ$13)","v":"-"},null,null,{"$f":"IF(OR(COUNTBLANK(GT$33:GU$232)=400,Check!GT1=\"Check\"),\"-\",GT$13)","v":"-"},null,null,{"$f":"IF(OR(COUNTBLANK(GW$33:GX$232)=400,Check!GW1=\"Check\"),\"-\",GW$13)","v":"-"},null,null,{"$f":"IF(OR(COUNTBLANK(GZ$33:HA$232)=400,Check!GZ1=\"Check\"),\"-\",GZ$13)","v":"-"},null,null,{"$f":"IF(OR(COUNTBLANK(HC$33:HD$232)=400,Check!HC1=\"Check\"),\"-\",HC$13)","v":"-"},null,null,{"$f":"IF(OR(COUNTBLANK(HF$33:HG$232)=400,Check!HF1=\"Check\"),\"-\",HF$13)","v":"-"},null,null,{"$f":"IF(OR(COUNTBLANK(HI$33:HJ$232)=400,Check!HI1=\"Check\"),\"-\",HI$13)","v":"-"},null,null,{"$f":"IF(OR(COUNTBLANK(HL$33:HM$232)=400,Check!HL1=\"Check\"),\"-\",HL$13)","v":"-"},null,null,{"$f":"IF(OR(COUNTBLANK(HO$33:HP$232)=400,Check!HO1=\"Check\"),\"-\",HO$13)","v":"-"},null,null,{"$f":"IF(OR(COUNTBLANK(HR$33:HS$232)=400,Check!HR1=\"Check\"),\"-\",HR$13)","v":"-"},null,null,{"$f":"IF(OR(COUNTBLANK(HU$33:HV$232)=400,Check!HU1=\"Check\"),\"-\",HU$13)","v":"-"},null,null,{"$f":"IF(OR(COUNTBLANK(HX$33:HY$232)=400,Check!HX1=\"Check\"),\"-\",HX$13)","v":"-"},null,null,{"$f":"IF(OR(COUNTBLANK(IA$33:IB$232)=400,Check!IA1=\"Check\"),\"-\",IA$13)","v":"-"},null,null,{"$f":"IF(OR(COUNTBLANK(ID$33:IE$232)=400,Check!ID1=\"Check\"),\"-\",ID$13)","v":"-"},null,null,{"$f":"IF(OR(COUNTBLANK(IG$33:IH$232)=400,Check!IG1=\"Check\"),\"-\",IG$13)","v":"-"},null,null,{"$f":"IF(OR(COUNTBLANK(IJ$33:IK$232)=400,Check!IJ1=\"Check\"),\"-\",IJ$13)","v":"-"},null,null,{"$f":"IF(OR(COUNTBLANK(IM$33:IN$232)=400,Check!IM1=\"Check\"),\"-\",IM$13)","v":"-"},null,null,{"$f":"IF(OR(COUNTBLANK(IP$33:IQ$232)=400,Check!IP1=\"Check\"),\"-\",IP$13)","v":"-"},null,null,{"$f":"IF(OR(COUNTBLANK(IS$33:IT$232)=400,Check!IS1=\"Check\"),\"-\",IS$13)","v":"-"}]
[null,"- Mean + 4 SD",null,{"$f":"IF(OR(COUNTBLANK(D$33:E$232)=400,Check!D1=\"Check\"),\"-\",D$16+4*D$17)","v":"-"},null,null,{"$f":"IF(OR(COUNTBLANK(G$33:H$232)=400,Check!G1=\"Check\"),\"-\",G$16+4*G$17)","v":"-"},null,null,{"$f":"IF(OR(COUNTBLANK(J$33:K$232)=400,Check!J1=\"Check\"),\"-\",J$16+4*J$17)","v":"-"},null,null,{"$f":"IF(OR(COUNTBLANK(M$33:N$232)=400,Check!M1=\"Check\"),\"-\",M$16+4*M$17)","v":"-"},null,null,{"$f":"IF(OR(COUNTBLANK(P$33:Q$232)=400,Check!P1=\"Check\"),\"-\",P$16+4*P$17)","v":"-"},null,null,{"$f":"IF(OR(COUNTBLANK(S$33:T$232)=400,Check!S1=\"Check\"),\"-\",S$16+4*S$17)","v":"-"},null,null,{"$f":"IF(OR(COUNTBLANK(V$33:W$232)=400,Check!V1=\"Check\"),\"-\",V$16+4*V$17)","v":"-"},null,null,{"$f":"IF(OR(COUNTBLANK(Y$33:Z$232)=400,Check!Y1=\"Check\"),\"-\",Y$16+4*Y$17)","v":"-"},null,null,{"$f":"IF(OR(COUNTBLANK(AB$33:AC$232)=400,Check!AB1=\"Check\"),\"-\",AB$16+4*AB$17)","v":"-"},null,null,{"$f":"IF(OR(COUNTBLANK(AE$33:AF$232)=400,Check!AE1=\"Check\"),\"-\",AE$16+4*AE$17)","v":"-"},null,null,{"$f":"IF(OR(COUNTBLANK(AH$33:AI$232)=400,Check!AH1=\"Check\"),\"-\",AH$16+4*AH$17)","v":"-"},null,null,{"$f":"IF(OR(COUNTBLANK(AK$33:AL$232)=400,Check!AK1=\"Check\"),\"-\",AK$16+4*AK$17)","v":"-"},null,null,{"$f":"IF(OR(COUNTBLANK(AN$33:AO$232)=400,Check!AN1=\"Check\"),\"-\",AN$16+4*AN$17)","v":"-"},null,null,{"$f":"IF(OR(COUNTBLANK(AQ$33:AR$232)=400,Check!AQ1=\"Check\"),\"-\",AQ$16+4*AQ$17)","v":"-"},null,null,{"$f":"IF(OR(COUNTBLANK(AT$33:AU$232)=400,Check!AT1=\"Check\"),\"-\",AT$16+4*AT$17)","v":"-"},null,null,{"$f":"IF(OR(COUNTBLANK(AW$33:AX$232)=400,Check!AW1=\"Check\"),\"-\",AW$16+4*AW$17)","v":"-"},null,null,{"$f":"IF(OR(COUNTBLANK(AZ$33:BA$232)=400,Check!AZ1=\"Check\"),\"-\",AZ$16+4*AZ$17)","v":"-"},null,null,{"$f":"IF(OR(COUNTBLANK(BC$33:BD$232)=400,Check!BC1=\"Check\"),\"-\",BC$16+4*BC$17)","v":"-"},null,null,{"$f":"IF(OR(COUNTBLANK(BF$33:BG$232)=400,Check!BF1=\"Check\"),\"-\",BF$16+4*BF$17)","v":"-"},null,null,{"$f":"IF(OR(COUNTBLANK(BI$33:BJ$232)=400,Check!BI1=\"Check\"),\"-\",BI$16+4*BI$17)","v":"-"},null,null,{"$f":"IF(OR(COUNTBLANK(BL$33:BM$232)=400,Check!BL1=\"Check\"),\"-\",BL$16+4*BL$17)","v":"-"},null,null,{"$f":"IF(OR(COUNTBLANK(BO$33:BP$232)=400,Check!BO1=\"Check\"),\"-\",BO$16+4*BO$17)","v":"-"},null,null,{"$f":"IF(OR(COUNTBLANK(BR$33:BS$232)=400,Check!BR1=\"Check\"),\"-\",BR$16+4*BR$17)","v":"-"},null,null,{"$f":"IF(OR(COUNTBLANK(BU$33:BV$232)=400,Check!BU1=\"Check\"),\"-\",BU$16+4*BU$17)","v":"-"},null,null,{"$f":"IF(OR(COUNTBLANK(BX$33:BY$232)=400,Check!BX1=\"Check\"),\"-\",BX$16+4*BX$17)","v":"-"},null,null,{"$f":"IF(OR(COUNTBLANK(CA$33:CB$232)=400,Check!CA1=\"Check\"),\"-\",CA$16+4*CA$17)","v":"-"},null,null,{"$f":"IF(OR(COUNTBLANK(CD$33:CE$232)=400,Check!CD1=\"Check\"),\"-\",CD$16+4*CD$17)","v":"-"},null,null,{"$f":"IF(OR(COUNTBLANK(CG$33:CH$232)=400,Check!CG1=\"Check\"),\"-\",CG$16+4*CG$17)","v":"-"},null,null,{"$f":"IF(OR(COUNTBLANK(CJ$33:CK$232)=400,Check!CJ1=\"Check\"),\"-\",CJ$16+4*CJ$17)","v":"-"},null,null,{"$f":"IF(OR(COUNTBLANK(CM$33:CN$232)=400,Check!CM1=\"Check\"),\"-\",CM$16+4*CM$17)","v":"-"},null,null,{"$f":"IF(OR(COUNTBLANK(CP$33:CQ$232)=400,Check!CP1=\"Check\"),\"-\",CP$16+4*CP$17)","v":"-"},null,null,{"$f":"IF(OR(COUNTBLANK(CS$33:CT$232)=400,Check!CS1=\"Check\"),\"-\",CS$16+4*CS$17)","v":"-"},null,null,{"$f":"IF(OR(COUNTBLANK(CV$33:CW$232)=400,Check!CV1=\"Check\"),\"-\",CV$16+4*CV$17)","v":"-"},null,null,{"$f":"IF(OR(COUNTBLANK(CY$33:CZ$232)=400,Check!CY1=\"Check\"),\"-\",CY$16+4*CY$17)","v":"-"},null,null,{"$f":"IF(OR(COUNTBLANK(DB$33:DC$232)=400,Check!DB1=\"Check\"),\"-\",DB$16+4*DB$17)","v":"-"},null,null,{"$f":"IF(OR(COUNTBLANK(DE$33:DF$232)=400,Check!DE1=\"Check\"),\"-\",DE$16+4*DE$17)","v":"-"},null,null,{"$f":"IF(OR(COUNTBLANK(DH$33:DI$232)=400,Check!DH1=\"Check\"),\"-\",DH$16+4*DH$17)","v":"-"},null,null,{"$f":"IF(OR(COUNTBLANK(DK$33:DL$232)=400,Check!DK1=\"Check\"),\"-\",DK$16+4*DK$17)","v":"-"},null,null,{"$f":"IF(OR(COUNTBLANK(DN$33:DO$232)=400,Check!DN1=\"Check\"),\"-\",DN$16+4*DN$17)","v":"-"},null,null,{"$f":"IF(OR(COUNTBLANK(DQ$33:DR$232)=400,Check!DQ1=\"Check\"),\"-\",DQ$16+4*DQ$17)","v":"-"},null,null,{"$f":"IF(OR(COUNTBLANK(DT$33:DU$232)=400,Check!DT1=\"Check\"),\"-\",DT$16+4*DT$17)","v":"-"},null,null,{"$f":"IF(OR(COUNTBLANK(DW$33:DX$232)=400,Check!DW1=\"Check\"),\"-\",DW$16+4*DW$17)","v":"-"},null,null,{"$f":"IF(OR(COUNTBLANK(DZ$33:EA$232)=400,Check!DZ1=\"Check\"),\"-\",DZ$16+4*DZ$17)","v":"-"},null,null,{"$f":"IF(OR(COUNTBLANK(EC$33:ED$232)=400,Check!EC1=\"Check\"),\"-\",EC$16+4*EC$17)","v":"-"},null,null,{"$f":"IF(OR(COUNTBLANK(EF$33:EG$232)=400,Check!EF1=\"Check\"),\"-\",EF$16+4*EF$17)","v":"-"},null,null,{"$f":"IF(OR(COUNTBLANK(EI$33:EJ$232)=400,Check!EI1=\"Check\"),\"-\",EI$16+4*EI$17)","v":"-"},null,null,{"$f":"IF(OR(COUNTBLANK(EL$33:EM$232)=400,Check!EL1=\"Check\"),\"-\",EL$16+4*EL$17)","v":"-"},null,null,{"$f":"IF(OR(COUNTBLANK(EO$33:EP$232)=400,Check!EO1=\"Check\"),\"-\",EO$16+4*EO$17)","v":"-"},null,null,{"$f":"IF(OR(COUNTBLANK(ER$33:ES$232)=400,Check!ER1=\"Check\"),\"-\",ER$16+4*ER$17)","v":"-"},null,null,{"$f":"IF(OR(COUNTBLANK(EU$33:EV$232)=400,Check!EU1=\"Check\"),\"-\",EU$16+4*EU$17)","v":"-"},null,null,{"$f":"IF(OR(COUNTBLANK(EX$33:EY$232)=400,Check!EX1=\"Check\"),\"-\",EX$16+4*EX$17)","v":"-"},null,null,{"$f":"IF(OR(COUNTBLANK(FA$33:FB$232)=400,Check!FA1=\"Check\"),\"-\",FA$16+4*FA$17)","v":"-"},null,null,{"$f":"IF(OR(COUNTBLANK(FD$33:FE$232)=400,Check!FD1=\"Check\"),\"-\",FD$16+4*FD$17)","v":"-"},null,null,{"$f":"IF(OR(COUNTBLANK(FG$33:FH$232)=400,Check!FG1=\"Check\"),\"-\",FG$16+4*FG$17)","v":"-"},null,null,{"$f":"IF(OR(COUNTBLANK(FJ$33:FK$232)=400,Check!FJ1=\"Check\"),\"-\",FJ$16+4*FJ$17)","v":"-"},null,null,{"$f":"IF(OR(COUNTBLANK(FM$33:FN$232)=400,Check!FM1=\"Check\"),\"-\",FM$16+4*FM$17)","v":"-"},null,null,{"$f":"IF(OR(COUNTBLANK(FP$33:FQ$232)=400,Check!FP1=\"Check\"),\"-\",FP$16+4*FP$17)","v":"-"},null,null,{"$f":"IF(OR(COUNTBLANK(FS$33:FT$232)=400,Check!FS1=\"Check\"),\"-\",FS$16+4*FS$17)","v":"-"},null,null,{"$f":"IF(OR(COUNTBLANK(FV$33:FW$232)=400,Check!FV1=\"Check\"),\"-\",FV$16+4*FV$17)","v":"-"},null,null,{"$f":"IF(OR(COUNTBLANK(FY$33:FZ$232)=400,Check!FY1=\"Check\"),\"-\",FY$16+4*FY$17)","v":"-"},null,null,{"$f":"IF(OR(COUNTBLANK(GB$33:GC$232)=400,Check!GB1=\"Check\"),\"-\",GB$16+4*GB$17)","v":"-"},null,null,{"$f":"IF(OR(COUNTBLANK(GE$33:GF$232)=400,Check!GE1=\"Check\"),\"-\",GE$16+4*GE$17)","v":"-"},null,null,{"$f":"IF(OR(COUNTBLANK(GH$33:GI$232)=400,Check!GH1=\"Check\"),\"-\",GH$16+4*GH$17)","v":"-"},null,null,{"$f":"IF(OR(COUNTBLANK(GK$33:GL$232)=400,Check!GK1=\"Check\"),\"-\",GK$16+4*GK$17)","v":"-"},null,null,{"$f":"IF(OR(COUNTBLANK(GN$33:GO$232)=400,Check!GN1=\"Check\"),\"-\",GN$16+4*GN$17)","v":"-"},null,null,{"$f":"IF(OR(COUNTBLANK(GQ$33:GR$232)=400,Check!GQ1=\"Check\"),\"-\",GQ$16+4*GQ$17)","v":"-"},null,null,{"$f":"IF(OR(COUNTBLANK(GT$33:GU$232)=400,Check!GT1=\"Check\"),\"-\",GT$16+4*GT$17)","v":"-"},null,null,{"$f":"IF(OR(COUNTBLANK(GW$33:GX$232)=400,Check!GW1=\"Check\"),\"-\",GW$16+4*GW$17)","v":"-"},null,null,{"$f":"IF(OR(COUNTBLANK(GZ$33:HA$232)=400,Check!GZ1=\"Check\"),\"-\",GZ$16+4*GZ$17)","v":"-"},null,null,{"$f":"IF(OR(COUNTBLANK(HC$33:HD$232)=400,Check!HC1=\"Check\"),\"-\",HC$16+4*HC$17)","v":"-"},null,null,{"$f":"IF(OR(COUNTBLANK(HF$33:HG$232)=400,Check!HF1=\"Check\"),\"-\",HF$16+4*HF$17)","v":"-"},null,null,{"$f":"IF(OR(COUNTBLANK(HI$33:HJ$232)=400,Check!HI1=\"Check\"),\"-\",HI$16+4*HI$17)","v":"-"},null,null,{"$f":"IF(OR(COUNTBLANK(HL$33:HM$232)=400,Check!HL1=\"Check\"),\"-\",HL$16+4*HL$17)","v":"-"},null,null,{"$f":"IF(OR(COUNTBLANK(HO$33:HP$232)=400,Check!HO1=\"Check\"),\"-\",HO$16+4*HO$17)","v":"-"},null,null,{"$f":"IF(OR(COUNTBLANK(HR$33:HS$232)=400,Check!HR1=\"Check\"),\"-\",HR$16+4*HR$17)","v":"-"},null,null,{"$f":"IF(OR(COUNTBLANK(HU$33:HV$232)=400,Check!HU1=\"Check\"),\"-\",HU$16+4*HU$17)","v":"-"},null,null,{"$f":"IF(OR(COUNTBLANK(HX$33:HY$232)=400,Check!HX1=\"Check\"),\"-\",HX$16+4*HX$17)","v":"-"},null,null,{"$f":"IF(OR(COUNTBLANK(IA$33:IB$232)=400,Check!IA1=\"Check\"),\"-\",IA$16+4*IA$17)","v":"-"},null,null,{"$f":"IF(OR(COUNTBLANK(ID$33:IE$232)=400,Check!ID1=\"Check\"),\"-\",ID$16+4*ID$17)","v":"-"},null,null,{"$f":"IF(OR(COUNTBLANK(IG$33:IH$232)=400,Check!IG1=\"Check\"),\"-\",IG$16+4*IG$17)","v":"-"},null,null,{"$f":"IF(OR(COUNTBLANK(IJ$33:IK$232)=400,Check!IJ1=\"Check\"),\"-\",IJ$16+4*IJ$17)","v":"-"},null,null,{"$f":"IF(OR(COUNTBLANK(IM$33:IN$232)=400,Check!IM1=\"Check\"),\"-\",IM$16+4*IM$17)","v":"-"},null,null,{"$f":"IF(OR(COUNTBLANK(IP$33:IQ$232)=400,Check!IP1=\"Check\"),\"-\",IP$16+4*IP$17)","v":"-"},null,null,{"$f":"IF(OR(COUNTBLANK(IS$33:IT$232)=400,Check!IS1=\"Check\"),\"-\",IS$16+4*IS$17)","v":"-"}]
[null,"- CF x 3 Mean",null,{"$f":"IF(OR(COUNTBLANK(D$33:E$232)=400,Check!D1=\"Check\"),\"-\",3*D$16*D19)","v":"-"},null,null,{"$f":"IF(OR(COUNTBLANK(G$33:H$232)=400,Check!G1=\"Check\"),\"-\",3*G$16*G19)","v":"-"},null,null,{"$f":"IF(OR(COUNTBLANK(J$33:K$232)=400,Check!J1=\"Check\"),\"-\",3*J$16*J19)","v":"-"},null,null,{"$f":"IF(OR(COUNTBLANK(M$33:N$232)=400,Check!M1=\"Check\"),\"-\",3*M$16*M19)","v":"-"},null,null,{"$f":"IF(OR(COUNTBLANK(P$33:Q$232)=400,Check!P1=\"Check\"),\"-\",3*P$16*P19)","v":"-"},null,null,{"$f":"IF(OR(COUNTBLANK(S$33:T$232)=400,Check!S1=\"Check\"),\"-\",3*S$16*S19)","v":"-"},null,null,{"$f":"IF(OR(COUNTBLANK(V$33:W$232)=400,Check!V1=\"Check\"),\"-\",3*V$16*V19)","v":"-"},null,null,{"$f":"IF(OR(COUNTBLANK(Y$33:Z$232)=400,Check!Y1=\"Check\"),\"-\",3*Y$16*Y19)","v":"-"},null,null,{"$f":"IF(OR(COUNTBLANK(AB$33:AC$232)=400,Check!AB1=\"Check\"),\"-\",3*AB$16*AB19)","v":"-"},null,null,{"$f":"IF(OR(COUNTBLANK(AE$33:AF$232)=400,Check!AE1=\"Check\"),\"-\",3*AE$16*AE19)","v":"-"},null,null,{"$f":"IF(OR(COUNTBLANK(AH$33:AI$232)=400,Check!AH1=\"Check\"),\"-\",3*AH$16*AH19)","v":"-"},null,null,{"$f":"IF(OR(COUNTBLANK(AK$33:AL$232)=400,Check!AK1=\"Check\"),\"-\",3*AK$16*AK19)","v":"-"},null,null,{"$f":"IF(OR(COUNTBLANK(AN$33:AO$232)=400,Check!AN1=\"Check\"),\"-\",3*AN$16*AN19)","v":"-"},null,null,{"$f":"IF(OR(COUNTBLANK(AQ$33:AR$232)=400,Check!AQ1=\"Check\"),\"-\",3*AQ$16*AQ19)","v":"-"},null,null,{"$f":"IF(OR(COUNTBLANK(AT$33:AU$232)=400,Check!AT1=\"Check\"),\"-\",3*AT$16*AT19)","v":"-"},null,null,{"$f":"IF(OR(COUNTBLANK(AW$33:AX$232)=400,Check!AW1=\"Check\"),\"-\",3*AW$16*AW19)","v":"-"},null,null,{"$f":"IF(OR(COUNTBLANK(AZ$33:BA$232)=400,Check!AZ1=\"Check\"),\"-\",3*AZ$16*AZ19)","v":"-"},null,null,{"$f":"IF(OR(COUNTBLANK(BC$33:BD$232)=400,Check!BC1=\"Check\"),\"-\",3*BC$16*BC19)","v":"-"},null,null,{"$f":"IF(OR(COUNTBLANK(BF$33:BG$232)=400,Check!BF1=\"Check\"),\"-\",3*BF$16*BF19)","v":"-"},null,null,{"$f":"IF(OR(COUNTBLANK(BI$33:BJ$232)=400,Check!BI1=\"Check\"),\"-\",3*BI$16*BI19)","v":"-"},null,null,{"$f":"IF(OR(COUNTBLANK(BL$33:BM$232)=400,Check!BL1=\"Check\"),\"-\",3*BL$16*BL19)","v":"-"},null,null,{"$f":"IF(OR(COUNTBLANK(BO$33:BP$232)=400,Check!BO1=\"Check\"),\"-\",3*BO$16*BO19)","v":"-"},null,null,{"$f":"IF(OR(COUNTBLANK(BR$33:BS$232)=400,Check!BR1=\"Check\"),\"-\",3*BR$16*BR19)","v":"-"},null,null,{"$f":"IF(OR(COUNTBLANK(BU$33:BV$232)=400,Check!BU1=\"Check\"),\"-\",3*BU$16*BU19)","v":"-"},null,null,{"$f":"IF(OR(COUNTBLANK(BX$33:BY$232)=400,Check!BX1=\"Check\"),\"-\",3*BX$16*BX19)","v":"-"},null,null,{"$f":"IF(OR(COUNTBLANK(CA$33:CB$232)=400,Check!CA1=\"Check\"),\"-\",3*CA$16*CA19)","v":"-"},null,null,{"$f":"IF(OR(COUNTBLANK(CD$33:CE$232)=400,Check!CD1=\"Check\"),\"-\",3*CD$16*CD19)","v":"-"},null,null,{"$f":"IF(OR(COUNTBLANK(CG$33:CH$232)=400,Check!CG1=\"Check\"),\"-\",3*CG$16*CG19)","v":"-"},null,null,{"$f":"IF(OR(COUNTBLANK(CJ$33:CK$232)=400,Check!CJ1=\"Check\"),\"-\",3*CJ$16*CJ19)","v":"-"},null,null,{"$f":"IF(OR(COUNTBLANK(CM$33:CN$232)=400,Check!CM1=\"Check\"),\"-\",3*CM$16*CM19)","v":"-"},null,null,{"$f":"IF(OR(COUNTBLANK(CP$33:CQ$232)=400,Check!CP1=\"Check\"),\"-\",3*CP$16*CP19)","v":"-"},null,null,{"$f":"IF(OR(COUNTBLANK(CS$33:CT$232)=400,Check!CS1=\"Check\"),\"-\",3*CS$16*CS19)","v":"-"},null,null,{"$f":"IF(OR(COUNTBLANK(CV$33:CW$232)=400,Check!CV1=\"Check\"),\"-\",3*CV$16*CV19)","v":"-"},null,null,{"$f":"IF(OR(COUNTBLANK(CY$33:CZ$232)=400,Check!CY1=\"Check\"),\"-\",3*CY$16*CY19)","v":"-"},null,null,{"$f":"IF(OR(COUNTBLANK(DB$33:DC$232)=400,Check!DB1=\"Check\"),\"-\",3*DB$16*DB19)","v":"-"},null,null,{"$f":"IF(OR(COUNTBLANK(DE$33:DF$232)=400,Check!DE1=\"Check\"),\"-\",3*DE$16*DE19)","v":"-"},null,null,{"$f":"IF(OR(COUNTBLANK(DH$33:DI$232)=400,Check!DH1=\"Check\"),\"-\",3*DH$16*DH19)","v":"-"},null,null,{"$f":"IF(OR(COUNTBLANK(DK$33:DL$232)=400,Check!DK1=\"Check\"),\"-\",3*DK$16*DK19)","v":"-"},null,null,{"$f":"IF(OR(COUNTBLANK(DN$33:DO$232)=400,Check!DN1=\"Check\"),\"-\",3*DN$16*DN19)","v":"-"},null,null,{"$f":"IF(OR(COUNTBLANK(DQ$33:DR$232)=400,Check!DQ1=\"Check\"),\"-\",3*DQ$16*DQ19)","v":"-"},null,null,{"$f":"IF(OR(COUNTBLANK(DT$33:DU$232)=400,Check!DT1=\"Check\"),\"-\",3*DT$16*DT19)","v":"-"},null,null,{"$f":"IF(OR(COUNTBLANK(DW$33:DX$232)=400,Check!DW1=\"Check\"),\"-\",3*DW$16*DW19)","v":"-"},null,null,{"$f":"IF(OR(COUNTBLANK(DZ$33:EA$232)=400,Check!DZ1=\"Check\"),\"-\",3*DZ$16*DZ19)","v":"-"},null,null,{"$f":"IF(OR(COUNTBLANK(EC$33:ED$232)=400,Check!EC1=\"Check\"),\"-\",3*EC$16*EC19)","v":"-"},null,null,{"$f":"IF(OR(COUNTBLANK(EF$33:EG$232)=400,Check!EF1=\"Check\"),\"-\",3*EF$16*EF19)","v":"-"},null,null,{"$f":"IF(OR(COUNTBLANK(EI$33:EJ$232)=400,Check!EI1=\"Check\"),\"-\",3*EI$16*EI19)","v":"-"},null,null,{"$f":"IF(OR(COUNTBLANK(EL$33:EM$232)=400,Check!EL1=\"Check\"),\"-\",3*EL$16*EL19)","v":"-"},null,null,{"$f":"IF(OR(COUNTBLANK(EO$33:EP$232)=400,Check!EO1=\"Check\"),\"-\",3*EO$16*EO19)","v":"-"},null,null,{"$f":"IF(OR(COUNTBLANK(ER$33:ES$232)=400,Check!ER1=\"Check\"),\"-\",3*ER$16*ER19)","v":"-"},null,null,{"$f":"IF(OR(COUNTBLANK(EU$33:EV$232)=400,Check!EU1=\"Check\"),\"-\",3*EU$16*EU19)","v":"-"},null,null,{"$f":"IF(OR(COUNTBLANK(EX$33:EY$232)=400,Check!EX1=\"Check\"),\"-\",3*EX$16*EX19)","v":"-"},null,null,{"$f":"IF(OR(COUNTBLANK(FA$33:FB$232)=400,Check!FA1=\"Check\"),\"-\",3*FA$16*FA19)","v":"-"},null,null,{"$f":"IF(OR(COUNTBLANK(FD$33:FE$232)=400,Check!FD1=\"Check\"),\"-\",3*FD$16*FD19)","v":"-"},null,null,{"$f":"IF(OR(COUNTBLANK(FG$33:FH$232)=400,Check!FG1=\"Check\"),\"-\",3*FG$16*FG19)","v":"-"},null,null,{"$f":"IF(OR(COUNTBLANK(FJ$33:FK$232)=400,Check!FJ1=\"Check\"),\"-\",3*FJ$16*FJ19)","v":"-"},null,null,{"$f":"IF(OR(COUNTBLANK(FM$33:FN$232)=400,Check!FM1=\"Check\"),\"-\",3*FM$16*FM19)","v":"-"},null,null,{"$f":"IF(OR(COUNTBLANK(FP$33:FQ$232)=400,Check!FP1=\"Check\"),\"-\",3*FP$16*FP19)","v":"-"},null,null,{"$f":"IF(OR(COUNTBLANK(FS$33:FT$232)=400,Check!FS1=\"Check\"),\"-\",3*FS$16*FS19)","v":"-"},null,null,{"$f":"IF(OR(COUNTBLANK(FV$33:FW$232)=400,Check!FV1=\"Check\"),\"-\",3*FV$16*FV19)","v":"-"},null,null,{"$f":"IF(OR(COUNTBLANK(FY$33:FZ$232)=400,Check!FY1=\"Check\"),\"-\",3*FY$16*FY19)","v":"-"},null,null,{"$f":"IF(OR(COUNTBLANK(GB$33:GC$232)=400,Check!GB1=\"Check\"),\"-\",3*GB$16*GB19)","v":"-"},null,null,{"$f":"IF(OR(COUNTBLANK(GE$33:GF$232)=400,Check!GE1=\"Check\"),\"-\",3*GE$16*GE19)","v":"-"},null,null,{"$f":"IF(OR(COUNTBLANK(GH$33:GI$232)=400,Check!GH1=\"Check\"),\"-\",3*GH$16*GH19)","v":"-"},null,null,{"$f":"IF(OR(COUNTBLANK(GK$33:GL$232)=400,Check!GK1=\"Check\"),\"-\",3*GK$16*GK19)","v":"-"},null,null,{"$f":"IF(OR(COUNTBLANK(GN$33:GO$232)=400,Check!GN1=\"Check\"),\"-\",3*GN$16*GN19)","v":"-"},null,null,{"$f":"IF(OR(COUNTBLANK(GQ$33:GR$232)=400,Check!GQ1=\"Check\"),\"-\",3*GQ$16*GQ19)","v":"-"},null,null,{"$f":"IF(OR(COUNTBLANK(GT$33:GU$232)=400,Check!GT1=\"Check\"),\"-\",3*GT$16*GT19)","v":"-"},null,null,{"$f":"IF(OR(COUNTBLANK(GW$33:GX$232)=400,Check!GW1=\"Check\"),\"-\",3*GW$16*GW19)","v":"-"},null,null,{"$f":"IF(OR(COUNTBLANK(GZ$33:HA$232)=400,Check!GZ1=\"Check\"),\"-\",3*GZ$16*GZ19)","v":"-"},null,null,{"$f":"IF(OR(COUNTBLANK(HC$33:HD$232)=400,Check!HC1=\"Check\"),\"-\",3*HC$16*HC19)","v":"-"},null,null,{"$f":"IF(OR(COUNTBLANK(HF$33:HG$232)=400,Check!HF1=\"Check\"),\"-\",3*HF$16*HF19)","v":"-"},null,null,{"$f":"IF(OR(COUNTBLANK(HI$33:HJ$232)=400,Check!HI1=\"Check\"),\"-\",3*HI$16*HI19)","v":"-"},null,null,{"$f":"IF(OR(COUNTBLANK(HL$33:HM$232)=400,Check!HL1=\"Check\"),\"-\",3*HL$16*HL19)","v":"-"},null,null,{"$f":"IF(OR(COUNTBLANK(HO$33:HP$232)=400,Check!HO1=\"Check\"),\"-\",3*HO$16*HO19)","v":"-"},null,null,{"$f":"IF(OR(COUNTBLANK(HR$33:HS$232)=400,Check!HR1=\"Check\"),\"-\",3*HR$16*HR19)","v":"-"},null,null,{"$f":"IF(OR(COUNTBLANK(HU$33:HV$232)=400,Check!HU1=\"Check\"),\"-\",3*HU$16*HU19)","v":"-"},null,null,{"$f":"IF(OR(COUNTBLANK(HX$33:HY$232)=400,Check!HX1=\"Check\"),\"-\",3*HX$16*HX19)","v":"-"},null,null,{"$f":"IF(OR(COUNTBLANK(IA$33:IB$232)=400,Check!IA1=\"Check\"),\"-\",3*IA$16*IA19)","v":"-"},null,null,{"$f":"IF(OR(COUNTBLANK(ID$33:IE$232)=400,Check!ID1=\"Check\"),\"-\",3*ID$16*ID19)","v":"-"},null,null,{"$f":"IF(OR(COUNTBLANK(IG$33:IH$232)=400,Check!IG1=\"Check\"),\"-\",3*IG$16*IG19)","v":"-"},null,null,{"$f":"IF(OR(COUNTBLANK(IJ$33:IK$232)=400,Check!IJ1=\"Check\"),\"-\",3*IJ$16*IJ19)","v":"-"},null,null,{"$f":"IF(OR(COUNTBLANK(IM$33:IN$232)=400,Check!IM1=\"Check\"),\"-\",3*IM$16*IM19)","v":"-"},null,null,{"$f":"IF(OR(COUNTBLANK(IP$33:IQ$232)=400,Check!IP1=\"Check\"),\"-\",3*IP$16*IP19)","v":"-"},null,null,{"$f":"IF(OR(COUNTBLANK(IS$33:IT$232)=400,Check!IS1=\"Check\"),\"-\",3*IS$16*IS19)","v":"-"}]
[null,"Unrounded MRL",null,{"$f":"IF(OR(COUNTBLANK(D$33:E$232)=400,Check!D1=\"Check\"),\"-\",IF(D$9=1,D$13,MAX(D$13,D$16+4*D$17,3*D$16*D19)))","v":"-"},null,null,{"$f":"IF(OR(COUNTBLANK(G$33:H$232)=400,Check!G1=\"Check\"),\"-\",IF(G$9=1,G$13,MAX(G$13,G$16+4*G$17,3*G$16*G19)))","v":"-"},null,null,{"$f":"IF(OR(COUNTBLANK(J$33:K$232)=400,Check!J1=\"Check\"),\"-\",IF(J$9=1,J$13,MAX(J$13,J$16+4*J$17,3*J$16*J19)))","v":"-"},null,null,{"$f":"IF(OR(COUNTBLANK(M$33:N$232)=400,Check!M1=\"Check\"),\"-\",IF(M$9=1,M$13,MAX(M$13,M$16+4*M$17,3*M$16*M19)))","v":"-"},null,null,{"$f":"IF(OR(COUNTBLANK(P$33:Q$232)=400,Check!P1=\"Check\"),\"-\",IF(P$9=1,P$13,MAX(P$13,P$16+4*P$17,3*P$16*P19)))","v":"-"},null,null,{"$f":"IF(OR(COUNTBLANK(S$33:T$232)=400,Check!S1=\"Check\"),\"-\",IF(S$9=1,S$13,MAX(S$13,S$16+4*S$17,3*S$16*S19)))","v":"-"},null,null,{"$f":"IF(OR(COUNTBLANK(V$33:W$232)=400,Check!V1=\"Check\"),\"-\",IF(V$9=1,V$13,MAX(V$13,V$16+4*V$17,3*V$16*V19)))","v":"-"},null,null,{"$f":"IF(OR(COUNTBLANK(Y$33:Z$232)=400,Check!Y1=\"Check\"),\"-\",IF(Y$9=1,Y$13,MAX(Y$13,Y$16+4*Y$17,3*Y$16*Y19)))","v":"-"},null,null,{"$f":"IF(OR(COUNTBLANK(AB$33:AC$232)=400,Check!AB1=\"Check\"),\"-\",IF(AB$9=1,AB$13,MAX(AB$13,AB$16+4*AB$17,3*AB$16*AB19)))","v":"-"},null,null,{"$f":"IF(OR(COUNTBLANK(AE$33:AF$232)=400,Check!AE1=\"Check\"),\"-\",IF(AE$9=1,AE$13,MAX(AE$13,AE$16+4*AE$17,3*AE$16*AE19)))","v":"-"},null,null,{"$f":"IF(OR(COUNTBLANK(AH$33:AI$232)=400,Check!AH1=\"Check\"),\"-\",IF(AH$9=1,AH$13,MAX(AH$13,AH$16+4*AH$17,3*AH$16*AH19)))","v":"-"},null,null,{"$f":"IF(OR(COUNTBLANK(AK$33:AL$232)=400,Check!AK1=\"Check\"),\"-\",IF(AK$9=1,AK$13,MAX(AK$13,AK$16+4*AK$17,3*AK$16*AK19)))","v":"-"},null,null,{"$f":"IF(OR(COUNTBLANK(AN$33:AO$232)=400,Check!AN1=\"Check\"),\"-\",IF(AN$9=1,AN$13,MAX(AN$13,AN$16+4*AN$17,3*AN$16*AN19)))","v":"-"},null,null,{"$f":"IF(OR(COUNTBLANK(AQ$33:AR$232)=400,Check!AQ1=\"Check\"),\"-\",IF(AQ$9=1,AQ$13,MAX(AQ$13,AQ$16+4*AQ$17,3*AQ$16*AQ19)))","v":"-"},null,null,{"$f":"IF(OR(COUNTBLANK(AT$33:AU$232)=400,Check!AT1=\"Check\"),\"-\",IF(AT$9=1,AT$13,MAX(AT$13,AT$16+4*AT$17,3*AT$16*AT19)))","v":"-"},null,null,{"$f":"IF(OR(COUNTBLANK(AW$33:AX$232)=400,Check!AW1=\"Check\"),\"-\",IF(AW$9=1,AW$13,MAX(AW$13,AW$16+4*AW$17,3*AW$16*AW19)))","v":"-"},null,null,{"$f":"IF(OR(COUNTBLANK(AZ$33:BA$232)=400,Check!AZ1=\"Check\"),\"-\",IF(AZ$9=1,AZ$13,MAX(AZ$13,AZ$16+4*AZ$17,3*AZ$16*AZ19)))","v":"-"},null,null,{"$f":"IF(OR(COUNTBLANK(BC$33:BD$232)=400,Check!BC1=\"Check\"),\"-\",IF(BC$9=1,BC$13,MAX(BC$13,BC$16+4*BC$17,3*BC$16*BC19)))","v":"-"},null,null,{"$f":"IF(OR(COUNTBLANK(BF$33:BG$232)=400,Check!BF1=\"Check\"),\"-\",IF(BF$9=1,BF$13,MAX(BF$13,BF$16+4*BF$17,3*BF$16*BF19)))","v":"-"},null,null,{"$f":"IF(OR(COUNTBLANK(BI$33:BJ$232)=400,Check!BI1=\"Check\"),\"-\",IF(BI$9=1,BI$13,MAX(BI$13,BI$16+4*BI$17,3*BI$16*BI19)))","v":"-"},null,null,{"$f":"IF(OR(COUNTBLANK(BL$33:BM$232)=400,Check!BL1=\"Check\"),\"-\",IF(BL$9=1,BL$13,MAX(BL$13,BL$16+4*BL$17,3*BL$16*BL19)))","v":"-"},null,null,{"$f":"IF(OR(COUNTBLANK(BO$33:BP$232)=400,Check!BO1=\"Check\"),\"-\",IF(BO$9=1,BO$13,MAX(BO$13,BO$16+4*BO$17,3*BO$16*BO19)))","v":"-"},null,null,{"$f":"IF(OR(COUNTBLANK(BR$33:BS$232)=400,Check!BR1=\"Check\"),\"-\",IF(BR$9=1,BR$13,MAX(BR$13,BR$16+4*BR$17,3*BR$16*BR19)))","v":"-"},null,null,{"$f":"IF(OR(COUNTBLANK(BU$33:BV$232)=400,Check!BU1=\"Check\"),\"-\",IF(BU$9=1,BU$13,MAX(BU$13,BU$16+4*BU$17,3*BU$16*BU19)))","v":"-"},null,null,{"$f":"IF(OR(COUNTBLANK(BX$33:BY$232)=400,Check!BX1=\"Check\"),\"-\",IF(BX$9=1,BX$13,MAX(BX$13,BX$16+4*BX$17,3*BX$16*BX19)))","v":"-"},null,null,{"$f":"IF(OR(COUNTBLANK(CA$33:CB$232)=400,Check!CA1=\"Check\"),\"-\",IF(CA$9=1,CA$13,MAX(CA$13,CA$16+4*CA$17,3*CA$16*CA19)))","v":"-"},null,null,{"$f":"IF(OR(COUNTBLANK(CD$33:CE$232)=400,Check!CD1=\"Check\"),\"-\",IF(CD$9=1,CD$13,MAX(CD$13,CD$16+4*CD$17,3*CD$16*CD19)))","v":"-"},null,null,{"$f":"IF(OR(COUNTBLANK(CG$33:CH$232)=400,Check!CG1=\"Check\"),\"-\",IF(CG$9=1,CG$13,MAX(CG$13,CG$16+4*CG$17,3*CG$16*CG19)))","v":"-"},null,null,{"$f":"IF(OR(COUNTBLANK(CJ$33:CK$232)=400,Check!CJ1=\"Check\"),\"-\",IF(CJ$9=1,CJ$13,MAX(CJ$13,CJ$16+4*CJ$17,3*CJ$16*CJ19)))","v":"-"},null,null,{"$f":"IF(OR(COUNTBLANK(CM$33:CN$232)=400,Check!CM1=\"Check\"),\"-\",IF(CM$9=1,CM$13,MAX(CM$13,CM$16+4*CM$17,3*CM$16*CM19)))","v":"-"},null,null,{"$f":"IF(OR(COUNTBLANK(CP$33:CQ$232)=400,Check!CP1=\"Check\"),\"-\",IF(CP$9=1,CP$13,MAX(CP$13,CP$16+4*CP$17,3*CP$16*CP19)))","v":"-"},null,null,{"$f":"IF(OR(COUNTBLANK(CS$33:CT$232)=400,Check!CS1=\"Check\"),\"-\",IF(CS$9=1,CS$13,MAX(CS$13,CS$16+4*CS$17,3*CS$16*CS19)))","v":"-"},null,null,{"$f":"IF(OR(COUNTBLANK(CV$33:CW$232)=400,Check!CV1=\"Check\"),\"-\",IF(CV$9=1,CV$13,MAX(CV$13,CV$16+4*CV$17,3*CV$16*CV19)))","v":"-"},null,null,{"$f":"IF(OR(COUNTBLANK(CY$33:CZ$232)=400,Check!CY1=\"Check\"),\"-\",IF(CY$9=1,CY$13,MAX(CY$13,CY$16+4*CY$17,3*CY$16*CY19)))","v":"-"},null,null,{"$f":"IF(OR(COUNTBLANK(DB$33:DC$232)=400,Check!DB1=\"Check\"),\"-\",IF(DB$9=1,DB$13,MAX(DB$13,DB$16+4*DB$17,3*DB$16*DB19)))","v":"-"},null,null,{"$f":"IF(OR(COUNTBLANK(DE$33:DF$232)=400,Check!DE1=\"Check\"),\"-\",IF(DE$9=1,DE$13,MAX(DE$13,DE$16+4*DE$17,3*DE$16*DE19)))","v":"-"},null,null,{"$f":"IF(OR(COUNTBLANK(DH$33:DI$232)=400,Check!DH1=\"Check\"),\"-\",IF(DH$9=1,DH$13,MAX(DH$13,DH$16+4*DH$17,3*DH$16*DH19)))","v":"-"},null,null,{"$f":"IF(OR(COUNTBLANK(DK$33:DL$232)=400,Check!DK1=\"Check\"),\"-\",IF(DK$9=1,DK$13,MAX(DK$13,DK$16+4*DK$17,3*DK$16*DK19)))","v":"-"},null,null,{"$f":"IF(OR(COUNTBLANK(DN$33:DO$232)=400,Check!DN1=\"Check\"),\"-\",IF(DN$9=1,DN$13,MAX(DN$13,DN$16+4*DN$17,3*DN$16*DN19)))","v":"-"},null,null,{"$f":"IF(OR(COUNTBLANK(DQ$33:DR$232)=400,Check!DQ1=\"Check\"),\"-\",IF(DQ$9=1,DQ$13,MAX(DQ$13,DQ$16+4*DQ$17,3*DQ$16*DQ19)))","v":"-"},null,null,{"$f":"IF(OR(COUNTBLANK(DT$33:DU$232)=400,Check!DT1=\"Check\"),\"-\",IF(DT$9=1,DT$13,MAX(DT$13,DT$16+4*DT$17,3*DT$16*DT19)))","v":"-"},null,null,{"$f":"IF(OR(COUNTBLANK(DW$33:DX$232)=400,Check!DW1=\"Check\"),\"-\",IF(DW$9=1,DW$13,MAX(DW$13,DW$16+4*DW$17,3*DW$16*DW19)))","v":"-"},null,null,{"$f":"IF(OR(COUNTBLANK(DZ$33:EA$232)=400,Check!DZ1=\"Check\"),\"-\",IF(DZ$9=1,DZ$13,MAX(DZ$13,DZ$16+4*DZ$17,3*DZ$16*DZ19)))","v":"-"},null,null,{"$f":"IF(OR(COUNTBLANK(EC$33:ED$232)=400,Check!EC1=\"Check\"),\"-\",IF(EC$9=1,EC$13,MAX(EC$13,EC$16+4*EC$17,3*EC$16*EC19)))","v":"-"},null,null,{"$f":"IF(OR(COUNTBLANK(EF$33:EG$232)=400,Check!EF1=\"Check\"),\"-\",IF(EF$9=1,EF$13,MAX(EF$13,EF$16+4*EF$17,3*EF$16*EF19)))","v":"-"},null,null,{"$f":"IF(OR(COUNTBLANK(EI$33:EJ$232)=400,Check!EI1=\"Check\"),\"-\",IF(EI$9=1,EI$13,MAX(EI$13,EI$16+4*EI$17,3*EI$16*EI19)))","v":"-"},null,null,{"$f":"IF(OR(COUNTBLANK(EL$33:EM$232)=400,Check!EL1=\"Check\"),\"-\",IF(EL$9=1,EL$13,MAX(EL$13,EL$16+4*EL$17,3*EL$16*EL19)))","v":"-"},null,null,{"$f":"IF(OR(COUNTBLANK(EO$33:EP$232)=400,Check!EO1=\"Check\"),\"-\",IF(EO$9=1,EO$13,MAX(EO$13,EO$16+4*EO$17,3*EO$16*EO19)))","v":"-"},null,null,{"$f":"IF(OR(COUNTBLANK(ER$33:ES$232)=400,Check!ER1=\"Check\"),\"-\",IF(ER$9=1,ER$13,MAX(ER$13,ER$16+4*ER$17,3*ER$16*ER19)))","v":"-"},null,null,{"$f":"IF(OR(COUNTBLANK(EU$33:EV$232)=400,Check!EU1=\"Check\"),\"-\",IF(EU$9=1,EU$13,MAX(EU$13,EU$16+4*EU$17,3*EU$16*EU19)))","v":"-"},null,null,{"$f":"IF(OR(COUNTBLANK(EX$33:EY$232)=400,Check!EX1=\"Check\"),\"-\",IF(EX$9=1,EX$13,MAX(EX$13,EX$16+4*EX$17,3*EX$16*EX19)))","v":"-"},null,null,{"$f":"IF(OR(COUNTBLANK(FA$33:FB$232)=400,Check!FA1=\"Check\"),\"-\",IF(FA$9=1,FA$13,MAX(FA$13,FA$16+4*FA$17,3*FA$16*FA19)))","v":"-"},null,null,{"$f":"IF(OR(COUNTBLANK(FD$33:FE$232)=400,Check!FD1=\"Check\"),\"-\",IF(FD$9=1,FD$13,MAX(FD$13,FD$16+4*FD$17,3*FD$16*FD19)))","v":"-"},null,null,{"$f":"IF(OR(COUNTBLANK(FG$33:FH$232)=400,Check!FG1=\"Check\"),\"-\",IF(FG$9=1,FG$13,MAX(FG$13,FG$16+4*FG$17,3*FG$16*FG19)))","v":"-"},null,null,{"$f":"IF(OR(COUNTBLANK(FJ$33:FK$232)=400,Check!FJ1=\"Check\"),\"-\",IF(FJ$9=1,FJ$13,MAX(FJ$13,FJ$16+4*FJ$17,3*FJ$16*FJ19)))","v":"-"},null,null,{"$f":"IF(OR(COUNTBLANK(FM$33:FN$232)=400,Check!FM1=\"Check\"),\"-\",IF(FM$9=1,FM$13,MAX(FM$13,FM$16+4*FM$17,3*FM$16*FM19)))","v":"-"},null,null,{"$f":"IF(OR(COUNTBLANK(FP$33:FQ$232)=400,Check!FP1=\"Check\"),\"-\",IF(FP$9=1,FP$13,MAX(FP$13,FP$16+4*FP$17,3*FP$16*FP19)))","v":"-"},null,null,{"$f":"IF(OR(COUNTBLANK(FS$33:FT$232)=400,Check!FS1=\"Check\"),\"-\",IF(FS$9=1,FS$13,MAX(FS$13,FS$16+4*FS$17,3*FS$16*FS19)))","v":"-"},null,null,{"$f":"IF(OR(COUNTBLANK(FV$33:FW$232)=400,Check!FV1=\"Check\"),\"-\",IF(FV$9=1,FV$13,MAX(FV$13,FV$16+4*FV$17,3*FV$16*FV19)))","v":"-"},null,null,{"$f":"IF(OR(COUNTBLANK(FY$33:FZ$232)=400,Check!FY1=\"Check\"),\"-\",IF(FY$9=1,FY$13,MAX(FY$13,FY$16+4*FY$17,3*FY$16*FY19)))","v":"-"},null,null,{"$f":"IF(OR(COUNTBLANK(GB$33:GC$232)=400,Check!GB1=\"Check\"),\"-\",IF(GB$9=1,GB$13,MAX(GB$13,GB$16+4*GB$17,3*GB$16*GB19)))","v":"-"},null,null,{"$f":"IF(OR(COUNTBLANK(GE$33:GF$232)=400,Check!GE1=\"Check\"),\"-\",IF(GE$9=1,GE$13,MAX(GE$13,GE$16+4*GE$17,3*GE$16*GE19)))","v":"-"},null,null,{"$f":"IF(OR(COUNTBLANK(GH$33:GI$232)=400,Check!GH1=\"Check\"),\"-\",IF(GH$9=1,GH$13,MAX(GH$13,GH$16+4*GH$17,3*GH$16*GH19)))","v":"-"},null,null,{"$f":"IF(OR(COUNTBLANK(GK$33:GL$232)=400,Check!GK1=\"Check\"),\"-\",IF(GK$9=1,GK$13,MAX(GK$13,GK$16+4*GK$17,3*GK$16*GK19)))","v":"-"},null,null,{"$f":"IF(OR(COUNTBLANK(GN$33:GO$232)=400,Check!GN1=\"Check\"),\"-\",IF(GN$9=1,GN$13,MAX(GN$13,GN$16+4*GN$17,3*GN$16*GN19)))","v":"-"},null,null,{"$f":"IF(OR(COUNTBLANK(GQ$33:GR$232)=400,Check!GQ1=\"Check\"),\"-\",IF(GQ$9=1,GQ$13,MAX(GQ$13,GQ$16+4*GQ$17,3*GQ$16*GQ19)))","v":"-"},null,null,{"$f":"IF(OR(COUNTBLANK(GT$33:GU$232)=400,Check!GT1=\"Check\"),\"-\",IF(GT$9=1,GT$13,MAX(GT$13,GT$16+4*GT$17,3*GT$16*GT19)))","v":"-"},null,null,{"$f":"IF(OR(COUNTBLANK(GW$33:GX$232)=400,Check!GW1=\"Check\"),\"-\",IF(GW$9=1,GW$13,MAX(GW$13,GW$16+4*GW$17,3*GW$16*GW19)))","v":"-"},null,null,{"$f":"IF(OR(COUNTBLANK(GZ$33:HA$232)=400,Check!GZ1=\"Check\"),\"-\",IF(GZ$9=1,GZ$13,MAX(GZ$13,GZ$16+4*GZ$17,3*GZ$16*GZ19)))","v":"-"},null,null,{"$f":"IF(OR(COUNTBLANK(HC$33:HD$232)=400,Check!HC1=\"Check\"),\"-\",IF(HC$9=1,HC$13,MAX(HC$13,HC$16+4*HC$17,3*HC$16*HC19)))","v":"-"},null,null,{"$f":"IF(OR(COUNTBLANK(HF$33:HG$232)=400,Check!HF1=\"Check\"),\"-\",IF(HF$9=1,HF$13,MAX(HF$13,HF$16+4*HF$17,3*HF$16*HF19)))","v":"-"},null,null,{"$f":"IF(OR(COUNTBLANK(HI$33:HJ$232)=400,Check!HI1=\"Check\"),\"-\",IF(HI$9=1,HI$13,MAX(HI$13,HI$16+4*HI$17,3*HI$16*HI19)))","v":"-"},null,null,{"$f":"IF(OR(COUNTBLANK(HL$33:HM$232)=400,Check!HL1=\"Check\"),\"-\",IF(HL$9=1,HL$13,MAX(HL$13,HL$16+4*HL$17,3*HL$16*HL19)))","v":"-"},null,null,{"$f":"IF(OR(COUNTBLANK(HO$33:HP$232)=400,Check!HO1=\"Check\"),\"-\",IF(HO$9=1,HO$13,MAX(HO$13,HO$16+4*HO$17,3*HO$16*HO19)))","v":"-"},null,null,{"$f":"IF(OR(COUNTBLANK(HR$33:HS$232)=400,Check!HR1=\"Check\"),\"-\",IF(HR$9=1,HR$13,MAX(HR$13,HR$16+4*HR$17,3*HR$16*HR19)))","v":"-"},null,null,{"$f":"IF(OR(COUNTBLANK(HU$33:HV$232)=400,Check!HU1=\"Check\"),\"-\",IF(HU$9=1,HU$13,MAX(HU$13,HU$16+4*HU$17,3*HU$16*HU19)))","v":"-"},null,null,{"$f":"IF(OR(COUNTBLANK(HX$33:HY$232)=400,Check!HX1=\"Check\"),\"-\",IF(HX$9=1,HX$13,MAX(HX$13,HX$16+4*HX$17,3*HX$16*HX19)))","v":"-"},null,null,{"$f":"IF(OR(COUNTBLANK(IA$33:IB$232)=400,Check!IA1=\"Check\"),\"-\",IF(IA$9=1,IA$13,MAX(IA$13,IA$16+4*IA$17,3*IA$16*IA19)))","v":"-"},null,null,{"$f":"IF(OR(COUNTBLANK(ID$33:IE$232)=400,Check!ID1=\"Check\"),\"-\",IF(ID$9=1,ID$13,MAX(ID$13,ID$16+4*ID$17,3*ID$16*ID19)))","v":"-"},null,null,{"$f":"IF(OR(COUNTBLANK(IG$33:IH$232)=400,Check!IG1=\"Check\"),\"-\",IF(IG$9=1,IG$13,MAX(IG$13,IG$16+4*IG$17,3*IG$16*IG19)))","v":"-"},null,null,{"$f":"IF(OR(COUNTBLANK(IJ$33:IK$232)=400,Check!IJ1=\"Check\"),\"-\",IF(IJ$9=1,IJ$13,MAX(IJ$13,IJ$16+4*IJ$17,3*IJ$16*IJ19)))","v":"-"},null,null,{"$f":"IF(OR(COUNTBLANK(IM$33:IN$232)=400,Check!IM1=\"Check\"),\"-\",IF(IM$9=1,IM$13,MAX(IM$13,IM$16+4*IM$17,3*IM$16*IM19)))","v":"-"},null,null,{"$f":"IF(OR(COUNTBLANK(IP$33:IQ$232)=400,Check!IP1=\"Check\"),\"-\",IF(IP$9=1,IP$13,MAX(IP$13,IP$16+4*IP$17,3*IP$16*IP19)))","v":"-"},null,null,{"$f":"IF(OR(COUNTBLANK(IS$33:IT$232)=400,Check!IS1=\"Check\"),\"-\",IF(IS$9=1,IS$13,MAX(IS$13,IS$16+4*IS$17,3*IS$16*IS19)))","v":"-"}]
[]
[null,"Rounded MRL",null,{"$f":"IF(OR(COUNTBLANK(D$33:E$232)=400,Check!D1=\"Check\"),\"-\",VLOOKUP(ROUND(D26,8),'Rounding classes'!$C$7:$D$77,2,TRUE))","v":"-"},null,null,{"$f":"IF(OR(COUNTBLANK(G$33:H$232)=400,Check!G1=\"Check\"),\"-\",VLOOKUP(ROUND(G26,8),'Rounding classes'!$C$7:$D$77,2,TRUE))","v":"-"},null,null,{"$f":"IF(OR(COUNTBLANK(J$33:K$232)=400,Check!J1=\"Check\"),\"-\",VLOOKUP(ROUND(J26,8),'Rounding classes'!$C$7:$D$77,2,TRUE))","v":"-"},null,null,{"$f":"IF(OR(COUNTBLANK(M$33:N$232)=400,Check!M1=\"Check\"),\"-\",VLOOKUP(ROUND(M26,8),'Rounding classes'!$C$7:$D$77,2,TRUE))","v":"-"},null,null,{"$f":"IF(OR(COUNTBLANK(P$33:Q$232)=400,Check!P1=\"Check\"),\"-\",VLOOKUP(ROUND(P26,8),'Rounding classes'!$C$7:$D$77,2,TRUE))","v":"-"},null,null,{"$f":"IF(OR(COUNTBLANK(S$33:T$232)=400,Check!S1=\"Check\"),\"-\",VLOOKUP(ROUND(S26,8),'Rounding classes'!$C$7:$D$77,2,TRUE))","v":"-"},null,null,{"$f":"IF(OR(COUNTBLANK(V$33:W$232)=400,Check!V1=\"Check\"),\"-\",VLOOKUP(ROUND(V26,8),'Rounding classes'!$C$7:$D$77,2,TRUE))","v":"-"},null,null,{"$f":"IF(OR(COUNTBLANK(Y$33:Z$232)=400,Check!Y1=\"Check\"),\"-\",VLOOKUP(ROUND(Y26,8),'Rounding classes'!$C$7:$D$77,2,TRUE))","v":"-"},null,null,{"$f":"IF(OR(COUNTBLANK(AB$33:AC$232)=400,Check!AB1=\"Check\"),\"-\",VLOOKUP(ROUND(AB26,8),'Rounding classes'!$C$7:$D$77,2,TRUE))","v":"-"},null,null,{"$f":"IF(OR(COUNTBLANK(AE$33:AF$232)=400,Check!AE1=\"Check\"),\"-\",VLOOKUP(ROUND(AE26,8),'Rounding classes'!$C$7:$D$77,2,TRUE))","v":"-"},null,null,{"$f":"IF(OR(COUNTBLANK(AH$33:AI$232)=400,Check!AH1=\"Check\"),\"-\",VLOOKUP(ROUND(AH26,8),'Rounding classes'!$C$7:$D$77,2,TRUE))","v":"-"},null,null,{"$f":"IF(OR(COUNTBLANK(AK$33:AL$232)=400,Check!AK1=\"Check\"),\"-\",VLOOKUP(ROUND(AK26,8),'Rounding classes'!$C$7:$D$77,2,TRUE))","v":"-"},null,null,{"$f":"IF(OR(COUNTBLANK(AN$33:AO$232)=400,Check!AN1=\"Check\"),\"-\",VLOOKUP(ROUND(AN26,8),'Rounding classes'!$C$7:$D$77,2,TRUE))","v":"-"},null,null,{"$f":"IF(OR(COUNTBLANK(AQ$33:AR$232)=400,Check!AQ1=\"Check\"),\"-\",VLOOKUP(ROUND(AQ26,8),'Rounding classes'!$C$7:$D$77,2,TRUE))","v":"-"},null,null,{"$f":"IF(OR(COUNTBLANK(AT$33:AU$232)=400,Check!AT1=\"Check\"),\"-\",VLOOKUP(ROUND(AT26,8),'Rounding classes'!$C$7:$D$77,2,TRUE))","v":"-"},null,null,{"$f":"IF(OR(COUNTBLANK(AW$33:AX$232)=400,Check!AW1=\"Check\"),\"-\",VLOOKUP(ROUND(AW26,8),'Rounding classes'!$C$7:$D$77,2,TRUE))","v":"-"},null,null,{"$f":"IF(OR(COUNTBLANK(AZ$33:BA$232)=400,Check!AZ1=\"Check\"),\"-\",VLOOKUP(ROUND(AZ26,8),'Rounding classes'!$C$7:$D$77,2,TRUE))","v":"-"},null,null,{"$f":"IF(OR(COUNTBLANK(BC$33:BD$232)=400,Check!BC1=\"Check\"),\"-\",VLOOKUP(ROUND(BC26,8),'Rounding classes'!$C$7:$D$77,2,TRUE))","v":"-"},null,null,{"$f":"IF(OR(COUNTBLANK(BF$33:BG$232)=400,Check!BF1=\"Check\"),\"-\",VLOOKUP(ROUND(BF26,8),'Rounding classes'!$C$7:$D$77,2,TRUE))","v":"-"},null,null,{"$f":"IF(OR(COUNTBLANK(BI$33:BJ$232)=400,Check!BI1=\"Check\"),\"-\",VLOOKUP(ROUND(BI26,8),'Rounding classes'!$C$7:$D$77,2,TRUE))","v":"-"},null,null,{"$f":"IF(OR(COUNTBLANK(BL$33:BM$232)=400,Check!BL1=\"Check\"),\"-\",VLOOKUP(ROUND(BL26,8),'Rounding classes'!$C$7:$D$77,2,TRUE))","v":"-"},null,null,{"$f":"IF(OR(COUNTBLANK(BO$33:BP$232)=400,Check!BO1=\"Check\"),\"-\",VLOOKUP(ROUND(BO26,8),'Rounding classes'!$C$7:$D$77,2,TRUE))","v":"-"},null,null,{"$f":"IF(OR(COUNTBLANK(BR$33:BS$232)=400,Check!BR1=\"Check\"),\"-\",VLOOKUP(ROUND(BR26,8),'Rounding classes'!$C$7:$D$77,2,TRUE))","v":"-"},null,null,{"$f":"IF(OR(COUNTBLANK(BU$33:BV$232)=400,Check!BU1=\"Check\"),\"-\",VLOOKUP(ROUND(BU26,8),'Rounding classes'!$C$7:$D$77,2,TRUE))","v":"-"},null,null,{"$f":"IF(OR(COUNTBLANK(BX$33:BY$232)=400,Check!BX1=\"Check\"),\"-\",VLOOKUP(ROUND(BX26,8),'Rounding classes'!$C$7:$D$77,2,TRUE))","v":"-"},null,null,{"$f":"IF(OR(COUNTBLANK(CA$33:CB$232)=400,Check!CA1=\"Check\"),\"-\",VLOOKUP(ROUND(CA26,8),'Rounding classes'!$C$7:$D$77,2,TRUE))","v":"-"},null,null,{"$f":"IF(OR(COUNTBLANK(CD$33:CE$232)=400,Check!CD1=\"Check\"),\"-\",VLOOKUP(ROUND(CD26,8),'Rounding classes'!$C$7:$D$77,2,TRUE))","v":"-"},null,null,{"$f":"IF(OR(COUNTBLANK(CG$33:CH$232)=400,Check!CG1=\"Check\"),\"-\",VLOOKUP(ROUND(CG26,8),'Rounding classes'!$C$7:$D$77,2,TRUE))","v":"-"},null,null,{"$f":"IF(OR(COUNTBLANK(CJ$33:CK$232)=400,Check!CJ1=\"Check\"),\"-\",VLOOKUP(ROUND(CJ26,8),'Rounding classes'!$C$7:$D$77,2,TRUE))","v":"-"},null,null,{"$f":"IF(OR(COUNTBLANK(CM$33:CN$232)=400,Check!CM1=\"Check\"),\"-\",VLOOKUP(ROUND(CM26,8),'Rounding classes'!$C$7:$D$77,2,TRUE))","v":"-"},null,null,{"$f":"IF(OR(COUNTBLANK(CP$33:CQ$232)=400,Check!CP1=\"Check\"),\"-\",VLOOKUP(ROUND(CP26,8),'Rounding classes'!$C$7:$D$77,2,TRUE))","v":"-"},null,null,{"$f":"IF(OR(COUNTBLANK(CS$33:CT$232)=400,Check!CS1=\"Check\"),\"-\",VLOOKUP(ROUND(CS26,8),'Rounding classes'!$C$7:$D$77,2,TRUE))","v":"-"},null,null,{"$f":"IF(OR(COUNTBLANK(CV$33:CW$232)=400,Check!CV1=\"Check\"),\"-\",VLOOKUP(CV26,'Rounding classes'!$C$7:$D$77,2,TRUE))","v":"-"},null,null,{"$f":"IF(OR(COUNTBLANK(CY$33:CZ$232)=400,Check!CY1=\"Check\"),\"-\",VLOOKUP(ROUND(CY26,8),'Rounding classes'!$C$7:$D$77,2,TRUE))","v":"-"},null,null,{"$f":"IF(OR(COUNTBLANK(DB$33:DC$232)=400,Check!DB1=\"Check\"),\"-\",VLOOKUP(ROUND(DB26,8),'Rounding classes'!$C$7:$D$77,2,TRUE))","v":"-"},null,null,{"$f":"IF(OR(COUNTBLANK(DE$33:DF$232)=400,Check!DE1=\"Check\"),\"-\",VLOOKUP(ROUND(DE26,8),'Rounding classes'!$C$7:$D$77,2,TRUE))","v":"-"},null,null,{"$f":"IF(OR(COUNTBLANK(DH$33:DI$232)=400,Check!DH1=\"Check\"),\"-\",VLOOKUP(ROUND(DH26,8),'Rounding classes'!$C$7:$D$77,2,TRUE))","v":"-"},null,null,{"$f":"IF(OR(COUNTBLANK(DK$33:DL$232)=400,Check!DK1=\"Check\"),\"-\",VLOOKUP(ROUND(DK26,8),'Rounding classes'!$C$7:$D$77,2,TRUE))","v":"-"},null,null,{"$f":"IF(OR(COUNTBLANK(DN$33:DO$232)=400,Check!DN1=\"Check\"),\"-\",VLOOKUP(ROUND(DN26,8),'Rounding classes'!$C$7:$D$77,2,TRUE))","v":"-"},null,null,{"$f":"IF(OR(COUNTBLANK(DQ$33:DR$232)=400,Check!DQ1=\"Check\"),\"-\",VLOOKUP(ROUND(DQ26,8),'Rounding classes'!$C$7:$D$77,2,TRUE))","v":"-"},null,null,{"$f":"IF(OR(COUNTBLANK(DT$33:DU$232)=400,Check!DT1=\"Check\"),\"-\",VLOOKUP(ROUND(DT26,8),'Rounding classes'!$C$7:$D$77,2,TRUE))","v":"-"},null,null,{"$f":"IF(OR(COUNTBLANK(DW$33:DX$232)=400,Check!DW1=\"Check\"),\"-\",VLOOKUP(ROUND(DW26,8),'Rounding classes'!$C$7:$D$77,2,TRUE))","v":"-"},null,null,{"$f":"IF(OR(COUNTBLANK(DZ$33:EA$232)=400,Check!DZ1=\"Check\"),\"-\",VLOOKUP(ROUND(DZ26,8),'Rounding classes'!$C$7:$D$77,2,TRUE))","v":"-"},null,null,{"$f":"IF(OR(COUNTBLANK(EC$33:ED$232)=400,Check!EC1=\"Check\"),\"-\",VLOOKUP(ROUND(EC26,8),'Rounding classes'!$C$7:$D$77,2,TRUE))","v":"-"},null,null,{"$f":"IF(OR(COUNTBLANK(EF$33:EG$232)=400,Check!EF1=\"Check\"),\"-\",VLOOKUP(ROUND(EF26,8),'Rounding classes'!$C$7:$D$77,2,TRUE))","v":"-"},null,null,{"$f":"IF(OR(COUNTBLANK(EI$33:EJ$232)=400,Check!EI1=\"Check\"),\"-\",VLOOKUP(ROUND(EI26,8),'Rounding classes'!$C$7:$D$77,2,TRUE))","v":"-"},null,null,{"$f":"IF(OR(COUNTBLANK(EL$33:EM$232)=400,Check!EL1=\"Check\"),\"-\",VLOOKUP(ROUND(EL26,8),'Rounding classes'!$C$7:$D$77,2,TRUE))","v":"-"},null,null,{"$f":"IF(OR(COUNTBLANK(EO$33:EP$232)=400,Check!EO1=\"Check\"),\"-\",VLOOKUP(ROUND(EO26,8),'Rounding classes'!$C$7:$D$77,2,TRUE))","v":"-"},null,null,{"$f":"IF(OR(COUNTBLANK(ER$33:ES$232)=400,Check!ER1=\"Check\"),\"-\",VLOOKUP(ROUND(ER26,8),'Rounding classes'!$C$7:$D$77,2,TRUE))","v":"-"},null,null,{"$f":"IF(OR(COUNTBLANK(EU$33:EV$232)=400,Check!EU1=\"Check\"),\"-\",VLOOKUP(ROUND(EU26,8),'Rounding classes'!$C$7:$D$77,2,TRUE))","v":"-"},null,null,{"$f":"IF(OR(COUNTBLANK(EX$33:EY$232)=400,Check!EX1=\"Check\"),\"-\",VLOOKUP(ROUND(EX26,8),'Rounding classes'!$C$7:$D$77,2,TRUE))","v":"-"},null,null,{"$f":"IF(OR(COUNTBLANK(FA$33:FB$232)=400,Check!FA1=\"Check\"),\"-\",VLOOKUP(ROUND(FA26,8),'Rounding classes'!$C$7:$D$77,2,TRUE))","v":"-"},null,null,{"$f":"IF(OR(COUNTBLANK(FD$33:FE$232)=400,Check!FD1=\"Check\"),\"-\",VLOOKUP(ROUND(FD26,8),'Rounding classes'!$C$7:$D$77,2,TRUE))","v":"-"},null,null,{"$f":"IF(OR(COUNTBLANK(FG$33:FH$232)=400,Check!FG1=\"Check\"),\"-\",VLOOKUP(ROUND(FG26,8),'Rounding classes'!$C$7:$D$77,2,TRUE))","v":"-"},null,null,{"$f":"IF(OR(COUNTBLANK(FJ$33:FK$232)=400,Check!FJ1=\"Check\"),\"-\",VLOOKUP(ROUND(FJ26,8),'Rounding classes'!$C$7:$D$77,2,TRUE))","v":"-"},null,null,{"$f":"IF(OR(COUNTBLANK(FM$33:FN$232)=400,Check!FM1=\"Check\"),\"-\",VLOOKUP(ROUND(FM26,8),'Rounding classes'!$C$7:$D$77,2,TRUE))","v":"-"},null,null,{"$f":"IF(OR(COUNTBLANK(FP$33:FQ$232)=400,Check!FP1=\"Check\"),\"-\",VLOOKUP(ROUND(FP26,8),'Rounding classes'!$C$7:$D$77,2,TRUE))","v":"-"},null,null,{"$f":"IF(OR(COUNTBLANK(FS$33:FT$232)=400,Check!FS1=\"Check\"),\"-\",VLOOKUP(ROUND(FS26,8),'Rounding classes'!$C$7:$D$77,2,TRUE))","v":"-"},null,null,{"$f":"IF(OR(COUNTBLANK(FV$33:FW$232)=400,Check!FV1=\"Check\"),\"-\",VLOOKUP(ROUND(FV26,8),'Rounding classes'!$C$7:$D$77,2,TRUE))","v":"-"},null,null,{"$f":"IF(OR(COUNTBLANK(FY$33:FZ$232)=400,Check!FY1=\"Check\"),\"-\",VLOOKUP(ROUND(FY26,8),'Rounding classes'!$C$7:$D$77,2,TRUE))","v":"-"},null,null,{"$f":"IF(OR(COUNTBLANK(GB$33:GC$232)=400,Check!GB1=\"Check\"),\"-\",VLOOKUP(ROUND(GB26,8),'Rounding classes'!$C$7:$D$77,2,TRUE))","v":"-"},null,null,{"$f":"IF(OR(COUNTBLANK(GE$33:GF$232)=400,Check!GE1=\"Check\"),\"-\",VLOOKUP(ROUND(GE26,8),'Rounding classes'!$C$7:$D$77,2,TRUE))","v":"-"},null,null,{"$f":"IF(OR(COUNTBLANK(GH$33:GI$232)=400,Check!GH1=\"Check\"),\"-\",VLOOKUP(ROUND(GH26,8),'Rounding classes'!$C$7:$D$77,2,TRUE))","v":"-"},null,null,{"$f":"IF(OR(COUNTBLANK(GK$33:GL$232)=400,Check!GK1=\"Check\"),\"-\",VLOOKUP(ROUND(GK26,8),'Rounding classes'!$C$7:$D$77,2,TRUE))","v":"-"},null,null,{"$f":"IF(OR(COUNTBLANK(GN$33:GO$232)=400,Check!GN1=\"Check\"),\"-\",VLOOKUP(ROUND(GN26,8),'Rounding classes'!$C$7:$D$77,2,TRUE))","v":"-"},null,null,{"$f":"IF(OR(COUNTBLANK(GQ$33:GR$232)=400,Check!GQ1=\"Check\"),\"-\",VLOOKUP(GQ26,'Rounding classes'!$C$7:$D$77,2,TRUE))","v":"-"},null,null,{"$f":"IF(OR(COUNTBLANK(GT$33:GU$232)=400,Check!GT1=\"Check\"),\"-\",VLOOKUP(GT26,'Rounding classes'!$C$7:$D$77,2,TRUE))","v":"-"},null,null,{"$f":"IF(OR(COUNTBLANK(GW$33:GX$232)=400,Check!GW1=\"Check\"),\"-\",VLOOKUP(GW26,'Rounding classes'!$C$7:$D$77,2,TRUE))","v":"-"},null,null,{"$f":"IF(OR(COUNTBLANK(GZ$33:HA$232)=400,Check!GZ1=\"Check\"),\"-\",VLOOKUP(GZ26,'Rounding classes'!$C$7:$D$77,2,TRUE))","v":"-"},null,null,{"$f":"IF(OR(COUNTBLANK(HC$33:HD$232)=400,Check!HC1=\"Check\"),\"-\",VLOOKUP(HC26,'Rounding classes'!$C$7:$D$77,2,TRUE))","v":"-"},null,null,{"$f":"IF(OR(COUNTBLANK(HF$33:HG$232)=400,Check!HF1=\"Check\"),\"-\",VLOOKUP(HF26,'Rounding classes'!$C$7:$D$77,2,TRUE))","v":"-"},null,null,{"$f":"IF(OR(COUNTBLANK(HI$33:HJ$232)=400,Check!HI1=\"Check\"),\"-\",VLOOKUP(HI26,'Rounding classes'!$C$7:$D$77,2,TRUE))","v":"-"},null,null,{"$f":"IF(OR(COUNTBLANK(HL$33:HM$232)=400,Check!HL1=\"Check\"),\"-\",VLOOKUP(HL26,'Rounding classes'!$C$7:$D$77,2,TRUE))","v":"-"},null,null,{"$f":"IF(OR(COUNTBLANK(HO$33:HP$232)=400,Check!HO1=\"Check\"),\"-\",VLOOKUP(HO26,'Rounding classes'!$C$7:$D$77,2,TRUE))","v":"-"},null,null,{"$f":"IF(OR(COUNTBLANK(HR$33:HS$232)=400,Check!HR1=\"Check\"),\"-\",VLOOKUP(HR26,'Rounding classes'!$C$7:$D$77,2,TRUE))","v":"-"},null,null,{"$f":"IF(OR(COUNTBLANK(HU$33:HV$232)=400,Check!HU1=\"Check\"),\"-\",VLOOKUP(HU26,'Rounding classes'!$C$7:$D$77,2,TRUE))","v":"-"},null,null,{"$f":"IF(OR(COUNTBLANK(HX$33:HY$232)=400,Check!HX1=\"Check\"),\"-\",VLOOKUP(HX26,'Rounding classes'!$C$7:$D$77,2,TRUE))","v":"-"},null,null,{"$f":"IF(OR(COUNTBLANK(IA$33:IB$232)=400,Check!IA1=\"Check\"),\"-\",VLOOKUP(IA26,'Rounding classes'!$C$7:$D$77,2,TRUE))","v":"-"},null,null,{"$f":"IF(OR(COUNTBLANK(ID$33:IE$232)=400,Check!ID1=\"Check\"),\"-\",VLOOKUP(ID26,'Rounding classes'!$C$7:$D$77,2,TRUE))","v":"-"},null,null,{"$f":"IF(OR(COUNTBLANK(IG$33:IH$232)=400,Check!IG1=\"Check\"),\"-\",VLOOKUP(IG26,'Rounding classes'!$C$7:$D$77,2,TRUE))","v":"-"},null,null,{"$f":"IF(OR(COUNTBLANK(IJ$33:IK$232)=400,Check!IJ1=\"Check\"),\"-\",VLOOKUP(IJ26,'Rounding classes'!$C$7:$D$77,2,TRUE))","v":"-"},null,null,{"$f":"IF(OR(COUNTBLANK(IM$33:IN$232)=400,Check!IM1=\"Check\"),\"-\",VLOOKUP(IM26,'Rounding classes'!$C$7:$D$77,2,TRUE))","v":"-"},null,null,{"$f":"IF(OR(COUNTBLANK(IP$33:IQ$232)=400,Check!IP1=\"Check\"),\"-\",VLOOKUP(IP26,'Rounding classes'!$C$7:$D$77,2,TRUE))","v":"-"},null,null,{"$f":"IF(OR(COUNTBLANK(IS$33:IT$232)=400,Check!IS1=\"Check\"),\"-\",VLOOKUP(IS26,'Rounding classes'!$C$7:$D$77,2,TRUE))","v":"-"}]
[]
[null,null,null,{"$f":"IF(COUNTBLANK(D$33:E$232)=400,\"\",IF(Check!D1=\"Check\",\"MRL calculation not possible (check data entry).\",IF(AND(D$7<8,D$9>0.5),\"High uncertainty of MRL estimate due to small dataset and high level of censoring.\",IF(D$7<8,\"High uncertainty of MRL estimate due to small dataset.\",IF(D$9>0.5,\"High uncertainty of MRL estimate due to high level of censoring.\",\"\")))))","v":""},null,null,{"$f":"IF(COUNTBLANK(G$33:H$232)=400,\"\",IF(Check!G1=\"Check\",\"MRL calculation not possible (check data entry).\",IF(AND(G$7<8,G$9>0.5),\"High uncertainty of MRL estimate due to small dataset and high level of censoring.\",IF(G$7<8,\"High uncertainty of MRL estimate due to small dataset.\",IF(G$9>0.5,\"High uncertainty of MRL estimate due to high level of censoring.\",\"\")))))","v":""},null,null,{"$f":"IF(COUNTBLANK(J$33:K$232)=400,\"\",IF(Check!J1=\"Check\",\"MRL calculation not possible (check data entry).\",IF(AND(J$7<8,J$9>0.5),\"High uncertainty of MRL estimate due to small dataset and high level of censoring.\",IF(J$7<8,\"High uncertainty of MRL estimate due to small dataset.\",IF(J$9>0.5,\"High uncertainty of MRL estimate due to high level of censoring.\",\"\")))))","v":""},null,null,{"$f":"IF(COUNTBLANK(M$33:N$232)=400,\"\",IF(Check!M1=\"Check\",\"MRL calculation not possible (check data entry).\",IF(AND(M$7<8,M$9>0.5),\"High uncertainty of MRL estimate due to small dataset and high level of censoring.\",IF(M$7<8,\"High uncertainty of MRL estimate due to small dataset.\",IF(M$9>0.5,\"High uncertainty of MRL estimate due to high level of censoring.\",\"\")))))","v":""},null,null,{"$f":"IF(COUNTBLANK(P$33:Q$232)=400,\"\",IF(Check!P1=\"Check\",\"MRL calculation not possible (check data entry).\",IF(AND(P$7<8,P$9>0.5),\"High uncertainty of MRL estimate due to small dataset and high level of censoring.\",IF(P$7<8,\"High uncertainty of MRL estimate due to small dataset.\",IF(P$9>0.5,\"High uncertainty of MRL estimate due to high level of censoring.\",\"\")))))","v":""},null,null,{"$f":"IF(COUNTBLANK(S$33:T$232)=400,\"\",IF(Check!S1=\"Check\",\"MRL calculation not possible (check data entry).\",IF(AND(S$7<8,S$9>0.5),\"High uncertainty of MRL estimate due to small dataset and high level of censoring.\",IF(S$7<8,\"High uncertainty of MRL estimate due to small dataset.\",IF(S$9>0.5,\"High uncertainty of MRL estimate due to high level of censoring.\",\"\")))))","v":""},null,null,{"$f":"IF(COUNTBLANK(V$33:W$232)=400,\"\",IF(Check!V1=\"Check\",\"MRL calculation not possible (check data entry).\",IF(AND(V$7<8,V$9>0.5),\"High uncertainty of MRL estimate due to small dataset and high level of censoring.\",IF(V$7<8,\"High uncertainty of MRL estimate due to small dataset.\",IF(V$9>0.5,\"High uncertainty of MRL estimate due to high level of censoring.\",\"\")))))","v":""},null,null,{"$f":"IF(COUNTBLANK(Y$33:Z$232)=400,\"\",IF(Check!Y1=\"Check\",\"MRL calculation not possible (check data entry).\",IF(AND(Y$7<8,Y$9>0.5),\"High uncertainty of MRL estimate due to small dataset and high level of censoring.\",IF(Y$7<8,\"High uncertainty of MRL estimate due to small dataset.\",IF(Y$9>0.5,\"High uncertainty of MRL estimate due to high level of censoring.\",\"\")))))","v":""},null,null,{"$f":"IF(COUNTBLANK(AB$33:AC$232)=400,\"\",IF(Check!AB1=\"Check\",\"MRL calculation not possible (check data entry).\",IF(AND(AB$7<8,AB$9>0.5),\"High uncertainty of MRL estimate due to small dataset and high level of censoring.\",IF(AB$7<8,\"High uncertainty of MRL estimate due to small dataset.\",IF(AB$9>0.5,\"High uncertainty of MRL estimate due to high level of censoring.\",\"\")))))","v":""},null,null,{"$f":"IF(COUNTBLANK(AE$33:AF$232)=400,\"\",IF(Check!AE1=\"Check\",\"MRL calculation not possible (check data entry).\",IF(AND(AE$7<8,AE$9>0.5),\"High uncertainty of MRL estimate due to small dataset and high level of censoring.\",IF(AE$7<8,\"High uncertainty of MRL estimate due to small dataset.\",IF(AE$9>0.5,\"High uncertainty of MRL estimate due to high level of censoring.\",\"\")))))","v":""},null,null,{"$f":"IF(COUNTBLANK(AH$33:AI$232)=400,\"\",IF(Check!AH1=\"Check\",\"MRL calculation not possible (check data entry).\",IF(AND(AH$7<8,AH$9>0.5),\"High uncertainty of MRL estimate due to small dataset and high level of censoring.\",IF(AH$7<8,\"High uncertainty of MRL estimate due to small dataset.\",IF(AH$9>0.5,\"High uncertainty of MRL estimate due to high level of censoring.\",\"\")))))","v":""},null,null,{"$f":"IF(COUNTBLANK(AK$33:AL$232)=400,\"\",IF(Check!AK1=\"Check\",\"MRL calculation not possible (check data entry).\",IF(AND(AK$7<8,AK$9>0.5),\"High uncertainty of MRL estimate due to small dataset and high level of censoring.\",IF(AK$7<8,\"High uncertainty of MRL estimate due to small dataset.\",IF(AK$9>0.5,\"High uncertainty of MRL estimate due to high level of censoring.\",\"\")))))","v":""},null,null,{"$f":"IF(COUNTBLANK(AN$33:AO$232)=400,\"\",IF(Check!AN1=\"Check\",\"MRL calculation not possible (check data entry).\",IF(AND(AN$7<8,AN$9>0.5),\"High uncertainty of MRL estimate due to small dataset and high level of censoring.\",IF(AN$7<8,\"High uncertainty of MRL estimate due to small dataset.\",IF(AN$9>0.5,\"High uncertainty of MRL estimate due to high level of censoring.\",\"\")))))","v":""},null,null,{"$f":"IF(COUNTBLANK(AQ$33:AR$232)=400,\"\",IF(Check!AQ1=\"Check\",\"MRL calculation not possible (check data entry).\",IF(AND(AQ$7<8,AQ$9>0.5),\"High uncertainty of MRL estimate due to small dataset and high level of censoring.\",IF(AQ$7<8,\"High uncertainty of MRL estimate due to small dataset.\",IF(AQ$9>0.5,\"High uncertainty of MRL estimate due to high level of censoring.\",\"\")))))","v":""},null,null,{"$f":"IF(COUNTBLANK(AT$33:AU$232)=400,\"\",IF(Check!AT1=\"Check\",\"MRL calculation not possible (check data entry).\",IF(AND(AT$7<8,AT$9>0.5),\"High uncertainty of MRL estimate due to small dataset and high level of censoring.\",IF(AT$7<8,\"High uncertainty of MRL estimate due to small dataset.\",IF(AT$9>0.5,\"High uncertainty of MRL estimate due to high level of censoring.\",\"\")))))","v":""},null,null,{"$f":"IF(COUNTBLANK(AW$33:AX$232)=400,\"\",IF(Check!AW1=\"Check\",\"MRL calculation not possible (check data entry).\",IF(AND(AW$7<8,AW$9>0.5),\"High uncertainty of MRL estimate due to small dataset and high level of censoring.\",IF(AW$7<8,\"High uncertainty of MRL estimate due to small dataset.\",IF(AW$9>0.5,\"High uncertainty of MRL estimate due to high level of censoring.\",\"\")))))","v":""},null,null,{"$f":"IF(COUNTBLANK(AZ$33:BA$232)=400,\"\",IF(Check!AZ1=\"Check\",\"MRL calculation not possible (check data entry).\",IF(AND(AZ$7<8,AZ$9>0.5),\"High uncertainty of MRL estimate due to small dataset and high level of censoring.\",IF(AZ$7<8,\"High uncertainty of MRL estimate due to small dataset.\",IF(AZ$9>0.5,\"High uncertainty of MRL estimate due to high level of censoring.\",\"\")))))","v":""},null,null,{"$f":"IF(COUNTBLANK(BC$33:BD$232)=400,\"\",IF(Check!BC1=\"Check\",\"MRL calculation not possible (check data entry).\",IF(AND(BC$7<8,BC$9>0.5),\"High uncertainty of MRL estimate due to small dataset and high level of censoring.\",IF(BC$7<8,\"High uncertainty of MRL estimate due to small dataset.\",IF(BC$9>0.5,\"High uncertainty of MRL estimate due to high level of censoring.\",\"\")))))","v":""},null,null,{"$f":"IF(COUNTBLANK(BF$33:BG$232)=400,\"\",IF(Check!BF1=\"Check\",\"MRL calculation not possible (check data entry).\",IF(AND(BF$7<8,BF$9>0.5),\"High uncertainty of MRL estimate due to small dataset and high level of censoring.\",IF(BF$7<8,\"High uncertainty of MRL estimate due to small dataset.\",IF(BF$9>0.5,\"High uncertainty of MRL estimate due to high level of censoring.\",\"\")))))","v":""},null,null,{"$f":"IF(COUNTBLANK(BI$33:BJ$232)=400,\"\",IF(Check!BI1=\"Check\",\"MRL calculation not possible (check data entry).\",IF(AND(BI$7<8,BI$9>0.5),\"High uncertainty of MRL estimate due to small dataset and high level of censoring.\",IF(BI$7<8,\"High uncertainty of MRL estimate due to small dataset.\",IF(BI$9>0.5,\"High uncertainty of MRL estimate due to high level of censoring.\",\"\")))))","v":""},null,null,{"$f":"IF(COUNTBLANK(BL$33:BM$232)=400,\"\",IF(Check!BL1=\"Check\",\"MRL calculation not possible (check data entry).\",IF(AND(BL$7<8,BL$9>0.5),\"High uncertainty of MRL estimate due to small dataset and high level of censoring.\",IF(BL$7<8,\"High uncertainty of MRL estimate due to small dataset.\",IF(BL$9>0.5,\"High uncertainty of MRL estimate due to high level of censoring.\",\"\")))))","v":""},null,null,{"$f":"IF(COUNTBLANK(BO$33:BP$232)=400,\"\",IF(Check!BO1=\"Check\",\"MRL calculation not possible (check data entry).\",IF(AND(BO$7<8,BO$9>0.5),\"High uncertainty of MRL estimate due to small dataset and high level of censoring.\",IF(BO$7<8,\"High uncertainty of MRL estimate due to small dataset.\",IF(BO$9>0.5,\"High uncertainty of MRL estimate due to high level of censoring.\",\"\")))))","v":""},null,null,{"$f":"IF(COUNTBLANK(BR$33:BS$232)=400,\"\",IF(Check!BR1=\"Check\",\"MRL calculation not possible (check data entry).\",IF(AND(BR$7<8,BR$9>0.5),\"High uncertainty of MRL estimate due to small dataset and high level of censoring.\",IF(BR$7<8,\"High uncertainty of MRL estimate due to small dataset.\",IF(BR$9>0.5,\"High uncertainty of MRL estimate due to high level of censoring.\",\"\")))))","v":""},null,null,{"$f":"IF(COUNTBLANK(BU$33:BV$232)=400,\"\",IF(Check!BU1=\"Check\",\"MRL calculation not possible (check data entry).\",IF(AND(BU$7<8,BU$9>0.5),\"High uncertainty of MRL estimate due to small dataset and high level of censoring.\",IF(BU$7<8,\"High uncertainty of MRL estimate due to small dataset.\",IF(BU$9>0.5,\"High uncertainty of MRL estimate due to high level of censoring.\",\"\")))))","v":""},null,null,{"$f":"IF(COUNTBLANK(BX$33:BY$232)=400,\"\",IF(Check!BX1=\"Check\",\"MRL calculation not possible (check data entry).\",IF(AND(BX$7<8,BX$9>0.5),\"High uncertainty of MRL estimate due to small dataset and high level of censoring.\",IF(BX$7<8,\"High uncertainty of MRL estimate due to small dataset.\",IF(BX$9>0.5,\"High uncertainty of MRL estimate due to high level of censoring.\",\"\")))))","v":""},null,null,{"$f":"IF(COUNTBLANK(CA$33:CB$232)=400,\"\",IF(Check!CA1=\"Check\",\"MRL calculation not possible (check data entry).\",IF(AND(CA$7<8,CA$9>0.5),\"High uncertainty of MRL estimate due to small dataset and high level of censoring.\",IF(CA$7<8,\"High uncertainty of MRL estimate due to small dataset.\",IF(CA$9>0.5,\"High uncertainty of MRL estimate due to high level of censoring.\",\"\")))))","v":""},null,null,{"$f":"IF(COUNTBLANK(CD$33:CE$232)=400,\"\",IF(Check!CD1=\"Check\",\"MRL calculation not possible (check data entry).\",IF(AND(CD$7<8,CD$9>0.5),\"High uncertainty of MRL estimate due to small dataset and high level of censoring.\",IF(CD$7<8,\"High uncertainty of MRL estimate due to small dataset.\",IF(CD$9>0.5,\"High uncertainty of MRL estimate due to high level of censoring.\",\"\")))))","v":""},null,null,{"$f":"IF(COUNTBLANK(CG$33:CH$232)=400,\"\",IF(Check!CG1=\"Check\",\"MRL calculation not possible (check data entry).\",IF(AND(CG$7<8,CG$9>0.5),\"High uncertainty of MRL estimate due to small dataset and high level of censoring.\",IF(CG$7<8,\"High uncertainty of MRL estimate due to small dataset.\",IF(CG$9>0.5,\"High uncertainty of MRL estimate due to high level of censoring.\",\"\")))))","v":""},null,null,{"$f":"IF(COUNTBLANK(CJ$33:CK$232)=400,\"\",IF(Check!CJ1=\"Check\",\"MRL calculation not possible (check data entry).\",IF(AND(CJ$7<8,CJ$9>0.5),\"High uncertainty of MRL estimate due to small dataset and high level of censoring.\",IF(CJ$7<8,\"High uncertainty of MRL estimate due to small dataset.\",IF(CJ$9>0.5,\"High uncertainty of MRL estimate due to high level of censoring.\",\"\")))))","v":""},null,null,{"$f":"IF(COUNTBLANK(CM$33:CN$232)=400,\"\",IF(Check!CM1=\"Check\",\"MRL calculation not possible (check data entry).\",IF(AND(CM$7<8,CM$9>0.5),\"High uncertainty of MRL estimate due to small dataset and high level of censoring.\",IF(CM$7<8,\"High uncertainty of MRL estimate due to small dataset.\",IF(CM$9>0.5,\"High uncertainty of MRL estimate due to high level of censoring.\",\"\")))))","v":""},null,null,{"$f":"IF(COUNTBLANK(CP$33:CQ$232)=400,\"\",IF(Check!CP1=\"Check\",\"MRL calculation not possible (check data entry).\",IF(AND(CP$7<8,CP$9>0.5),\"High uncertainty of MRL estimate due to small dataset and high level of censoring.\",IF(CP$7<8,\"High uncertainty of MRL estimate due to small dataset.\",IF(CP$9>0.5,\"High uncertainty of MRL estimate due to high level of censoring.\",\"\")))))","v":""},null,null,{"$f":"IF(COUNTBLANK(CS$33:CT$232)=400,\"\",IF(Check!CS1=\"Check\",\"MRL calculation not possible (check data entry).\",IF(AND(CS$7<8,CS$9>0.5),\"High uncertainty of MRL estimate due to small dataset and high level of censoring.\",IF(CS$7<8,\"High uncertainty of MRL estimate due to small dataset.\",IF(CS$9>0.5,\"High uncertainty of MRL estimate due to high level of censoring.\",\"\")))))","v":""},null,null,{"$f":"IF(COUNTBLANK(CV$33:CW$232)=400,\"\",IF(Check!CV1=\"Check\",\"MRL calculation not possible (check data entry).\",IF(AND(CV$7<8,CV$9>0.5),\"High uncertainty of MRL estimate due to small dataset and high level of censoring.\",IF(CV$7<8,\"High uncertainty of MRL estimate due to small dataset.\",IF(CV$9>0.5,\"High uncertainty of MRL estimate due to high level of censoring.\",\"\")))))","v":""},null,null,{"$f":"IF(COUNTBLANK(CY$33:CZ$232)=400,\"\",IF(Check!CY1=\"Check\",\"MRL calculation not possible (check data entry).\",IF(AND(CY$7<8,CY$9>0.5),\"High uncertainty of MRL estimate due to small dataset and high level of censoring.\",IF(CY$7<8,\"High uncertainty of MRL estimate due to small dataset.\",IF(CY$9>0.5,\"High uncertainty of MRL estimate due to high level of censoring.\",\"\")))))","v":""},null,null,{"$f":"IF(COUNTBLANK(DB$33:DC$232)=400,\"\",IF(Check!DB1=\"Check\",\"MRL calculation not possible (check data entry).\",IF(AND(DB$7<8,DB$9>0.5),\"High uncertainty of MRL estimate due to small dataset and high level of censoring.\",IF(DB$7<8,\"High uncertainty of MRL estimate due to small dataset.\",IF(DB$9>0.5,\"High uncertainty of MRL estimate due to high level of censoring.\",\"\")))))","v":""},null,null,{"$f":"IF(COUNTBLANK(DE$33:DF$232)=400,\"\",IF(Check!DE1=\"Check\",\"MRL calculation not possible (check data entry).\",IF(AND(DE$7<8,DE$9>0.5),\"High uncertainty of MRL estimate due to small dataset and high level of censoring.\",IF(DE$7<8,\"High uncertainty of MRL estimate due to small dataset.\",IF(DE$9>0.5,\"High uncertainty of MRL estimate due to high level of censoring.\",\"\")))))","v":""},null,null,{"$f":"IF(COUNTBLANK(DH$33:DI$232)=400,\"\",IF(Check!DH1=\"Check\",\"MRL calculation not possible (check data entry).\",IF(AND(DH$7<8,DH$9>0.5),\"High uncertainty of MRL estimate due to small dataset and high level of censoring.\",IF(DH$7<8,\"High uncertainty of MRL estimate due to small dataset.\",IF(DH$9>0.5,\"High uncertainty of MRL estimate due to high level of censoring.\",\"\")))))","v":""},null,null,{"$f":"IF(COUNTBLANK(DK$33:DL$232)=400,\"\",IF(Check!DK1=\"Check\",\"MRL calculation not possible (check data entry).\",IF(AND(DK$7<8,DK$9>0.5),\"High uncertainty of MRL estimate due to small dataset and high level of censoring.\",IF(DK$7<8,\"High uncertainty of MRL estimate due to small dataset.\",IF(DK$9>0.5,\"High uncertainty of MRL estimate due to high level of censoring.\",\"\")))))","v":""},null,null,{"$f":"IF(COUNTBLANK(DN$33:DO$232)=400,\"\",IF(Check!DN1=\"Check\",\"MRL calculation not possible (check data entry).\",IF(AND(DN$7<8,DN$9>0.5),\"High uncertainty of MRL estimate due to small dataset and high level of censoring.\",IF(DN$7<8,\"High uncertainty of MRL estimate due to small dataset.\",IF(DN$9>0.5,\"High uncertainty of MRL estimate due to high level of censoring.\",\"\")))))","v":""},null,null,{"$f":"IF(COUNTBLANK(DQ$33:DR$232)=400,\"\",IF(Check!DQ1=\"Check\",\"MRL calculation not possible (check data entry).\",IF(AND(DQ$7<8,DQ$9>0.5),\"High uncertainty of MRL estimate due to small dataset and high level of censoring.\",IF(DQ$7<8,\"High uncertainty of MRL estimate due to small dataset.\",IF(DQ$9>0.5,\"High uncertainty of MRL estimate due to high level of censoring.\",\"\")))))","v":""},null,null,{"$f":"IF(COUNTBLANK(DT$33:DU$232)=400,\"\",IF(Check!DT1=\"Check\",\"MRL calculation not possible (check data entry).\",IF(AND(DT$7<8,DT$9>0.5),\"High uncertainty of MRL estimate due to small dataset and high level of censoring.\",IF(DT$7<8,\"High uncertainty of MRL estimate due to small dataset.\",IF(DT$9>0.5,\"High uncertainty of MRL estimate due to high level of censoring.\",\"\")))))","v":""},null,null,{"$f":"IF(COUNTBLANK(DW$33:DX$232)=400,\"\",IF(Check!DW1=\"Check\",\"MRL calculation not possible (check data entry).\",IF(AND(DW$7<8,DW$9>0.5),\"High uncertainty of MRL estimate due to small dataset and high level of censoring.\",IF(DW$7<8,\"High uncertainty of MRL estimate due to small dataset.\",IF(DW$9>0.5,\"High uncertainty of MRL estimate due to high level of censoring.\",\"\")))))","v":""},null,null,{"$f":"IF(COUNTBLANK(DZ$33:EA$232)=400,\"\",IF(Check!DZ1=\"Check\",\"MRL calculation not possible (check data entry).\",IF(AND(DZ$7<8,DZ$9>0.5),\"High uncertainty of MRL estimate due to small dataset and high level of censoring.\",IF(DZ$7<8,\"High uncertainty of MRL estimate due to small dataset.\",IF(DZ$9>0.5,\"High uncertainty of MRL estimate due to high level of censoring.\",\"\")))))","v":""},null,null,{"$f":"IF(COUNTBLANK(EC$33:ED$232)=400,\"\",IF(Check!EC1=\"Check\",\"MRL calculation not possible (check data entry).\",IF(AND(EC$7<8,EC$9>0.5),\"High uncertainty of MRL estimate due to small dataset and high level of censoring.\",IF(EC$7<8,\"High uncertainty of MRL estimate due to small dataset.\",IF(EC$9>0.5,\"High uncertainty of MRL estimate due to high level of censoring.\",\"\")))))","v":""},null,null,{"$f":"IF(COUNTBLANK(EF$33:EG$232)=400,\"\",IF(Check!EF1=\"Check\",\"MRL calculation not possible (check data entry).\",IF(AND(EF$7<8,EF$9>0.5),\"High uncertainty of MRL estimate due to small dataset and high level of censoring.\",IF(EF$7<8,\"High uncertainty of MRL estimate due to small dataset.\",IF(EF$9>0.5,\"High uncertainty of MRL estimate due to high level of censoring.\",\"\")))))","v":""},null,null,{"$f":"IF(COUNTBLANK(EI$33:EJ$232)=400,\"\",IF(Check!EI1=\"Check\",\"MRL calculation not possible (check data entry).\",IF(AND(EI$7<8,EI$9>0.5),\"High uncertainty of MRL estimate due to small dataset and high level of censoring.\",IF(EI$7<8,\"High uncertainty of MRL estimate due to small dataset.\",IF(EI$9>0.5,\"High uncertainty of MRL estimate due to high level of censoring.\",\"\")))))","v":""},null,null,{"$f":"IF(COUNTBLANK(EL$33:EM$232)=400,\"\",IF(Check!EL1=\"Check\",\"MRL calculation not possible (check data entry).\",IF(AND(EL$7<8,EL$9>0.5),\"High uncertainty of MRL estimate due to small dataset and high level of censoring.\",IF(EL$7<8,\"High uncertainty of MRL estimate due to small dataset.\",IF(EL$9>0.5,\"High uncertainty of MRL estimate due to high level of censoring.\",\"\")))))","v":""},null,null,{"$f":"IF(COUNTBLANK(EO$33:EP$232)=400,\"\",IF(Check!EO1=\"Check\",\"MRL calculation not possible (check data entry).\",IF(AND(EO$7<8,EO$9>0.5),\"High uncertainty of MRL estimate due to small dataset and high level of censoring.\",IF(EO$7<8,\"High uncertainty of MRL estimate due to small dataset.\",IF(EO$9>0.5,\"High uncertainty of MRL estimate due to high level of censoring.\",\"\")))))","v":""},null,null,{"$f":"IF(COUNTBLANK(ER$33:ES$232)=400,\"\",IF(Check!ER1=\"Check\",\"MRL calculation not possible (check data entry).\",IF(AND(ER$7<8,ER$9>0.5),\"High uncertainty of MRL estimate due to small dataset and high level of censoring.\",IF(ER$7<8,\"High uncertainty of MRL estimate due to small dataset.\",IF(ER$9>0.5,\"High uncertainty of MRL estimate due to high level of censoring.\",\"\")))))","v":""},null,null,{"$f":"IF(COUNTBLANK(EU$33:EV$232)=400,\"\",IF(Check!EU1=\"Check\",\"MRL calculation not possible (check data entry).\",IF(AND(EU$7<8,EU$9>0.5),\"High uncertainty of MRL estimate due to small dataset and high level of censoring.\",IF(EU$7<8,\"High uncertainty of MRL estimate due to small dataset.\",IF(EU$9>0.5,\"High uncertainty of MRL estimate due to high level of censoring.\",\"\")))))","v":""},null,null,{"$f":"IF(COUNTBLANK(EX$33:EY$232)=400,\"\",IF(Check!EX1=\"Check\",\"MRL calculation not possible (check data entry).\",IF(AND(EX$7<8,EX$9>0.5),\"High uncertainty of MRL estimate due to small dataset and high level of censoring.\",IF(EX$7<8,\"High uncertainty of MRL estimate due to small dataset.\",IF(EX$9>0.5,\"High uncertainty of MRL estimate due to high level of censoring.\",\"\")))))","v":""},null,null,{"$f":"IF(COUNTBLANK(FA$33:FB$232)=400,\"\",IF(Check!FA1=\"Check\",\"MRL calculation not possible (check data entry).\",IF(AND(FA$7<8,FA$9>0.5),\"High uncertainty of MRL estimate due to small dataset and high level of censoring.\",IF(FA$7<8,\"High uncertainty of MRL estimate due to small dataset.\",IF(FA$9>0.5,\"High uncertainty of MRL estimate due to high level of censoring.\",\"\")))))","v":""},null,null,{"$f":"IF(COUNTBLANK(FD$33:FE$232)=400,\"\",IF(Check!FD1=\"Check\",\"MRL calculation not possible (check data entry).\",IF(AND(FD$7<8,FD$9>0.5),\"High uncertainty of MRL estimate due to small dataset and high level of censoring.\",IF(FD$7<8,\"High uncertainty of MRL estimate due to small dataset.\",IF(FD$9>0.5,\"High uncertainty of MRL estimate due to high level of censoring.\",\"\")))))","v":""},null,null,{"$f":"IF(COUNTBLANK(FG$33:FH$232)=400,\"\",IF(Check!FG1=\"Check\",\"MRL calculation not possible (check data entry).\",IF(AND(FG$7<8,FG$9>0.5),\"High uncertainty of MRL estimate due to small dataset and high level of censoring.\",IF(FG$7<8,\"High uncertainty of MRL estimate due to small dataset.\",IF(FG$9>0.5,\"High uncertainty of MRL estimate due to high level of censoring.\",\"\")))))","v":""},null,null,{"$f":"IF(COUNTBLANK(FJ$33:FK$232)=400,\"\",IF(Check!FJ1=\"Check\",\"MRL calculation not possible (check data entry).\",IF(AND(FJ$7<8,FJ$9>0.5),\"High uncertainty of MRL estimate due to small dataset and high level of censoring.\",IF(FJ$7<8,\"High uncertainty of MRL estimate due to small dataset.\",IF(FJ$9>0.5,\"High uncertainty of MRL estimate due to high level of censoring.\",\"\")))))","v":""},null,null,{"$f":"IF(COUNTBLANK(FM$33:FN$232)=400,\"\",IF(Check!FM1=\"Check\",\"MRL calculation not possible (check data entry).\",IF(AND(FM$7<8,FM$9>0.5),\"High uncertainty of MRL estimate due to small dataset and high level of censoring.\",IF(FM$7<8,\"High uncertainty of MRL estimate due to small dataset.\",IF(FM$9>0.5,\"High uncertainty of MRL estimate due to high level of censoring.\",\"\")))))","v":""},null,null,{"$f":"IF(COUNTBLANK(FP$33:FQ$232)=400,\"\",IF(Check!FP1=\"Check\",\"MRL calculation not possible (check data entry).\",IF(AND(FP$7<8,FP$9>0.5),\"High uncertainty of MRL estimate due to small dataset and high level of censoring.\",IF(FP$7<8,\"High uncertainty of MRL estimate due to small dataset.\",IF(FP$9>0.5,\"High uncertainty of MRL estimate due to high level of censoring.\",\"\")))))","v":""},null,null,{"$f":"IF(COUNTBLANK(FS$33:FT$232)=400,\"\",IF(Check!FS1=\"Check\",\"MRL calculation not possible (check data entry).\",IF(AND(FS$7<8,FS$9>0.5),\"High uncertainty of MRL estimate due to small dataset and high level of censoring.\",IF(FS$7<8,\"High uncertainty of MRL estimate due to small dataset.\",IF(FS$9>0.5,\"High uncertainty of MRL estimate due to high level of censoring.\",\"\")))))","v":""},null,null,{"$f":"IF(COUNTBLANK(FV$33:FW$232)=400,\"\",IF(Check!FV1=\"Check\",\"MRL calculation not possible (check data entry).\",IF(AND(FV$7<8,FV$9>0.5),\"High uncertainty of MRL estimate due to small dataset and high level of censoring.\",IF(FV$7<8,\"High uncertainty of MRL estimate due to small dataset.\",IF(FV$9>0.5,\"High uncertainty of MRL estimate due to high level of censoring.\",\"\")))))","v":""},null,null,{"$f":"IF(COUNTBLANK(FY$33:FZ$232)=400,\"\",IF(Check!FY1=\"Check\",\"MRL calculation not possible (check data entry).\",IF(AND(FY$7<8,FY$9>0.5),\"High uncertainty of MRL estimate due to small dataset and high level of censoring.\",IF(FY$7<8,\"High uncertainty of MRL estimate due to small dataset.\",IF(FY$9>0.5,\"High uncertainty of MRL estimate due to high level of censoring.\",\"\")))))","v":""},null,null,{"$f":"IF(COUNTBLANK(GB$33:GC$232)=400,\"\",IF(Check!GB1=\"Check\",\"MRL calculation not possible (check data entry).\",IF(AND(GB$7<8,GB$9>0.5),\"High uncertainty of MRL estimate due to small dataset and high level of censoring.\",IF(GB$7<8,\"High uncertainty of MRL estimate due to small dataset.\",IF(GB$9>0.5,\"High uncertainty of MRL estimate due to high level of censoring.\",\"\")))))","v":""},null,null,{"$f":"IF(COUNTBLANK(GE$33:GF$232)=400,\"\",IF(Check!GE1=\"Check\",\"MRL calculation not possible (check data entry).\",IF(AND(GE$7<8,GE$9>0.5),\"High uncertainty of MRL estimate due to small dataset and high level of censoring.\",IF(GE$7<8,\"High uncertainty of MRL estimate due to small dataset.\",IF(GE$9>0.5,\"High uncertainty of MRL estimate due to high level of censoring.\",\"\")))))","v":""},null,null,{"$f":"IF(COUNTBLANK(GH$33:GI$232)=400,\"\",IF(Check!GH1=\"Check\",\"MRL calculation not possible (check data entry).\",IF(AND(GH$7<8,GH$9>0.5),\"High uncertainty of MRL estimate due to small dataset and high level of censoring.\",IF(GH$7<8,\"High uncertainty of MRL estimate due to small dataset.\",IF(GH$9>0.5,\"High uncertainty of MRL estimate due to high level of censoring.\",\"\")))))","v":""},null,null,{"$f":"IF(COUNTBLANK(GK$33:GL$232)=400,\"\",IF(Check!GK1=\"Check\",\"MRL calculation not possible (check data entry).\",IF(AND(GK$7<8,GK$9>0.5),\"High uncertainty of MRL estimate due to small dataset and high level of censoring.\",IF(GK$7<8,\"High uncertainty of MRL estimate due to small dataset.\",IF(GK$9>0.5,\"High uncertainty of MRL estimate due to high level of censoring.\",\"\")))))","v":""},null,null,{"$f":"IF(COUNTBLANK(GN$33:GO$232)=400,\"\",IF(Check!GN1=\"Check\",\"MRL calculation not possible (check data entry).\",IF(AND(GN$7<8,GN$9>0.5),\"High uncertainty of MRL estimate due to small dataset and high level of censoring.\",IF(GN$7<8,\"High uncertainty of MRL estimate due to small dataset.\",IF(GN$9>0.5,\"High uncertainty of MRL estimate due to high level of censoring.\",\"\")))))","v":""},null,null,{"$f":"IF(COUNTBLANK(GQ$33:GR$232)=400,\"\",IF(Check!GQ1=\"Check\",\"MRL calculation not possible (check data entry).\",IF(AND(GQ$7<8,GQ$9>0.5),\"High uncertainty of MRL estimate due to small dataset and high level of censoring.\",IF(GQ$7<8,\"High uncertainty of MRL estimate due to small dataset.\",IF(GQ$9>0.5,\"High uncertainty of MRL estimate due to high level of censoring.\",\"\")))))","v":""},null,null,{"$f":"IF(COUNTBLANK(GT$33:GU$232)=400,\"\",IF(Check!GT1=\"Check\",\"MRL calculation not possible (check data entry).\",IF(AND(GT$7<8,GT$9>0.5),\"High uncertainty of MRL estimate due to small dataset and high level of censoring.\",IF(GT$7<8,\"High uncertainty of MRL estimate due to small dataset.\",IF(GT$9>0.5,\"High uncertainty of MRL estimate due to high level of censoring.\",\"\")))))","v":""},null,null,{"$f":"IF(COUNTBLANK(GW$33:GX$232)=400,\"\",IF(Check!GW1=\"Check\",\"MRL calculation not possible (check data entry).\",IF(AND(GW$7<8,GW$9>0.5),\"High uncertainty of MRL estimate due to small dataset and high level of censoring.\",IF(GW$7<8,\"High uncertainty of MRL estimate due to small dataset.\",IF(GW$9>0.5,\"High uncertainty of MRL estimate due to high level of censoring.\",\"\")))))","v":""},null,null,{"$f":"IF(COUNTBLANK(GZ$33:HA$232)=400,\"\",IF(Check!GZ1=\"Check\",\"MRL calculation not possible (check data entry).\",IF(AND(GZ$7<8,GZ$9>0.5),\"High uncertainty of MRL estimate due to small dataset and high level of censoring.\",IF(GZ$7<8,\"High uncertainty of MRL estimate due to small dataset.\",IF(GZ$9>0.5,\"High uncertainty of MRL estimate due to high level of censoring.\",\"\")))))","v":""},null,null,{"$f":"IF(COUNTBLANK(HC$33:HD$232)=400,\"\",IF(Check!HC1=\"Check\",\"MRL calculation not possible (check data entry).\",IF(AND(HC$7<8,HC$9>0.5),\"High uncertainty of MRL estimate due to small dataset and high level of censoring.\",IF(HC$7<8,\"High uncertainty of MRL estimate due to small dataset.\",IF(HC$9>0.5,\"High uncertainty of MRL estimate due to high level of censoring.\",\"\")))))","v":""},null,null,{"$f":"IF(COUNTBLANK(HF$33:HG$232)=400,\"\",IF(Check!HF1=\"Check\",\"MRL calculation not possible (check data entry).\",IF(AND(HF$7<8,HF$9>0.5),\"High uncertainty of MRL estimate due to small dataset and high level of censoring.\",IF(HF$7<8,\"High uncertainty of MRL estimate due to small dataset.\",IF(HF$9>0.5,\"High uncertainty of MRL estimate due to high level of censoring.\",\"\")))))","v":""},null,null,{"$f":"IF(COUNTBLANK(HI$33:HJ$232)=400,\"\",IF(Check!HI1=\"Check\",\"MRL calculation not possible (check data entry).\",IF(AND(HI$7<8,HI$9>0.5),\"High uncertainty of MRL estimate due to small dataset and high level of censoring.\",IF(HI$7<8,\"High uncertainty of MRL estimate due to small dataset.\",IF(HI$9>0.5,\"High uncertainty of MRL estimate due to high level of censoring.\",\"\")))))","v":""},null,null,{"$f":"IF(COUNTBLANK(HL$33:HM$232)=400,\"\",IF(Check!HL1=\"Check\",\"MRL calculation not possible (check data entry).\",IF(AND(HL$7<8,HL$9>0.5),\"High uncertainty of MRL estimate due to small dataset and high level of censoring.\",IF(HL$7<8,\"High uncertainty of MRL estimate due to small dataset.\",IF(HL$9>0.5,\"High uncertainty of MRL estimate due to high level of censoring.\",\"\")))))","v":""},null,null,{"$f":"IF(COUNTBLANK(HO$33:HP$232)=400,\"\",IF(Check!HO1=\"Check\",\"MRL calculation not possible (check data entry).\",IF(AND(HO$7<8,HO$9>0.5),\"High uncertainty of MRL estimate due to small dataset and high level of censoring.\",IF(HO$7<8,\"High uncertainty of MRL estimate due to small dataset.\",IF(HO$9>0.5,\"High uncertainty of MRL estimate due to high level of censoring.\",\"\")))))","v":""},null,null,{"$f":"IF(COUNTBLANK(HR$33:HS$232)=400,\"\",IF(Check!HR1=\"Check\",\"MRL calculation not possible (check data entry).\",IF(AND(HR$7<8,HR$9>0.5),\"High uncertainty of MRL estimate due to small dataset and high level of censoring.\",IF(HR$7<8,\"High uncertainty of MRL estimate due to small dataset.\",IF(HR$9>0.5,\"High uncertainty of MRL estimate due to high level of censoring.\",\"\")))))","v":""},null,null,{"$f":"IF(COUNTBLANK(HU$33:HV$232)=400,\"\",IF(Check!HU1=\"Check\",\"MRL calculation not possible (check data entry).\",IF(AND(HU$7<8,HU$9>0.5),\"High uncertainty of MRL estimate due to small dataset and high level of censoring.\",IF(HU$7<8,\"High uncertainty of MRL estimate due to small dataset.\",IF(HU$9>0.5,\"High uncertainty of MRL estimate due to high level of censoring.\",\"\")))))","v":""},null,null,{"$f":"IF(COUNTBLANK(HX$33:HY$232)=400,\"\",IF(Check!HX1=\"Check\",\"MRL calculation not possible (check data entry).\",IF(AND(HX$7<8,HX$9>0.5),\"High uncertainty of MRL estimate due to small dataset and high level of censoring.\",IF(HX$7<8,\"High uncertainty of MRL estimate due to small dataset.\",IF(HX$9>0.5,\"High uncertainty of MRL estimate due to high level of censoring.\",\"\")))))","v":""},null,null,{"$f":"IF(COUNTBLANK(IA$33:IB$232)=400,\"\",IF(Check!IA1=\"Check\",\"MRL calculation not possible (check data entry).\",IF(AND(IA$7<8,IA$9>0.5),\"High uncertainty of MRL estimate due to small dataset and high level of censoring.\",IF(IA$7<8,\"High uncertainty of MRL estimate due to small dataset.\",IF(IA$9>0.5,\"High uncertainty of MRL estimate due to high level of censoring.\",\"\")))))","v":""},null,null,{"$f":"IF(COUNTBLANK(ID$33:IE$232)=400,\"\",IF(Check!ID1=\"Check\",\"MRL calculation not possible (check data entry).\",IF(AND(ID$7<8,ID$9>0.5),\"High uncertainty of MRL estimate due to small dataset and high level of censoring.\",IF(ID$7<8,\"High uncertainty of MRL estimate due to small dataset.\",IF(ID$9>0.5,\"High uncertainty of MRL estimate due to high level of censoring.\",\"\")))))","v":""},null,null,{"$f":"IF(COUNTBLANK(IG$33:IH$232)=400,\"\",IF(Check!IG1=\"Check\",\"MRL calculation not possible (check data entry).\",IF(AND(IG$7<8,IG$9>0.5),\"High uncertainty of MRL estimate due to small dataset and high level of censoring.\",IF(IG$7<8,\"High uncertainty of MRL estimate due to small dataset.\",IF(IG$9>0.5,\"High uncertainty of MRL estimate due to high level of censoring.\",\"\")))))","v":""},null,null,{"$f":"IF(COUNTBLANK(IJ$33:IK$232)=400,\"\",IF(Check!IJ1=\"Check\",\"MRL calculation not possible (check data entry).\",IF(AND(IJ$7<8,IJ$9>0.5),\"High uncertainty of MRL estimate due to small dataset and high level of censoring.\",IF(IJ$7<8,\"High uncertainty of MRL estimate due to small dataset.\",IF(IJ$9>0.5,\"High uncertainty of MRL estimate due to high level of censoring.\",\"\")))))","v":""},null,null,{"$f":"IF(COUNTBLANK(IM$33:IN$232)=400,\"\",IF(Check!IM1=\"Check\",\"MRL calculation not possible (check data entry).\",IF(AND(IM$7<8,IM$9>0.5),\"High uncertainty of MRL estimate due to small dataset and high level of censoring.\",IF(IM$7<8,\"High uncertainty of MRL estimate due to small dataset.\",IF(IM$9>0.5,\"High uncertainty of MRL estimate due to high level of censoring.\",\"\")))))","v":""},null,null,{"$f":"IF(COUNTBLANK(IP$33:IQ$232)=400,\"\",IF(Check!IP1=\"Check\",\"MRL calculation not possible (check data entry).\",IF(AND(IP$7<8,IP$9>0.5),\"High uncertainty of MRL estimate due to small dataset and high level of censoring.\",IF(IP$7<8,\"High uncertainty of MRL estimate due to small dataset.\",IF(IP$9>0.5,\"High uncertainty of MRL estimate due to high level of censoring.\",\"\")))))","v":""},null,null,{"$f":"IF(COUNTBLANK(IS$33:IT$232)=400,\"\",IF(Check!IS1=\"Check\",\"MRL calculation not possible (check data entry).\",IF(AND(IS$7<8,IS$9>0.5),\"High uncertainty of MRL estimate due to small dataset and high level of censoring.\",IF(IS$7<8,\"High uncertainty of MRL estimate due to small dataset.\",IF(IS$9>0.5,\"High uncertainty of MRL estimate due to high level of censoring.\",\"\")))))","v":""}]
[]
[null,null,null,"Residues (mg/kg)",null,null,"Residues (mg/kg)",null,null,"Residues (mg/kg)",null,null,"Residues (mg/kg)",null,null,"Residues (mg/kg)",null,null,"Residues (mg/kg)",null,null,"Residues (mg/kg)",null,null,"Residues (mg/kg)",null,null,"Residues (mg/kg)",null,null,"Residues (mg/kg)",null,null,"Residues (mg/kg)",null,null,"Residues (mg/kg)",null,null,"Residues (mg/kg)",null,null,"Residues (mg/kg)",null,null,"Residues (mg/kg)",null,null,"Residues (mg/kg)",null,null,"Residues (mg/kg)",null,null,"Residues (mg/kg)",null,null,"Residues (mg/kg)",null,null,"Residues (mg/kg)",null,null,"Residues (mg/kg)",null,null,"Residues (mg/kg)",null,null,"Residues (mg/kg)",null,null,"Residues (mg/kg)",null,null,"Residues (mg/kg)",null,null,"Residues (mg/kg)",null,null,"Residues (mg/kg)",null,null,"Residues (mg/kg)",null,null,"Residues (mg/kg)",null,null,"Residues (mg/kg)",null,null,"Residues (mg/kg)",null,null,"Residues (mg/kg)",null,null,"Residues (mg/kg)",null,null,"Residues (mg/kg)",null,null,"Residues (mg/kg)",null,null,"Residues (mg/kg)",null,null,"Residues (mg/kg)",null,null,"Residues (mg/kg)",null,null,"Residues (mg/kg)",null,null,"Residues (mg/kg)",null,null,"Residues (mg/kg)",null,null,"Residues (mg/kg)",null,null,"Residues (mg/kg)",null,null,"Residues (mg/kg)",null,null,"Residues (mg/kg)",null,null,"Residues (mg/kg)",null,null,"Residues (mg/kg)",null,null,"Residues (mg/kg)",null,null,"Residues (mg/kg)",null,null,"Residues (mg/kg)",null,null,"Residues (mg/kg)",null,null,"Residues (mg/kg)",null,null,"Residues (mg/kg)",null,null,"Residues (mg/kg)",null,null,"Residues (mg/kg)",null,null,"Residues (mg/kg)",null,null,"Residues (mg/kg)",null,null,"Residues (mg/kg)",null,null,"Residues (mg/kg)",null,null,"Residues (mg/kg)",null,null,"Residues (mg/kg)",null,null,"Residues (mg/kg)",null,null,"Residues (mg/kg)",null,null,"Residues (mg/kg)",null,null,"Residues (mg/kg)",null,null,"Residues (mg/kg)",null,null,"Residues (mg/kg)",null,null,"Residues (mg/kg)",null,null,"Residues (mg/kg)",null,null,"Residues (mg/kg)",null,null,"Residues (mg/kg)",null,null,"Residues (mg/kg)",null,null,"Residues (mg/kg)",null,null,"Residues (mg/kg)",null,null,"Residues (mg/kg)",null,null,"Residues (mg/kg)",null,null,"Residues (mg/kg)",null,null,"Residues (mg/kg)",null,null,"Residues (mg/kg)",null,null,"Residues (mg/kg)",null,null,"Residues (mg/kg)",null,null,"Residues (mg/kg)",null,null,"Residues (mg/kg)",null,null,"Residues (mg/kg)"]

{"sheet":"Rounding classes","index":2,"n_rows":77,"n_cols":4,"rows_kept":77,"cut":false,"hidden":false,"merged":[[2,2,2,3]]}
[]
[]
[null,null,"Rounding system as of 16 March 2010"]
[]
[null,null,"MRL classes (numerical values)"]
[null,null,"MRL estimate ≥","Proposed MRL"]
[null,null,9.9999999999999995E-7,0.01]
[null,null,{"$f":"D7+0.1*(D8-D7)","v":1.0500000000000001E-2},1.4999999999999999E-2]
[null,null,1.55E-2,0.02]
[null,null,2.1000000000000001E-2,0.03]
[null,null,3.1E-2,0.04]
[null,null,4.1000000000000002E-2,0.05]
[null,null,5.1000000000000004E-2,0.06]
[null,null,6.0999999999999999E-2,7.0000000000000007E-2]
[null,null,7.1000000000000008E-2,0.08]
[null,null,8.1000000000000003E-2,0.09]
[null,null,9.0999999999999998E-2,{"$f":"D7*10","v":0.1}]
[null,null,0.10500000000000001,0.15]
[null,null,0.155,0.2]
[null,null,0.21000000000000002,0.3]
[null,null,0.31,0.4]
[null,null,0.41000000000000003,0.5]
[null,null,0.51,0.6]
[null,null,0.61,0.70000000000000007]
[null,null,0.71000000000000008,0.8]
[null,null,0.81,0.89999999999999991]
[null,null,0.90999999999999992,{"$f":"D17*10","v":1}]
[null,null,1.05,{"$f":"D18*10","v":1.5}]
[null,null,1.55,2]
[null,null,2.1,3]
[null,null,3.1,4]
[null,null,4.0999999999999996,5]
[null,null,5.0999999999999996,6]
[null,null,6.1,7.0000000000000009]
[null,null,7.1000000000000005,8]
[null,null,8.1,9]
[null,null,9.1,10]
[null,null,10.5,15]
[null,null,15.5,20]
[null,null,21,30]
[null,null,31,40]
[null,null,41,50]
[null,null,51,60]
[null,null,61,{"$f":"D34*10","v":70.000000000000014}]
[null,null,71.000000000000014,80]
[null,null,81,90]
[null,null,91,100]
[null,null,105,150]
[null,null,155,200]
[null,null,210,300]
[null,null,310,400]
[null,null,410,500]
[null,null,510,600]
[null,null,610,700.00000000000011]
[null,null,710.00000000000011,800]
[null,null,810,900]
[null,null,910,1000]
[null,null,1050,1500]
[null,null,1550,2000]
[null,null,2100,{"$f":"D50*10","v":3000}]
[null,null,3100,4000]
[null,null,4100,5000]
[null,null,5100,6000]
[null,null,6100,7000.0000000000009]
[null,null,7100.0000000000009,8000]
[null,null,8100,9000]
[null,null,9100,10000]
[null,null,{"$f":"D67+0.1*(D68-D67)","v":10500},15000]
[null,null,15500,20000]
[null,null,21000,30000]
[null,null,31000,40000]
[null,null,41000,50000]
[null,null,51000,60000]
[null,null,61000,70000.000000000015]
[null,null,71000.000000000015,80000]
[null,null,81000,90000]
[null,null,91000,100000]

{"sheet":"Change Log","index":3,"n_rows":2,"n_cols":3,"rows_kept":2,"cut":false,"hidden":false,"merged":[]}
["Date","Version Number","Changes"]
["2019-11-21",2,"Modified the formula for the rounded MRL to ensure accurate lookup of the rounded MRL. The same set of entries in an alternate order could produce different rounded MRL values due to binary math artifacts. The modification is to use the round() function (to 8 decimal places) in the lookup formula."]